{"text_format":"1","workbook":"xlsx","n_sheets":17,"sheets":["Projects","FY 2017","FY 2018","FY 2019","FY 2020","Constraint","Sheet1","FHWA GPA","FTA GPA","FTA Candidate Projects","Illustrative","NonFHWA_NonFTA","MDOT FTA Detail","Local Detail","Codes","Sheet2","Other Acronyms"],"not_rendered":{"charts":0,"images":0,"macros":1,"external_links":0,"defined_names":36,"comments":0,"pivot_tables":0},"unopened":[],"bounds":{"document_bytes":16777216,"sheet_cells":100000,"rows_first":2000,"rows_last":500,"rows_between":2000,"halvings":0,"cell_chars":16384,"cell_head_chars":4096},"cells_cut":0,"cells_raw":0,"read":"whole","date_system":"1900"}

{"sheet":"Projects","index":0,"n_rows":119,"n_cols":33,"rows_kept":119,"cut":false,"hidden":false,"merged":[[0,0,0,22],[1,0,1,22],[2,30,2,31]]}
["Muskegon/Northern Ottawa MPO"]
["2017-05-31"]
["Required Fields",null,null,null,null,null,null,null,null,null,null,null,null,null,null,null,null,null,null,null,null,null,null,null,null,"Optional Fields",null,null,null,null,{"$f":"'MDOT FTA Detail'!B1","v":"E-File v. 5.1 (01.15.15)"}]
["Fiscal Year","County","Respon-sible Agency","Project Name","Limits","Length","Primary Work Type","Project Description","Phase","Advance Construct","Federal Cost ($1000s)","Federal Fund Source","State Cost ($1000s)","State Fund Source","Local Cost ($1000s)","Local Fund Source","Total Phase Cost ($1000s)","MDOT Job No.","Local ID No.","MPO/ Rural Action Date","Amend-ment Type","Air Quality","Comments","Total Project Cost ($1000s)","x","Local Priority","EJ","Federal Approval Date ","Capped Federal Cost ($1000s)","Date Obligated","Amount Obligated ($1000s)","Let Date","MPO"]
[2017,"Areawide ","FTA GPA","Section 5307 GPA","Areawide ","NA","GPA ","Urbanized Area Formula Grants",null,null,2155000,5307,760000,"M",915000,"OLF",3830000,null,null,"2016-05-18",null,"Exempt",null,8240500,null,null,null,"2016-10-01"]
[2017,"Areawide ","FTA GPA","Section 5310 GPA","Areawide ","NA","GPA ","Enhanced Mobility of Seniors and Individuals with Disabilities",null,null,803060,5310,242015,"M",null,null,1045075,null,null,"2016-05-18",null,"Exempt",null,571621,null,null,null,"2016-10-01"]
[2017,"Areawide ","FTA GPA","Section 5311 GPA","Areawide ","NA","GPA ","Rural Area Formula Grants",null,null,46585,5311,46585,"M",null,null,93170,null,null,"2016-05-18",null,"Exempt",null,2728753,null,null,null,"2016-10-01"]
[2017,"Areawide ","FTA GPA","Section 5337 GPA","Areawide ","NA","GPA ","Bus and Bus Facilities",null,null,470000,5337,117600,"M",null,null,587600,null,null,"2016-05-18",null,"Exempt",null,957629,null,null,null,"2016-10-01"]
[2017,"Areawide ","FTA GPA","Section 5339 GPA","Areawide ","NA","GPA ","Bus and Bus Facilities",null,null,235200,5339,58800,"M",null,null,294000,null,null,"2016-05-18",null,"Exempt",null,957629,null,null,null,"2016-10-01"]
[2017,"MUSKEGON","Goodwill","Two cutaway buses","Areawide","NA","Transit vehicle additions/replacements","Purchase two cutaway buses","T-Cap",null,93084,5310,23271,"CTF",null,null,116355,null,null,"2017-01-18",null,"Exempt",null,116000,null,null,null,"2017-04-06"]
[2017,"MUSKEGON","Goodwill","Two expansion vans","Areawide","NA","Transit vehicle additions/replacements","Purchase two expansion vans","T-Cap",null,75602,5310,18900,"CTF",null,null,94502,null,null,"2017-01-18",null,"Exempt",null,116000,null,null,null,"2017-04-06"]
[2017,"MUSKEGON","MATS","Outreach and Marketing","Areawide","NA","Studies","Outreach and marketing ","T-Ops",null,197584,"CM",49396,"CTF",null,null,246980,120944,null,"2016-02-17",null,"Exempt","Originally added 6/19/13. Original cost $120,000 CM, $30,000 CTF $150,000 total. Changed to $163,000.  Cost increased on 2/17/2016 to Federal $197,584 $49,396 local. ",null,null,null,null,"2016-10-01"]
[2017,"MUSKEGON","MATS","Heavy duty bus replacement","Areawide","NA","Transit vehicle additions/replacements","Heavy duty bus replacement","T-Cap",null,390000,"CM",97500,"CTF",null,null,487500,120943,null,"2016-02-17",null,"Exempt",null,null,null,null,null,"2016-10-01"]
[2017,"MUSKEGON","MATS","Specialized Service Operating","Areawide","NA","Transit operations","Specialized Service Operating","T-Ops",null,null,null,65499,"CTF",null,null,65499,null,null,"2015-03-18",null,"Exempt",null,null,null,null,null,"2016-10-01"]
[2017,"MUSKEGON","MCRC","Whitehall Road","over Bear Creek","","Bridge - other","Preventative Maintenance","CON",null,81600,"BHT",15300,"M",5100,"CNTY",102000,126589,null,"2015-03-18",null,"Exempt",null,102000,null,null,null,"2016-10-01",null,null,0,"2017-03-03","Local Bridge"]
[2017,"MUSKEGON","MCRC","Witham Road","over Bear Creek","","Bridge - other","Preventative Maintenance","CON",null,87600,"BHT",16425,"M",5475,"CNTY",109500,126588,null,"2015-03-18",null,"Exempt",null,109500,null,null,null,"2016-10-01",null,null,0,"2017-03-03","Local Bridge"]
[2017,"MUSKEGON","MCRC","Memorial Drive","over Green Creek","","Bridge - other","Preventative Maintenance","CON",null,138000,"BHT",25875,"M",8625,"CNTY",172500,126591,null,"2015-03-18",null,"Exempt",null,172500,null,null,null,"2016-10-01",null,null,0,"2017-03-03","Local Bridge"]
[2017,"MUSKEGON","MCRC","Fruitvale Rd","Fr.: Whitbeck-US-31 BR; Wh: Eilers-Fruitvale","","Reconstruct","Reconstruct","CON",null,600151,"STL",209714,"M",20135,"CNTY",830000,130476,null,null,null,"Exempt","Rural Task Force 14 project",830000,null,null,null,"2016-10-01",null,null,0,"2017-06-02"]
[2017,"MUSKEGON","MCRC","River Rd","Whitehall Road to Horton Road and Horton to Buys",2,"Resurface","Resurface: Crush and shape; Two course HMA paving. A correction to the vertical profile at the Hyde Park Road intersection is contemplated to improve sight distance for improved safety performance.","CON",null,672314,"STUL",null,"",134462,"CNTY",806776,123984,null,"2017-01-18",null,"Exempt","Project originally added 6/19/13. Original funding $312,000 STUL, $78,000 local. New funding amounts 1/18/2017. Added $360,314 HPP funding and increase local funding amount. Original limits from Whitehall Road to Horton Road.  Listed incorrctly as Reconstruct, changed to Resurface 3/7/17.  Added in limits of Horton to Buys to account for HPP funding added to porject.  ",900000,null,null,null,"2017-04-06",null,null,0,"2017-09-01"]
[2017,"MUSKEGON","MDOT","US-31","At Russell Road","NA","Roadside facility","Mill and Resurface","CON",null,37651,"ST",8349,"M",null,"",46000,120077,null,null,null,"Exempt",null,46000,null,null,null,"2017-02-08",null,null,0,"2017-01-13"]
[2017,"MUSKEGON","MDOT","Trunkline Bridge 3R","Regionwide","NA","GPA ","Trunkline Bridge 3R","CON",null,543664,"ST",120557,"M",null,"",664221,null,null,"2016-05-18",null,"Exempt","Based on projects in FHWA GPA tab",664221,null,null,null,"2016-10-01"]
[2017,"MUSKEGON","MDOT","Trunkline Traffic Operations or Safety","Regionwide","NA","GPA ","Trunkline Traffic Operations and Safety","CON",null,1009000,"ST",226075,"M",null,"",1235075,null,null,"2017-01-18",null,"Exempt","Based on projects in FHWA GPA tab. Originally added 5/18/2016 at $1,000,000 total. Increased costs on 1/17/2017.",1000000,null,null,null,"2017-04-06"]
[2017,"MUSKEGON","MDOT","Trunkline Roadside Improvements","Regionwide","NA","GPA ","Trunkline Roadside Improvements","CON",null,29466,"ST",6534,"M",null,null,36000,null,null,"2016-05-18",null,"Exempt","Based on projects in FHWA GPA tab",36000,null,null,null,"2016-10-01"]
[2017,"MUSKEGON","MDOT","Trunkline Highway 3R","Regionwide","NA","GPA ","Trunkline Highway 3R","CON",null,3534611,"ST",813389,"M",343000,"OLF",4691000,null,"D","2017-03-15",null,"Exempt","Based on projects in FHWA GPA tab",2953000,null,null,null,"2017-05-31"]
[2017,"MUSKEGON","MDOT","Trunkline Highway Preservation","Regionwide","NA","GPA ","Trunkline Highway Preservation","CON",null,5275351,"ST",970649,"M",null,"",6246000,null,null,"2016-05-18",null,"Exempt","Based on projects in FHWA GPA tab",6246000,null,null,null,"2016-10-01"]
[2017,"MUSKEGON","Montague","Wilcox St /Industrial","Wilcox St., Whitbeck to E of Scharmer/Industrial, Whitbeck to Cook",0.51200000000000001,"Resurface","Resurface","CON",null,null,null,375000,"EDF",125000,"CITY",500000,130794,null,"2017-02-24",null,"Exempt","Administrative adjustment on funding source 2/24/2017.",500000,null,null,null,"2016-10-01",null,null,0,"2016-12-02"]
[2017,"MUSKEGON","Montague","Dowling Street","Meade to Water",null,"Reconstruct","Reconstruct","CON","AC",null,null,null,null,468750,"CITY",468750,null,null,"2017-01-18",null,"Exempt",null,468750,null,null,null,"2017-04-06"]
[2017,"MUSKEGON","Muskegon","Laketon Ave","Getty to Creston",0.755,"Reconstruct","Reconstruction, possibly keep curbs","CON",null,1159909,"STUL",null,"",1015786,"CITY",2175695,123986,"E","2017-05-17","Cost","Exempt","Project originally added 6/19/13. Original funding $760,000 STUL, $950,000 local. New funding amounts 1/18/2017. Added $399,909 HPP funding and decrease local funding amount. (Original HPP funding was for Western Avenue). Increase local funding 5/17/2017. Original local funding was $231,981.",2500000,null,null,null,"2017-06-20",null,null,0,"2017-09-01"]
[2017,"MUSKEGON","Muskegon Heights","Hackley Ave","Hackley Ave from Park to Glade",0.75700000000000001,"Resurface","Resurface existing road","CON",null,99605,"STUL",null,"",79395,"CITY",179000,130814,"D","2017-03-15",null,"Exempt","Local match was $37000. Changed to $79395 on 3/15/2017.",200000,null,null,null,"2017-05-31",null,null,0,"2016-12-02"]
[2017,"MUSKEGON","Norton Shores","Henry Street","over Mona Lake",0.17599999999999999,"Bridge - other","Henry Street bridge over Mona Lake","CON",null,0,null,555180,"M",182641,"CITY",737821,126583,"D","2017-03-15",null,"Exempt","Changed funding from federal to state.originally added3/18/2015.",740000,null,null,null,"2017-05-31",null,null,0,"2017-04-07","Local Bridge"]
[2017,"MUSKEGON","Norton Shores","Martin Road","at Sternberg Road and Porter Road intersections",0.25,"Traffic ops/safety","Intersection Reconfiguration for turn movements","CON",null,139520,"CM",null,"",34880,"CITY",174400,122691,null,"2014-12-17",null,"Exempt",null,174400,null,null,null,"2016-10-01",null,null,0,"2016-12-02"]
[2017,"MUSKEGON","Norton Shores","Harvey St","Hile to Ellis",0.503,"Reconstruct","Reconstruct road with 12' Lanes, 12' Center turn lane.   Add 2 lanes for a total of 5 lanes with curb and gutter. ","CON",null,520000,"STUL",null,"",515868,"CITY",1035868,123988,"A","2016-08-17",null,"Exempt","Originally added 6/19/13 as a reconstruct of three lanes. Original funding amount was $520,000 STP, $130,000 local. Added Tribal $ of $385,868 on 8/17/16 to local amount. ",1400000,null,null,null,"2017-02-08",null,null,0,"2017-09-01"]
[2017,"MUSKEGON","WMSRDC","Areawide","Air Quality Outreach Program","NA","Studies","Air Quality Outreach program","EPE",null,100000,"CM",null,"",25000,"OLF",125000,120921,null,"2014-12-17",null,"Exempt",null,125000,null,null,null,"2016-10-01",null,null,0,"2016-10-04"]
[2017,"OTTAWA","Harbor Transit ","Outreach and Marketing","Areawide","NA","Transit operations","Conduct transit and marketing activities","T-Ops",null,32000,"CM",8000,"CTF",null,null,40000,123942,null,"2014-12-17",null,"Exempt","Originally added 6/19/2013.original cost $40,000 CM. $10,000 CTF.",50000,null,null,null,"2016-10-01"]
[2017,"OTTAWA","Harbor Transit ","Replacement Bus","Areawide","NA","Transit vehicle additions/replacements","Replacement Bus","T-Cap",null,115372,5339,null,null,null,null,115372,null,"A","2016-08-17",null,"Exempt",null,115372,null,null,null,"2017-02-07"]
[2017,"OTTAWA","OCRC","174th Ave","Van Wagoner to Wilson\r\n",1.5389999999999999,"Resurface","Reconstruct two 12 foot lanes and existing paved shoulders","CON",null,450000,"STUL",null,"",130000,"CITY",580000,123989,null,"2013-06-19",null,"Exempt",null,620000,null,null,null,"2016-10-01",null,null,0,"2017-09-01"]
[2017,"OTTAWA","Spring Lake","S Buchanan St","Exchange to Liberty\r",0.14899999999999999,"Reconstruct","Reconstruct \rBuchanan Street from Exchange to Liberty Street -two 12-foot lanes\n","CON",null,176000,"STUL",null,"",44000,"CITY",220000,123994,null,"2013-06-19",null,"Exempt",null,250000,null,null,null,"2016-10-01",null,null,0,"2017-09-01"]
[2018,"Areawide ","FTA GPA","Section 5307 GPA","Areawide ","NA","GPA ","Urbanized Area Formula Grants",null,null,2155000,5307,760000,"M",915000,"OLF",3830000,null,null,"2016-05-18",null,"Exempt",null,8305687.5,null,null,null,"2016-10-01"]
[2018,"Areawide ","FTA GPA","Section 5310 GPA","Areawide ","NA","GPA ","Enhanced Mobility of Seniors and Individuals with Disabilities",null,null,441463,5310,163753,"M",null,null,605216,null,null,"2016-05-18","Cost","Exempt","Added project to FTA GPA 5/17/17.",571621,null,null,null,"2017-06-20"]
[2018,"Areawide ","FTA GPA","Section 5311 GPA","Areawide ","NA","GPA ","Rural Area Formula Grants",null,null,46585,5311,46585,"M",null,null,93170,null,null,"2016-05-18",null,"Exempt",null,2728753,null,null,null,"2016-10-01"]
[2018,"Muskegon","MATS","Specialized Service Operating","Areawide","NA","Transit operations","Specialized Service Operating","T-Ops",null,null,null,65499,"CTF",null,null,65499,null,null,"2016-05-18",null,"Exempt",null,null,null,null,null,"2016-10-01"]
[2018,"MUSKEGON","MATS","Heavy duty bus replacement","Areawide","NA","Transit capital","Heavy duty bus replacement","T-Cap",null,390000,"CM",97500,"CTF",null,null,487500,null,null,"2017-02-15",null,"Exempt","Original year was FY2019. Switch to FY2018",null,null,null,null,"2016-10-01"]
[2018,"MUSKEGON","MATS","Route Study/ Operational Analysis","Areawide","NA","Studies","Route study and management study","T-Ops",null,156000,5304,39000,"CTF",null,null,9.4199305899851267E-3,null,null,"2017-01-18",null,"Exempt","This funding should appear in the State and/or Muskegon UWP",116000,null,null,null,"2017-06-19"]
[2018,"MUSKEGON","MCRC","Maple Island Rd","Heights Ravenna Rd to M-46","","Reconstruct","Reconstruct","CON",null,438090,"STL",172348,"M",null,"",610438,130481,null,"2016-05-18",null,"Exempt","Rural Task Force 14 project",610438,null,null,null,"2016-10-01",null,null,0,"2018-06-01"]
[2018,"MUSKEGON","MCRC","Sheridan Rd","M-46 to Laketon",1.0640000000000001,"Resurface","Resurface","CON",null,325000,"STUL",null,"",105000,"CNTY",430000,130799,null,"2016-05-18",null,"Exempt",null,430000,null,null,null,"2016-10-01",null,null,0,"2017-12-01"]
[2018,"MUSKEGON","MDOT","US-31","US-31SB from US-31BR to S. of M-120",1.7070000000000001,"Miscellaneous","Widen paved shoulder","PE",null,67500,"HSIP",7500,"M",null,"",75000,122641,null,"2016-05-18",null,"Exempt",null,400000,null,null,null,"2016-10-01",null,null,0,"2020-01-10"]
[2018,"MUSKEGON","MDOT","Trunkline Scoping and Studies","Regionwide","NA","GPA ","Trunkline Scoping and Studies","CON",null,99965.6,"ST",24991.399999999994,"M",null,"",124957,null,null,"2016-05-18",null,"Exempt","Based on MDOT templated budgets and 5 year average",124957,null,null,null,"2016-10-01"]
[2018,"MUSKEGON","MDOT","Trunkline Traffic Operations or Safety","Regionwide","NA","GPA ","Trunkline Traffic Operations and Safety","CON",null,1034800,"ST",22687,"M",null,"",1057487,null,null,null,null,"Exempt","Based on prrojects in FHWA GPA tab",125000,null,null,null,"2016-10-01"]
[2018,"MUSKEGON","MDOT","Trunkline Bridge 3R","Regionwide","NA","GPA ","Trunkline Bridge 3R","CON",null,371609,"ST",41289,"M",null,"",412898,null,null,"2016-05-18",null,"Exempt","Based on prrojects in FHWA GPA tab",412898,null,null,null,"2016-10-01"]
[2018,"MUSKEGON","MDOT","Trunkline Bridge Preservation","Regionwide","NA","GPA ","Trunkline Bridge Preservation","CON",null,920000,"ST",230000,"M",null,"",1150000,null,null,"2016-05-18",null,"Exempt","Based on MDOT templated budgets and 5 year average",1150000,null,null,null,"2016-10-01"]
[2018,"MUSKEGON","MDOT","Trunkline Highway Preservation","Regionwide","NA","GPA ","Trunkline Highway Preservation","CON",null,5240000,"ST",1310000,"M",null,"",6550000,null,null,"2016-05-18",null,"Exempt","Based on MDOT templated budgets and 5 year average",6550000,null,null,null,"2016-10-01"]
[2018,"MUSKEGON","Montague","Cook St","Hancock to Dowling",0.247,"Reconstruct","Reconstruct","CON",null,275000,"STUL",null,"",75000,"CITY",350000,130786,null,"2016-05-18",null,"Exempt",null,350000,null,null,null,"2016-10-01",null,null,0,"2018-12-07"]
[2018,"MUSKEGON","Montague","Dowling Street","Meade to Water",null,"Reconstruct","Reconstruct","CON","ACC",375000,"STU",null,null,null,null,375000,null,null,"2017-01-18",null,"Exempt",null,null,null,null,null,"2017-04-06"]
[2018,"MUSKEGON","Muskegon","Install signal, installation of loop detectors, and interconnection with signal at Black Creek/Sherman","Oltoff at Black Creek Road","NA","Traffic ops/safety","Install signal, installation of loop detectors, and interconnection with signal at Black Creek/Sherman","CON",null,80000,"CM",null,null,20000,"CITY",100000,null,null,"2016-05-18",null,"Exempt",null,100000,null,null,null,"2016-10-01"]
[2018,"MUSKEGON","Muskegon","Black Creek Rd","Sherman Blvd to Latimer",0.83799999999999997,"Reconstruct","Reconstruct","CON",null,260000,"STUL",null,"",75000,"CITY",335000,130800,null,"2016-05-18",null,"Exempt",null,335000,null,null,null,"2016-10-01",null,null,0,"2017-12-01"]
[2018,"MUSKEGON","Norton Shores","Grand Haven/ Sternberg intersection traffic signal","Sternberg Road at Grand Haven Road","NA","Traffic ops/safety","Full actuation of Grand Haven/Sternberg intersection traffic signal.                      ","CON",null,17926,"CM",null,null,null,null,17926,null,null,"2016-05-18",null,"Exempt",null,17926,null,null,null,"2016-10-01"]
[2019,"MUSKEGON","Norton Shores","Broadway Ave","Getty to Bailey",0.504,"Reconstruct","Reconstruct existing 4 lane HMA","CON",null,500000,"STUL",null,"",300000,"CITY",800000,130801,null,"2017-03-15",null,"Exempt","Originally added 5/18/16. Changed year from FY18 to FY19, 3/15/2017.",800000,null,null,null,"2017-05-31",null,null,0,"2017-12-01"]
[2018,"MUSKEGON","Roosevelt Park","Broadway Ave","between Glenside and Maple Grove",0.51300000000000001,"Resurface","2-12.5' lanes, 10' paved shoulder on north side","CON",null,220000,"STUL",null,"",70000,"CITY",290000,130812,null,"2016-05-18",null,"Exempt",null,290000,null,null,null,"2016-10-01",null,null,0,"2018-12-07"]
[2018,"MUSKEGON","WMSRDC","Outreach and Marketing","Areawide","NA","Studies","Promotion and Marketing of Voluntary householdand transportation activities that will reduce air pollution","EPE",null,93178,"CM",null,null,23294,"OLF",116472,null,null,"2016-05-18",null,"Exempt",null,116472,null,null,null,"2016-10-01"]
[2018,"MUSKEGON","WMSRDC","Marketing and Outreach","NA","NA","Studies","Marketing and outreach for Muskegon's port","EPE",null,41337,"HPP",null,null,8267,"OLF",49604,null,null,"2017-01-18",null,"Exempt",null,50000,null,null,null,"2017-04-06"]
[2018,"OTTAWA","Harbor Transit ","Outreach and Marketing","Regionwide","NA","Transit operations","Conduct transit and marketing activities","T-Ops",null,30000,"CM",null,null,7500,"OLF",37500,null,null,"2016-05-18",null,"Exempt",null,37500,null,null,null,"2016-10-01"]
[2018,"OTTAWA","Harbor Transit ","2 Replacement Buses","Regionwide","NA","Transit vehicle additions/replacements","2 Replacement Buses","T-Cap",null,248000,"CM",null,null,62000,"OLF",310000,null,null,"2016-05-18",null,"Exempt",null,310000,null,null,null,"2016-10-01"]
[2018,"OTTAWA","Harbor Transit ","Route Study/ Operational Analysis","Areawide","NA","Studies","Route study and management study","T-Ops",null,64000,5304,16000,"CTF",null,null,80000,null,null,"2017-01-18",null,"Exempt","This funding should appear in the State and/or Muskegon UWP",116000,null,null,null,"2017-06-19"]
[2018,"OTTAWA","OCRC","Robbins Rd","Robbins Road from Moreland Avenue to Mercury Drive",0.73799999999999999,"Resurface","Resurface existing 30' width and restore shoulders","CON",null,222500,"STUL",null,"",100000,"CNTY",322500,130813,null,"2016-05-18",null,"Exempt",null,322500,null,null,null,"2016-10-01",null,null,0,"2018-12-07"]
[2019,"Areawide ","FTA GPA","Section 5307 GPA","Areawide ","NA","GPA ","Urbanized Area Formula Grants",null,null,2155000,5307,760000,"M",915000,"OLF",3830000,null,null,"2016-05-18",null,"Exempt",null,8305687.5,null,null,null,"2016-10-01"]
[2019,"Areawide ","FTA GPA","Section 5310 GPA","Areawide ","NA","GPA ","Enhanced Mobility of Seniors and Individuals with Disabilities",null,null,414603,5310,144900,"M",null,null,559503,null,null,"2016-05-18",null,"Exempt",null,571621,null,null,null,"2016-10-01"]
[2019,"Areawide ","FTA GPA","Section 5311 GPA","Areawide ","NA","GPA ","Rural Area Formula Grants",null,null,46585,5311,46585,"M",null,null,93170,null,null,"2016-05-18",null,"Exempt",null,2728753,null,null,null,"2016-10-01"]
[2019,"MUSKEGON","MATS","Outreach and Marketing","Areawide","NA","Transit operations","Conduct transit and marketing activities","T-Ops",null,50000,"CM",12500,"CTF",null,null,62500,null,null,"2016-05-18",null,"Exempt",null,62500,null,null,null,"2016-10-01"]
[2019,"Muskegon","MATS","Specialized Services Operating","Areawide","NA","Transit operations","Specialized Services Operating","T-Ops",null,null,null,65499,"CTF",null,null,65499,null,null,"2016-05-18",null,"Exempt",null,null,null,null,null,"2016-10-01"]
[2019,"MUSKEGON","MATS","Transit facility construction","Areawide ","NA","Transit facility","Transit facility construction","T-Cap",null,390000,"CM",97500,"CTF",null,null,487500,null,null,"2017-02-15",null,"Exempt","Original year was FY2018. Switch to FY2019",487500,null,null,null,"2016-10-01"]
[2019,"MUSKEGON","MCRC","Giles Rd","Peterson to Buys","","Reconstruct","Reconstruct","CON",null,438090,"STL",0,"",202393,"CNTY",640483,130491,null,"2016-05-18",null,"Exempt","Rural Task Force 14 project",640483,null,null,null,"2016-10-01",null,null,0,"2019-06-07"]
[2019,"MUSKEGON","MCRC","Giles Rd","Buys to Whitehall","NA","Resurface","Resurface, add 5' paved shoulders","CON",null,600000,"STUL",null,"",105000,"CNTY",705000,130781,null,"2016-05-18",null,"Exempt",null,705000,null,null,null,"2016-10-01",null,null,0,"2018-12-07"]
[2019,"MUSKEGON","MDOT","Trunkline Scoping and Studies","Regionwide","NA","GPA ","Trunkline Scoping and Studies","CON",null,99965.6,"ST",24991.399999999994,"M",null,"",124957,null,null,"2016-05-18",null,"Exempt","Based on MDOT templated budgets and 5 year average",124957,null,null,null,"2016-10-01"]
[2019,"MUSKEGON","MDOT","Trunkline Bridge Preservation","Regionwide","NA","GPA ","Trunkline Bridge Preservation","CON",null,368000,"ST",92000,"M",null,"",460000,null,null,"2016-05-18",null,"Exempt","Based on MDOT templated budgets and 5 year average",460000,null,null,null,"2016-10-01"]
[2019,"MUSKEGON","MDOT","Trunkline Highway 3R","Regionwide","NA","GPA ","Trunkline Highway 3R","CON",null,812771,"ST",180229,"M",null,"",993000,null,null,"2016-05-18",null,"Exempt","Based on prrojects in FHWA GPA tab",993000,null,null,null,"2016-10-01"]
[2019,"MUSKEGON","MDOT","Trunkline Bridge 3R","Regionwide","NA","GPA ","Trunkline Bridge 3R","CON",null,1216000,"ST",304000,"M",null,"",1520000,null,null,"2016-05-18",null,"Exempt","Based on MDOT templated budgets and 5 year average",1520000,null,null,null,"2016-10-01"]
[2019,"MUSKEGON","MDOT","Trunkline Highway Preservation","Regionwide","NA","GPA ","Trunkline Highway Preservation","CON",null,1384902,"ST",307098,"M",null,"",1692000,null,null,"2016-05-18",null,"Exempt","Based on prrojects in FHWA GPA tab",1692000,null,null,null,"2016-10-01"]
[2019,"MUSKEGON","MDOT","Trunkline Traffic Operations or Safety","Regionwide","NA","GPA ","Trunkline Traffic Operations and Safety","CON",null,1826542,"ST",305458,"M",null,"",2132000,null,null,"2016-05-18",null,"Exempt","Based on prrojects in FHWA GPA tab",2132000,null,null,null,"2016-10-01"]
[2019,"MUSKEGON","Muskegon","Signal install","Beach Street and Lakeshore Drive","NA","Roadside facility","Install signal/Signal interconnect","CON",null,60000,"CM",null,null,40000,"CITY",100000,null,null,"2016-05-18",null,"Exempt",null,100000,null,null,null,"2016-10-01"]
[2019,"MUSKEGON","Muskegon Heights","Hackley Ave","Hoyt to Manz","NA","Resurface","Resurface","CON",null,136639,"STU",null,"",31160,"CITY",167799,130782,null,"2016-05-18",null,"Exempt",null,167799,null,null,null,"2016-10-01",null,null,0,"2018-12-07"]
[2018,"MUSKEGON","Norton Shores","Broadway Ave","US-31 to Bailey","NA","Reconstruct","Reconstruct existing HMA (Phase II) ","CON",null,450000,"STU",null,"",350000,"CITY",800000,130784,null,"2017-03-15",null,"Exempt","Originally added 5/18/16. Changed year from FY19 to FY18, 3/15/2017.",800000,null,null,null,"2017-05-31",null,null,0,"2018-12-07"]
[2019,"MUSKEGON","WMSRDC","Outreach and Marketing","Areawide","NA","Transit operations","Promotion and Marketing of Voluntary householdand transportation activities that will reduce air pollution","EPE",null,83104,"CM",null,null,20776,"OLF",103880,null,null,"2016-05-18",null,"Exempt",null,103880,null,null,null,"2016-10-01"]
[2019,"OTTAWA","Grand Haven","North Shore Dr","Grand Haven City Limit to Main Street","NA","Reconstruct","Reconstruct add 10\" paved shoulder on east side","CON",null,319361,"STUL",null,"",1083775,"CITY",1403136,130778,null,"2017-03-15",null,"Exempt","Originally added 5/18/2016. Original cost $755,000.",754974,null,null,null,"2017-05-31",null,null,0,"2018-12-07"]
[2019,"OTTAWA","Harbor Transit ","Outreach and Marketing","Areawide","NA","Transit operations","Conduct transit and marketing activities","T-Ops",null,20000,"CM",null,null,5000,"CITY",25000,null,null,"2016-05-18",null,"Exempt",null,25000,null,null,null,"2016-10-01"]
[2019,"OTTAWA","Harbor Transit ","(2) Replacement Buses","Areawide","NA","Transit operations","(2) Replacement Buses","T-Cap",null,256000,"CM",null,null,64000,"CITY",320000,null,null,"2016-05-18",null,"Exempt",null,320000,null,null,null,"2016-10-01"]
[2019,"OTTAWA","MDOT","M-104","Kruger Street east to 148th Avenue","NA","Widen - major (capacity increase)","Widen for a center left turn lane.","PE",null,96583,"CM",21417,"M",null,"",118000,127479,null,"2016-05-18",null,"Exempt",null,678000,null,null,null,"2016-10-01",null,null,0,"2021-02-05"]
[2019,"OTTAWA","Ottawa County","Comstock St","168th to Mercury","NA","Resurface","Resurface existing width, restore shoulders","CON",null,420000,"STUL",null,"",334200,"CNTY",754200,130785,null,"2016-05-18",null,"Exempt",null,754200,null,null,null,"2016-10-01",null,null,0,"2018-12-07"]
[2019,"OTTAWA","Spring Lake","Exchange St","Jackson to Elm","NA","Resurface","Resurface","CON",null,200000,"STUL",null,"",190000,"CITY",390000,130780,null,"2016-05-18",null,"Exempt",null,390000,null,null,null,"2016-10-01",null,null,0,"2018-12-07"]
[2020,"Areawide ","FTA GPA","Section 5307 GPA","Areawide ","NA","GPA ","Urbanized Area Formula Grants",null,null,2155000,5307,760000,"M",915000,"OLF",3830000,null,null,"2016-05-18",null,"Exempt",null,8305687.5,null,null,null,"2016-10-01"]
[2020,"Areawide ","FTA GPA","Section 5310 GPA","Areawide ","NA","GPA ","Enhanced Mobility of Seniors and Individuals with Disabilities",null,null,426613,5310,147903,"M",null,null,574516,null,null,"2016-05-18",null,"Exempt",null,571621,null,null,null,"2016-10-01"]
[2020,"Areawide ","FTA GPA","Section 5311 GPA","Areawide ","NA","GPA ","Rural Area Formula Grants",null,null,46585,5311,46585,"M",null,null,93170,null,null,"2016-05-18",null,"Exempt",null,2728753,null,null,null,"2016-10-01"]
[2020,"MUSKEGON","Fruitport","3rd Ave","Third Street  - Pontaluna to Park",0.374,"Reconstruct","Road reconstruction","CON",null,200000,"STUL",null,"",255465,"CITY",455465,130798,null,"2016-05-18",null,"Exempt",null,455465,null,null,null,"2016-10-01",null,null,0,"2019-12-06"]
[2020,"MUSKEGON","Lakewood Club","Automobile Road","Lakewood Road to White Lake Drive",null,"Resurface","Resurface","CON",null,375000,"STU",null,null,123000,"VLG",498000,null,null,"2017-01-18",null,"Exempt",null,500000,null,null,null,"2017-04-06"]
[2020,"MUSKEGON","MATS","Outreach and Marketing","Areawide","NA","Transit operations","Conduct transit and marketing activities","CON",null,80000,"CM",20000,"CTF",null,null,100000,null,null,"2016-05-18",null,"Exempt",null,100000,null,null,null,"2016-10-01"]
[2020,"MUSKEGON","MATS","Heavy duty bus replacement","Areawide","NA","Transit vehicle additions/replacements","Heavy duty bus replacement","CON",null,390000,"CM",97500,"CTF",null,null,487500,null,null,"2016-05-18",null,"Exempt",null,500000,null,null,null,"2016-10-01"]
[2020,"Muskegon","MATS","Specialized Services Operating","Areawide","NA","Transit operations","Specialized Services Operating","T-Ops",null,null,null,65499,"CTF",null,null,65499,null,null,"2016-05-18",null,"Exempt",null,null,null,null,null,"2016-10-01"]
[2020,"MUSKEGON","MCRC","Ellis Rd","Ravenna Rd east to 500' Crockery Creek bridge","","Reconstruct","Reconstruct","CON",null,438090,"STL",0,"",202393,"CNTY",640483,130496,null,"2016-05-18",null,"Exempt",null,640483,null,null,null,"2016-10-01",null,null,null,"2020-06-05"]
[2020,"MUSKEGON","MCRC","Whitehall Rd","River Road to Bard",2.669,"Reconstruct","Reconstruct, add left turn lane","CON",null,500000,"STUL",null,"",105000,"CNTY",605000,130777,null,"2016-05-18",null,"Exempt",null,605000,null,null,null,"2016-10-01",null,null,0,"2019-12-06"]
[2020,"MUSKEGON","MCRC","Fruitvale Rd","US 31 to Walsh Road",null,"Resurface","Resurface","CON",null,330000,"STU",null,null,82500,"CNTY",412500,null,null,"2017-01-18",null,"Exempt",null,450000,null,null,null,"2017-04-06"]
[2020,"MUSKEGON","MDOT","US-31","US-31SB from US-31BR to S. of M-120",1.7070000000000001,"Miscellaneous","Widen paved shoulder","CON",null,292500,"HSIP",32500,"M",null,"",325000,122641,null,"2016-05-18",null,"Exempt",null,400000,null,null,null,"2016-10-01",null,null,0,"2020-01-10"]
[2020,"MUSKEGON","MDOT","Trunkline Scoping and Studies","Regionwide","NA","GPA ","Trunkline Scoping and Studies","CON",null,99965.6,"ST",24991.399999999994,"M",null,"",124957,null,null,"2016-05-18",null,"Exempt","Based on MDOT templated budgets and 5 year average",124957,null,null,null,"2016-10-01"]
[2020,"MUSKEGON","MDOT","Trunkline Bridge Preservation","Regionwide","NA","GPA ","Trunkline Bridge Preservation","CON",null,696000,"ST",174000,"M",null,"",870000,null,null,"2016-05-18",null,"Exempt","Based on MDOT templated budgets and 5 year average",870000,null,null,null,"2016-10-01"]
[2020,"MUSKEGON","MDOT","Trunkline Traffic Operations or Safety","Regionwide","NA","GPA ","Trunkline Traffic Operations and Safety","CON",null,994478,"ST",220522,"M",null,"",1215000,null,null,"2016-05-18",null,"Exempt","Based on prrojects in FHWA GPA tab",1215000,null,null,null,"2016-10-01"]
[2020,"MUSKEGON","MDOT","Trunkline Bridge 3R","Regionwide","NA","GPA ","Trunkline Bridge 3R","CON",null,4330248,"ST",481140,"M",null,"",4811388,null,null,"2016-05-18",null,"Exempt","Based on prrojects in FHWA GPA tab",4811388,null,null,null,"2016-10-01"]
[2020,"MUSKEGON","MDOT","Trunkline Highway Preservation","Regionwide","NA","GPA ","Trunkline Highway Preservation","CON",null,5240000,"ST",1310000,"M",null,"",6550000,null,null,"2016-05-18",null,"Exempt","Based on MDOT templated budgets and 5 year average",6550000,null,null,null,"2016-10-01"]
[2020,"MUSKEGON","Muskegon","Lakeshore Dr","Lakeshore from Lincoln to laketon",1.2110000000000001,"Reconstruct","Reconstruct","CON",null,800000,"STUL",null,"",500000,"CITY",1300000,130796,null,"2016-05-18",null,"Exempt",null,1300000,null,null,null,"2016-10-01",null,null,0,"2019-12-06"]
[2020,"MUSKEGON","WMSRDC","Outreach and Marketing","Areawide","NA","Studies","Promotion and Marketing of Voluntary householdand transportation activities that will reduce air pollution","CON",null,100000,"CM",null,null,25000,"OLF",125000,null,null,"2016-05-18",null,"Exempt",null,125000,null,null,null,"2016-10-01"]
[2020,"OTTAWA","Ferrysburg","North Shore Dr","North Shore Estates Road to City of FB city limits",0.64300000000000002,"Reconstruct","Reconstruct","CON",null,286000,"STUL",null,"",414000,"CITY",700000,130795,null,"2016-05-18",null,"Exempt",null,700000,null,null,null,"2016-10-01",null,null,null,"2019-12-06"]
[2020,"OTTAWA","Harbor Transit ","Outreach and Marketing","Areawide","NA","Transit operations","Conduct transit and marketing activities","T-Ops",null,25104,"CM",null,null,6276,"CITY",31380,null,null,"2016-05-18",null,"Exempt",null,31380,null,null,null,"2016-10-01"]
[2020,"OTTAWA","Harbor Transit ","2 Replacement Buses","Areawide","NA","Transit vehicle additions/replacements","(2) Replacement Buses","T-Cap",null,264000,"CM",null,null,66000,"CITY",330000,null,null,"2016-05-18",null,"Exempt",null,330000,null,null,null,"2016-10-01"]
[2020,"OTTAWA","OCRC","Lakeshore Dr","Rosy Mound Drive to Buchanan Street",2.66,"Resurface","Resurface existing 30' width and restore shoulders","CON",null,340000,"STUL",null,"",861500,"CNTY",1201500,130779,null,"2016-05-18",null,"Exempt",null,1201500,null,null,null,"2016-10-01",null,null,null,"2019-12-06"]
[2018,"OTTAWA","Harbor Transit ","One Replacement Bus","Areawide","NA","Transit vehicle additions/replacements","(1) Replacement Bus","T-Cap",null,120000,5339,30000,"CTF",null,null,150000,null,"D","2017-03-15",null,"Exempt",null,170000,null,null,null,"2017-05-31"]
[2018,"OTTAWA","Harbor Transit ","Miscellaneous bus equipment","Areawide","NA","Transit operations equipment","Miscellaneous bus equipment","T-Cap",null,2000,5339,500,"CTF",null,null,2500,null,"D","2017-03-15",null,"Exempt",null,4000,null,null,null,"2017-05-31"]
[2018,"MUSKEGON","MCRC","Blackmer Road Bridge","over Crockery Creek",null,"Bridge restore & rehabilitate","Restore bridge","CON",null,152000,"BHT",null,null,null,null,152000,null,"D","2017-03-15",null,"Exempt",null,160000,null,null,null,"2017-05-31"]
[2019,"MUSKEGON","MCRC","Orshal Road Bridge","over Duck Creek",null,"Bridge restore & rehabilitate","Restore bridge","CON",null,20000,"BHT",null,null,null,null,20000,null,"D","2017-03-15",null,"Exempt",null,25000,null,null,null,"2017-05-31"]
[2019,"MUSKEGON","MCRC","Fruitvale Road Bridge","over White River",null,"Bridge restore & rehabilitate","Restore bridge","CON",null,92500,"BHT",null,null,null,null,92500,null,"D","2017-03-15",null,"Exempt",null,100000,null,null,null,"2017-05-31"]
[2019,"MUSKEGON","MCRC","Scenic Drive Bridge","over Duck Lake outlet",null,"Bridge restore & rehabilitate","Restore bridge","CON",null,48300,"BHT",null,null,null,null,48300,null,"D","2017-03-15",null,"Exempt",null,55000,null,null,null,"2017-05-31"]
[2017,"MUSKEGON","MDOT","Local Highway Safety","Areawide","NA","GPA ","Local Highway Safety","CON",null,104451,"ST",null,null,null,null,104451,null,"E","2017-05-17","Add","Exempt",null,105000,null,null,null,"2017-06-20"]
[2017,"MUSKEGON","MDOT","CPM","Areawide","NA","GPA ","CPM","CON",null,280000,"ST",70000,"M",null,null,350000,null,"E","2017-05-17","Add","Exempt",null,350000,null,null,null,"2017-06-20"]

{"sheet":"FY 2017","index":1,"n_rows":44,"n_cols":4,"rows_kept":44,"cut":false,"hidden":false,"merged":[[0,1,0,3]]}
[null,"FY 2017"]
["Highway Program","Estimated Federal Commitments","Estimated Non-Federal Commitments","Total Proposed Commitments"]
["MDOT AC & M Program",null,{"$f":"D3","v":0},{"$f":"SUM('MDOT FTA Detail'!F135:F169)+'MDOT FTA Detail'!F171","v":0}]
["MDOT FA Program",{"$f":"SUM('MDOT FTA Detail'!D6:D109)","v":10814194},{"$f":"D4-B4","v":2558553},{"$f":"SUM('MDOT FTA Detail'!F6:F109)","v":13372747}]
["Sub-Total MDOT",{"$f":"B4","v":10814194},{"$f":"C3+C4","v":2558553},{"$f":"D3+D4","v":13372747}]
["Local STP",{"$f":"SUM('Local Detail'!D78,'Local Detail'!D79,'Local Detail'!D82:D97,'Local Detail'!D72:D73,'Local Detail'!D53:D54,'Local Detail'!D24)","v":3677979},{"$f":"D6-B6","v":2149360},{"$f":"SUM('Local Detail'!F78,'Local Detail'!F79,'Local Detail'!F82:F97,'Local Detail'!F72:F73,'Local Detail'!F53:F54,'Local Detail'!F24)","v":5827339}]
["Local Bridge",{"$f":"SUM('Local Detail'!D6:D9,'Local Detail'!D13:D16,'Local Detail'!D102,'Local Detail'!D11:D11,'Local Detail'!D43)","v":307200},76800,{"$f":"SUM('Local Detail'!F6:F9,'Local Detail'!F13:F16,'Local Detail'!F102,'Local Detail'!F11:F11,'Local Detail'!F43)","v":384000}]
["Local CMAQ",{"$f":"SUM('Local Detail'!D20:D23)","v":859104},214776,{"$f":"SUM('Local Detail'!F20:F23)","v":1073880}]
["Local Safety",{"$f":"SUM('Local Detail'!D46,'Local Detail'!D48,'Local Detail'!D80:D81)","v":0},0,{"$f":"SUM('Local Detail'!F46,'Local Detail'!F48,'Local Detail'!F80:F81)","v":0}]
["Local Equity Bonus (TEDF)",{"$f":"SUM('Local Detail'!D31:D38)","v":0},0,{"$f":"SUM('Local Detail'!F31:F38)","v":0}]
["Local Other FHWA",{"$f":"SUM('Local Detail'!D10,'Local Detail'!D12,'Local Detail'!D17:D19,'Local Detail'!D25:D30,'Local Detail'!D39:D42,'Local Detail'!D44:D45,'Local Detail'!D47,'Local Detail'!D49:D52,'Local Detail'!D55:D71,'Local Detail'!D103:D109,'Local Detail'!D98:D101,'Local Detail'!D74:D77)","v":0},0,{"$f":"SUM('Local Detail'!F10,'Local Detail'!F12,'Local Detail'!F17:F19,'Local Detail'!F25:F30,'Local Detail'!F39:F42,'Local Detail'!F44:F45,'Local Detail'!F47,'Local Detail'!F49:F52,'Local Detail'!F55:F71,'Local Detail'!F103:F109,'Local Detail'!F98:F101,'Local Detail'!F74:F77)","v":0}]
["Local AC Starts",null,{"$f":"D12","v":468750},{"$f":"'Local Detail'!F147","v":468750}]
["Local Non-Federal",null,{"$f":"D13","v":1237821},{"$f":"SUM('Local Detail'!F111:F145)","v":1237821}]
["Sub-Total Local",{"$f":"SUM(B6:B11)","v":4844283},{"$f":"SUM(C6:C13)","v":4147507},{"$f":"SUM(D6:D13)","v":8991790}]
["Total Highway",{"$f":"B14+B5","v":15658477},{"$f":"C14+C5","v":6706060},{"$f":"D14+D5","v":22364537}]
[]
[]
["Transit Fund Source","Estimated Federal Commitments","Estimated Non-Federal Commitments","Total Proposed Commitments"]
["CTF - Comprehensive Transit Fund",{"$f":"'MDOT FTA Detail'!D110","v":0},{"$f":"IF(B19>0,D19-B19,'MDOT FTA Detail'!E134+'Local Detail'!E110)","v":65499},{"$f":"'Local Detail'!F110+'MDOT FTA Detail'!F134+'MDOT FTA Detail'!F110","v":65499}]
["Section 3038 - Over the Road Bus Program",{"$f":"'MDOT FTA Detail'!D111","v":0},{"$f":"D20-B20","v":0},{"$f":"'MDOT FTA Detail'!F111","v":0}]
["Section 3045 - National Fuel Cell Technology Development Program",{"$f":"'MDOT FTA Detail'!D112","v":0},{"$f":"D21-B21","v":0},{"$f":"'MDOT FTA Detail'!F112","v":0}]
["Section 5303 - Metropolitan Transportation Planning",{"$f":"'MDOT FTA Detail'!D113","v":0},0,{"$f":"'MDOT FTA Detail'!F113","v":0}]
["Section 5304 - Statewide Transportation Planning",{"$f":"'MDOT FTA Detail'!D114","v":0},0,{"$f":"'MDOT FTA Detail'!F114","v":0}]
["Section 5305 - Metropolitan and Statewide Planning",{"$f":"'MDOT FTA Detail'!D115","v":0},0,{"$f":"'MDOT FTA Detail'!F115","v":0}]
["Section 5307 - UZA Formula",{"$f":"'MDOT FTA Detail'!D116","v":2155000},1675000,{"$f":"'MDOT FTA Detail'!F116","v":3830000}]
["Section 5308 - Clean Fuels Program",{"$f":"'MDOT FTA Detail'!D117","v":0},0,{"$f":"'MDOT FTA Detail'!F117","v":0}]
["Section 5309 - Fixed Guideway Capital Investment Grant",{"$f":"'MDOT FTA Detail'!D118","v":0},0,{"$f":"'MDOT FTA Detail'!F118","v":0}]
["Section 5310 - Enhanced Mobility of Seniors and Individuals with Disabilities",{"$f":"'MDOT FTA Detail'!D119","v":971746},284186,{"$f":"'MDOT FTA Detail'!F119","v":1255932}]
["Section 5311 - Non-UZA ",{"$f":"'MDOT FTA Detail'!D120","v":46585},46585,{"$f":"'MDOT FTA Detail'!F120","v":93170}]
["Section 5312 - Research, Development, Demonstration, and Deployment",{"$f":"'MDOT FTA Detail'!D121","v":0},{"$f":"D30-B30","v":0},{"$f":"'MDOT FTA Detail'!F121","v":0}]
["Section 5313 - Transit Cooperative Research Program",{"$f":"'MDOT FTA Detail'!D122","v":0},0,{"$f":"'MDOT FTA Detail'!F122","v":0}]
["Section 5314 - Technical Assistance and Standards",{"$f":"'MDOT FTA Detail'!D123","v":0},0,{"$f":"'MDOT FTA Detail'!F123","v":0}]
["Section 5316 - Transit - Section 5316 - Job Access/Reverse Commute",{"$f":"'MDOT FTA Detail'!D124","v":0},0,{"$f":"'MDOT FTA Detail'!F124","v":0}]
["Section 5317 - Transit - Section 5317 - New Freedom Initiative",{"$f":"'MDOT FTA Detail'!D125","v":0},0,{"$f":"'MDOT FTA Detail'!F125","v":0}]
["Section 5320 - Alternative Transportation in Parks and Public Lands",{"$f":"'MDOT FTA Detail'!D126","v":0},0,{"$f":"'MDOT FTA Detail'!F126","v":0}]
["Section 5322 - Human Resources and Training",{"$f":"'MDOT FTA Detail'!D127","v":0},{"$f":"D36-B36","v":0},{"$f":"'MDOT FTA Detail'!F127","v":0}]
["Section 5324 - Emergency Relief",{"$f":"'MDOT FTA Detail'!D128","v":0},{"$f":"D37-B37","v":0},{"$f":"'MDOT FTA Detail'!F128","v":0}]
["Section 5326 - Asset Management Provisions",{"$f":"'MDOT FTA Detail'!D129","v":0},{"$f":"D38-B38","v":0},{"$f":"'MDOT FTA Detail'!F129","v":0}]
["Section 5329 - Safety",{"$f":"'MDOT FTA Detail'!D130","v":0},{"$f":"D39-B39","v":0},{"$f":"'MDOT FTA Detail'!F130","v":0}]
["Section 5337 - State of Good Repair Grants",{"$f":"'MDOT FTA Detail'!D131","v":470000},{"$f":"D40-B40","v":117600},{"$f":"'MDOT FTA Detail'!F131","v":587600}]
["Section 5339 - Bus and Bus Facilities",{"$f":"'MDOT FTA Detail'!D132","v":350572},58800,{"$f":"'MDOT FTA Detail'!F132","v":409372}]
["Section 5505 - University Transportation Centers Program",{"$f":"'MDOT FTA Detail'!D133","v":0},0,{"$f":"'MDOT FTA Detail'!F133","v":0}]
["Total Transit",{"$f":"SUM(B19:B42)","v":3993903},{"$f":"SUM(C19:C42)","v":2247670},{"$f":"SUM(D19:D42)","v":6241573}]
["Grand Total",{"$f":"B43+B15","v":19652380},{"$f":"C43+C15","v":8953730},{"$f":"D43+D15","v":28606110}]

{"sheet":"FY 2018","index":2,"n_rows":44,"n_cols":4,"rows_kept":44,"cut":false,"hidden":false,"merged":[[0,1,0,3]]}
[null,"FY 2018"]
["Highway Program","Estimated Federal Commitments","Estimated Non-Federal Commitments","Total Proposed Commitments"]
["MDOT AC & M Program",null,{"$f":"D3","v":0},{"$f":"SUM('MDOT FTA Detail'!I135:I169)+'MDOT FTA Detail'!I171","v":0}]
["MDOT FA Program",{"$f":"SUM('MDOT FTA Detail'!G6:G109)","v":7733874.5999999996},{"$f":"D4-B4","v":1636467.4000000004},{"$f":"SUM('MDOT FTA Detail'!I6:I109)","v":9370342}]
["Sub-Total MDOT",{"$f":"B4","v":7733874.5999999996},{"$f":"C3+C4","v":1636467.4000000004},{"$f":"D3+D4","v":9370342}]
["Local STP",{"$f":"SUM('Local Detail'!G78,'Local Detail'!G79,'Local Detail'!G82:G97,'Local Detail'!G72:G73,'Local Detail'!G53:G54,'Local Detail'!G24)","v":2565590},{"$f":"D6-B6","v":947348},{"$f":"SUM('Local Detail'!I78,'Local Detail'!I79,'Local Detail'!I82:I97,'Local Detail'!I72:I73,'Local Detail'!I53:I54,'Local Detail'!I24)","v":3512938}]
["Local Bridge",{"$f":"SUM('Local Detail'!G6:G9,'Local Detail'!G13:G16,'Local Detail'!G102,'Local Detail'!G11:G11,'Local Detail'!G43)","v":152000},0,{"$f":"SUM('Local Detail'!I6:I9,'Local Detail'!I13:I16,'Local Detail'!I102,'Local Detail'!I11:I11,'Local Detail'!I43)","v":152000}]
["Local CMAQ",{"$f":"SUM('Local Detail'!G20:G23)","v":859104},210294,{"$f":"SUM('Local Detail'!I20:I23)","v":1069398}]
["Local Safety",{"$f":"SUM('Local Detail'!G46,'Local Detail'!G48,'Local Detail'!G80:G81)","v":0},0,{"$f":"SUM('Local Detail'!I46,'Local Detail'!I48,'Local Detail'!I80:I81)","v":0}]
["Local Equity Bonus (TEDF)",{"$f":"SUM('Local Detail'!G31:G38)","v":0},0,{"$f":"SUM('Local Detail'!I31:I38)","v":0}]
["Local Other FHWA",{"$f":"SUM('Local Detail'!G10,'Local Detail'!G12,'Local Detail'!G17:G19,'Local Detail'!G25:G30,'Local Detail'!G39:G42,'Local Detail'!G44:G45,'Local Detail'!G47,'Local Detail'!G49:G52,'Local Detail'!G55:G71,'Local Detail'!G103:G109,'Local Detail'!G98:G101,'Local Detail'!G74:G77)","v":41337},8267,{"$f":"SUM('Local Detail'!I10,'Local Detail'!I12,'Local Detail'!I17:I19,'Local Detail'!I25:I30,'Local Detail'!I39:I42,'Local Detail'!I44:I45,'Local Detail'!I47,'Local Detail'!I49:I52,'Local Detail'!I55:I71,'Local Detail'!I103:I109,'Local Detail'!I98:I101,'Local Detail'!I74:I77)","v":49604}]
["Local AC Starts",null,{"$f":"D12","v":0},{"$f":"'Local Detail'!I147","v":0}]
["Local Non-Federal",null,{"$f":"D13","v":0},{"$f":"SUM('Local Detail'!I111:I145)","v":0}]
["Sub-Total Local",{"$f":"SUM(B6:B11)","v":3618031},{"$f":"SUM(C6:C13)","v":1165909},{"$f":"SUM(D6:D13)","v":4783940}]
["Total Highway",{"$f":"B14+B5","v":11351905.6},{"$f":"C14+C5","v":2802376.4000000004},{"$f":"D14+D5","v":14154282}]
[]
[]
["Transit Fund Source","Estimated Federal Commitments","Estimated Non-Federal Commitments","Total Proposed Commitments"]
["CTF - Comprehensive Transit Fund",{"$f":"'MDOT FTA Detail'!G110","v":0},{"$f":"IF(B19>0,D19-B19,'MDOT FTA Detail'!H134+'Local Detail'!H110)","v":65499},{"$f":"'MDOT FTA Detail'!I110+'MDOT FTA Detail'!I134+'Local Detail'!I110","v":65499}]
["Section 3038 - Over the Road Bus Program",{"$f":"'MDOT FTA Detail'!G111","v":0},{"$f":"D20-B20","v":0},{"$f":"'MDOT FTA Detail'!I111","v":0}]
["Section 3045 - National Fuel Cell Technology Development Program",{"$f":"'MDOT FTA Detail'!G112","v":0},{"$f":"D21-B21","v":0},{"$f":"'MDOT FTA Detail'!I112","v":0}]
["Section 5303 - Metropolitan Transportation Planning",{"$f":"'MDOT FTA Detail'!G113","v":0},0,{"$f":"'MDOT FTA Detail'!I113","v":0}]
["Section 5304 - Statewide Transportation Planning",{"$f":"'MDOT FTA Detail'!G114","v":220000},-139999.99058006943,{"$f":"'MDOT FTA Detail'!I114","v":80000.00941993059}]
["Section 5305 - Metropolitan and Statewide Planning",{"$f":"'MDOT FTA Detail'!G115","v":0},0,{"$f":"'MDOT FTA Detail'!I115","v":0}]
["Section 5307 - UZA Formula",{"$f":"'MDOT FTA Detail'!G116","v":2155000},1675000,{"$f":"'MDOT FTA Detail'!I116","v":3830000}]
["Section 5308 - Clean Fuels Program",{"$f":"'MDOT FTA Detail'!G117","v":0},0,{"$f":"'MDOT FTA Detail'!I117","v":0}]
["Section 5309 - Fixed Guideway Capital Investment Grant",{"$f":"'MDOT FTA Detail'!G118","v":0},0,{"$f":"'MDOT FTA Detail'!I118","v":0}]
["Section 5310 - Enhanced Mobility of Seniors and Individuals with Disabilities",{"$f":"'MDOT FTA Detail'!G119","v":441463},163753,{"$f":"'MDOT FTA Detail'!I119","v":605216}]
["Section 5311 - Non-UZA ",{"$f":"'MDOT FTA Detail'!G120","v":46585},46585,{"$f":"'MDOT FTA Detail'!I120","v":93170}]
["Section 5312 - Research, Development, Demonstration, and Deployment",{"$f":"'MDOT FTA Detail'!G121","v":0},{"$f":"D30-B30","v":0},{"$f":"'MDOT FTA Detail'!I121","v":0}]
["Section 5313 - Transit Cooperative Research Program",{"$f":"'MDOT FTA Detail'!G122","v":0},0,{"$f":"'MDOT FTA Detail'!I122","v":0}]
["Section 5314 - Technical Assistance and Standards",{"$f":"'MDOT FTA Detail'!G123","v":0},0,{"$f":"'MDOT FTA Detail'!I123","v":0}]
["Section 5316 - Transit - Section 5316 - Job Access/Reverse Commute",{"$f":"'MDOT FTA Detail'!G124","v":0},0,{"$f":"'MDOT FTA Detail'!I124","v":0}]
["Section 5317 - Transit - Section 5317 - New Freedom Initiative",{"$f":"'MDOT FTA Detail'!G125","v":0},0,{"$f":"'MDOT FTA Detail'!I125","v":0}]
["Section 5320 - Alternative Transportation in Parks and Public Lands",{"$f":"'MDOT FTA Detail'!G126","v":0},0,{"$f":"'MDOT FTA Detail'!I126","v":0}]
["Section 5322 - Human Resources and Training",{"$f":"'MDOT FTA Detail'!G127","v":0},{"$f":"D36-B36","v":0},{"$f":"'MDOT FTA Detail'!I127","v":0}]
["Section 5324 - Emergency Relief",{"$f":"'MDOT FTA Detail'!G128","v":0},{"$f":"D37-B37","v":0},{"$f":"'MDOT FTA Detail'!I128","v":0}]
["Section 5326 - Asset Management Provisions",{"$f":"'MDOT FTA Detail'!G129","v":0},{"$f":"D38-B38","v":0},{"$f":"'MDOT FTA Detail'!I129","v":0}]
["Section 5329 - Safety",{"$f":"'MDOT FTA Detail'!G130","v":0},{"$f":"D39-B39","v":0},{"$f":"'MDOT FTA Detail'!I130","v":0}]
["Section 5337 - State of Good Repair Grants",{"$f":"'MDOT FTA Detail'!G131","v":0},{"$f":"D40-B40","v":0},{"$f":"'MDOT FTA Detail'!I131","v":0}]
["Section 5339 - Bus and Bus Facilities",{"$f":"'MDOT FTA Detail'!G132","v":122000},30500,{"$f":"'MDOT FTA Detail'!I132","v":152500}]
["Section 5505 - University Transportation Centers Program",{"$f":"'MDOT FTA Detail'!G133","v":0},0,{"$f":"'MDOT FTA Detail'!I133","v":0}]
["Total Transit",{"$f":"SUM(B19:B42)","v":2985048},{"$f":"SUM(C19:C42)","v":1841337.0094199306},{"$f":"SUM(D19:D42)","v":4826385.0094199311}]
["Grand Total",{"$f":"B43+B15","v":14336953.6},{"$f":"C43+C15","v":4643713.4094199315},{"$f":"D43+D15","v":18980667.009419933}]

{"sheet":"FY 2019","index":3,"n_rows":44,"n_cols":4,"rows_kept":44,"cut":false,"hidden":false,"merged":[[0,1,0,3]]}
[null,"FY 2019"]
["Highway Program","Estimated Federal Commitments","Estimated Non-Federal Commitments","Total Proposed Commitments"]
["MDOT AC & M Program",null,{"$f":"D3","v":0},{"$f":"SUM('MDOT FTA Detail'!L135:L169)+'MDOT FTA Detail'!L171","v":0}]
["MDOT FA Program",{"$f":"SUM('MDOT FTA Detail'!J6:J109)","v":5804763.5999999996},{"$f":"D4-B4","v":1235193.4000000004},{"$f":"SUM('MDOT FTA Detail'!L6:L109)","v":7039957}]
["Sub-Total MDOT",{"$f":"B4","v":5804763.5999999996},{"$f":"C3+C4","v":1235193.4000000004},{"$f":"D3+D4","v":7039957}]
["Local STP",{"$f":"SUM('Local Detail'!J78,'Local Detail'!J79,'Local Detail'!J82:J97,'Local Detail'!J72:J73,'Local Detail'!J53:J54,'Local Detail'!J24)","v":2614090},{"$f":"D6-B6","v":2246528},{"$f":"SUM('Local Detail'!L78,'Local Detail'!L79,'Local Detail'!L82:L97,'Local Detail'!L72:L73,'Local Detail'!L53:L54,'Local Detail'!L24)","v":4860618}]
["Local Bridge",{"$f":"SUM('Local Detail'!J6:J9,'Local Detail'!J13:J16,'Local Detail'!J102,'Local Detail'!J11:J11,'Local Detail'!J43)","v":160800},0,{"$f":"SUM('Local Detail'!L6:L9,'Local Detail'!L13:L16,'Local Detail'!L102,'Local Detail'!L11:L11,'Local Detail'!L43)","v":160800}]
["Local CMAQ",{"$f":"SUM('Local Detail'!J20:J23)","v":859104},239776,{"$f":"SUM('Local Detail'!L20:L23)","v":1098880}]
["Local Safety",{"$f":"SUM('Local Detail'!J46,'Local Detail'!J48,'Local Detail'!J80:J81)","v":0},0,{"$f":"SUM('Local Detail'!L46,'Local Detail'!L48,'Local Detail'!L80:L81)","v":0}]
["Local Equity Bonus (TEDF)",{"$f":"SUM('Local Detail'!J31:J38)","v":0},0,{"$f":"SUM('Local Detail'!L31:L38)","v":0}]
["Local Other FHWA",{"$f":"SUM('Local Detail'!J10,'Local Detail'!J12,'Local Detail'!J17:J19,'Local Detail'!J25:J30,'Local Detail'!J39:J42,'Local Detail'!J44:J45,'Local Detail'!J47,'Local Detail'!J49:J52,'Local Detail'!J55:J71,'Local Detail'!J103:J109,'Local Detail'!J98:J101,'Local Detail'!J74:J77)","v":0},0,{"$f":"SUM('Local Detail'!L10,'Local Detail'!L12,'Local Detail'!L17:L19,'Local Detail'!L25:L30,'Local Detail'!L39:L42,'Local Detail'!L44:L45,'Local Detail'!L47,'Local Detail'!L49:L52,'Local Detail'!L55:L71,'Local Detail'!L103:L109,'Local Detail'!L98:L101,'Local Detail'!L74:L77)","v":0}]
["Local AC Starts",null,{"$f":"D12","v":0},{"$f":"'Local Detail'!L147","v":0}]
["Local Non-Federal",null,{"$f":"D13","v":0},{"$f":"SUM('Local Detail'!L111:L145)","v":0}]
["Sub-Total Local",{"$f":"SUM(B6:B11)","v":3633994},{"$f":"SUM(C6:C13)","v":2486304},{"$f":"SUM(D6:D13)","v":6120298}]
["Total Highway",{"$f":"B14+B5","v":9438757.5999999996},{"$f":"C14+C5","v":3721497.4000000004},{"$f":"D14+D5","v":13160255}]
[]
[]
["Transit Fund Source","Estimated Federal Commitments","Estimated Non-Federal Commitments","Total Proposed Commitments"]
["CTF - Comprehensive Transit Fund",{"$f":"'MDOT FTA Detail'!J110","v":0},{"$f":"IF(B19>0,D19-B19,'MDOT FTA Detail'!K134+'Local Detail'!K110)","v":65499},{"$f":"'MDOT FTA Detail'!L110+'MDOT FTA Detail'!L134+'Local Detail'!L110","v":65499}]
["Section 3038 - Over the Road Bus Program",{"$f":"'MDOT FTA Detail'!J111","v":0},{"$f":"D20-B20","v":0},{"$f":"'MDOT FTA Detail'!L111","v":0}]
["Section 3045 - National Fuel Cell Technology Development Program",{"$f":"'MDOT FTA Detail'!J112","v":0},{"$f":"D21-B21","v":0},{"$f":"'MDOT FTA Detail'!L112","v":0}]
["Section 5303 - Metropolitan Transportation Planning",{"$f":"'MDOT FTA Detail'!J113","v":0},0,{"$f":"'MDOT FTA Detail'!L113","v":0}]
["Section 5304 - Statewide Transportation Planning",{"$f":"'MDOT FTA Detail'!J114","v":0},0,{"$f":"'MDOT FTA Detail'!L114","v":0}]
["Section 5305 - Metropolitan and Statewide Planning",{"$f":"'MDOT FTA Detail'!J115","v":0},0,{"$f":"'MDOT FTA Detail'!L115","v":0}]
["Section 5307 - UZA Formula",{"$f":"'MDOT FTA Detail'!J116","v":2155000},1675000,{"$f":"'MDOT FTA Detail'!L116","v":3830000}]
["Section 5308 - Clean Fuels Program",{"$f":"'MDOT FTA Detail'!J117","v":0},0,{"$f":"'MDOT FTA Detail'!L117","v":0}]
["Section 5309 - Fixed Guideway Capital Investment Grant",{"$f":"'MDOT FTA Detail'!J118","v":0},0,{"$f":"'MDOT FTA Detail'!L118","v":0}]
["Section 5310 - Enhanced Mobility of Seniors and Individuals with Disabilities",{"$f":"'MDOT FTA Detail'!J119","v":414603},144900,{"$f":"'MDOT FTA Detail'!L119","v":559503}]
["Section 5311 - Non-UZA ",{"$f":"'MDOT FTA Detail'!J120","v":46585},46585,{"$f":"'MDOT FTA Detail'!L120","v":93170}]
["Section 5312 - Research, Development, Demonstration, and Deployment",{"$f":"'MDOT FTA Detail'!J121","v":0},{"$f":"D30-B30","v":0},{"$f":"'MDOT FTA Detail'!L121","v":0}]
["Section 5313 - Transit Cooperative Research Program",{"$f":"'MDOT FTA Detail'!J122","v":0},0,{"$f":"'MDOT FTA Detail'!L122","v":0}]
["Section 5314 - Technical Assistance and Standards",{"$f":"'MDOT FTA Detail'!J123","v":0},0,{"$f":"'MDOT FTA Detail'!L123","v":0}]
["Section 5316 - Transit - Section 5316 - Job Access/Reverse Commute",{"$f":"'MDOT FTA Detail'!J124","v":0},0,{"$f":"'MDOT FTA Detail'!L124","v":0}]
["Section 5317 - Transit - Section 5317 - New Freedom Initiative",{"$f":"'MDOT FTA Detail'!J125","v":0},0,{"$f":"'MDOT FTA Detail'!L125","v":0}]
["Section 5320 - Alternative Transportation in Parks and Public Lands",{"$f":"'MDOT FTA Detail'!J126","v":0},0,{"$f":"'MDOT FTA Detail'!L126","v":0}]
["Section 5322 - Human Resources and Training",{"$f":"'MDOT FTA Detail'!J127","v":0},{"$f":"D36-B36","v":0},{"$f":"'MDOT FTA Detail'!L127","v":0}]
["Section 5324 - Emergency Relief",{"$f":"'MDOT FTA Detail'!J128","v":0},{"$f":"D37-B37","v":0},{"$f":"'MDOT FTA Detail'!L128","v":0}]
["Section 5326 - Asset Management Provisions",{"$f":"'MDOT FTA Detail'!J129","v":0},{"$f":"D38-B38","v":0},{"$f":"'MDOT FTA Detail'!L129","v":0}]
["Section 5329 - Safety",{"$f":"'MDOT FTA Detail'!J130","v":0},{"$f":"D39-B39","v":0},{"$f":"'MDOT FTA Detail'!L130","v":0}]
["Section 5337 - State of Good Repair Grants",{"$f":"'MDOT FTA Detail'!J131","v":0},{"$f":"D40-B40","v":0},{"$f":"'MDOT FTA Detail'!L131","v":0}]
["Section 5339 - Bus and Bus Facilities",{"$f":"'MDOT FTA Detail'!J132","v":0},0,{"$f":"'MDOT FTA Detail'!L132","v":0}]
["Section 5505 - University Transportation Centers Program",{"$f":"'MDOT FTA Detail'!J133","v":0},0,{"$f":"'MDOT FTA Detail'!L133","v":0}]
["Total Transit",{"$f":"SUM(B19:B42)","v":2616188},{"$f":"SUM(C19:C42)","v":1931984},{"$f":"SUM(D19:D42)","v":4548172}]
["Grand Total",{"$f":"B43+B15","v":12054945.6},{"$f":"C43+C15","v":5653481.4000000004},{"$f":"D43+D15","v":17708427}]

{"sheet":"FY 2020","index":4,"n_rows":44,"n_cols":4,"rows_kept":44,"cut":false,"hidden":false,"merged":[[0,1,0,3]]}
[null,"FY 2020"]
["Highway Program","Estimated Federal Commitments","Estimated Non-Federal Commitments","Total Proposed Commitments"]
["MDOT AC & M Program",null,{"$f":"D3","v":0},{"$f":"SUM('MDOT FTA Detail'!O135:O169)+'MDOT FTA Detail'!O171","v":0}]
["MDOT FA Program",{"$f":"SUM('MDOT FTA Detail'!M6:M109)","v":11653191.6},{"$f":"D4-B4","v":2243153.4000000004},{"$f":"SUM('MDOT FTA Detail'!O6:O109)","v":13896345}]
["Sub-Total MDOT",{"$f":"B3+B4","v":11653191.6},{"$f":"D5-B5","v":2243153.4000000004},{"$f":"D3+D4","v":13896345}]
["Local STP",{"$f":"SUM('Local Detail'!M78,'Local Detail'!M79,'Local Detail'!M82:M97,'Local Detail'!M72:M73,'Local Detail'!M53:M54,'Local Detail'!M24)","v":3269090},2543858,{"$f":"SUM('Local Detail'!O78,'Local Detail'!O79,'Local Detail'!O82:O97,'Local Detail'!O72:O73,'Local Detail'!O53:O54,'Local Detail'!O24)","v":5812948}]
["Local Bridge",{"$f":"SUM('Local Detail'!M6:M9,'Local Detail'!M13:M16,'Local Detail'!M102,'Local Detail'!M11:M11,'Local Detail'!M43)","v":0},0,{"$f":"SUM('Local Detail'!O6:O9,'Local Detail'!O13:O16,'Local Detail'!O102,'Local Detail'!O11:O11,'Local Detail'!O43)","v":0}]
["Local CMAQ",{"$f":"SUM('Local Detail'!M20:M23)","v":859104},214776,{"$f":"SUM('Local Detail'!O20:O23)","v":1073880}]
["Local Safety",{"$f":"SUM('Local Detail'!M46,'Local Detail'!M48,'Local Detail'!M80:M81)","v":0},0,{"$f":"SUM('Local Detail'!O46,'Local Detail'!O48,'Local Detail'!O80:O81)","v":0}]
["Local Equity Bonus (TEDF)",{"$f":"SUM('Local Detail'!M31:M38)","v":0},0,{"$f":"SUM('Local Detail'!O31:O38)","v":0}]
["Local Other FHWA",{"$f":"SUM('Local Detail'!M10,'Local Detail'!M12,'Local Detail'!M17:M19,'Local Detail'!M25:M30,'Local Detail'!M39:M42,'Local Detail'!M44:M45,'Local Detail'!M47,'Local Detail'!M49:M52,'Local Detail'!M55:M71,'Local Detail'!M103:M109,'Local Detail'!M98:M101,'Local Detail'!M74:M77)","v":0},0,{"$f":"SUM('Local Detail'!O10,'Local Detail'!O12,'Local Detail'!O17:O19,'Local Detail'!O25:O30,'Local Detail'!O39:O42,'Local Detail'!O44:O45,'Local Detail'!O47,'Local Detail'!O49:O52,'Local Detail'!O55:O71,'Local Detail'!O103:O109,'Local Detail'!O98:O101,'Local Detail'!O74:O77)","v":0}]
["Local AC Starts",null,{"$f":"D12","v":0},{"$f":"'Local Detail'!O147","v":0}]
["Local Non-Federal",null,{"$f":"D13","v":0},{"$f":"SUM('Local Detail'!O111:O145)","v":0}]
["Sub-Total Local",{"$f":"SUM(B6:B11)","v":4128194},{"$f":"SUM(C6:C13)","v":2758634},{"$f":"SUM(D6:D13)","v":6886828}]
["Total Highway",{"$f":"B14+B5","v":15781385.6},{"$f":"C14+C5","v":5001787.4000000004},{"$f":"D14+D5","v":20783173}]
[]
[]
["Transit Fund Source","Estimated Federal Commitments","Estimated Non-Federal Commitments","Total Proposed Commitments"]
["CTF - Comprehensive Transit Fund",{"$f":"'MDOT FTA Detail'!M110","v":0},{"$f":"IF(B19>0,D19-B19,'MDOT FTA Detail'!N134+'Local Detail'!N110)","v":65499},{"$f":"'MDOT FTA Detail'!O110+'MDOT FTA Detail'!O134+'Local Detail'!O110","v":65499}]
["Section 3038 - Over the Road Bus Program",{"$f":"'MDOT FTA Detail'!M111","v":0},{"$f":"D20-B20","v":0},{"$f":"'MDOT FTA Detail'!O111","v":0}]
["Section 3045 - National Fuel Cell Technology Development Program",{"$f":"'MDOT FTA Detail'!M112","v":0},{"$f":"D21-B21","v":0},{"$f":"'MDOT FTA Detail'!O112","v":0}]
["Section 5303 - Metropolitan Transportation Planning",{"$f":"'MDOT FTA Detail'!M113","v":0},0,{"$f":"'MDOT FTA Detail'!O113","v":0}]
["Section 5304 - Statewide Transportation Planning",{"$f":"'MDOT FTA Detail'!M114","v":0},0,{"$f":"'MDOT FTA Detail'!O114","v":0}]
["Section 5305 - Metropolitan and Statewide Planning",{"$f":"'MDOT FTA Detail'!M115","v":0},0,{"$f":"'MDOT FTA Detail'!O115","v":0}]
["Section 5307 - UZA Formula",{"$f":"'MDOT FTA Detail'!M116","v":2155000},1675000,{"$f":"'MDOT FTA Detail'!O116","v":3830000}]
["Section 5308 - Clean Fuels Program",{"$f":"'MDOT FTA Detail'!M117","v":0},0,{"$f":"'MDOT FTA Detail'!O117","v":0}]
["Section 5309 - Fixed Guideway Capital Investment Grant",{"$f":"'MDOT FTA Detail'!M118","v":0},0,{"$f":"'MDOT FTA Detail'!O118","v":0}]
["Section 5310 - Enhanced Mobility of Seniors and Individuals with Disabilities",{"$f":"'MDOT FTA Detail'!M119","v":426613},147903,{"$f":"'MDOT FTA Detail'!O119","v":574516}]
["Section 5311 - Non-UZA ",{"$f":"'MDOT FTA Detail'!M120","v":46585},46585,{"$f":"'MDOT FTA Detail'!O120","v":93170}]
["Section 5312 - Research, Development, Demonstration, and Deployment",{"$f":"'MDOT FTA Detail'!M121","v":0},{"$f":"D30-B30","v":0},{"$f":"'MDOT FTA Detail'!O121","v":0}]
["Section 5313 - Transit Cooperative Research Program",{"$f":"'MDOT FTA Detail'!M122","v":0},0,{"$f":"'MDOT FTA Detail'!O122","v":0}]
["Section 5314 - Technical Assistance and Standards",{"$f":"'MDOT FTA Detail'!M123","v":0},0,{"$f":"'MDOT FTA Detail'!O123","v":0}]
["Section 5316 - Transit - Section 5316 - Job Access/Reverse Commute",{"$f":"'MDOT FTA Detail'!M124","v":0},0,{"$f":"'MDOT FTA Detail'!O124","v":0}]
["Section 5317 - Transit - Section 5317 - New Freedom Initiative",{"$f":"'MDOT FTA Detail'!M125","v":0},0,{"$f":"'MDOT FTA Detail'!O125","v":0}]
["Section 5320 - Alternative Transportation in Parks and Public Lands",{"$f":"'MDOT FTA Detail'!M126","v":0},0,{"$f":"'MDOT FTA Detail'!O126","v":0}]
["Section 5322 - Human Resources and Training",{"$f":"'MDOT FTA Detail'!M127","v":0},{"$f":"D36-B36","v":0},{"$f":"'MDOT FTA Detail'!O127","v":0}]
["Section 5324 - Emergency Relief",{"$f":"'MDOT FTA Detail'!M128","v":0},{"$f":"D37-B37","v":0},{"$f":"'MDOT FTA Detail'!O128","v":0}]
["Section 5326 - Asset Management Provisions",{"$f":"'MDOT FTA Detail'!M129","v":0},{"$f":"D38-B38","v":0},{"$f":"'MDOT FTA Detail'!O129","v":0}]
["Section 5329 - Safety",{"$f":"'MDOT FTA Detail'!M130","v":0},{"$f":"D39-B39","v":0},{"$f":"'MDOT FTA Detail'!O130","v":0}]
["Section 5337 - State of Good Repair Grants",{"$f":"'MDOT FTA Detail'!M131","v":0},{"$f":"D40-B40","v":0},{"$f":"'MDOT FTA Detail'!O131","v":0}]
["Section 5339 - Bus and Bus Facilities",{"$f":"'MDOT FTA Detail'!M132","v":0},0,{"$f":"'MDOT FTA Detail'!O132","v":0}]
["Section 5505 - University Transportation Centers Program",{"$f":"'MDOT FTA Detail'!M133","v":0},0,{"$f":"'MDOT FTA Detail'!O133","v":0}]
["Total Transit",{"$f":"SUM(B19:B42)","v":2628198},{"$f":"SUM(C19:C42)","v":1934987},{"$f":"SUM(D19:D42)","v":4563185}]
["Grand Total",{"$f":"B43+B15","v":18409583.600000001},{"$f":"C43+C15","v":6936774.4000000004},{"$f":"D43+D15","v":25346358}]

{"sheet":"Constraint","index":5,"n_rows":44,"n_cols":17,"rows_kept":44,"cut":false,"hidden":false,"merged":[[0,13,0,16],[0,1,0,4],[0,5,0,8],[0,9,0,12]]}
["2017-04-20",2017,null,null,null,2018,null,null,null,2019,null,null,null,2020]
["Highway Program","Estimated Federal Revenue","Estimated Non-Federal Revenue","Estimated Total Revenue","Total Proposed Commitments","Estimated Federal Revenue","Estimated Non-Federal Revenue","Estimated Total Revenue","Total Proposed Commitments","Estimated Federal Revenue","Estimated Non-Federal Revenue","Estimated Total Revenue","Total Proposed Commitments","Estimated Federal Revenue","Estimated Non-Federal Revenue","Estimated Total Revenue","Total Proposed Commitments"]
["MDOT AC & M Program",null,0,{"$f":"C3","v":0},{"$f":"'FY 2017'!D3","v":0},null,null,{"$f":"G3","v":0},{"$f":"'FY 2018'!D3","v":0},null,0,{"$f":"K3","v":0},{"$f":"'FY 2019'!D3","v":0},null,0,{"$f":"O3","v":0},{"$f":"'FY 2020'!D3","v":0}]
["MDOT FA Program",10814194,2558553,{"$f":"B4+C4","v":13372747},{"$f":"'FY 2017'!D4","v":13372747},7733875,1636467,{"$f":"F4+G4","v":9370342},{"$f":"'FY 2018'!D4","v":9370342},5804764,1235193,{"$f":"J4+K4","v":7039957},{"$f":"'FY 2019'!D4","v":7039957},11653192,2243153,{"$f":"N4+O4","v":13896345},{"$f":"'FY 2020'!D4","v":13896345}]
["Sub-Total MDOT",{"$f":"SUM(B3:B4)","v":10814194},{"$f":"SUM(C3:C4)","v":2558553},{"$f":"D3+D4","v":13372747},{"$f":"'FY 2017'!D5","v":13372747},{"$f":"SUM(F4)","v":7733875},{"$f":"SUM(G3:G4)","v":1636467},{"$f":"H3+H4","v":9370342},{"$f":"'FY 2018'!D5","v":9370342},{"$f":"SUM(J4)","v":5804764},{"$f":"SUM(K3:K4)","v":1235193},{"$f":"L3+L4","v":7039957},{"$f":"'FY 2019'!D5","v":7039957},{"$f":"SUM(N4)","v":11653192},{"$f":"SUM(O3:O4)","v":2243153},{"$f":"P3+P4","v":13896345},{"$f":"'FY 2020'!D5","v":13896345}]
["Local STP",3677979,2149360,{"$f":"B6+C6","v":5827339},{"$f":"'FY 2017'!D6","v":5827339},2565590,947348,{"$f":"F6+G6","v":3512938},{"$f":"'FY 2018'!D6","v":3512938},2614090,2246528,{"$f":"J6+K6","v":4860618},{"$f":"'FY 2019'!D6","v":4860618},3269090,2543858,{"$f":"N6+O6","v":5812948},{"$f":"'FY 2020'!D6","v":5812948}]
["Local Bridge",307200,76800,{"$f":"B7+C7","v":384000},{"$f":"'FY 2017'!D7","v":384000},152000,0,{"$f":"F7+G7","v":152000},{"$f":"'FY 2018'!D7","v":152000},160800,0,{"$f":"J7+K7","v":160800},{"$f":"'FY 2019'!D7","v":160800},0,0,{"$f":"N7+O7","v":0},{"$f":"'FY 2020'!D7","v":0}]
["Local CMAQ",859104,214776,1073880,{"$f":"'FY 2017'!D8","v":1073880},859104,210294,1069398,{"$f":"'FY 2018'!D8","v":1069398},859104,239776,1098880,859,859104,214776,1073880,{"$f":"'FY 2020'!D8","v":1073880}]
["Local Safety",0,0,0,{"$f":"'FY 2017'!D9","v":0},0,0,0,{"$f":"'FY 2018'!D9","v":0},0,0,0,{"$f":"'FY 2019'!D9","v":0},0,0,0,{"$f":"'FY 2020'!D9","v":0}]
["Local Equity Bonus (TEDF)",null,null,0,{"$f":"'FY 2017'!D10","v":0},0,0,0,{"$f":"'FY 2018'!D10","v":0},0,0,0,{"$f":"'FY 2019'!D10","v":0},0,0,0,{"$f":"'FY 2020'!D10","v":0}]
["Local Other FHWA",null,null,0,{"$f":"'FY 2017'!D11","v":0},41337,8267,49604,{"$f":"'FY 2018'!D11","v":49604},0,0,0,{"$f":"'FY 2019'!D11","v":0},0,0,0,{"$f":"'FY 2020'!D11","v":0}]
["Local AC Starts",null,468750,468750,{"$f":"'FY 2017'!D12","v":468750},null,0,0,{"$f":"'FY 2018'!D12","v":0},null,0,0,{"$f":"'FY 2019'!D12","v":0},null,0,0,{"$f":"'FY 2020'!D12","v":0}]
["Local Non-Federal",null,1237821,1237821,{"$f":"'FY 2017'!D13","v":1237821},null,0,0,{"$f":"'FY 2018'!D13","v":0},null,0,0,{"$f":"'FY 2019'!D13","v":0},null,0,0,{"$f":"'FY 2020'!D13","v":0}]
["Sub-Total Local",{"$f":"SUM(B6:B11)","v":4844283},{"$f":"SUM(C6:C13)","v":4147507},{"$f":"SUM(D6:D13)","v":8991790},{"$f":"'FY 2017'!D14","v":8991790},{"$f":"SUM(F6:F11)","v":3618031},{"$f":"SUM(G6:G13)","v":1165909},{"$f":"SUM(H6:H13)","v":4783940},{"$f":"'FY 2018'!D14","v":4783940},{"$f":"SUM(J6:J11)","v":3633994},{"$f":"SUM(K6:K13)","v":2486304},{"$f":"SUM(L6:L13)","v":6120298},{"$f":"'FY 2019'!D14","v":6120298},{"$f":"SUM(N6:N11)","v":4128194},{"$f":"SUM(O6:O13)","v":2758634},{"$f":"SUM(P6:P13)","v":6886828},{"$f":"'FY 2020'!D14","v":6886828}]
["Total Highway",{"$f":"B14+B5","v":15658477},{"$f":"C14+C5","v":6706060},{"$f":"D14+D5","v":22364537},{"$f":"'FY 2017'!D15","v":22364537},{"$f":"F14+F5","v":11351906},{"$f":"G14+G5","v":2802376},{"$f":"H14+H5","v":14154282},{"$f":"'FY 2018'!D15","v":14154282},{"$f":"J14+J5","v":9438758},{"$f":"K14+K5","v":3721497},{"$f":"L14+L5","v":13160255},{"$f":"'FY 2019'!D15","v":13160255},{"$f":"N14+N5","v":15781386},{"$f":"O14+O5","v":5001787},{"$f":"P14+P5","v":20783173},{"$f":"'FY 2020'!D15","v":20783173}]
[]
[]
["Transit Fund Source","Estimated Federal Revenue","Estimated Non-Federal Revenue","Estimated Total Revenue","Total Proposed Commitments","Estimated Federal Revenue","Estimated Non-Federal Revenue","Estimated Total Revenue","Total Proposed Commitments","Estimated Federal Revenue","Estimated Non-Federal Revenue","Estimated Total Revenue","Total Proposed Commitments","Estimated Federal Revenue","Estimated Non-Federal Revenue","Estimated Total Revenue","Total Proposed Commitments"]
["CTF - Comprehensive Transit Fund",0,65499,{"$f":"B19+C19","v":65499},{"$f":"'FY 2017'!D19","v":65499},0,65499,{"$f":"F19+G19","v":65499},{"$f":"'FY 2018'!D19","v":65499},0,0,65499,{"$f":"'FY 2019'!D19","v":65499},{"$f":"'FY 2019'!E19","v":0},65499,{"$f":"N19+O19","v":65499},{"$f":"'FY 2020'!D19","v":65499}]
["Section 3038 - Over the Road Bus Program",0,0,{"$f":"B20+C20","v":0},{"$f":"'FY 2017'!D20","v":0},0,0,{"$f":"F20+G20","v":0},{"$f":"'FY 2018'!D20","v":0},0,0,{"$f":"J20+K20","v":0},{"$f":"'FY 2019'!D20","v":0},{"$f":"'FY 2019'!E20","v":0},{"$f":"'FY 2019'!F20","v":0},{"$f":"N20+O20","v":0},{"$f":"'FY 2020'!D20","v":0}]
["Section 3045 - National Fuel Cell Technology Development Program",0,0,{"$f":"B21+C21","v":0},{"$f":"'FY 2017'!D21","v":0},0,0,{"$f":"F21+G21","v":0},{"$f":"'FY 2018'!D21","v":0},0,0,{"$f":"J21+K21","v":0},{"$f":"'FY 2019'!D21","v":0},{"$f":"'FY 2019'!E21","v":0},{"$f":"'FY 2019'!F21","v":0},{"$f":"N21+O21","v":0},{"$f":"'FY 2020'!D21","v":0}]
["Section 5303 - Metropolitan Transportation Planning",0,0,0,{"$f":"'FY 2017'!D22","v":0},0,0,0,{"$f":"'FY 2018'!D22","v":0},0,0,0,{"$f":"'FY 2019'!D22","v":0},{"$f":"'FY 2019'!E22","v":0},{"$f":"'FY 2019'!F22","v":0},0,{"$f":"'FY 2020'!D22","v":0}]
["Section 5304 - Statewide Transportation Planning",0,0,0,{"$f":"'FY 2017'!D23","v":0},220000,55000,275000,{"$f":"'FY 2018'!D23","v":80000.00941993059},0,0,0,{"$f":"'FY 2019'!D23","v":0},{"$f":"'FY 2019'!E23","v":0},{"$f":"'FY 2019'!F23","v":0},0,{"$f":"'FY 2020'!D23","v":0}]
["Section 5305 - Metropolitan and Statewide Planning",0,0,0,{"$f":"'FY 2017'!D24","v":0},0,0,0,{"$f":"'FY 2018'!D24","v":0},0,0,0,{"$f":"'FY 2019'!D24","v":0},{"$f":"'FY 2019'!E24","v":0},{"$f":"'FY 2019'!F24","v":0},0,{"$f":"'FY 2020'!D24","v":0}]
["Section 5307 - UZA Formula",2155000,1675000,3830000,{"$f":"'FY 2017'!D25","v":3830000},2155000,1675000,3830000,{"$f":"'FY 2018'!D25","v":3830000},2155000,1675000,3830000,{"$f":"'FY 2019'!D25","v":3830000},2155000,1675000,3830000,{"$f":"'FY 2020'!D25","v":3830000}]
["Section 5308 - Clean Fuels Program",0,0,0,{"$f":"'FY 2017'!D26","v":0},0,0,0,{"$f":"'FY 2018'!D26","v":0},0,0,0,{"$f":"'FY 2019'!D26","v":0},{"$f":"'FY 2019'!E26","v":0},{"$f":"'FY 2019'!F26","v":0},0,{"$f":"'FY 2020'!D26","v":0}]
["Section 5309 - Capital Bus and Capital New Starts ",0,0,0,{"$f":"'FY 2017'!D27","v":0},0,0,0,{"$f":"'FY 2018'!D27","v":0},0,0,0,{"$f":"'FY 2019'!D27","v":0},{"$f":"'FY 2019'!E27","v":0},{"$f":"'FY 2019'!F27","v":0},0,{"$f":"'FY 2020'!D27","v":0}]
["Section 5310 - Elderly & Disabled",971746,284186,1255932,{"$f":"'FY 2017'!D28","v":1255932},441463,163753,605216,{"$f":"'FY 2018'!D28","v":605216},414603,144900,559503,{"$f":"'FY 2019'!D28","v":559503},426613,147903,574516,{"$f":"'FY 2020'!D28","v":574516}]
["Section 5311 - Non-UZA ",46585,46585,93170,{"$f":"'FY 2017'!D29","v":93170},46585,46585,93170,{"$f":"'FY 2018'!D29","v":93170},46585,46585,93170,{"$f":"'FY 2019'!D29","v":93170},46585,46585,93170,{"$f":"'FY 2020'!D29","v":93170}]
["Section 5312 - Research, Development, Demonstration, and Deployment",0,0,{"$f":"B30+C30","v":0},{"$f":"'FY 2017'!D30","v":0},0,0,0,{"$f":"'FY 2018'!D30","v":0},{"$f":"H30+I30","v":0},0,{"$f":"J30+K30","v":0},{"$f":"'FY 2019'!D30","v":0},{"$f":"'FY 2019'!E30","v":0},{"$f":"'FY 2019'!F30","v":0},{"$f":"N30+O30","v":0},{"$f":"'FY 2020'!D30","v":0}]
["Section 5313 - Transit Cooperative Research Program",0,0,0,{"$f":"'FY 2017'!D31","v":0},0,0,0,{"$f":"'FY 2018'!D31","v":0},{"$f":"H31+I31","v":0},0,0,{"$f":"'FY 2019'!D31","v":0},{"$f":"'FY 2019'!E31","v":0},{"$f":"'FY 2019'!F31","v":0},0,{"$f":"'FY 2020'!D31","v":0}]
["Section 5314 - National Research and Technology Program",0,0,0,{"$f":"'FY 2017'!D32","v":0},0,0,0,{"$f":"'FY 2018'!D32","v":0},{"$f":"H32+I32","v":0},0,0,{"$f":"'FY 2019'!D32","v":0},{"$f":"'FY 2019'!E32","v":0},{"$f":"'FY 2019'!F32","v":0},0,{"$f":"'FY 2020'!D32","v":0}]
["Section 5316 - Job Access/Reverse Commute",0,0,0,{"$f":"'FY 2017'!D33","v":0},0,0,0,{"$f":"'FY 2018'!D33","v":0},{"$f":"H33+I33","v":0},0,0,{"$f":"'FY 2019'!D33","v":0},{"$f":"'FY 2019'!E33","v":0},{"$f":"'FY 2019'!F33","v":0},0,{"$f":"'FY 2020'!D33","v":0}]
["Section 5317 - New Freedom Initiative",0,0,0,{"$f":"'FY 2017'!D34","v":0},0,0,0,{"$f":"'FY 2018'!D34","v":0},{"$f":"H34+I34","v":0},0,{"$f":"J34+K34","v":0},{"$f":"'FY 2019'!D34","v":0},{"$f":"'FY 2019'!E34","v":0},{"$f":"'FY 2019'!F34","v":0},0,{"$f":"'FY 2020'!D34","v":0}]
["Section 5320 - Alternative Transportation in Parks and Public Lands",0,0,0,{"$f":"'FY 2017'!D35","v":0},0,0,0,{"$f":"'FY 2018'!D35","v":0},{"$f":"H35+I35","v":0},0,0,{"$f":"'FY 2019'!D35","v":0},{"$f":"'FY 2019'!E35","v":0},{"$f":"'FY 2019'!F35","v":0},0,{"$f":"'FY 2020'!D35","v":0}]
["Section 5322 - Human Resources and Training",0,0,{"$f":"B36+C36","v":0},{"$f":"'FY 2017'!D36","v":0},0,0,0,{"$f":"'FY 2018'!D36","v":0},{"$f":"H36+I36","v":0},0,{"$f":"J36+K36","v":0},{"$f":"'FY 2019'!D36","v":0},{"$f":"'FY 2019'!E36","v":0},{"$f":"'FY 2019'!F36","v":0},{"$f":"N36+O36","v":0},{"$f":"'FY 2020'!D36","v":0}]
["Section 5324 - Emergency Relief",0,0,{"$f":"B37+C37","v":0},{"$f":"'FY 2017'!D37","v":0},0,0,0,{"$f":"'FY 2018'!D37","v":0},{"$f":"H37+I37","v":0},0,{"$f":"J37+K37","v":0},{"$f":"'FY 2019'!D37","v":0},{"$f":"'FY 2019'!E37","v":0},{"$f":"'FY 2019'!F37","v":0},{"$f":"N37+O37","v":0},{"$f":"'FY 2020'!D37","v":0}]
["Section 5326 - Asset Management Provisions",0,0,{"$f":"B38+C38","v":0},{"$f":"'FY 2017'!D38","v":0},0,0,0,{"$f":"'FY 2018'!D38","v":0},{"$f":"H38+I38","v":0},0,{"$f":"J38+K38","v":0},{"$f":"'FY 2019'!D38","v":0},{"$f":"'FY 2019'!E38","v":0},{"$f":"'FY 2019'!F38","v":0},{"$f":"N38+O38","v":0},{"$f":"'FY 2020'!D38","v":0}]
["Section 5329 - Safety",0,0,{"$f":"B39+C39","v":0},{"$f":"'FY 2017'!D39","v":0},0,0,0,{"$f":"'FY 2018'!D39","v":0},{"$f":"H39+I39","v":0},0,{"$f":"J39+K39","v":0},{"$f":"'FY 2019'!D39","v":0},{"$f":"'FY 2019'!E39","v":0},{"$f":"'FY 2019'!F39","v":0},{"$f":"N39+O39","v":0},{"$f":"'FY 2020'!D39","v":0}]
["Section 5337 - State of Good Repair Grants",470000,117600,{"$f":"B40+C40","v":587600},{"$f":"'FY 2017'!D40","v":587600},0,0,0,0,{"$f":"H40+I40","v":0},0,{"$f":"J40+K40","v":0},{"$f":"'FY 2019'!D40","v":0},{"$f":"'FY 2019'!E40","v":0},{"$f":"'FY 2019'!F40","v":0},{"$f":"N40+O40","v":0},{"$f":"'FY 2020'!D40","v":0}]
["Section 5339 - Bus and Bus Facilities",350572,58800,409372,{"$f":"'FY 2017'!D41","v":409372},122000,30500,152500,152500,null,null,0,{"$f":"'FY 2019'!D41","v":0},{"$f":"'FY 2019'!E41","v":0},{"$f":"'FY 2019'!F41","v":0},0,{"$f":"'FY 2020'!D41","v":0}]
["Section 5505 - University Transportation Centers Program",0,0,0,{"$f":"'FY 2017'!D42","v":0},0,0,0,0,0,0,0,{"$f":"'FY 2019'!D42","v":0},{"$f":"'FY 2019'!E42","v":0},{"$f":"'FY 2019'!F42","v":0},0,{"$f":"'FY 2020'!D42","v":0}]
["Total Transit",{"$f":"SUM(B19:B42)","v":3993903},{"$f":"SUM(C19:C42)","v":2247670},{"$f":"SUM(D19:D42)","v":6241573},{"$f":"'FY 2017'!D43","v":6241573},{"$f":"SUM(F19:F42)","v":2985048},{"$f":"SUM(G19:G42)","v":2036337},{"$f":"SUM(H19:H42)","v":5021385},{"$f":"'FY 2018'!D43","v":4826385.0094199311},{"$f":"SUM(J19:J42)","v":2616188},{"$f":"SUM(K19:K42)","v":1866485},{"$f":"SUM(L19:L42)","v":4548172},{"$f":"'FY 2019'!D43","v":4548172},{"$f":"SUM(N19:N42)","v":2628198},{"$f":"SUM(O19:O42)","v":1934987},{"$f":"SUM(P19:P42)","v":4563185},{"$f":"'FY 2020'!D43","v":4563185}]
["Grand Total",{"$f":"B43+B15","v":19652380},{"$f":"C43+C15","v":8953730},{"$f":"D43+D15","v":28606110},{"$f":"'FY 2017'!D44","v":28606110},{"$f":"F43+F15","v":14336954},{"$f":"G43+G15","v":4838713},{"$f":"H43+H15","v":19175667},{"$f":"'FY 2018'!D44","v":18980667.009419933},{"$f":"J43+J15","v":12054946},{"$f":"K43+K15","v":5587982},{"$f":"L43+L15","v":17708427},{"$f":"'FY 2019'!D44","v":17708427},{"$f":"N43+N15","v":18409584},{"$f":"O43+O15","v":6936774},{"$f":"P43+P15","v":25346358},{"$f":"'FY 2020'!D44","v":25346358}]

{"sheet":"Sheet1","index":6,"n_rows":0,"n_cols":0,"rows_kept":0,"cut":false,"hidden":false,"merged":[]}

{"sheet":"FHWA GPA","index":7,"n_rows":34,"n_cols":33,"rows_kept":34,"cut":false,"hidden":false,"merged":[[0,0,0,22],[1,0,1,22]]}
["GPA Projects"]
[]
["Required Fields",null,null,null,null,null,null,null,null,null,null,null,null,null,null,null,null,null,null,null,null,null,null,null,null,"Optional Fields"]
["Fiscal Year","County","Respon-sible Agency","Project Name","Limits","Length","Primary Work Type","Project Description","Phase","Advance Construct","Federal Cost ($1000s)","Federal Fund Source","State Cost ($1000s)","State Fund Source","Local Cost ($1000s)","Local Fund Source","Total Cost ($1000s)","MDOT Job No.","Local ID No.","MPO/ Rural Approval Date","Amend-ment Type","Air Quality","Comments","Total Project Cost ($1000s)","x","Local Priority","EJ","Federal Approval Date ","Capped Federal Cost ($1000s)","Date Obligated","Amount Obligated ($1000s)","Let Date","GPA"]
[2017,"MUSKEGON","MDOT","US-31","over the North Channel of the Muskegon River",1.679,"Restore & rehabilitate","GPA Trunkline Bridge 3R ","CON",null,543664,"NH",120557,"M",0,"",664221,126927,"Trunkline Bridge 3R",null,null,null,null,827716,null,null,null,null,null,null,0,"2016-12-02","Trunkline Bridge 3R"]
[2017,"MUSKEGON","MDOT","US-31 BR","Hall Street to The White River",1.234,"Resurface","HMA Resurface; HMA Reconstruction","CON",null,2129000,"ST",472000,"M",343000,"CITY",2944000,51471,"Trunkline Highway 3R",null,null,null,"Originally llisted at $1,796,000.Changed to $2,944,000 on 3/15/2017.",2050000,null,null,null,null,null,null,0,"2017-01-13","Trunkline Highway 3R"]
[2017,"MUSKEGON","MDOT","M-120","Mid-Michigan RR east to Getty Street",1.2030000000000001,"Restore & rehabilitate","Rubblize","PE",null,354411,"NH",78589,"M",0,"",433000,118165,"Trunkline Highway 3R",null,null,null,null,1426000,null,null,null,null,null,null,0,"2019-02-01","Trunkline Highway 3R"]
[2017,"MUSKEGON","MDOT","M-120","Whitehall Rd east to Mid-Michigan RR",0.69599999999999995,"Restore & rehabilitate","Rubblize","CON",null,850400,"NH",212600,"M",0,"",1063000,118164,"Trunkline Highway 3R","2017-01-18","Cost",null,null,1200000,null,null,null,null,null,null,0,"2017-02-03","Trunkline Highway 3R"]
[2017,"MUSKEGON","MDOT","M-120","Whitehall Rd east to Mid-Michigan RR",0.69599999999999995,"Traffic ops/safety","Rubblize","CON",null,200800,"NH",50200,"M",0,"",251000,"123327A","Trunkline Highway 3R","2017-01-18","Add",null,null,300000,null,null,null,null,null,null,0,"2017-02-03","Trunkline Highway 3R"]
[2017,"MUSKEGON","MDOT","M-120","At Whitehall Road",0.27,"Traffic ops/safety","Extend existing wb left turn lane and add another wb left turn lane.  Extend existing nb left turn lane. \r\nScoping for this project completed under JN 117709.","CON",null,788000,"CM",197000,"M",0,"",985000,110686,"Trunkline Traffic Operations or Safety","2017-01-18","Cost",null,"Originally programmed at $613,875 federal and $136,125 State.",845000,null,null,null,null,null,null,0,"2017-02-03","Trunkline Traffic Operations or Safety"]
[2017,"MUSKEGON","MDOT","M-120","Whitehall Rd east to Mid-Michigan RR",0.69599999999999995,"Traffic ops/safety","Addition of Center Left Turn Lane","CON",null,180000,"HSIP",20000,"M",0,null,200000,123327,"Trunkline Traffic Operations or Safety",null,null,null,null,200000,null,null,null,null,null,null,0,"2017-02-03","Trunkline Traffic Operations or Safety"]
[2017,"MUSKEGON","MDOT","M-120","Mid-Michigan RR East to Getty Street",1.2030000000000001,"Traffic ops/safety","Addition of Center Left Turn Lane","PE",null,40925,"CM",9075,"M",0,"",50000,123326,"Trunkline Traffic Operations or Safety",null,null,null,null,982000,null,null,null,null,null,null,0,"2019-02-01","Trunkline Traffic Operations or Safety"]
[2017,"MUSKEGON","MDOT","US-31 SB","C&O Railroad north to Fruitvale Road",11.297000000000001,"Resurface","Cold milling and HMA overlay","CON",null,3475351,"NH",770649,"M",0,"",4246000,122635,"Trunkline Highway Preservation",null,null,null,null,4266000,null,null,null,null,null,null,0,"2017-01-13","Trunkline Highway Preservation"]
[2017,"OTTAWA","MDOT","I-96","112th Avenue east to 68th Avenue",4.32,"Resurface","Cold milling and HMA overlay","CON",null,1800000,"IM",200000,"M",0,"",2000000,129878,"Trunkline Highway Preservation",null,null,null,null,2010000,null,null,null,null,null,null,0,"2017-03-03","Trunkline Highway Preservation"]
[2017,"MUSKEGON","MDOT","Waterloo Street","At Waterloo Street","","Roadside facility","Mill/Resurface","CON",null,29466,"ST",6534,"M",0,"",36000,87473,"Trunkline Roadside Infrastructure Improvement",null,null,null,null,36000,null,null,null,null,null,null,0,"2017-02-03","Trunkline Roadside Infrastructure Improvement"]
[2017,"Muskegon","MDOT","M-37","550' east of M-46/M-37 roundabout",null,"Cold milling and HMA overlay","Mill/Resurface","CON",null,280000,"ST",70000,"M",null,null,null,200359,"CPM",null,null,null,null,null,null,null,null,null,null,null,null,null,"CPM"]
[2017,"Muskegon","MDOT","at Marquette Rail ","in Casnovia Twp.",null,"Roadside facility","Install new crossing surface","CON",null,null,null,48251,"M",null,null,null,200354,"Local Highway Safety",null,null,null,null,null,null,null,null,null,null,null,null,null,"Local Highway Safety"]
[2017,"Muskegon","MDOT","At Michigan Shore Railroad","in Norton Shores ",null,"Roadside facility","Install new crossing surface","CON",null,null,null,56200,"M",56200,null,56000,200374,"Local Highway Safety",null,null,null,null,null,null,null,null,null,null,null,null,null,"Local Highway Safety"]
[]
[2018,"MUSKEGON","MDOT","I-96 EB","over the Norris Creek",1.107,"Restore & rehabilitate","Deep overlay, substructure repair","PE",null,75944,"IM",8438,"M",0,"",84382,129962,null,null,null,null,null,1826856,null,null,null,null,null,null,0,"2019-12-06","Trunkline Bridge 3R"]
[2018,"MUSKEGON","MDOT","I-96 EB","over the Norris Creek",1.107,"Restore & rehabilitate","Deep overlay, substructure repair","SUB",null,113769,"IM",12640,"M",0,"",126409,129962,null,null,null,null,null,1826856,null,null,null,null,null,null,0,"2019-12-06","Trunkline Bridge 3R"]
[2018,"MUSKEGON","MDOT","I-96","over Hile Rd",0.31,"Restore & rehabilitate","Deep overlay, beam repair","PE",null,52925,"IM",5881,"M",0,"",58806,129961,null,null,null,null,null,1751591,null,null,null,null,null,null,0,"2019-12-06","Trunkline Bridge 3R"]
[2018,"MUSKEGON","MDOT","I-96","over Hile Rd",0.31,"Restore & rehabilitate","Deep overlay, beam repair","SUB",null,128971,"IM",14330,"M",0,"",143301,129961,null,null,null,null,null,1751591,null,null,null,null,null,null,0,"2019-12-06","Trunkline Bridge 3R"]
[2018,"MUSKEGON","MDOT","N US 31/S BR US 31 RAMP","US-31 NB Ramp to US-31 BR SB",0.12,"Widen - minor","Extend the deceleration ramp to the south.","PE",null,102313,"CM",22687,"M",0,"",125000,126477,null,null,null,null,null,475000,null,null,null,null,null,null,0,"2020-01-10","Trunkline Traffic Operations or Safety"]
[2019,"MUSKEGON","MDOT","M-120","Mid-Michigan RR east to Getty Street",1.2030000000000001,"Restore & rehabilitate","Rubblize","CON",null,812771,"NH",180229,"M",0,"",993000,118165,null,null,null,null,null,1426000,null,null,null,null,null,null,0,"2019-02-01","Trunkline Highway 3R"]
[2019,"MUSKEGON","MDOT","US-31 BR","Dowling Street north to Stanton Road",0.52400000000000002,"Resurface","Cold Mill and HMA Resurface","CON",null,1384902,"ST",307098,"M",0,"",1692000,90084,null,null,null,null,null,1692000,null,null,null,null,null,null,0,"2018-12-07","Trunkline Highway Preservation"]
[2019,"MUSKEGON","MDOT","M-120","Mid-Michigan RR East to Getty Street",1.2030000000000001,"Traffic ops/safety","Addition of Center Left Turn Lane","CON",null,900000,"HSIP",100000,"M",0,"",1000000,123328,null,null,null,null,null,1000000,null,null,null,null,null,null,0,"2019-02-01","Trunkline Traffic Operations or Safety"]
[2019,"MUSKEGON","MDOT","M-120","Mid-Michigan RR East to Getty Street",1.2030000000000001,"Traffic ops/safety","Addition of Center Left Turn Lane","CON",null,762842,"CM",169158,"M",0,"",932000,123326,null,null,null,null,null,982000,null,null,null,null,null,null,0,"2019-02-01","Trunkline Traffic Operations or Safety"]
[2019,"OTTAWA","MDOT","US-31","At Pierce Street, Winans Street and 158th Avenue",1.048,"Traffic ops/safety","Addition of indirect left turn lanes","PE",null,163700,"CM",36300,"M",0,"",200000,127478,null,null,null,null,null,1065000,null,null,null,null,null,null,0,"2020-02-07","Trunkline Traffic Operations or Safety"]
[2020,"OTTAWA","MDOT","I-96 WB","EB & WB over the Crockery Creek",1.0349999999999999,"Restore & rehabilitate","Deep overlay, Substructure repair, Approach work","CON",null,1481254,"IM",164585,"M",0,"",1645839,126928,null,null,null,null,null,1874825,null,null,null,null,null,null,0,"2019-12-06","Trunkline Bridge 3R"]
[2020,"MUSKEGON","MDOT","I-96 EB","over the Norris Creek",1.107,"Restore & rehabilitate","Deep overlay, substructure repair","CON",null,1454459,"IM",161606,"M",0,"",1616065,129962,null,null,null,null,null,1826856,null,null,null,null,null,null,0,"2019-12-06","Trunkline Bridge 3R"]
[2020,"MUSKEGON","MDOT","I-96","over Hile Rd",0.31,"Restore & rehabilitate","Deep overlay, beam repair","CON",null,1394535,"IM",154949,"M",0,"",1549484,129961,null,null,null,null,null,1751591,null,null,null,null,null,null,0,"2019-12-06","Trunkline Bridge 3R"]
[2020,"MUSKEGON","MDOT","N US 31/S BR US 31 RAMP","US-31 NB Ramp to US-31 BR SB",0.12,"Widen - minor","Extend the deceleration ramp to the south.","CON",null,286475,"CM",63525,"M",0,"",350000,126477,null,null,null,null,null,475000,null,null,null,null,null,null,0,"2020-01-10","Trunkline Traffic Operations or Safety"]
[2020,"OTTAWA","MDOT","US-31","At Pierce Street, Winans Street and 158th Avenue",1.048,"Traffic ops/safety","Addition of indirect left turn lanes","CON",null,708003,"CM",156997,"M",0,"",865000,127478,null,null,null,null,null,1065000,null,null,null,null,null,null,0,"2020-02-07","Trunkline Traffic Operations or Safety"]

{"sheet":"FTA GPA","index":8,"n_rows":4,"n_cols":32,"rows_kept":4,"cut":false,"hidden":false,"merged":[[0,0,0,22],[1,0,1,22]]}
["GPA Projects"]
[]
["Required Fields",null,null,null,null,null,null,null,null,null,null,null,null,null,null,null,null,null,null,null,null,null,null,null,null,"Optional Fields"]
["Fiscal Year","County","Respon-sible Agency","Project Name","Limits","Length","Primary Work Type","Project Description","Phase","Advance Construct","Federal Cost ($1000s)","Federal Fund Source","State Cost ($1000s)","State Fund Source","Local Cost ($1000s)","Local Fund Source","Total Cost ($1000s)","MDOT Job No.","Local ID No.","MPO/ Rural Approval Date","Amend-ment Type","Air Quality","Comments","Total Project Cost ($1000s)","x","Local Priority","EJ","Federal Approval Date ","Capped Federal Cost ($1000s)","Date Obligated","Amount Obligated ($1000s)","Let Date"]

{"sheet":"FTA Candidate Projects","index":9,"n_rows":48,"n_cols":32,"rows_kept":48,"cut":false,"hidden":false,"merged":[[0,0,0,22],[1,0,1,22]]}
["GPA Projects"]
[]
["Required Fields",null,null,null,null,null,null,null,null,null,null,null,null,null,null,null,null,null,null,null,null,null,null,null,null,"Optional Fields"]
["Fiscal Year","County","Respon-sible Agency","Project Name","Limits","Length","Primary Work Type","Project Description","Phase","Advance Construct","Federal Cost ($1000s)","Federal Fund Source","State Cost ($1000s)","State Fund Source","Local Cost ($1000s)","Local Fund Source","Total Cost ($1000s)","MDOT Job No.","Local ID No.","MPO/ Rural Approval Date","Amend-ment Type","Air Quality","Comments","Total Project Cost ($1000s)","x","Local Priority","EJ","Federal Approval Date ","Capped Federal Cost ($1000s)","Date Obligated","Amount Obligated ($1000s)","Let Date"]
[2017,"Muskegon","MATS","Operate Transit/Paratransit Service","Areawide","NA",null,null,null,null,1000000,5307,600000,"ctf",400000,null,2000000]
[2017,"Muskegon","MATS","Preventive Maintenance","Areawide","NA",null,null,null,null,640000,5307,160000,"ctf",null,null,800000]
[2017,"Ottawa","Harbor Transit ","Operations assistance","Areawide","NA","Transit operations","Operations assistance","T-Ops",null,515000,5307,0,"ctf",515000,null,1030000]
[2017,"Muskegon","MATS","Mobility Management","Areawide","NA",null,null,null,null,80000,5310,20000,"ctf",null,null,100000,null,null,"2017-02-15","Cost",null,"Originally lsited as Mobility Management at a project cost of $150,000. Split into two separate proects. Mobility Management Activities for $100,000 and a new project Mobility Management Marketing at $50,000."]
[2017,"Muskegon","Pioneer Res","Seven medium duty replacement buses","Areawide","NA",null,null,null,null,592060,5310,148015,"ctf",null,null,740075]
[2017,"Muskegon","Pioneer Res","Administrative Vehicle","Areawide","NA",null,null,null,null,32000,5310,8000,"ctf",null,null,40000]
[2017,"Muskegon","Pioneer Res","NF- Operating assistance","Areawide","NA",null,null,null,null,55000,5310,55000,"ctf",null,null,110000]
[2017,"Muskegon","Pioneer Res","NF- Mobility Management","Areawide","NA",null,null,null,null,4000,5310,1000,"ctf",null,null,5000]
[2017,"Muskegon","Pioneer Res","JARC- Operating assistance","Areawide","NA",null,null,null,null,46585,5311,46585,"ctf",null,null,93170]
[2017,"Ottawa","Harbor Transit ","Bus Replacement (4)","Areawide","NA","Transit operations","Operations assistance","T-Ops",null,470000,5307,117600,"ctf",null,null,587600,null,null,null,null,null,"Originally listed as 5337"]
[2017,"Ottawa","Harbor Transit ","Bus Replacement (2)","Areawide","NA","Transit operations","Operations assistance","T-Ops",null,235200,5339,58800,"ctf",null,null,294000]
[2018,"Muskegon","MATS","Operate Transit/Paratransit Service","Areawide","NA",null,null,null,null,1000000,5307,600000,"ctf",400000,null,2000000]
[2018,"Muskegon","MATS","Preventive Maintenance","Areawide","NA",null,null,null,null,640000,5307,160000,"ctf",null,null,800000]
[2018,"Ottawa","Harbor Transit ","Operations assistance","Areawide","NA","Transit operations","Operations assistance","T-Ops",null,515000,5307,0,"ctf",515000,null,1030000]
[2018,"Muskegon","MATS","Mobility management activities","Areawide","NA",null,null,null,null,80000,5310,20000,"ctf",null,null,100000,null,null,"2017-02-15","Cost",null,"Originally lsited as Mobility Management at a project cost of $150,000. Split into two separate proects. Mobility Management Activities for $100,000 and a new project Mobility Management Marketing at $50,000."]
[2018,"Muskegon","Pioneer Res","Two medium duty replacement buses","Areawide","NA",null,null,null,null,146357,5310,36589,"ctf",null,null,182946]
[2018,"Muskegon","Pioneer Res","4 medium busses","Areawide","NA",null,null,null,null,246400,5310,61600,"ctf",null,null,308000,null,null,null,null,null,"changed from 2 to four busses on3/15/2017."]
[2018,"Muskegon","Pioneer Res","NF- Operating assistance","Areawide","NA",null,null,null,null,55000,5310,55000,"ctf",null,null,110000]
[2018,"Muskegon","Pioneer Res","NF- Mobility Management","Areawide","NA",null,null,null,null,4000,5310,1000,"ctf",null,null,5000]
[2018,"Muskegon","Pioneer Res","JARC- Operating assistance","Areawide","NA",null,null,null,null,46585,5311,46585,"ctf",null,null,93170]
[2019,"Muskegon","MATS","Operate Transit/Paratransit Service","Areawide","NA",null,null,null,null,1000000,5307,600000,"ctf",400000,null,2000000]
[2019,"Muskegon","MATS","Preventive Maintenance","Areawide","NA",null,null,null,null,640000,5307,160000,"ctf",null,null,800000]
[2019,"Ottawa","Harbor Transit ","Operations assistance","Areawide","NA","Transit operations","Operations assistance","T-Ops",null,515000,5307,0,"ctf",515000,null,1030000]
[2019,"Muskegon","MATS","Mobility Management activities","Areawide","NA",null,null,null,null,80000,5310,20000,"ctf",null,null,100000,null,null,"2017-02-15","Cost",null,"Originally lsited as Mobility Management at a project cost of $150,000. Split into two separate proects. Mobility Management Activities for $100,000 and a new project Mobility Management Marketing at $50,000."]
[2019,"Muskegon","Pioneer Res","Two accessible passenger vehicles","Areawide","NA",null,null,null,null,75603,5310,18900,"ctf",null,null,94503]
[2019,"Muskegon","Pioneer Res","NF- Operating assistance","Areawide","NA",null,null,null,null,55000,5310,55000,"ctf",null,null,110000]
[2019,"Muskegon","Pioneer Res","NF- Mobility Management","Areawide","NA",null,null,null,null,4000,5310,1000,"ctf",null,null,5000]
[2019,"Muskegon","ARC ","Six Passenger Vehicles","Areawide","NA",null,null,null,null,160000,5310,40000,"ctf",null,null,200000]
[2019,"Muskegon","Pioneer Res","JARC- Operating assistance","Areawide","NA",null,null,null,null,46585,5311,46585,"ctf",null,null,93170]
[2020,"Muskegon","MATS","Operate Transit/Paratransit Service","Areawide","NA",null,null,null,null,1000000,5307,600000,"ctf",400000,null,2000000]
[2020,"Muskegon","MATS","Preventive Maintenance","Areawide","NA",null,null,null,null,640000,5307,160000,"ctf",null,null,800000]
[2020,"Ottawa","Harbor Transit ","Operations assistance","Areawide","NA","Transit operations","Operations assistance","T-Ops",null,515000,5307,0,"ctf",515000,null,1030000]
[2020,"Muskegon","MATS","Mobility management activities","Areawide","NA",null,null,null,null,80000,5310,20000,"ctf",null,null,100000,null,null,"2017-02-15","Cost",null,"Originally lsited as Mobility Management at a project cost of $150,000. Split into two separate proects. Mobility Management Activities for $100,000 and a new project Mobility Management Marketing at $50,000."]
[2020,"Muskegon","Pioneer Res","Two medium duty replacement buses","Areawide","NA",null,null,null,null,146357,5310,36589,"ctf",null,null,182946]
[2020,"Muskegon","Pioneer Res","Two cutaway replacement buses","Areawide","NA",null,null,null,null,101256,5310,25314,"ctf",null,null,126570]
[2020,"Muskegon","Pioneer Res","NF- Operating assistance","Areawide","NA",null,null,null,null,55000,5310,55000,"ctf",null,null,110000]
[2020,"Muskegon","Pioneer Res","NF- Mobility Management","Areawide","NA",null,null,null,null,4000,5310,1000,"ctf",null,null,5000]
[2020,"Muskegon","Pioneer Res","JARC- Operating assistance","Areawide","NA",null,null,null,null,46585,5311,46585,"ctf",null,null,93170]
[2017,"Muskegon","MATS","Mobility Management Marketing","Areawide","NA",null,null,null,null,40000,5310,10000,"ctf",null,null,50000,null,null,"2017-02-15","Add",null,"Originally lsited as Mobility Management at a project cost of $150,000. Split into two separate proects. Mobility Management Activities for $100,000 and a new project Mobility Management Marketing at $50,000."]
[2018,"Muskegon","MATS","Mobility Management Marketing","Areawide","NA",null,null,null,null,40000,5310,10000,"ctf",null,null,50000,null,null,"2017-02-15","Add",null,"Originally lsited as Mobility Management at a project cost of $150,000. Split into two separate proects. Mobility Management Activities for $100,000 and a new project Mobility Management Marketing at $50,000."]
[2019,"Muskegon","MATS","Mobility Management Marketing","Areawide","NA",null,null,null,null,40000,5310,10000,"ctf",null,null,50000,null,null,"2017-02-15","Add",null,"Originally lsited as Mobility Management at a project cost of $150,000. Split into two separate proects. Mobility Management Activities for $100,000 and a new project Mobility Management Marketing at $50,000."]
[2020,"Muskegon","MATS","Mobility Management Marketing","Areawide","NA",null,null,null,null,40000,5310,10000,"ctf",null,null,50000,null,null,"2017-02-15","Add",null,"Originally lsited as Mobility Management at a project cost of $150,000. Split into two separate proects. Mobility Management Activities for $100,000 and a new project Mobility Management Marketing at $50,000."]
[2019,"Muskegon","Pioneer Res","2 replacement vans","Areawide","NA",null,null,null,null,104000,5310,26000,"ctf",null,null,130000,null,null," 3/15/2017","Add"]
[2018,"MUSKEGON","Pioneer Resources","New freedom","Areawide","NA","Transit operations","New freedom - operating","T-Ops",null,14850,5310,14850,"CTF",null,null,29700,null,"E","2017-05-17","Add","Exempt",null,30000]

{"sheet":"Illustrative","index":10,"n_rows":37,"n_cols":32,"rows_kept":37,"cut":false,"hidden":false,"merged":[[1,0,1,22],[0,0,0,22]]}
["Illustrative Projects"]
[]
["Required Fields",null,null,null,null,null,null,null,null,null,null,null,null,null,null,null,null,null,null,null,null,null,null,null,null,"Optional Fields"]
["Fiscal Year","County","Respon-sible Agency","Project Name","Limits","Length","Primary Work Type","Project Description","Phase","Advance Construct","Federal Cost ($1000s)","Federal Fund Source","State Cost ($1000s)","State Fund Source","Local Cost ($1000s)","Local Fund Source","Total Cost ($1000s)","MDOT Job No.","Local ID No.","MPO/ Rural Approval Date","Amend-ment Type","Air Quality","Comments","Total Project Cost ($1000s)","x","Local Priority","EJ","Federal Approval Date ","Capped Federal Cost ($1000s)","Date Obligated","Amount Obligated ($1000s)","Let Date"]
[2018,"Muskegon","City of Muskegon","Beach Street Oval","Lakeshore Drive to Beach Street Oval",0.9,"Resurface",null,null,"STPU",500000,"STUL",0,null,150000,null,650000,null,null,"Added during FY2017-2020 TIP Development",715000,null,1,650000]
[2018,"Muskegon","City of Muskegon","Black Creek Road","Sherman Blvd. to Latimer  ",0.3,"Reconstruct",null,null,"STPU",260000,"STUL",0,null,75000,null,325000,null,null,"Added during FY2017-2020 TIP Development",375000,null,1,325000]
[2018,"Muskegon","City of Muskegon Heights","Hackley Street","Manz to Getty Street",0.4,"Resurface",null,null,"STPU",182186,"STUL",0,null,45546,null,227732,null,null,"Added during FY2017-2020 TIP Development",313278,null,2,227732]
[2018,"Muskegon","City of Muskegon Heights","Hackley Street","5th Street to park Street",0.3,"Resurface",null,null,"STPU",136639,"STUL",0,null,31160,null,167779,null,null,"Added during FY2017-2020 TIP Development",197779,null,1,167779]
[2018,"Ottawa","Harbor Transit ","Bus Replacement (1)","Areawide","NA",null,null,null,5337,124000,"STUL",31000,"ctf",155000,null,155000,null,null,"2013-06-20",null,"Exempt",null,155000]
[2019,"Muskegon","City of Muskegon","Lakeshore Drive","Beach Street to Lincoln",1.5,"Reconstruct",null,null,"STPU",1000000,"STUL",0,null,578000,null,1578000,null,null,"Added during FY2017-2020 TIP Development",1658000,null,1,1578000]
[2019,"Muskegon","Muskegon County Road Commission ","Pontaluna Road","Harvey Street to Fruitport Road",2.02,"Resurface ",null,null,"STPU",689456,"STUL",0,null,172364,null,861820,null,null,"Added during FY2017-2020 TIP Development",951820,null,2,861820]
[2020,"Muskegon","City of Montague","Stanton Blvd. ","Dicey St. to Cook St.",null,"Mill & Fill",null,null,"STPU",125000,"STUL",0,null,31250,null,156250,null,null,"Added during FY2017-2020 TIP Development",156250,null,4,156250]
[]
[2020,"Muskegon","City of Muskegon","Lakeshore Drive","Lincoln to Laketon Avenue",1.2,"Reconstruct",null,null,"STPU",1000000,"STUL",0,null,300000,null,1300000,null,null,"Added during FY2017-2020 TIP Development",1380000,null,1,1300000]
[2020,"Muskegon","City of Muskegon Heights","Broadway Avenue","6th Street to Peck Street",0.2,"Resurface",null,null,"STPU",91000,"STUL",0,null,20773,null,111866,null,null,"Added during FY2017-2020 TIP Development",121866,null,1,111866]
[2020,"Muskegon","City of Muskegon Heights","Broadway Avenue","Glade Street to 6th Street",0.4,"Resurface",null,null,"STPU",182186,"STUL",0,null,45139,null,227325,null,null,"Added during FY2017-2020 TIP Development",267325,null,1,227325]
[2020,"Muskegon","City of Norton Shores","Forest Park Road Reconstruction (Entire project)","Henry Street to Lake Harbor Road",1.3,"Reconstruct existing 2 lane HMA, includes paved shoulders in both directions",null,null,"STPU",920000,"STUL",0,null,230000,null,1150000,null,null,"Added during FY2017-2020 TIP Development",1380000,null,3,1150000]
[2020,"Muskegon","City of Norton Shores","Henry Roadway Resurfacing","Porter Road to Pontaluna Road",2.4,"Resurface existing 2 lane HMA, with paved shoulder in both directions",null,null,"STPU",870640,"STUL",0,null,217660,null,1088300,null,null,"Added during FY2017-2020 TIP Development",1305960,null,5,1088300]
[2020,"Muskegon","City of Norton Shores","Lake Harbor Road Resurfacing","Porter Road to Seminole Road",2.1,"Resurface existing 2 lane HMA, with paved shoulder in both directions",null,null,"STPU",876800,"STUL",0,null,219200,null,1096000,null,null,"Added during FY2017-2020 TIP Development",1315200,null,6,1096000]
[2020,"Muskegon","City of Norton Shores","Lake Harbor Road Resurfacing (Phase2)","Porter Road to Pontaluna Road",2.1,"Resurface existing 2 lane HMA, with paved shoulder in both directions",null,null,"STPU",1001600,"STUL",0,null,250400,null,1252000,null,null,"Added during FY2017-2020 TIP Development",1502400,null,6,1252000]
[2019,"Muskegon ","City of Roosevelt Park","Glenside Blvd.","Sherman Blvd. to RR Tracks",0.222,"Resurface",null,null,"STPU",180000,"STUL",0,null,45000,null,225000,null,null,"Added during FY2017-2020 TIP Development",45000,null,2,225000]
[2020,"Ottawa","Harbor Transit","Support equipment","Areawide",null,null,"1000 gallon LP storage tank to Alternative Fuel Station",null,"CM",3800,"STUL",0,null,950,null,4750,"Add","Exempt","Illustrative only",null,null,null,4750]
[2020,"Ottawa","Harbor Transit ","Bus Replacement (2)","Areawide","NA",null,null,null,5337,253800,"STUL",63360,"ctf",317160,null,317160,null,null,"2013-06-20",null,"Exempt",null,317160]
[2020,"Muskegon","MATS","Heavy duty bus replacement","Areawide",null,null,"Purchase replacement 35' heavy duty CNG bus",null,"CM",400000,"STUL",0,null,100000,null,500000,"Add","Exempt",null,null,null,null,500000]
[2020,"Muskegon","MATS","Small bus replacements","Areawide",null,null,"4 small replacement buses",null,"CM",400000,"STUL",0,null,100000,null,500000,"Add","Exempt",null,null,null,null,500000]
[2020,"Muskegon","MATS","Small bus replacement","Areawide",null,null,"4 small replacement buses",null,"CM",400000,"STUL",0,null,100000,null,500000,"Add","Exempt",null,null,null,null,500000]
[2020,"Muskegon","MCRC","Add center turn lane","Whitehall road at McMillan",null,null,"Add center turn lane",null,"CM",144000,"STUL",0,null,36000,null,180000,"Add","Exempt",null,null,null,null,180000]
[2020,"Muskegon","Montague","Cook Street","Hunt St. to Eilers Rd.",null,"Crush & Shape w/ partial reconstruct",null,null,"STPU",280000,"STUL",0]
[2020,"Muskegon","Montague","Stanton Blvd","Dicey St. to Cook St.",null,"Mill & Fill",null,null,"STPU",125000,"STUL",0]
[2020,"Muskegon","Muskegon County Road Commission ","Broadway Avenue","US-31 to Black Creek Road",0.88,"Resurface",null,null,"STPU",172000,"STUL",0,null,43000,null,215000,null,null,"Added during FY2017-2020 TIP Development",250000,null,3,215000]
[2020,"Muskegon","Muskegon County Road Commission ","Giles Road","Scenic Drive to Buys Road",3.02,"Reconstruct, add center turn lane",null,null,"STPU",624000,"STUL",0,null,156000,null,780000,null,null,"Added during FY2017-2020 TIP Development",870000,null,2,780000]
[2020,"Muskegon","Muskegon Heights","Pedestrian/bicycle pathway","Getty Street from Sherman to Broadway",null,null,"Pedestrian/bicycle pathway",null,"CM",66450,"STUL",0,null,16613,null,83063,"Add","Exempt",null,null,null,null,83063]
[2020,"Muskegon","Muskegon Heights","Pedestrian/bicycle pathway","Getty Street",null,null,"Pedestrian/bicycle pathway",null,"CM",124000,"STUL",0,null,31000,null,155000,"Add","Exempt",null,null,null,null,155000]
[2020,"Muskegon","Norton Shores","Lake Harbor Road Bike Path","Betweeen PJ Hoffmasters campground and Main entrance drives",null,null,"10\" HMA bike path along the ROW",null,"CM",83498,"STUL",0,null,null,null,83498,"Add","Exempt",null,null,null,null,83498]
[2019,"Muskegon","Muskegon Heights","Hackley Ave ","Park Street to Fifth Street",null,null,null,null,null,296000,"STUL",null,null,74000,null,370000,null,"Exempt",null,null,null,null,410000]
[2019,"Muskegon","Muskegon Heights","Broadway Ave","Glade Street to 6th Street",null,null,null,null,null,400000,"STUL",null,null,100000,null,500000,null,"Exempt",null,null,null,null,550000]
[2019,"Muskegon","North Muskegon","Whitehall Road","lake Avenue to City limits (west of Ruddiman)",null,null,null,null,null,375000,"STUL",null,null,143000,null,518000,null,"Exempt",null,null,null,null,600000]

{"sheet":"NonFHWA_NonFTA","index":11,"n_rows":4,"n_cols":32,"rows_kept":4,"cut":false,"hidden":false,"merged":[[1,0,1,22],[0,0,0,22]]}
["Non FHWA/FTA Projects FY 2014 - 2017 (Optional)"]
["2013-01-02"]
["Required Fields",null,null,null,null,null,null,null,null,null,null,null,null,null,null,null,null,null,null,null,null,null,null,null,null,"Optional Fields"]
["Fiscal Year","County","Respon-sible Agency","Project Name","Limits","Length","Primary Work Type","Project Description","Phase","Advance Construct","Federal Cost ($1000s)","Federal Fund Source","State Cost ($1000s)","State Fund Source","Local Cost ($1000s)","Local Fund Source","Total Cost ($1000s)","MDOT Job No.","Local ID No.","MPO/ Rural Approval Date","Amend-ment Type","Air Quality","Comments","Total Project Cost ($1000s)","x","Local Priority","EJ","Federal Approval Date ","Capped Federal Cost ($1000s)","Date Obligated","Amount Obligated ($1000s)","Let Date"]

{"sheet":"MDOT FTA Detail","index":12,"n_rows":171,"n_cols":15,"rows_kept":171,"cut":false,"hidden":false,"merged":[[2,3,2,5],[2,6,2,8],[2,9,2,11],[2,12,2,14]]}
[null,"E-File v. 5.1 (01.15.15)"]
[]
[null,null,null,2017,null,null,2018,null,null,2019,null,null,2020]
["Fund","Fund Sources","MDOT","Proposed Federal Commitments","Proposed Non-Federal Commitments","Total Proposed Commitments","Proposed Federal Commitments","Proposed Non-Federal Commitments","Total Proposed Commitments","Proposed Federal Commitments","Proposed Non-Federal Commitments","Total Proposed Commitments","Proposed Federal Commitments","Proposed Non-Federal Commitments","Total Proposed Commitments"]
[]
["BHI","Bridge Rehabilitation - Prior 1991 - Interstate","MDOT FA",{"$f":"SUMPRODUCT((Projects!$A$5:$A$2393='MDOT FTA Detail'!$D$3)*(Projects!$C$5:$C$2393='MDOT FTA Detail'!$C$4)*(Projects!$L$5:$L$2393='MDOT FTA Detail'!$A6)*(Projects!$J$5:$J$2393<>'MDOT FTA Detail'!$A$171)*(Projects!$K$5:K$2393))","v":0},{"$f":"F6-D6","v":0},{"$f":"SUMPRODUCT((Projects!$A$5:$A$2393='MDOT FTA Detail'!$D$3)*(Projects!$C$5:$C$2393='MDOT FTA Detail'!$C$4)*(Projects!$L$5:$L$2393='MDOT FTA Detail'!$A6)*(Projects!$J$5:$J$2393<>'MDOT FTA Detail'!$A$171)*(Projects!$Q$5:Q$2393))","v":0},{"$f":"SUMPRODUCT((Projects!$A$5:$A$2393='MDOT FTA Detail'!$G$3)*(Projects!$C$5:$C$2393='MDOT FTA Detail'!$C$4)*(Projects!$L$5:$L$2393='MDOT FTA Detail'!$A6)*(Projects!$J$5:$J$2393<>'MDOT FTA Detail'!$A$171)*(Projects!$K$5:K$2393))","v":0},{"$f":"I6-G6","v":0},{"$f":"SUMPRODUCT((Projects!$A$5:$A$2393='MDOT FTA Detail'!$G$3)*(Projects!$C$5:$C$2393='MDOT FTA Detail'!$C$4)*(Projects!$L$5:$L$2393='MDOT FTA Detail'!$A6)*(Projects!$J$5:$J$2393<>'MDOT FTA Detail'!$A$171)*(Projects!$Q$5:Q$2393))","v":0},{"$f":"SUMPRODUCT((Projects!$A$5:$A$2393='MDOT FTA Detail'!$J$3)*(Projects!$C$5:$C$2393='MDOT FTA Detail'!$C$4)*(Projects!$L$5:$L$2393='MDOT FTA Detail'!$A6)*(Projects!$J$5:$J$2393<>'MDOT FTA Detail'!$A$171)*(Projects!$K$5:$K$2393))","v":0},{"$f":"L6-J6","v":0},{"$f":"SUMPRODUCT((Projects!$A$5:$A$2393='MDOT FTA Detail'!$J$3)*(Projects!$C$5:$C$2393='MDOT FTA Detail'!$C$4)*(Projects!$L$5:$L$2393='MDOT FTA Detail'!$A6)*(Projects!$J$5:$J$2393<>'MDOT FTA Detail'!$A$171)*(Projects!$Q$5:$Q$2393))","v":0},{"$f":"SUMPRODUCT((Projects!$A$5:$A$2393='MDOT FTA Detail'!$M$3)*(Projects!$C$5:$C$2393='MDOT FTA Detail'!$C$4)*(Projects!$L$5:$L$2393='MDOT FTA Detail'!$A6)*(Projects!$J$5:$J$2393<>'MDOT FTA Detail'!$A$171)*(Projects!$K$5:$K$2393))","v":0},{"$f":"O6-M6","v":0},{"$f":"SUMPRODUCT((Projects!$A$5:$A$2393='MDOT FTA Detail'!$M$3)*(Projects!$C$5:$C$2393='MDOT FTA Detail'!$C$4)*(Projects!$L$5:$L$2393='MDOT FTA Detail'!$A6)*(Projects!$J$5:$J$2393<>'MDOT FTA Detail'!$A$171)*(Projects!$Q$5:$Q$2393))","v":0}]
["BHN","Bridge Rehabilitation - National Highway System (NHS)","MDOT FA",{"$f":"SUMPRODUCT((Projects!$A$5:$A$2393='MDOT FTA Detail'!$D$3)*(Projects!$C$5:$C$2393='MDOT FTA Detail'!$C$4)*(Projects!$L$5:$L$2393='MDOT FTA Detail'!$A7)*(Projects!$J$5:$J$2393<>'MDOT FTA Detail'!$A$171)*(Projects!$K$5:K$2393))","v":0},0,{"$f":"SUMPRODUCT((Projects!$A$5:$A$2393='MDOT FTA Detail'!$D$3)*(Projects!$C$5:$C$2393='MDOT FTA Detail'!$C$4)*(Projects!$L$5:$L$2393='MDOT FTA Detail'!$A7)*(Projects!$J$5:$J$2393<>'MDOT FTA Detail'!$A$171)*(Projects!$Q$5:Q$2393))","v":0},{"$f":"SUMPRODUCT((Projects!$A$5:$A$2393='MDOT FTA Detail'!$G$3)*(Projects!$C$5:$C$2393='MDOT FTA Detail'!$C$4)*(Projects!$L$5:$L$2393='MDOT FTA Detail'!$A7)*(Projects!$J$5:$J$2393<>'MDOT FTA Detail'!$A$171)*(Projects!$K$5:K$2393))","v":0},0,{"$f":"SUMPRODUCT((Projects!$A$5:$A$2393='MDOT FTA Detail'!$G$3)*(Projects!$C$5:$C$2393='MDOT FTA Detail'!$C$4)*(Projects!$L$5:$L$2393='MDOT FTA Detail'!$A7)*(Projects!$J$5:$J$2393<>'MDOT FTA Detail'!$A$171)*(Projects!$Q$5:Q$2393))","v":0},{"$f":"SUMPRODUCT((Projects!$A$5:$A$2393='MDOT FTA Detail'!$J$3)*(Projects!$C$5:$C$2393='MDOT FTA Detail'!$C$4)*(Projects!$L$5:$L$2393='MDOT FTA Detail'!$A7)*(Projects!$J$5:$J$2393<>'MDOT FTA Detail'!$A$171)*(Projects!$K$5:$K$2393))","v":0},0,{"$f":"SUMPRODUCT((Projects!$A$5:$A$2393='MDOT FTA Detail'!$J$3)*(Projects!$C$5:$C$2393='MDOT FTA Detail'!$C$4)*(Projects!$L$5:$L$2393='MDOT FTA Detail'!$A7)*(Projects!$J$5:$J$2393<>'MDOT FTA Detail'!$A$171)*(Projects!$Q$5:$Q$2393))","v":0},{"$f":"SUMPRODUCT((Projects!$A$5:$A$2393='MDOT FTA Detail'!$M$3)*(Projects!$C$5:$C$2393='MDOT FTA Detail'!$C$4)*(Projects!$L$5:$L$2393='MDOT FTA Detail'!$A7)*(Projects!$J$5:$J$2393<>'MDOT FTA Detail'!$A$171)*(Projects!$K$5:$K$2393))","v":0},0,{"$f":"SUMPRODUCT((Projects!$A$5:$A$2393='MDOT FTA Detail'!$M$3)*(Projects!$C$5:$C$2393='MDOT FTA Detail'!$C$4)*(Projects!$L$5:$L$2393='MDOT FTA Detail'!$A7)*(Projects!$J$5:$J$2393<>'MDOT FTA Detail'!$A$171)*(Projects!$Q$5:$Q$2393))","v":0}]
["BHO","Bridge Rehabilitation - Not Classified, Off System","MDOT FA",{"$f":"SUMPRODUCT((Projects!$A$5:$A$2393='MDOT FTA Detail'!$D$3)*(Projects!$C$5:$C$2393='MDOT FTA Detail'!$C$4)*(Projects!$L$5:$L$2393='MDOT FTA Detail'!$A8)*(Projects!$J$5:$J$2393<>'MDOT FTA Detail'!$A$171)*(Projects!$K$5:K$2393))","v":0},0,{"$f":"SUMPRODUCT((Projects!$A$5:$A$2393='MDOT FTA Detail'!$D$3)*(Projects!$C$5:$C$2393='MDOT FTA Detail'!$C$4)*(Projects!$L$5:$L$2393='MDOT FTA Detail'!$A8)*(Projects!$J$5:$J$2393<>'MDOT FTA Detail'!$A$171)*(Projects!$Q$5:Q$2393))","v":0},{"$f":"SUMPRODUCT((Projects!$A$5:$A$2393='MDOT FTA Detail'!$G$3)*(Projects!$C$5:$C$2393='MDOT FTA Detail'!$C$4)*(Projects!$L$5:$L$2393='MDOT FTA Detail'!$A8)*(Projects!$J$5:$J$2393<>'MDOT FTA Detail'!$A$171)*(Projects!$K$5:K$2393))","v":0},0,{"$f":"SUMPRODUCT((Projects!$A$5:$A$2393='MDOT FTA Detail'!$G$3)*(Projects!$C$5:$C$2393='MDOT FTA Detail'!$C$4)*(Projects!$L$5:$L$2393='MDOT FTA Detail'!$A8)*(Projects!$J$5:$J$2393<>'MDOT FTA Detail'!$A$171)*(Projects!$Q$5:Q$2393))","v":0},{"$f":"SUMPRODUCT((Projects!$A$5:$A$2393='MDOT FTA Detail'!$J$3)*(Projects!$C$5:$C$2393='MDOT FTA Detail'!$C$4)*(Projects!$L$5:$L$2393='MDOT FTA Detail'!$A8)*(Projects!$J$5:$J$2393<>'MDOT FTA Detail'!$A$171)*(Projects!$K$5:$K$2393))","v":0},0,{"$f":"SUMPRODUCT((Projects!$A$5:$A$2393='MDOT FTA Detail'!$J$3)*(Projects!$C$5:$C$2393='MDOT FTA Detail'!$C$4)*(Projects!$L$5:$L$2393='MDOT FTA Detail'!$A8)*(Projects!$J$5:$J$2393<>'MDOT FTA Detail'!$A$171)*(Projects!$Q$5:$Q$2393))","v":0},{"$f":"SUMPRODUCT((Projects!$A$5:$A$2393='MDOT FTA Detail'!$M$3)*(Projects!$C$5:$C$2393='MDOT FTA Detail'!$C$4)*(Projects!$L$5:$L$2393='MDOT FTA Detail'!$A8)*(Projects!$J$5:$J$2393<>'MDOT FTA Detail'!$A$171)*(Projects!$K$5:$K$2393))","v":0},0,{"$f":"SUMPRODUCT((Projects!$A$5:$A$2393='MDOT FTA Detail'!$M$3)*(Projects!$C$5:$C$2393='MDOT FTA Detail'!$C$4)*(Projects!$L$5:$L$2393='MDOT FTA Detail'!$A8)*(Projects!$J$5:$J$2393<>'MDOT FTA Detail'!$A$171)*(Projects!$Q$5:$Q$2393))","v":0}]
["BHT","Bridge Rehabilitation - Surface Transportation Program (STP)","MDOT FA",{"$f":"SUMPRODUCT((Projects!$A$5:$A$2393='MDOT FTA Detail'!$D$3)*(Projects!$C$5:$C$2393='MDOT FTA Detail'!$C$4)*(Projects!$L$5:$L$2393='MDOT FTA Detail'!$A9)*(Projects!$J$5:$J$2393<>'MDOT FTA Detail'!$A$171)*(Projects!$K$5:K$2393))","v":0},0,{"$f":"SUMPRODUCT((Projects!$A$5:$A$2393='MDOT FTA Detail'!$D$3)*(Projects!$C$5:$C$2393='MDOT FTA Detail'!$C$4)*(Projects!$L$5:$L$2393='MDOT FTA Detail'!$A9)*(Projects!$J$5:$J$2393<>'MDOT FTA Detail'!$A$171)*(Projects!$Q$5:Q$2393))","v":0},{"$f":"SUMPRODUCT((Projects!$A$5:$A$2393='MDOT FTA Detail'!$G$3)*(Projects!$C$5:$C$2393='MDOT FTA Detail'!$C$4)*(Projects!$L$5:$L$2393='MDOT FTA Detail'!$A9)*(Projects!$J$5:$J$2393<>'MDOT FTA Detail'!$A$171)*(Projects!$K$5:K$2393))","v":0},0,{"$f":"SUMPRODUCT((Projects!$A$5:$A$2393='MDOT FTA Detail'!$G$3)*(Projects!$C$5:$C$2393='MDOT FTA Detail'!$C$4)*(Projects!$L$5:$L$2393='MDOT FTA Detail'!$A9)*(Projects!$J$5:$J$2393<>'MDOT FTA Detail'!$A$171)*(Projects!$Q$5:Q$2393))","v":0},{"$f":"SUMPRODUCT((Projects!$A$5:$A$2393='MDOT FTA Detail'!$J$3)*(Projects!$C$5:$C$2393='MDOT FTA Detail'!$C$4)*(Projects!$L$5:$L$2393='MDOT FTA Detail'!$A9)*(Projects!$J$5:$J$2393<>'MDOT FTA Detail'!$A$171)*(Projects!$K$5:$K$2393))","v":0},0,{"$f":"SUMPRODUCT((Projects!$A$5:$A$2393='MDOT FTA Detail'!$J$3)*(Projects!$C$5:$C$2393='MDOT FTA Detail'!$C$4)*(Projects!$L$5:$L$2393='MDOT FTA Detail'!$A9)*(Projects!$J$5:$J$2393<>'MDOT FTA Detail'!$A$171)*(Projects!$Q$5:$Q$2393))","v":0},{"$f":"SUMPRODUCT((Projects!$A$5:$A$2393='MDOT FTA Detail'!$M$3)*(Projects!$C$5:$C$2393='MDOT FTA Detail'!$C$4)*(Projects!$L$5:$L$2393='MDOT FTA Detail'!$A9)*(Projects!$J$5:$J$2393<>'MDOT FTA Detail'!$A$171)*(Projects!$K$5:$K$2393))","v":0},0,{"$f":"SUMPRODUCT((Projects!$A$5:$A$2393='MDOT FTA Detail'!$M$3)*(Projects!$C$5:$C$2393='MDOT FTA Detail'!$C$4)*(Projects!$L$5:$L$2393='MDOT FTA Detail'!$A9)*(Projects!$J$5:$J$2393<>'MDOT FTA Detail'!$A$171)*(Projects!$Q$5:$Q$2393))","v":0}]
["BI08","Build Michigan FY08","MDOT FA",{"$f":"SUMPRODUCT((Projects!$A$5:$A$2393='MDOT FTA Detail'!$D$3)*(Projects!$C$5:$C$2393='MDOT FTA Detail'!$C$4)*(Projects!$L$5:$L$2393='MDOT FTA Detail'!$A10)*(Projects!$J$5:$J$2393<>'MDOT FTA Detail'!$A$171)*(Projects!$K$5:K$2393))","v":0},0,{"$f":"SUMPRODUCT((Projects!$A$5:$A$2393='MDOT FTA Detail'!$D$3)*(Projects!$C$5:$C$2393='MDOT FTA Detail'!$C$4)*(Projects!$L$5:$L$2393='MDOT FTA Detail'!$A10)*(Projects!$J$5:$J$2393<>'MDOT FTA Detail'!$A$171)*(Projects!$Q$5:Q$2393))","v":0},{"$f":"SUMPRODUCT((Projects!$A$5:$A$2393='MDOT FTA Detail'!$G$3)*(Projects!$C$5:$C$2393='MDOT FTA Detail'!$C$4)*(Projects!$L$5:$L$2393='MDOT FTA Detail'!$A10)*(Projects!$J$5:$J$2393<>'MDOT FTA Detail'!$A$171)*(Projects!$K$5:K$2393))","v":0},0,{"$f":"SUMPRODUCT((Projects!$A$5:$A$2393='MDOT FTA Detail'!$G$3)*(Projects!$C$5:$C$2393='MDOT FTA Detail'!$C$4)*(Projects!$L$5:$L$2393='MDOT FTA Detail'!$A10)*(Projects!$J$5:$J$2393<>'MDOT FTA Detail'!$A$171)*(Projects!$Q$5:Q$2393))","v":0},{"$f":"SUMPRODUCT((Projects!$A$5:$A$2393='MDOT FTA Detail'!$J$3)*(Projects!$C$5:$C$2393='MDOT FTA Detail'!$C$4)*(Projects!$L$5:$L$2393='MDOT FTA Detail'!$A10)*(Projects!$J$5:$J$2393<>'MDOT FTA Detail'!$A$171)*(Projects!$K$5:$K$2393))","v":0},0,{"$f":"SUMPRODUCT((Projects!$A$5:$A$2393='MDOT FTA Detail'!$J$3)*(Projects!$C$5:$C$2393='MDOT FTA Detail'!$C$4)*(Projects!$L$5:$L$2393='MDOT FTA Detail'!$A10)*(Projects!$J$5:$J$2393<>'MDOT FTA Detail'!$A$171)*(Projects!$Q$5:$Q$2393))","v":0},{"$f":"SUMPRODUCT((Projects!$A$5:$A$2393='MDOT FTA Detail'!$M$3)*(Projects!$C$5:$C$2393='MDOT FTA Detail'!$C$4)*(Projects!$L$5:$L$2393='MDOT FTA Detail'!$A10)*(Projects!$J$5:$J$2393<>'MDOT FTA Detail'!$A$171)*(Projects!$K$5:$K$2393))","v":0},0,{"$f":"SUMPRODUCT((Projects!$A$5:$A$2393='MDOT FTA Detail'!$M$3)*(Projects!$C$5:$C$2393='MDOT FTA Detail'!$C$4)*(Projects!$L$5:$L$2393='MDOT FTA Detail'!$A10)*(Projects!$J$5:$J$2393<>'MDOT FTA Detail'!$A$171)*(Projects!$Q$5:$Q$2393))","v":0}]
["BO","Bridge Not Classified Off System","MDOT FA",{"$f":"SUMPRODUCT((Projects!$A$5:$A$2393='MDOT FTA Detail'!$D$3)*(Projects!$C$5:$C$2393='MDOT FTA Detail'!$C$4)*(Projects!$L$5:$L$2393='MDOT FTA Detail'!$A11)*(Projects!$J$5:$J$2393<>'MDOT FTA Detail'!$A$171)*(Projects!$K$5:K$2393))","v":0},{"$f":"F11-D11","v":0},{"$f":"SUMPRODUCT((Projects!$A$5:$A$2393='MDOT FTA Detail'!$D$3)*(Projects!$C$5:$C$2393='MDOT FTA Detail'!$C$4)*(Projects!$L$5:$L$2393='MDOT FTA Detail'!$A11)*(Projects!$J$5:$J$2393<>'MDOT FTA Detail'!$A$171)*(Projects!$Q$5:Q$2393))","v":0},{"$f":"SUMPRODUCT((Projects!$A$5:$A$2393='MDOT FTA Detail'!$G$3)*(Projects!$C$5:$C$2393='MDOT FTA Detail'!$C$4)*(Projects!$L$5:$L$2393='MDOT FTA Detail'!$A11)*(Projects!$J$5:$J$2393<>'MDOT FTA Detail'!$A$171)*(Projects!$K$5:K$2393))","v":0},{"$f":"I11-G11","v":0},{"$f":"SUMPRODUCT((Projects!$A$5:$A$2393='MDOT FTA Detail'!$G$3)*(Projects!$C$5:$C$2393='MDOT FTA Detail'!$C$4)*(Projects!$L$5:$L$2393='MDOT FTA Detail'!$A11)*(Projects!$J$5:$J$2393<>'MDOT FTA Detail'!$A$171)*(Projects!$Q$5:Q$2393))","v":0},{"$f":"SUMPRODUCT((Projects!$A$5:$A$2393='MDOT FTA Detail'!$J$3)*(Projects!$C$5:$C$2393='MDOT FTA Detail'!$C$4)*(Projects!$L$5:$L$2393='MDOT FTA Detail'!$A11)*(Projects!$J$5:$J$2393<>'MDOT FTA Detail'!$A$171)*(Projects!$K$5:$K$2393))","v":0},{"$f":"L11-J11","v":0},{"$f":"SUMPRODUCT((Projects!$A$5:$A$2393='MDOT FTA Detail'!$J$3)*(Projects!$C$5:$C$2393='MDOT FTA Detail'!$C$4)*(Projects!$L$5:$L$2393='MDOT FTA Detail'!$A11)*(Projects!$J$5:$J$2393<>'MDOT FTA Detail'!$A$171)*(Projects!$Q$5:$Q$2393))","v":0},{"$f":"SUMPRODUCT((Projects!$A$5:$A$2393='MDOT FTA Detail'!$M$3)*(Projects!$C$5:$C$2393='MDOT FTA Detail'!$C$4)*(Projects!$L$5:$L$2393='MDOT FTA Detail'!$A11)*(Projects!$J$5:$J$2393<>'MDOT FTA Detail'!$A$171)*(Projects!$K$5:$K$2393))","v":0},{"$f":"O11-M11","v":0},{"$f":"SUMPRODUCT((Projects!$A$5:$A$2393='MDOT FTA Detail'!$M$3)*(Projects!$C$5:$C$2393='MDOT FTA Detail'!$C$4)*(Projects!$L$5:$L$2393='MDOT FTA Detail'!$A11)*(Projects!$J$5:$J$2393<>'MDOT FTA Detail'!$A$171)*(Projects!$Q$5:$Q$2393))","v":0}]
["BOWD","Business Opportunity & Workforce Development Center","MDOT FA",{"$f":"SUMPRODUCT((Projects!$A$5:$A$2393='MDOT FTA Detail'!$D$3)*(Projects!$C$5:$C$2393='MDOT FTA Detail'!$C$4)*(Projects!$L$5:$L$2393='MDOT FTA Detail'!$A12)*(Projects!$J$5:$J$2393<>'MDOT FTA Detail'!$A$171)*(Projects!$K$5:K$2393))","v":0},0,{"$f":"SUMPRODUCT((Projects!$A$5:$A$2393='MDOT FTA Detail'!$D$3)*(Projects!$C$5:$C$2393='MDOT FTA Detail'!$C$4)*(Projects!$L$5:$L$2393='MDOT FTA Detail'!$A12)*(Projects!$J$5:$J$2393<>'MDOT FTA Detail'!$A$171)*(Projects!$Q$5:Q$2393))","v":0},{"$f":"SUMPRODUCT((Projects!$A$5:$A$2393='MDOT FTA Detail'!$G$3)*(Projects!$C$5:$C$2393='MDOT FTA Detail'!$C$4)*(Projects!$L$5:$L$2393='MDOT FTA Detail'!$A12)*(Projects!$J$5:$J$2393<>'MDOT FTA Detail'!$A$171)*(Projects!$K$5:K$2393))","v":0},0,{"$f":"SUMPRODUCT((Projects!$A$5:$A$2393='MDOT FTA Detail'!$G$3)*(Projects!$C$5:$C$2393='MDOT FTA Detail'!$C$4)*(Projects!$L$5:$L$2393='MDOT FTA Detail'!$A12)*(Projects!$J$5:$J$2393<>'MDOT FTA Detail'!$A$171)*(Projects!$Q$5:Q$2393))","v":0},{"$f":"SUMPRODUCT((Projects!$A$5:$A$2393='MDOT FTA Detail'!$J$3)*(Projects!$C$5:$C$2393='MDOT FTA Detail'!$C$4)*(Projects!$L$5:$L$2393='MDOT FTA Detail'!$A12)*(Projects!$J$5:$J$2393<>'MDOT FTA Detail'!$A$171)*(Projects!$K$5:$K$2393))","v":0},0,{"$f":"SUMPRODUCT((Projects!$A$5:$A$2393='MDOT FTA Detail'!$J$3)*(Projects!$C$5:$C$2393='MDOT FTA Detail'!$C$4)*(Projects!$L$5:$L$2393='MDOT FTA Detail'!$A12)*(Projects!$J$5:$J$2393<>'MDOT FTA Detail'!$A$171)*(Projects!$Q$5:$Q$2393))","v":0},{"$f":"SUMPRODUCT((Projects!$A$5:$A$2393='MDOT FTA Detail'!$M$3)*(Projects!$C$5:$C$2393='MDOT FTA Detail'!$C$4)*(Projects!$L$5:$L$2393='MDOT FTA Detail'!$A12)*(Projects!$J$5:$J$2393<>'MDOT FTA Detail'!$A$171)*(Projects!$K$5:$K$2393))","v":0},0,{"$f":"SUMPRODUCT((Projects!$A$5:$A$2393='MDOT FTA Detail'!$M$3)*(Projects!$C$5:$C$2393='MDOT FTA Detail'!$C$4)*(Projects!$L$5:$L$2393='MDOT FTA Detail'!$A12)*(Projects!$J$5:$J$2393<>'MDOT FTA Detail'!$A$171)*(Projects!$Q$5:$Q$2393))","v":0}]
["BRI","Bridge Replacement - Pre 1991 Interstate","MDOT FA",{"$f":"SUMPRODUCT((Projects!$A$5:$A$2393='MDOT FTA Detail'!$D$3)*(Projects!$C$5:$C$2393='MDOT FTA Detail'!$C$4)*(Projects!$L$5:$L$2393='MDOT FTA Detail'!$A13)*(Projects!$J$5:$J$2393<>'MDOT FTA Detail'!$A$171)*(Projects!$K$5:K$2393))","v":0},0,{"$f":"SUMPRODUCT((Projects!$A$5:$A$2393='MDOT FTA Detail'!$D$3)*(Projects!$C$5:$C$2393='MDOT FTA Detail'!$C$4)*(Projects!$L$5:$L$2393='MDOT FTA Detail'!$A13)*(Projects!$J$5:$J$2393<>'MDOT FTA Detail'!$A$171)*(Projects!$Q$5:Q$2393))","v":0},{"$f":"SUMPRODUCT((Projects!$A$5:$A$2393='MDOT FTA Detail'!$G$3)*(Projects!$C$5:$C$2393='MDOT FTA Detail'!$C$4)*(Projects!$L$5:$L$2393='MDOT FTA Detail'!$A13)*(Projects!$J$5:$J$2393<>'MDOT FTA Detail'!$A$171)*(Projects!$K$5:K$2393))","v":0},0,{"$f":"SUMPRODUCT((Projects!$A$5:$A$2393='MDOT FTA Detail'!$G$3)*(Projects!$C$5:$C$2393='MDOT FTA Detail'!$C$4)*(Projects!$L$5:$L$2393='MDOT FTA Detail'!$A13)*(Projects!$J$5:$J$2393<>'MDOT FTA Detail'!$A$171)*(Projects!$Q$5:Q$2393))","v":0},{"$f":"SUMPRODUCT((Projects!$A$5:$A$2393='MDOT FTA Detail'!$J$3)*(Projects!$C$5:$C$2393='MDOT FTA Detail'!$C$4)*(Projects!$L$5:$L$2393='MDOT FTA Detail'!$A13)*(Projects!$J$5:$J$2393<>'MDOT FTA Detail'!$A$171)*(Projects!$K$5:$K$2393))","v":0},0,{"$f":"SUMPRODUCT((Projects!$A$5:$A$2393='MDOT FTA Detail'!$J$3)*(Projects!$C$5:$C$2393='MDOT FTA Detail'!$C$4)*(Projects!$L$5:$L$2393='MDOT FTA Detail'!$A13)*(Projects!$J$5:$J$2393<>'MDOT FTA Detail'!$A$171)*(Projects!$Q$5:$Q$2393))","v":0},{"$f":"SUMPRODUCT((Projects!$A$5:$A$2393='MDOT FTA Detail'!$M$3)*(Projects!$C$5:$C$2393='MDOT FTA Detail'!$C$4)*(Projects!$L$5:$L$2393='MDOT FTA Detail'!$A13)*(Projects!$J$5:$J$2393<>'MDOT FTA Detail'!$A$171)*(Projects!$K$5:$K$2393))","v":0},0,{"$f":"SUMPRODUCT((Projects!$A$5:$A$2393='MDOT FTA Detail'!$M$3)*(Projects!$C$5:$C$2393='MDOT FTA Detail'!$C$4)*(Projects!$L$5:$L$2393='MDOT FTA Detail'!$A13)*(Projects!$J$5:$J$2393<>'MDOT FTA Detail'!$A$171)*(Projects!$Q$5:$Q$2393))","v":0}]
["BRN","Bridge Replacement - National Highway System (NHS)","MDOT FA",{"$f":"SUMPRODUCT((Projects!$A$5:$A$2393='MDOT FTA Detail'!$D$3)*(Projects!$C$5:$C$2393='MDOT FTA Detail'!$C$4)*(Projects!$L$5:$L$2393='MDOT FTA Detail'!$A14)*(Projects!$J$5:$J$2393<>'MDOT FTA Detail'!$A$171)*(Projects!$K$5:K$2393))","v":0},0,{"$f":"SUMPRODUCT((Projects!$A$5:$A$2393='MDOT FTA Detail'!$D$3)*(Projects!$C$5:$C$2393='MDOT FTA Detail'!$C$4)*(Projects!$L$5:$L$2393='MDOT FTA Detail'!$A14)*(Projects!$J$5:$J$2393<>'MDOT FTA Detail'!$A$171)*(Projects!$Q$5:Q$2393))","v":0},{"$f":"SUMPRODUCT((Projects!$A$5:$A$2393='MDOT FTA Detail'!$G$3)*(Projects!$C$5:$C$2393='MDOT FTA Detail'!$C$4)*(Projects!$L$5:$L$2393='MDOT FTA Detail'!$A14)*(Projects!$J$5:$J$2393<>'MDOT FTA Detail'!$A$171)*(Projects!$K$5:K$2393))","v":0},0,{"$f":"SUMPRODUCT((Projects!$A$5:$A$2393='MDOT FTA Detail'!$G$3)*(Projects!$C$5:$C$2393='MDOT FTA Detail'!$C$4)*(Projects!$L$5:$L$2393='MDOT FTA Detail'!$A14)*(Projects!$J$5:$J$2393<>'MDOT FTA Detail'!$A$171)*(Projects!$Q$5:Q$2393))","v":0},{"$f":"SUMPRODUCT((Projects!$A$5:$A$2393='MDOT FTA Detail'!$J$3)*(Projects!$C$5:$C$2393='MDOT FTA Detail'!$C$4)*(Projects!$L$5:$L$2393='MDOT FTA Detail'!$A14)*(Projects!$J$5:$J$2393<>'MDOT FTA Detail'!$A$171)*(Projects!$K$5:$K$2393))","v":0},0,{"$f":"SUMPRODUCT((Projects!$A$5:$A$2393='MDOT FTA Detail'!$J$3)*(Projects!$C$5:$C$2393='MDOT FTA Detail'!$C$4)*(Projects!$L$5:$L$2393='MDOT FTA Detail'!$A14)*(Projects!$J$5:$J$2393<>'MDOT FTA Detail'!$A$171)*(Projects!$Q$5:$Q$2393))","v":0},{"$f":"SUMPRODUCT((Projects!$A$5:$A$2393='MDOT FTA Detail'!$M$3)*(Projects!$C$5:$C$2393='MDOT FTA Detail'!$C$4)*(Projects!$L$5:$L$2393='MDOT FTA Detail'!$A14)*(Projects!$J$5:$J$2393<>'MDOT FTA Detail'!$A$171)*(Projects!$K$5:$K$2393))","v":0},0,{"$f":"SUMPRODUCT((Projects!$A$5:$A$2393='MDOT FTA Detail'!$M$3)*(Projects!$C$5:$C$2393='MDOT FTA Detail'!$C$4)*(Projects!$L$5:$L$2393='MDOT FTA Detail'!$A14)*(Projects!$J$5:$J$2393<>'MDOT FTA Detail'!$A$171)*(Projects!$Q$5:$Q$2393))","v":0}]
["BRO","Bridge Replacement - Not Classified, Off System","MDOT FA",{"$f":"SUMPRODUCT((Projects!$A$5:$A$2393='MDOT FTA Detail'!$D$3)*(Projects!$C$5:$C$2393='MDOT FTA Detail'!$C$4)*(Projects!$L$5:$L$2393='MDOT FTA Detail'!$A15)*(Projects!$J$5:$J$2393<>'MDOT FTA Detail'!$A$171)*(Projects!$K$5:K$2393))","v":0},0,{"$f":"SUMPRODUCT((Projects!$A$5:$A$2393='MDOT FTA Detail'!$D$3)*(Projects!$C$5:$C$2393='MDOT FTA Detail'!$C$4)*(Projects!$L$5:$L$2393='MDOT FTA Detail'!$A15)*(Projects!$J$5:$J$2393<>'MDOT FTA Detail'!$A$171)*(Projects!$Q$5:Q$2393))","v":0},{"$f":"SUMPRODUCT((Projects!$A$5:$A$2393='MDOT FTA Detail'!$G$3)*(Projects!$C$5:$C$2393='MDOT FTA Detail'!$C$4)*(Projects!$L$5:$L$2393='MDOT FTA Detail'!$A15)*(Projects!$J$5:$J$2393<>'MDOT FTA Detail'!$A$171)*(Projects!$K$5:K$2393))","v":0},0,{"$f":"SUMPRODUCT((Projects!$A$5:$A$2393='MDOT FTA Detail'!$G$3)*(Projects!$C$5:$C$2393='MDOT FTA Detail'!$C$4)*(Projects!$L$5:$L$2393='MDOT FTA Detail'!$A15)*(Projects!$J$5:$J$2393<>'MDOT FTA Detail'!$A$171)*(Projects!$Q$5:Q$2393))","v":0},{"$f":"SUMPRODUCT((Projects!$A$5:$A$2393='MDOT FTA Detail'!$J$3)*(Projects!$C$5:$C$2393='MDOT FTA Detail'!$C$4)*(Projects!$L$5:$L$2393='MDOT FTA Detail'!$A15)*(Projects!$J$5:$J$2393<>'MDOT FTA Detail'!$A$171)*(Projects!$K$5:$K$2393))","v":0},0,{"$f":"SUMPRODUCT((Projects!$A$5:$A$2393='MDOT FTA Detail'!$J$3)*(Projects!$C$5:$C$2393='MDOT FTA Detail'!$C$4)*(Projects!$L$5:$L$2393='MDOT FTA Detail'!$A15)*(Projects!$J$5:$J$2393<>'MDOT FTA Detail'!$A$171)*(Projects!$Q$5:$Q$2393))","v":0},{"$f":"SUMPRODUCT((Projects!$A$5:$A$2393='MDOT FTA Detail'!$M$3)*(Projects!$C$5:$C$2393='MDOT FTA Detail'!$C$4)*(Projects!$L$5:$L$2393='MDOT FTA Detail'!$A15)*(Projects!$J$5:$J$2393<>'MDOT FTA Detail'!$A$171)*(Projects!$K$5:$K$2393))","v":0},0,{"$f":"SUMPRODUCT((Projects!$A$5:$A$2393='MDOT FTA Detail'!$M$3)*(Projects!$C$5:$C$2393='MDOT FTA Detail'!$C$4)*(Projects!$L$5:$L$2393='MDOT FTA Detail'!$A15)*(Projects!$J$5:$J$2393<>'MDOT FTA Detail'!$A$171)*(Projects!$Q$5:$Q$2393))","v":0}]
["BRT","Bridge Replacement - Surface Transportation Program (STP)","MDOT FA",{"$f":"SUMPRODUCT((Projects!$A$5:$A$2393='MDOT FTA Detail'!$D$3)*(Projects!$C$5:$C$2393='MDOT FTA Detail'!$C$4)*(Projects!$L$5:$L$2393='MDOT FTA Detail'!$A16)*(Projects!$J$5:$J$2393<>'MDOT FTA Detail'!$A$171)*(Projects!$K$5:K$2393))","v":0},0,{"$f":"SUMPRODUCT((Projects!$A$5:$A$2393='MDOT FTA Detail'!$D$3)*(Projects!$C$5:$C$2393='MDOT FTA Detail'!$C$4)*(Projects!$L$5:$L$2393='MDOT FTA Detail'!$A16)*(Projects!$J$5:$J$2393<>'MDOT FTA Detail'!$A$171)*(Projects!$Q$5:Q$2393))","v":0},{"$f":"SUMPRODUCT((Projects!$A$5:$A$2393='MDOT FTA Detail'!$G$3)*(Projects!$C$5:$C$2393='MDOT FTA Detail'!$C$4)*(Projects!$L$5:$L$2393='MDOT FTA Detail'!$A16)*(Projects!$J$5:$J$2393<>'MDOT FTA Detail'!$A$171)*(Projects!$K$5:K$2393))","v":0},0,{"$f":"SUMPRODUCT((Projects!$A$5:$A$2393='MDOT FTA Detail'!$G$3)*(Projects!$C$5:$C$2393='MDOT FTA Detail'!$C$4)*(Projects!$L$5:$L$2393='MDOT FTA Detail'!$A16)*(Projects!$J$5:$J$2393<>'MDOT FTA Detail'!$A$171)*(Projects!$Q$5:Q$2393))","v":0},{"$f":"SUMPRODUCT((Projects!$A$5:$A$2393='MDOT FTA Detail'!$J$3)*(Projects!$C$5:$C$2393='MDOT FTA Detail'!$C$4)*(Projects!$L$5:$L$2393='MDOT FTA Detail'!$A16)*(Projects!$J$5:$J$2393<>'MDOT FTA Detail'!$A$171)*(Projects!$K$5:$K$2393))","v":0},0,{"$f":"SUMPRODUCT((Projects!$A$5:$A$2393='MDOT FTA Detail'!$J$3)*(Projects!$C$5:$C$2393='MDOT FTA Detail'!$C$4)*(Projects!$L$5:$L$2393='MDOT FTA Detail'!$A16)*(Projects!$J$5:$J$2393<>'MDOT FTA Detail'!$A$171)*(Projects!$Q$5:$Q$2393))","v":0},{"$f":"SUMPRODUCT((Projects!$A$5:$A$2393='MDOT FTA Detail'!$M$3)*(Projects!$C$5:$C$2393='MDOT FTA Detail'!$C$4)*(Projects!$L$5:$L$2393='MDOT FTA Detail'!$A16)*(Projects!$J$5:$J$2393<>'MDOT FTA Detail'!$A$171)*(Projects!$K$5:$K$2393))","v":0},0,{"$f":"SUMPRODUCT((Projects!$A$5:$A$2393='MDOT FTA Detail'!$M$3)*(Projects!$C$5:$C$2393='MDOT FTA Detail'!$C$4)*(Projects!$L$5:$L$2393='MDOT FTA Detail'!$A16)*(Projects!$J$5:$J$2393<>'MDOT FTA Detail'!$A$171)*(Projects!$Q$5:$Q$2393))","v":0}]
["CANX","Canadian Bridge Funds","MDOT FA",{"$f":"SUMPRODUCT((Projects!$A$5:$A$2393='MDOT FTA Detail'!$D$3)*(Projects!$C$5:$C$2393='MDOT FTA Detail'!$C$4)*(Projects!$L$5:$L$2393='MDOT FTA Detail'!$A17)*(Projects!$J$5:$J$2393<>'MDOT FTA Detail'!$A$171)*(Projects!$K$5:K$2393))","v":0},0,{"$f":"SUMPRODUCT((Projects!$A$5:$A$2393='MDOT FTA Detail'!$D$3)*(Projects!$C$5:$C$2393='MDOT FTA Detail'!$C$4)*(Projects!$L$5:$L$2393='MDOT FTA Detail'!$A17)*(Projects!$J$5:$J$2393<>'MDOT FTA Detail'!$A$171)*(Projects!$Q$5:Q$2393))","v":0},{"$f":"SUMPRODUCT((Projects!$A$5:$A$2393='MDOT FTA Detail'!$G$3)*(Projects!$C$5:$C$2393='MDOT FTA Detail'!$C$4)*(Projects!$L$5:$L$2393='MDOT FTA Detail'!$A17)*(Projects!$J$5:$J$2393<>'MDOT FTA Detail'!$A$171)*(Projects!$K$5:K$2393))","v":0},0,{"$f":"SUMPRODUCT((Projects!$A$5:$A$2393='MDOT FTA Detail'!$G$3)*(Projects!$C$5:$C$2393='MDOT FTA Detail'!$C$4)*(Projects!$L$5:$L$2393='MDOT FTA Detail'!$A17)*(Projects!$J$5:$J$2393<>'MDOT FTA Detail'!$A$171)*(Projects!$Q$5:Q$2393))","v":0},{"$f":"SUMPRODUCT((Projects!$A$5:$A$2393='MDOT FTA Detail'!$J$3)*(Projects!$C$5:$C$2393='MDOT FTA Detail'!$C$4)*(Projects!$L$5:$L$2393='MDOT FTA Detail'!$A17)*(Projects!$J$5:$J$2393<>'MDOT FTA Detail'!$A$171)*(Projects!$K$5:$K$2393))","v":0},0,{"$f":"SUMPRODUCT((Projects!$A$5:$A$2393='MDOT FTA Detail'!$J$3)*(Projects!$C$5:$C$2393='MDOT FTA Detail'!$C$4)*(Projects!$L$5:$L$2393='MDOT FTA Detail'!$A17)*(Projects!$J$5:$J$2393<>'MDOT FTA Detail'!$A$171)*(Projects!$Q$5:$Q$2393))","v":0},{"$f":"SUMPRODUCT((Projects!$A$5:$A$2393='MDOT FTA Detail'!$M$3)*(Projects!$C$5:$C$2393='MDOT FTA Detail'!$C$4)*(Projects!$L$5:$L$2393='MDOT FTA Detail'!$A17)*(Projects!$J$5:$J$2393<>'MDOT FTA Detail'!$A$171)*(Projects!$K$5:$K$2393))","v":0},0,{"$f":"SUMPRODUCT((Projects!$A$5:$A$2393='MDOT FTA Detail'!$M$3)*(Projects!$C$5:$C$2393='MDOT FTA Detail'!$C$4)*(Projects!$L$5:$L$2393='MDOT FTA Detail'!$A17)*(Projects!$J$5:$J$2393<>'MDOT FTA Detail'!$A$171)*(Projects!$Q$5:$Q$2393))","v":0}]
["CBCD","Corridor & Border Crossing Discretionary","MDOT FA",{"$f":"SUMPRODUCT((Projects!$A$5:$A$2393='MDOT FTA Detail'!$D$3)*(Projects!$C$5:$C$2393='MDOT FTA Detail'!$C$4)*(Projects!$L$5:$L$2393='MDOT FTA Detail'!$A18)*(Projects!$J$5:$J$2393<>'MDOT FTA Detail'!$A$171)*(Projects!$K$5:K$2393))","v":0},0,{"$f":"SUMPRODUCT((Projects!$A$5:$A$2393='MDOT FTA Detail'!$D$3)*(Projects!$C$5:$C$2393='MDOT FTA Detail'!$C$4)*(Projects!$L$5:$L$2393='MDOT FTA Detail'!$A18)*(Projects!$J$5:$J$2393<>'MDOT FTA Detail'!$A$171)*(Projects!$Q$5:Q$2393))","v":0},{"$f":"SUMPRODUCT((Projects!$A$5:$A$2393='MDOT FTA Detail'!$G$3)*(Projects!$C$5:$C$2393='MDOT FTA Detail'!$C$4)*(Projects!$L$5:$L$2393='MDOT FTA Detail'!$A18)*(Projects!$J$5:$J$2393<>'MDOT FTA Detail'!$A$171)*(Projects!$K$5:K$2393))","v":0},0,{"$f":"SUMPRODUCT((Projects!$A$5:$A$2393='MDOT FTA Detail'!$G$3)*(Projects!$C$5:$C$2393='MDOT FTA Detail'!$C$4)*(Projects!$L$5:$L$2393='MDOT FTA Detail'!$A18)*(Projects!$J$5:$J$2393<>'MDOT FTA Detail'!$A$171)*(Projects!$Q$5:Q$2393))","v":0},{"$f":"SUMPRODUCT((Projects!$A$5:$A$2393='MDOT FTA Detail'!$J$3)*(Projects!$C$5:$C$2393='MDOT FTA Detail'!$C$4)*(Projects!$L$5:$L$2393='MDOT FTA Detail'!$A18)*(Projects!$J$5:$J$2393<>'MDOT FTA Detail'!$A$171)*(Projects!$K$5:$K$2393))","v":0},0,{"$f":"SUMPRODUCT((Projects!$A$5:$A$2393='MDOT FTA Detail'!$J$3)*(Projects!$C$5:$C$2393='MDOT FTA Detail'!$C$4)*(Projects!$L$5:$L$2393='MDOT FTA Detail'!$A18)*(Projects!$J$5:$J$2393<>'MDOT FTA Detail'!$A$171)*(Projects!$Q$5:$Q$2393))","v":0},{"$f":"SUMPRODUCT((Projects!$A$5:$A$2393='MDOT FTA Detail'!$M$3)*(Projects!$C$5:$C$2393='MDOT FTA Detail'!$C$4)*(Projects!$L$5:$L$2393='MDOT FTA Detail'!$A18)*(Projects!$J$5:$J$2393<>'MDOT FTA Detail'!$A$171)*(Projects!$K$5:$K$2393))","v":0},0,{"$f":"SUMPRODUCT((Projects!$A$5:$A$2393='MDOT FTA Detail'!$M$3)*(Projects!$C$5:$C$2393='MDOT FTA Detail'!$C$4)*(Projects!$L$5:$L$2393='MDOT FTA Detail'!$A18)*(Projects!$J$5:$J$2393<>'MDOT FTA Detail'!$A$171)*(Projects!$Q$5:$Q$2393))","v":0}]
["CBIP","Coordinated Border Infrastructure Program - SAFETEA-LU","MDOT FA",{"$f":"SUMPRODUCT((Projects!$A$5:$A$2393='MDOT FTA Detail'!$D$3)*(Projects!$C$5:$C$2393='MDOT FTA Detail'!$C$4)*(Projects!$L$5:$L$2393='MDOT FTA Detail'!$A19)*(Projects!$J$5:$J$2393<>'MDOT FTA Detail'!$A$171)*(Projects!$K$5:K$2393))","v":0},0,{"$f":"SUMPRODUCT((Projects!$A$5:$A$2393='MDOT FTA Detail'!$D$3)*(Projects!$C$5:$C$2393='MDOT FTA Detail'!$C$4)*(Projects!$L$5:$L$2393='MDOT FTA Detail'!$A19)*(Projects!$J$5:$J$2393<>'MDOT FTA Detail'!$A$171)*(Projects!$Q$5:Q$2393))","v":0},{"$f":"SUMPRODUCT((Projects!$A$5:$A$2393='MDOT FTA Detail'!$G$3)*(Projects!$C$5:$C$2393='MDOT FTA Detail'!$C$4)*(Projects!$L$5:$L$2393='MDOT FTA Detail'!$A19)*(Projects!$J$5:$J$2393<>'MDOT FTA Detail'!$A$171)*(Projects!$K$5:K$2393))","v":0},0,{"$f":"SUMPRODUCT((Projects!$A$5:$A$2393='MDOT FTA Detail'!$G$3)*(Projects!$C$5:$C$2393='MDOT FTA Detail'!$C$4)*(Projects!$L$5:$L$2393='MDOT FTA Detail'!$A19)*(Projects!$J$5:$J$2393<>'MDOT FTA Detail'!$A$171)*(Projects!$Q$5:Q$2393))","v":0},{"$f":"SUMPRODUCT((Projects!$A$5:$A$2393='MDOT FTA Detail'!$J$3)*(Projects!$C$5:$C$2393='MDOT FTA Detail'!$C$4)*(Projects!$L$5:$L$2393='MDOT FTA Detail'!$A19)*(Projects!$J$5:$J$2393<>'MDOT FTA Detail'!$A$171)*(Projects!$K$5:$K$2393))","v":0},0,{"$f":"SUMPRODUCT((Projects!$A$5:$A$2393='MDOT FTA Detail'!$J$3)*(Projects!$C$5:$C$2393='MDOT FTA Detail'!$C$4)*(Projects!$L$5:$L$2393='MDOT FTA Detail'!$A19)*(Projects!$J$5:$J$2393<>'MDOT FTA Detail'!$A$171)*(Projects!$Q$5:$Q$2393))","v":0},{"$f":"SUMPRODUCT((Projects!$A$5:$A$2393='MDOT FTA Detail'!$M$3)*(Projects!$C$5:$C$2393='MDOT FTA Detail'!$C$4)*(Projects!$L$5:$L$2393='MDOT FTA Detail'!$A19)*(Projects!$J$5:$J$2393<>'MDOT FTA Detail'!$A$171)*(Projects!$K$5:$K$2393))","v":0},0,{"$f":"SUMPRODUCT((Projects!$A$5:$A$2393='MDOT FTA Detail'!$M$3)*(Projects!$C$5:$C$2393='MDOT FTA Detail'!$C$4)*(Projects!$L$5:$L$2393='MDOT FTA Detail'!$A19)*(Projects!$J$5:$J$2393<>'MDOT FTA Detail'!$A$171)*(Projects!$Q$5:$Q$2393))","v":0}]
["CM","Congestion Mitigation & Air Quality","MDOT FA",{"$f":"SUMPRODUCT((Projects!$A$5:$A$2393='MDOT FTA Detail'!$D$3)*(Projects!$C$5:$C$2393='MDOT FTA Detail'!$C$4)*(Projects!$L$5:$L$2393='MDOT FTA Detail'!$A20)*(Projects!$J$5:$J$2393<>'MDOT FTA Detail'!$A$171)*(Projects!$K$5:K$2393))","v":0},0,{"$f":"SUMPRODUCT((Projects!$A$5:$A$2393='MDOT FTA Detail'!$D$3)*(Projects!$C$5:$C$2393='MDOT FTA Detail'!$C$4)*(Projects!$L$5:$L$2393='MDOT FTA Detail'!$A20)*(Projects!$J$5:$J$2393<>'MDOT FTA Detail'!$A$171)*(Projects!$Q$5:Q$2393))","v":0},{"$f":"SUMPRODUCT((Projects!$A$5:$A$2393='MDOT FTA Detail'!$G$3)*(Projects!$C$5:$C$2393='MDOT FTA Detail'!$C$4)*(Projects!$L$5:$L$2393='MDOT FTA Detail'!$A20)*(Projects!$J$5:$J$2393<>'MDOT FTA Detail'!$A$171)*(Projects!$K$5:K$2393))","v":0},0,{"$f":"SUMPRODUCT((Projects!$A$5:$A$2393='MDOT FTA Detail'!$G$3)*(Projects!$C$5:$C$2393='MDOT FTA Detail'!$C$4)*(Projects!$L$5:$L$2393='MDOT FTA Detail'!$A20)*(Projects!$J$5:$J$2393<>'MDOT FTA Detail'!$A$171)*(Projects!$Q$5:Q$2393))","v":0},{"$f":"SUMPRODUCT((Projects!$A$5:$A$2393='MDOT FTA Detail'!$J$3)*(Projects!$C$5:$C$2393='MDOT FTA Detail'!$C$4)*(Projects!$L$5:$L$2393='MDOT FTA Detail'!$A20)*(Projects!$J$5:$J$2393<>'MDOT FTA Detail'!$A$171)*(Projects!$K$5:$K$2393))","v":96583},21417,{"$f":"SUMPRODUCT((Projects!$A$5:$A$2393='MDOT FTA Detail'!$J$3)*(Projects!$C$5:$C$2393='MDOT FTA Detail'!$C$4)*(Projects!$L$5:$L$2393='MDOT FTA Detail'!$A20)*(Projects!$J$5:$J$2393<>'MDOT FTA Detail'!$A$171)*(Projects!$Q$5:$Q$2393))","v":118000},{"$f":"SUMPRODUCT((Projects!$A$5:$A$2393='MDOT FTA Detail'!$M$3)*(Projects!$C$5:$C$2393='MDOT FTA Detail'!$C$4)*(Projects!$L$5:$L$2393='MDOT FTA Detail'!$A20)*(Projects!$J$5:$J$2393<>'MDOT FTA Detail'!$A$171)*(Projects!$K$5:$K$2393))","v":0},0,{"$f":"SUMPRODUCT((Projects!$A$5:$A$2393='MDOT FTA Detail'!$M$3)*(Projects!$C$5:$C$2393='MDOT FTA Detail'!$C$4)*(Projects!$L$5:$L$2393='MDOT FTA Detail'!$A20)*(Projects!$J$5:$J$2393<>'MDOT FTA Detail'!$A$171)*(Projects!$Q$5:$Q$2393))","v":0}]
["CMG","Congestion Mitigation & Air Quality - 100% Federal","MDOT FA",{"$f":"SUMPRODUCT((Projects!$A$5:$A$2393='MDOT FTA Detail'!$D$3)*(Projects!$C$5:$C$2393='MDOT FTA Detail'!$C$4)*(Projects!$L$5:$L$2393='MDOT FTA Detail'!$A21)*(Projects!$J$5:$J$2393<>'MDOT FTA Detail'!$A$171)*(Projects!$K$5:K$2393))","v":0},0,{"$f":"SUMPRODUCT((Projects!$A$5:$A$2393='MDOT FTA Detail'!$D$3)*(Projects!$C$5:$C$2393='MDOT FTA Detail'!$C$4)*(Projects!$L$5:$L$2393='MDOT FTA Detail'!$A21)*(Projects!$J$5:$J$2393<>'MDOT FTA Detail'!$A$171)*(Projects!$Q$5:Q$2393))","v":0},{"$f":"SUMPRODUCT((Projects!$A$5:$A$2393='MDOT FTA Detail'!$G$3)*(Projects!$C$5:$C$2393='MDOT FTA Detail'!$C$4)*(Projects!$L$5:$L$2393='MDOT FTA Detail'!$A21)*(Projects!$J$5:$J$2393<>'MDOT FTA Detail'!$A$171)*(Projects!$K$5:K$2393))","v":0},0,{"$f":"SUMPRODUCT((Projects!$A$5:$A$2393='MDOT FTA Detail'!$G$3)*(Projects!$C$5:$C$2393='MDOT FTA Detail'!$C$4)*(Projects!$L$5:$L$2393='MDOT FTA Detail'!$A21)*(Projects!$J$5:$J$2393<>'MDOT FTA Detail'!$A$171)*(Projects!$Q$5:Q$2393))","v":0},{"$f":"SUMPRODUCT((Projects!$A$5:$A$2393='MDOT FTA Detail'!$J$3)*(Projects!$C$5:$C$2393='MDOT FTA Detail'!$C$4)*(Projects!$L$5:$L$2393='MDOT FTA Detail'!$A21)*(Projects!$J$5:$J$2393<>'MDOT FTA Detail'!$A$171)*(Projects!$K$5:$K$2393))","v":0},0,{"$f":"SUMPRODUCT((Projects!$A$5:$A$2393='MDOT FTA Detail'!$J$3)*(Projects!$C$5:$C$2393='MDOT FTA Detail'!$C$4)*(Projects!$L$5:$L$2393='MDOT FTA Detail'!$A21)*(Projects!$J$5:$J$2393<>'MDOT FTA Detail'!$A$171)*(Projects!$Q$5:$Q$2393))","v":0},{"$f":"SUMPRODUCT((Projects!$A$5:$A$2393='MDOT FTA Detail'!$M$3)*(Projects!$C$5:$C$2393='MDOT FTA Detail'!$C$4)*(Projects!$L$5:$L$2393='MDOT FTA Detail'!$A21)*(Projects!$J$5:$J$2393<>'MDOT FTA Detail'!$A$171)*(Projects!$K$5:$K$2393))","v":0},0,{"$f":"SUMPRODUCT((Projects!$A$5:$A$2393='MDOT FTA Detail'!$M$3)*(Projects!$C$5:$C$2393='MDOT FTA Detail'!$C$4)*(Projects!$L$5:$L$2393='MDOT FTA Detail'!$A21)*(Projects!$J$5:$J$2393<>'MDOT FTA Detail'!$A$171)*(Projects!$Q$5:$Q$2393))","v":0}]
["CPM","Congestion Mititagion & Air Quality for PM 2.5 Emissions","MDOT FA",{"$f":"SUMPRODUCT((Projects!$A$5:$A$2393='MDOT FTA Detail'!$D$3)*(Projects!$C$5:$C$2393='MDOT FTA Detail'!$C$4)*(Projects!$L$5:$L$2393='MDOT FTA Detail'!$A22)*(Projects!$J$5:$J$2393<>'MDOT FTA Detail'!$A$171)*(Projects!$K$5:K$2393))","v":0},{"$f":"F22-D22","v":0},{"$f":"SUMPRODUCT((Projects!$A$5:$A$2393='MDOT FTA Detail'!$D$3)*(Projects!$C$5:$C$2393='MDOT FTA Detail'!$C$4)*(Projects!$L$5:$L$2393='MDOT FTA Detail'!$A22)*(Projects!$J$5:$J$2393<>'MDOT FTA Detail'!$A$171)*(Projects!$Q$5:Q$2393))","v":0},{"$f":"SUMPRODUCT((Projects!$A$5:$A$2393='MDOT FTA Detail'!$G$3)*(Projects!$C$5:$C$2393='MDOT FTA Detail'!$C$4)*(Projects!$L$5:$L$2393='MDOT FTA Detail'!$A22)*(Projects!$J$5:$J$2393<>'MDOT FTA Detail'!$A$171)*(Projects!$K$5:K$2393))","v":0},{"$f":"I22-G22","v":0},{"$f":"SUMPRODUCT((Projects!$A$5:$A$2393='MDOT FTA Detail'!$G$3)*(Projects!$C$5:$C$2393='MDOT FTA Detail'!$C$4)*(Projects!$L$5:$L$2393='MDOT FTA Detail'!$A22)*(Projects!$J$5:$J$2393<>'MDOT FTA Detail'!$A$171)*(Projects!$Q$5:Q$2393))","v":0},{"$f":"SUMPRODUCT((Projects!$A$5:$A$2393='MDOT FTA Detail'!$J$3)*(Projects!$C$5:$C$2393='MDOT FTA Detail'!$C$4)*(Projects!$L$5:$L$2393='MDOT FTA Detail'!$A22)*(Projects!$J$5:$J$2393<>'MDOT FTA Detail'!$A$171)*(Projects!$K$5:$K$2393))","v":0},{"$f":"L22-J22","v":0},{"$f":"SUMPRODUCT((Projects!$A$5:$A$2393='MDOT FTA Detail'!$J$3)*(Projects!$C$5:$C$2393='MDOT FTA Detail'!$C$4)*(Projects!$L$5:$L$2393='MDOT FTA Detail'!$A22)*(Projects!$J$5:$J$2393<>'MDOT FTA Detail'!$A$171)*(Projects!$Q$5:$Q$2393))","v":0},{"$f":"SUMPRODUCT((Projects!$A$5:$A$2393='MDOT FTA Detail'!$M$3)*(Projects!$C$5:$C$2393='MDOT FTA Detail'!$C$4)*(Projects!$L$5:$L$2393='MDOT FTA Detail'!$A22)*(Projects!$J$5:$J$2393<>'MDOT FTA Detail'!$A$171)*(Projects!$K$5:$K$2393))","v":0},{"$f":"O22-M22","v":0},{"$f":"SUMPRODUCT((Projects!$A$5:$A$2393='MDOT FTA Detail'!$M$3)*(Projects!$C$5:$C$2393='MDOT FTA Detail'!$C$4)*(Projects!$L$5:$L$2393='MDOT FTA Detail'!$A22)*(Projects!$J$5:$J$2393<>'MDOT FTA Detail'!$A$171)*(Projects!$Q$5:$Q$2393))","v":0}]
["CPMG","Congestion Mititagion & Air Quality for PM 2.5 Emissions - 100% Federal","MDOT FA",{"$f":"SUMPRODUCT((Projects!$A$5:$A$2393='MDOT FTA Detail'!$D$3)*(Projects!$C$5:$C$2393='MDOT FTA Detail'!$C$4)*(Projects!$L$5:$L$2393='MDOT FTA Detail'!$A23)*(Projects!$J$5:$J$2393<>'MDOT FTA Detail'!$A$171)*(Projects!$K$5:K$2393))","v":0},0,{"$f":"SUMPRODUCT((Projects!$A$5:$A$2393='MDOT FTA Detail'!$D$3)*(Projects!$C$5:$C$2393='MDOT FTA Detail'!$C$4)*(Projects!$L$5:$L$2393='MDOT FTA Detail'!$A23)*(Projects!$J$5:$J$2393<>'MDOT FTA Detail'!$A$171)*(Projects!$Q$5:Q$2393))","v":0},{"$f":"SUMPRODUCT((Projects!$A$5:$A$2393='MDOT FTA Detail'!$G$3)*(Projects!$C$5:$C$2393='MDOT FTA Detail'!$C$4)*(Projects!$L$5:$L$2393='MDOT FTA Detail'!$A23)*(Projects!$J$5:$J$2393<>'MDOT FTA Detail'!$A$171)*(Projects!$K$5:K$2393))","v":0},0,{"$f":"SUMPRODUCT((Projects!$A$5:$A$2393='MDOT FTA Detail'!$G$3)*(Projects!$C$5:$C$2393='MDOT FTA Detail'!$C$4)*(Projects!$L$5:$L$2393='MDOT FTA Detail'!$A23)*(Projects!$J$5:$J$2393<>'MDOT FTA Detail'!$A$171)*(Projects!$Q$5:Q$2393))","v":0},{"$f":"SUMPRODUCT((Projects!$A$5:$A$2393='MDOT FTA Detail'!$J$3)*(Projects!$C$5:$C$2393='MDOT FTA Detail'!$C$4)*(Projects!$L$5:$L$2393='MDOT FTA Detail'!$A23)*(Projects!$J$5:$J$2393<>'MDOT FTA Detail'!$A$171)*(Projects!$K$5:$K$2393))","v":0},0,{"$f":"SUMPRODUCT((Projects!$A$5:$A$2393='MDOT FTA Detail'!$J$3)*(Projects!$C$5:$C$2393='MDOT FTA Detail'!$C$4)*(Projects!$L$5:$L$2393='MDOT FTA Detail'!$A23)*(Projects!$J$5:$J$2393<>'MDOT FTA Detail'!$A$171)*(Projects!$Q$5:$Q$2393))","v":0},{"$f":"SUMPRODUCT((Projects!$A$5:$A$2393='MDOT FTA Detail'!$M$3)*(Projects!$C$5:$C$2393='MDOT FTA Detail'!$C$4)*(Projects!$L$5:$L$2393='MDOT FTA Detail'!$A23)*(Projects!$J$5:$J$2393<>'MDOT FTA Detail'!$A$171)*(Projects!$K$5:$K$2393))","v":0},0,{"$f":"SUMPRODUCT((Projects!$A$5:$A$2393='MDOT FTA Detail'!$M$3)*(Projects!$C$5:$C$2393='MDOT FTA Detail'!$C$4)*(Projects!$L$5:$L$2393='MDOT FTA Detail'!$A23)*(Projects!$J$5:$J$2393<>'MDOT FTA Detail'!$A$171)*(Projects!$Q$5:$Q$2393))","v":0}]
["D129","Demonstration for Surface Transportation - Section 129","MDOT FA",{"$f":"SUMPRODUCT((Projects!$A$5:$A$2393='MDOT FTA Detail'!$D$3)*(Projects!$C$5:$C$2393='MDOT FTA Detail'!$C$4)*(Projects!$L$5:$L$2393='MDOT FTA Detail'!$A24)*(Projects!$J$5:$J$2393<>'MDOT FTA Detail'!$A$171)*(Projects!$K$5:K$2393))","v":0},{"$f":"F24-D24","v":0},{"$f":"SUMPRODUCT((Projects!$A$5:$A$2393='MDOT FTA Detail'!$D$3)*(Projects!$C$5:$C$2393='MDOT FTA Detail'!$C$4)*(Projects!$L$5:$L$2393='MDOT FTA Detail'!$A24)*(Projects!$J$5:$J$2393<>'MDOT FTA Detail'!$A$171)*(Projects!$Q$5:Q$2393))","v":0},{"$f":"SUMPRODUCT((Projects!$A$5:$A$2393='MDOT FTA Detail'!$G$3)*(Projects!$C$5:$C$2393='MDOT FTA Detail'!$C$4)*(Projects!$L$5:$L$2393='MDOT FTA Detail'!$A24)*(Projects!$J$5:$J$2393<>'MDOT FTA Detail'!$A$171)*(Projects!$K$5:K$2393))","v":0},{"$f":"I24-G24","v":0},{"$f":"SUMPRODUCT((Projects!$A$5:$A$2393='MDOT FTA Detail'!$G$3)*(Projects!$C$5:$C$2393='MDOT FTA Detail'!$C$4)*(Projects!$L$5:$L$2393='MDOT FTA Detail'!$A24)*(Projects!$J$5:$J$2393<>'MDOT FTA Detail'!$A$171)*(Projects!$Q$5:Q$2393))","v":0},{"$f":"SUMPRODUCT((Projects!$A$5:$A$2393='MDOT FTA Detail'!$J$3)*(Projects!$C$5:$C$2393='MDOT FTA Detail'!$C$4)*(Projects!$L$5:$L$2393='MDOT FTA Detail'!$A24)*(Projects!$J$5:$J$2393<>'MDOT FTA Detail'!$A$171)*(Projects!$K$5:$K$2393))","v":0},{"$f":"L24-J24","v":0},{"$f":"SUMPRODUCT((Projects!$A$5:$A$2393='MDOT FTA Detail'!$J$3)*(Projects!$C$5:$C$2393='MDOT FTA Detail'!$C$4)*(Projects!$L$5:$L$2393='MDOT FTA Detail'!$A24)*(Projects!$J$5:$J$2393<>'MDOT FTA Detail'!$A$171)*(Projects!$Q$5:$Q$2393))","v":0},{"$f":"SUMPRODUCT((Projects!$A$5:$A$2393='MDOT FTA Detail'!$M$3)*(Projects!$C$5:$C$2393='MDOT FTA Detail'!$C$4)*(Projects!$L$5:$L$2393='MDOT FTA Detail'!$A24)*(Projects!$J$5:$J$2393<>'MDOT FTA Detail'!$A$171)*(Projects!$K$5:$K$2393))","v":0},{"$f":"O24-M24","v":0},{"$f":"SUMPRODUCT((Projects!$A$5:$A$2393='MDOT FTA Detail'!$M$3)*(Projects!$C$5:$C$2393='MDOT FTA Detail'!$C$4)*(Projects!$L$5:$L$2393='MDOT FTA Detail'!$A24)*(Projects!$J$5:$J$2393<>'MDOT FTA Detail'!$A$171)*(Projects!$Q$5:$Q$2393))","v":0}]
["DIG","ISTEA Demonstration 100% Federal on Interstate","MDOT FA",{"$f":"SUMPRODUCT((Projects!$A$5:$A$2393='MDOT FTA Detail'!$D$3)*(Projects!$C$5:$C$2393='MDOT FTA Detail'!$C$4)*(Projects!$L$5:$L$2393='MDOT FTA Detail'!$A25)*(Projects!$J$5:$J$2393<>'MDOT FTA Detail'!$A$171)*(Projects!$K$5:K$2393))","v":0},0,{"$f":"SUMPRODUCT((Projects!$A$5:$A$2393='MDOT FTA Detail'!$D$3)*(Projects!$C$5:$C$2393='MDOT FTA Detail'!$C$4)*(Projects!$L$5:$L$2393='MDOT FTA Detail'!$A25)*(Projects!$J$5:$J$2393<>'MDOT FTA Detail'!$A$171)*(Projects!$Q$5:Q$2393))","v":0},{"$f":"SUMPRODUCT((Projects!$A$5:$A$2393='MDOT FTA Detail'!$G$3)*(Projects!$C$5:$C$2393='MDOT FTA Detail'!$C$4)*(Projects!$L$5:$L$2393='MDOT FTA Detail'!$A25)*(Projects!$J$5:$J$2393<>'MDOT FTA Detail'!$A$171)*(Projects!$K$5:K$2393))","v":0},0,{"$f":"SUMPRODUCT((Projects!$A$5:$A$2393='MDOT FTA Detail'!$G$3)*(Projects!$C$5:$C$2393='MDOT FTA Detail'!$C$4)*(Projects!$L$5:$L$2393='MDOT FTA Detail'!$A25)*(Projects!$J$5:$J$2393<>'MDOT FTA Detail'!$A$171)*(Projects!$Q$5:Q$2393))","v":0},{"$f":"SUMPRODUCT((Projects!$A$5:$A$2393='MDOT FTA Detail'!$J$3)*(Projects!$C$5:$C$2393='MDOT FTA Detail'!$C$4)*(Projects!$L$5:$L$2393='MDOT FTA Detail'!$A25)*(Projects!$J$5:$J$2393<>'MDOT FTA Detail'!$A$171)*(Projects!$K$5:$K$2393))","v":0},0,{"$f":"SUMPRODUCT((Projects!$A$5:$A$2393='MDOT FTA Detail'!$J$3)*(Projects!$C$5:$C$2393='MDOT FTA Detail'!$C$4)*(Projects!$L$5:$L$2393='MDOT FTA Detail'!$A25)*(Projects!$J$5:$J$2393<>'MDOT FTA Detail'!$A$171)*(Projects!$Q$5:$Q$2393))","v":0},{"$f":"SUMPRODUCT((Projects!$A$5:$A$2393='MDOT FTA Detail'!$M$3)*(Projects!$C$5:$C$2393='MDOT FTA Detail'!$C$4)*(Projects!$L$5:$L$2393='MDOT FTA Detail'!$A25)*(Projects!$J$5:$J$2393<>'MDOT FTA Detail'!$A$171)*(Projects!$K$5:$K$2393))","v":0},0,{"$f":"SUMPRODUCT((Projects!$A$5:$A$2393='MDOT FTA Detail'!$M$3)*(Projects!$C$5:$C$2393='MDOT FTA Detail'!$C$4)*(Projects!$L$5:$L$2393='MDOT FTA Detail'!$A25)*(Projects!$J$5:$J$2393<>'MDOT FTA Detail'!$A$171)*(Projects!$Q$5:$Q$2393))","v":0}]
["DOG","ISTEA Demonstration 100% Federal Not Classified","MDOT FA",{"$f":"SUMPRODUCT((Projects!$A$5:$A$2393='MDOT FTA Detail'!$D$3)*(Projects!$C$5:$C$2393='MDOT FTA Detail'!$C$4)*(Projects!$L$5:$L$2393='MDOT FTA Detail'!$A26)*(Projects!$J$5:$J$2393<>'MDOT FTA Detail'!$A$171)*(Projects!$K$5:K$2393))","v":0},0,{"$f":"SUMPRODUCT((Projects!$A$5:$A$2393='MDOT FTA Detail'!$D$3)*(Projects!$C$5:$C$2393='MDOT FTA Detail'!$C$4)*(Projects!$L$5:$L$2393='MDOT FTA Detail'!$A26)*(Projects!$J$5:$J$2393<>'MDOT FTA Detail'!$A$171)*(Projects!$Q$5:Q$2393))","v":0},{"$f":"SUMPRODUCT((Projects!$A$5:$A$2393='MDOT FTA Detail'!$G$3)*(Projects!$C$5:$C$2393='MDOT FTA Detail'!$C$4)*(Projects!$L$5:$L$2393='MDOT FTA Detail'!$A26)*(Projects!$J$5:$J$2393<>'MDOT FTA Detail'!$A$171)*(Projects!$K$5:K$2393))","v":0},0,{"$f":"SUMPRODUCT((Projects!$A$5:$A$2393='MDOT FTA Detail'!$G$3)*(Projects!$C$5:$C$2393='MDOT FTA Detail'!$C$4)*(Projects!$L$5:$L$2393='MDOT FTA Detail'!$A26)*(Projects!$J$5:$J$2393<>'MDOT FTA Detail'!$A$171)*(Projects!$Q$5:Q$2393))","v":0},{"$f":"SUMPRODUCT((Projects!$A$5:$A$2393='MDOT FTA Detail'!$J$3)*(Projects!$C$5:$C$2393='MDOT FTA Detail'!$C$4)*(Projects!$L$5:$L$2393='MDOT FTA Detail'!$A26)*(Projects!$J$5:$J$2393<>'MDOT FTA Detail'!$A$171)*(Projects!$K$5:$K$2393))","v":0},0,{"$f":"SUMPRODUCT((Projects!$A$5:$A$2393='MDOT FTA Detail'!$J$3)*(Projects!$C$5:$C$2393='MDOT FTA Detail'!$C$4)*(Projects!$L$5:$L$2393='MDOT FTA Detail'!$A26)*(Projects!$J$5:$J$2393<>'MDOT FTA Detail'!$A$171)*(Projects!$Q$5:$Q$2393))","v":0},{"$f":"SUMPRODUCT((Projects!$A$5:$A$2393='MDOT FTA Detail'!$M$3)*(Projects!$C$5:$C$2393='MDOT FTA Detail'!$C$4)*(Projects!$L$5:$L$2393='MDOT FTA Detail'!$A26)*(Projects!$J$5:$J$2393<>'MDOT FTA Detail'!$A$171)*(Projects!$K$5:$K$2393))","v":0},0,{"$f":"SUMPRODUCT((Projects!$A$5:$A$2393='MDOT FTA Detail'!$M$3)*(Projects!$C$5:$C$2393='MDOT FTA Detail'!$C$4)*(Projects!$L$5:$L$2393='MDOT FTA Detail'!$A26)*(Projects!$J$5:$J$2393<>'MDOT FTA Detail'!$A$171)*(Projects!$Q$5:$Q$2393))","v":0}]
["DPN","ISTEA Demonstration 80% Federal on NHS","MDOT FA",{"$f":"SUMPRODUCT((Projects!$A$5:$A$2393='MDOT FTA Detail'!$D$3)*(Projects!$C$5:$C$2393='MDOT FTA Detail'!$C$4)*(Projects!$L$5:$L$2393='MDOT FTA Detail'!$A27)*(Projects!$J$5:$J$2393<>'MDOT FTA Detail'!$A$171)*(Projects!$K$5:K$2393))","v":0},0,{"$f":"SUMPRODUCT((Projects!$A$5:$A$2393='MDOT FTA Detail'!$D$3)*(Projects!$C$5:$C$2393='MDOT FTA Detail'!$C$4)*(Projects!$L$5:$L$2393='MDOT FTA Detail'!$A27)*(Projects!$J$5:$J$2393<>'MDOT FTA Detail'!$A$171)*(Projects!$Q$5:Q$2393))","v":0},{"$f":"SUMPRODUCT((Projects!$A$5:$A$2393='MDOT FTA Detail'!$G$3)*(Projects!$C$5:$C$2393='MDOT FTA Detail'!$C$4)*(Projects!$L$5:$L$2393='MDOT FTA Detail'!$A27)*(Projects!$J$5:$J$2393<>'MDOT FTA Detail'!$A$171)*(Projects!$K$5:K$2393))","v":0},0,{"$f":"SUMPRODUCT((Projects!$A$5:$A$2393='MDOT FTA Detail'!$G$3)*(Projects!$C$5:$C$2393='MDOT FTA Detail'!$C$4)*(Projects!$L$5:$L$2393='MDOT FTA Detail'!$A27)*(Projects!$J$5:$J$2393<>'MDOT FTA Detail'!$A$171)*(Projects!$Q$5:Q$2393))","v":0},{"$f":"SUMPRODUCT((Projects!$A$5:$A$2393='MDOT FTA Detail'!$J$3)*(Projects!$C$5:$C$2393='MDOT FTA Detail'!$C$4)*(Projects!$L$5:$L$2393='MDOT FTA Detail'!$A27)*(Projects!$J$5:$J$2393<>'MDOT FTA Detail'!$A$171)*(Projects!$K$5:$K$2393))","v":0},0,{"$f":"SUMPRODUCT((Projects!$A$5:$A$2393='MDOT FTA Detail'!$J$3)*(Projects!$C$5:$C$2393='MDOT FTA Detail'!$C$4)*(Projects!$L$5:$L$2393='MDOT FTA Detail'!$A27)*(Projects!$J$5:$J$2393<>'MDOT FTA Detail'!$A$171)*(Projects!$Q$5:$Q$2393))","v":0},{"$f":"SUMPRODUCT((Projects!$A$5:$A$2393='MDOT FTA Detail'!$M$3)*(Projects!$C$5:$C$2393='MDOT FTA Detail'!$C$4)*(Projects!$L$5:$L$2393='MDOT FTA Detail'!$A27)*(Projects!$J$5:$J$2393<>'MDOT FTA Detail'!$A$171)*(Projects!$K$5:$K$2393))","v":0},0,{"$f":"SUMPRODUCT((Projects!$A$5:$A$2393='MDOT FTA Detail'!$M$3)*(Projects!$C$5:$C$2393='MDOT FTA Detail'!$C$4)*(Projects!$L$5:$L$2393='MDOT FTA Detail'!$A27)*(Projects!$J$5:$J$2393<>'MDOT FTA Detail'!$A$171)*(Projects!$Q$5:$Q$2393))","v":0}]
["DPO","ISTEA Demonstration 80% Federal Not Classified","MDOT FA",{"$f":"SUMPRODUCT((Projects!$A$5:$A$2393='MDOT FTA Detail'!$D$3)*(Projects!$C$5:$C$2393='MDOT FTA Detail'!$C$4)*(Projects!$L$5:$L$2393='MDOT FTA Detail'!$A28)*(Projects!$J$5:$J$2393<>'MDOT FTA Detail'!$A$171)*(Projects!$K$5:K$2393))","v":0},0,{"$f":"SUMPRODUCT((Projects!$A$5:$A$2393='MDOT FTA Detail'!$D$3)*(Projects!$C$5:$C$2393='MDOT FTA Detail'!$C$4)*(Projects!$L$5:$L$2393='MDOT FTA Detail'!$A28)*(Projects!$J$5:$J$2393<>'MDOT FTA Detail'!$A$171)*(Projects!$Q$5:Q$2393))","v":0},{"$f":"SUMPRODUCT((Projects!$A$5:$A$2393='MDOT FTA Detail'!$G$3)*(Projects!$C$5:$C$2393='MDOT FTA Detail'!$C$4)*(Projects!$L$5:$L$2393='MDOT FTA Detail'!$A28)*(Projects!$J$5:$J$2393<>'MDOT FTA Detail'!$A$171)*(Projects!$K$5:K$2393))","v":0},0,{"$f":"SUMPRODUCT((Projects!$A$5:$A$2393='MDOT FTA Detail'!$G$3)*(Projects!$C$5:$C$2393='MDOT FTA Detail'!$C$4)*(Projects!$L$5:$L$2393='MDOT FTA Detail'!$A28)*(Projects!$J$5:$J$2393<>'MDOT FTA Detail'!$A$171)*(Projects!$Q$5:Q$2393))","v":0},{"$f":"SUMPRODUCT((Projects!$A$5:$A$2393='MDOT FTA Detail'!$J$3)*(Projects!$C$5:$C$2393='MDOT FTA Detail'!$C$4)*(Projects!$L$5:$L$2393='MDOT FTA Detail'!$A28)*(Projects!$J$5:$J$2393<>'MDOT FTA Detail'!$A$171)*(Projects!$K$5:$K$2393))","v":0},0,{"$f":"SUMPRODUCT((Projects!$A$5:$A$2393='MDOT FTA Detail'!$J$3)*(Projects!$C$5:$C$2393='MDOT FTA Detail'!$C$4)*(Projects!$L$5:$L$2393='MDOT FTA Detail'!$A28)*(Projects!$J$5:$J$2393<>'MDOT FTA Detail'!$A$171)*(Projects!$Q$5:$Q$2393))","v":0},{"$f":"SUMPRODUCT((Projects!$A$5:$A$2393='MDOT FTA Detail'!$M$3)*(Projects!$C$5:$C$2393='MDOT FTA Detail'!$C$4)*(Projects!$L$5:$L$2393='MDOT FTA Detail'!$A28)*(Projects!$J$5:$J$2393<>'MDOT FTA Detail'!$A$171)*(Projects!$K$5:$K$2393))","v":0},0,{"$f":"SUMPRODUCT((Projects!$A$5:$A$2393='MDOT FTA Detail'!$M$3)*(Projects!$C$5:$C$2393='MDOT FTA Detail'!$C$4)*(Projects!$L$5:$L$2393='MDOT FTA Detail'!$A28)*(Projects!$J$5:$J$2393<>'MDOT FTA Detail'!$A$171)*(Projects!$Q$5:$Q$2393))","v":0}]
["DPS","ISTEA Demonstration 80% Federal on STP","MDOT FA",{"$f":"SUMPRODUCT((Projects!$A$5:$A$2393='MDOT FTA Detail'!$D$3)*(Projects!$C$5:$C$2393='MDOT FTA Detail'!$C$4)*(Projects!$L$5:$L$2393='MDOT FTA Detail'!$A29)*(Projects!$J$5:$J$2393<>'MDOT FTA Detail'!$A$171)*(Projects!$K$5:K$2393))","v":0},0,{"$f":"SUMPRODUCT((Projects!$A$5:$A$2393='MDOT FTA Detail'!$D$3)*(Projects!$C$5:$C$2393='MDOT FTA Detail'!$C$4)*(Projects!$L$5:$L$2393='MDOT FTA Detail'!$A29)*(Projects!$J$5:$J$2393<>'MDOT FTA Detail'!$A$171)*(Projects!$Q$5:Q$2393))","v":0},{"$f":"SUMPRODUCT((Projects!$A$5:$A$2393='MDOT FTA Detail'!$G$3)*(Projects!$C$5:$C$2393='MDOT FTA Detail'!$C$4)*(Projects!$L$5:$L$2393='MDOT FTA Detail'!$A29)*(Projects!$J$5:$J$2393<>'MDOT FTA Detail'!$A$171)*(Projects!$K$5:K$2393))","v":0},0,{"$f":"SUMPRODUCT((Projects!$A$5:$A$2393='MDOT FTA Detail'!$G$3)*(Projects!$C$5:$C$2393='MDOT FTA Detail'!$C$4)*(Projects!$L$5:$L$2393='MDOT FTA Detail'!$A29)*(Projects!$J$5:$J$2393<>'MDOT FTA Detail'!$A$171)*(Projects!$Q$5:Q$2393))","v":0},{"$f":"SUMPRODUCT((Projects!$A$5:$A$2393='MDOT FTA Detail'!$J$3)*(Projects!$C$5:$C$2393='MDOT FTA Detail'!$C$4)*(Projects!$L$5:$L$2393='MDOT FTA Detail'!$A29)*(Projects!$J$5:$J$2393<>'MDOT FTA Detail'!$A$171)*(Projects!$K$5:$K$2393))","v":0},0,{"$f":"SUMPRODUCT((Projects!$A$5:$A$2393='MDOT FTA Detail'!$J$3)*(Projects!$C$5:$C$2393='MDOT FTA Detail'!$C$4)*(Projects!$L$5:$L$2393='MDOT FTA Detail'!$A29)*(Projects!$J$5:$J$2393<>'MDOT FTA Detail'!$A$171)*(Projects!$Q$5:$Q$2393))","v":0},{"$f":"SUMPRODUCT((Projects!$A$5:$A$2393='MDOT FTA Detail'!$M$3)*(Projects!$C$5:$C$2393='MDOT FTA Detail'!$C$4)*(Projects!$L$5:$L$2393='MDOT FTA Detail'!$A29)*(Projects!$J$5:$J$2393<>'MDOT FTA Detail'!$A$171)*(Projects!$K$5:$K$2393))","v":0},0,{"$f":"SUMPRODUCT((Projects!$A$5:$A$2393='MDOT FTA Detail'!$M$3)*(Projects!$C$5:$C$2393='MDOT FTA Detail'!$C$4)*(Projects!$L$5:$L$2393='MDOT FTA Detail'!$A29)*(Projects!$J$5:$J$2393<>'MDOT FTA Detail'!$A$171)*(Projects!$Q$5:$Q$2393))","v":0}]
["DPSA","Demonstration Project Section 112 Division A","MDOT FA",{"$f":"SUMPRODUCT((Projects!$A$5:$A$2393='MDOT FTA Detail'!$D$3)*(Projects!$C$5:$C$2393='MDOT FTA Detail'!$C$4)*(Projects!$L$5:$L$2393='MDOT FTA Detail'!$A30)*(Projects!$J$5:$J$2393<>'MDOT FTA Detail'!$A$171)*(Projects!$K$5:K$2393))","v":0},0,{"$f":"SUMPRODUCT((Projects!$A$5:$A$2393='MDOT FTA Detail'!$D$3)*(Projects!$C$5:$C$2393='MDOT FTA Detail'!$C$4)*(Projects!$L$5:$L$2393='MDOT FTA Detail'!$A30)*(Projects!$J$5:$J$2393<>'MDOT FTA Detail'!$A$171)*(Projects!$Q$5:Q$2393))","v":0},{"$f":"SUMPRODUCT((Projects!$A$5:$A$2393='MDOT FTA Detail'!$G$3)*(Projects!$C$5:$C$2393='MDOT FTA Detail'!$C$4)*(Projects!$L$5:$L$2393='MDOT FTA Detail'!$A30)*(Projects!$J$5:$J$2393<>'MDOT FTA Detail'!$A$171)*(Projects!$K$5:K$2393))","v":0},0,{"$f":"SUMPRODUCT((Projects!$A$5:$A$2393='MDOT FTA Detail'!$G$3)*(Projects!$C$5:$C$2393='MDOT FTA Detail'!$C$4)*(Projects!$L$5:$L$2393='MDOT FTA Detail'!$A30)*(Projects!$J$5:$J$2393<>'MDOT FTA Detail'!$A$171)*(Projects!$Q$5:Q$2393))","v":0},{"$f":"SUMPRODUCT((Projects!$A$5:$A$2393='MDOT FTA Detail'!$J$3)*(Projects!$C$5:$C$2393='MDOT FTA Detail'!$C$4)*(Projects!$L$5:$L$2393='MDOT FTA Detail'!$A30)*(Projects!$J$5:$J$2393<>'MDOT FTA Detail'!$A$171)*(Projects!$K$5:$K$2393))","v":0},0,{"$f":"SUMPRODUCT((Projects!$A$5:$A$2393='MDOT FTA Detail'!$J$3)*(Projects!$C$5:$C$2393='MDOT FTA Detail'!$C$4)*(Projects!$L$5:$L$2393='MDOT FTA Detail'!$A30)*(Projects!$J$5:$J$2393<>'MDOT FTA Detail'!$A$171)*(Projects!$Q$5:$Q$2393))","v":0},{"$f":"SUMPRODUCT((Projects!$A$5:$A$2393='MDOT FTA Detail'!$M$3)*(Projects!$C$5:$C$2393='MDOT FTA Detail'!$C$4)*(Projects!$L$5:$L$2393='MDOT FTA Detail'!$A30)*(Projects!$J$5:$J$2393<>'MDOT FTA Detail'!$A$171)*(Projects!$K$5:$K$2393))","v":0},0,{"$f":"SUMPRODUCT((Projects!$A$5:$A$2393='MDOT FTA Detail'!$M$3)*(Projects!$C$5:$C$2393='MDOT FTA Detail'!$C$4)*(Projects!$L$5:$L$2393='MDOT FTA Detail'!$A30)*(Projects!$J$5:$J$2393<>'MDOT FTA Detail'!$A$171)*(Projects!$Q$5:$Q$2393))","v":0}]
["DST","Donor Bonus Surface Transportation","MDOT FA",{"$f":"SUMPRODUCT((Projects!$A$5:$A$2393='MDOT FTA Detail'!$D$3)*(Projects!$C$5:$C$2393='MDOT FTA Detail'!$C$4)*(Projects!$L$5:$L$2393='MDOT FTA Detail'!$A31)*(Projects!$J$5:$J$2393<>'MDOT FTA Detail'!$A$171)*(Projects!$K$5:K$2393))","v":0},0,{"$f":"SUMPRODUCT((Projects!$A$5:$A$2393='MDOT FTA Detail'!$D$3)*(Projects!$C$5:$C$2393='MDOT FTA Detail'!$C$4)*(Projects!$L$5:$L$2393='MDOT FTA Detail'!$A31)*(Projects!$J$5:$J$2393<>'MDOT FTA Detail'!$A$171)*(Projects!$Q$5:Q$2393))","v":0},{"$f":"SUMPRODUCT((Projects!$A$5:$A$2393='MDOT FTA Detail'!$G$3)*(Projects!$C$5:$C$2393='MDOT FTA Detail'!$C$4)*(Projects!$L$5:$L$2393='MDOT FTA Detail'!$A31)*(Projects!$J$5:$J$2393<>'MDOT FTA Detail'!$A$171)*(Projects!$K$5:K$2393))","v":0},0,{"$f":"SUMPRODUCT((Projects!$A$5:$A$2393='MDOT FTA Detail'!$G$3)*(Projects!$C$5:$C$2393='MDOT FTA Detail'!$C$4)*(Projects!$L$5:$L$2393='MDOT FTA Detail'!$A31)*(Projects!$J$5:$J$2393<>'MDOT FTA Detail'!$A$171)*(Projects!$Q$5:Q$2393))","v":0},{"$f":"SUMPRODUCT((Projects!$A$5:$A$2393='MDOT FTA Detail'!$J$3)*(Projects!$C$5:$C$2393='MDOT FTA Detail'!$C$4)*(Projects!$L$5:$L$2393='MDOT FTA Detail'!$A31)*(Projects!$J$5:$J$2393<>'MDOT FTA Detail'!$A$171)*(Projects!$K$5:$K$2393))","v":0},0,{"$f":"SUMPRODUCT((Projects!$A$5:$A$2393='MDOT FTA Detail'!$J$3)*(Projects!$C$5:$C$2393='MDOT FTA Detail'!$C$4)*(Projects!$L$5:$L$2393='MDOT FTA Detail'!$A31)*(Projects!$J$5:$J$2393<>'MDOT FTA Detail'!$A$171)*(Projects!$Q$5:$Q$2393))","v":0},{"$f":"SUMPRODUCT((Projects!$A$5:$A$2393='MDOT FTA Detail'!$M$3)*(Projects!$C$5:$C$2393='MDOT FTA Detail'!$C$4)*(Projects!$L$5:$L$2393='MDOT FTA Detail'!$A31)*(Projects!$J$5:$J$2393<>'MDOT FTA Detail'!$A$171)*(Projects!$K$5:$K$2393))","v":0},0,{"$f":"SUMPRODUCT((Projects!$A$5:$A$2393='MDOT FTA Detail'!$M$3)*(Projects!$C$5:$C$2393='MDOT FTA Detail'!$C$4)*(Projects!$L$5:$L$2393='MDOT FTA Detail'!$A31)*(Projects!$J$5:$J$2393<>'MDOT FTA Detail'!$A$171)*(Projects!$Q$5:$Q$2393))","v":0}]
["DSTU","Donor Bonus Surface Transportation - (Urban > 2499,000)","MDOT FA",{"$f":"SUMPRODUCT((Projects!$A$5:$A$2393='MDOT FTA Detail'!$D$3)*(Projects!$C$5:$C$2393='MDOT FTA Detail'!$C$4)*(Projects!$L$5:$L$2393='MDOT FTA Detail'!$A32)*(Projects!$J$5:$J$2393<>'MDOT FTA Detail'!$A$171)*(Projects!$K$5:K$2393))","v":0},0,{"$f":"SUMPRODUCT((Projects!$A$5:$A$2393='MDOT FTA Detail'!$D$3)*(Projects!$C$5:$C$2393='MDOT FTA Detail'!$C$4)*(Projects!$L$5:$L$2393='MDOT FTA Detail'!$A32)*(Projects!$J$5:$J$2393<>'MDOT FTA Detail'!$A$171)*(Projects!$Q$5:Q$2393))","v":0},{"$f":"SUMPRODUCT((Projects!$A$5:$A$2393='MDOT FTA Detail'!$G$3)*(Projects!$C$5:$C$2393='MDOT FTA Detail'!$C$4)*(Projects!$L$5:$L$2393='MDOT FTA Detail'!$A32)*(Projects!$J$5:$J$2393<>'MDOT FTA Detail'!$A$171)*(Projects!$K$5:K$2393))","v":0},0,{"$f":"SUMPRODUCT((Projects!$A$5:$A$2393='MDOT FTA Detail'!$G$3)*(Projects!$C$5:$C$2393='MDOT FTA Detail'!$C$4)*(Projects!$L$5:$L$2393='MDOT FTA Detail'!$A32)*(Projects!$J$5:$J$2393<>'MDOT FTA Detail'!$A$171)*(Projects!$Q$5:Q$2393))","v":0},{"$f":"SUMPRODUCT((Projects!$A$5:$A$2393='MDOT FTA Detail'!$J$3)*(Projects!$C$5:$C$2393='MDOT FTA Detail'!$C$4)*(Projects!$L$5:$L$2393='MDOT FTA Detail'!$A32)*(Projects!$J$5:$J$2393<>'MDOT FTA Detail'!$A$171)*(Projects!$K$5:$K$2393))","v":0},0,{"$f":"SUMPRODUCT((Projects!$A$5:$A$2393='MDOT FTA Detail'!$J$3)*(Projects!$C$5:$C$2393='MDOT FTA Detail'!$C$4)*(Projects!$L$5:$L$2393='MDOT FTA Detail'!$A32)*(Projects!$J$5:$J$2393<>'MDOT FTA Detail'!$A$171)*(Projects!$Q$5:$Q$2393))","v":0},{"$f":"SUMPRODUCT((Projects!$A$5:$A$2393='MDOT FTA Detail'!$M$3)*(Projects!$C$5:$C$2393='MDOT FTA Detail'!$C$4)*(Projects!$L$5:$L$2393='MDOT FTA Detail'!$A32)*(Projects!$J$5:$J$2393<>'MDOT FTA Detail'!$A$171)*(Projects!$K$5:$K$2393))","v":0},0,{"$f":"SUMPRODUCT((Projects!$A$5:$A$2393='MDOT FTA Detail'!$M$3)*(Projects!$C$5:$C$2393='MDOT FTA Detail'!$C$4)*(Projects!$L$5:$L$2393='MDOT FTA Detail'!$A32)*(Projects!$J$5:$J$2393<>'MDOT FTA Detail'!$A$171)*(Projects!$Q$5:$Q$2393))","v":0}]
["DSTT","Donor Bonus Surface Transportation - Rural - Trunkline","MDOT FA",{"$f":"SUMPRODUCT((Projects!$A$5:$A$2393='MDOT FTA Detail'!$D$3)*(Projects!$C$5:$C$2393='MDOT FTA Detail'!$C$4)*(Projects!$L$5:$L$2393='MDOT FTA Detail'!$A33)*(Projects!$J$5:$J$2393<>'MDOT FTA Detail'!$A$171)*(Projects!$K$5:K$2393))","v":0},0,{"$f":"SUMPRODUCT((Projects!$A$5:$A$2393='MDOT FTA Detail'!$D$3)*(Projects!$C$5:$C$2393='MDOT FTA Detail'!$C$4)*(Projects!$L$5:$L$2393='MDOT FTA Detail'!$A33)*(Projects!$J$5:$J$2393<>'MDOT FTA Detail'!$A$171)*(Projects!$Q$5:Q$2393))","v":0},{"$f":"SUMPRODUCT((Projects!$A$5:$A$2393='MDOT FTA Detail'!$G$3)*(Projects!$C$5:$C$2393='MDOT FTA Detail'!$C$4)*(Projects!$L$5:$L$2393='MDOT FTA Detail'!$A33)*(Projects!$J$5:$J$2393<>'MDOT FTA Detail'!$A$171)*(Projects!$K$5:K$2393))","v":0},0,{"$f":"SUMPRODUCT((Projects!$A$5:$A$2393='MDOT FTA Detail'!$G$3)*(Projects!$C$5:$C$2393='MDOT FTA Detail'!$C$4)*(Projects!$L$5:$L$2393='MDOT FTA Detail'!$A33)*(Projects!$J$5:$J$2393<>'MDOT FTA Detail'!$A$171)*(Projects!$Q$5:Q$2393))","v":0},{"$f":"SUMPRODUCT((Projects!$A$5:$A$2393='MDOT FTA Detail'!$J$3)*(Projects!$C$5:$C$2393='MDOT FTA Detail'!$C$4)*(Projects!$L$5:$L$2393='MDOT FTA Detail'!$A33)*(Projects!$J$5:$J$2393<>'MDOT FTA Detail'!$A$171)*(Projects!$K$5:$K$2393))","v":0},0,{"$f":"SUMPRODUCT((Projects!$A$5:$A$2393='MDOT FTA Detail'!$J$3)*(Projects!$C$5:$C$2393='MDOT FTA Detail'!$C$4)*(Projects!$L$5:$L$2393='MDOT FTA Detail'!$A33)*(Projects!$J$5:$J$2393<>'MDOT FTA Detail'!$A$171)*(Projects!$Q$5:$Q$2393))","v":0},{"$f":"SUMPRODUCT((Projects!$A$5:$A$2393='MDOT FTA Detail'!$M$3)*(Projects!$C$5:$C$2393='MDOT FTA Detail'!$C$4)*(Projects!$L$5:$L$2393='MDOT FTA Detail'!$A33)*(Projects!$J$5:$J$2393<>'MDOT FTA Detail'!$A$171)*(Projects!$K$5:$K$2393))","v":0},0,{"$f":"SUMPRODUCT((Projects!$A$5:$A$2393='MDOT FTA Detail'!$M$3)*(Projects!$C$5:$C$2393='MDOT FTA Detail'!$C$4)*(Projects!$L$5:$L$2393='MDOT FTA Detail'!$A33)*(Projects!$J$5:$J$2393<>'MDOT FTA Detail'!$A$171)*(Projects!$Q$5:$Q$2393))","v":0}]
["EBSL","Equity Bonus - SAFETEA-LU","MDOT FA",{"$f":"SUMPRODUCT((Projects!$A$5:$A$2393='MDOT FTA Detail'!$D$3)*(Projects!$C$5:$C$2393='MDOT FTA Detail'!$C$4)*(Projects!$L$5:$L$2393='MDOT FTA Detail'!$A34)*(Projects!$J$5:$J$2393<>'MDOT FTA Detail'!$A$171)*(Projects!$K$5:K$2393))","v":0},0,{"$f":"SUMPRODUCT((Projects!$A$5:$A$2393='MDOT FTA Detail'!$D$3)*(Projects!$C$5:$C$2393='MDOT FTA Detail'!$C$4)*(Projects!$L$5:$L$2393='MDOT FTA Detail'!$A34)*(Projects!$J$5:$J$2393<>'MDOT FTA Detail'!$A$171)*(Projects!$Q$5:Q$2393))","v":0},{"$f":"SUMPRODUCT((Projects!$A$5:$A$2393='MDOT FTA Detail'!$G$3)*(Projects!$C$5:$C$2393='MDOT FTA Detail'!$C$4)*(Projects!$L$5:$L$2393='MDOT FTA Detail'!$A34)*(Projects!$J$5:$J$2393<>'MDOT FTA Detail'!$A$171)*(Projects!$K$5:K$2393))","v":0},0,{"$f":"SUMPRODUCT((Projects!$A$5:$A$2393='MDOT FTA Detail'!$G$3)*(Projects!$C$5:$C$2393='MDOT FTA Detail'!$C$4)*(Projects!$L$5:$L$2393='MDOT FTA Detail'!$A34)*(Projects!$J$5:$J$2393<>'MDOT FTA Detail'!$A$171)*(Projects!$Q$5:Q$2393))","v":0},{"$f":"SUMPRODUCT((Projects!$A$5:$A$2393='MDOT FTA Detail'!$J$3)*(Projects!$C$5:$C$2393='MDOT FTA Detail'!$C$4)*(Projects!$L$5:$L$2393='MDOT FTA Detail'!$A34)*(Projects!$J$5:$J$2393<>'MDOT FTA Detail'!$A$171)*(Projects!$K$5:$K$2393))","v":0},0,{"$f":"SUMPRODUCT((Projects!$A$5:$A$2393='MDOT FTA Detail'!$J$3)*(Projects!$C$5:$C$2393='MDOT FTA Detail'!$C$4)*(Projects!$L$5:$L$2393='MDOT FTA Detail'!$A34)*(Projects!$J$5:$J$2393<>'MDOT FTA Detail'!$A$171)*(Projects!$Q$5:$Q$2393))","v":0},{"$f":"SUMPRODUCT((Projects!$A$5:$A$2393='MDOT FTA Detail'!$M$3)*(Projects!$C$5:$C$2393='MDOT FTA Detail'!$C$4)*(Projects!$L$5:$L$2393='MDOT FTA Detail'!$A34)*(Projects!$J$5:$J$2393<>'MDOT FTA Detail'!$A$171)*(Projects!$K$5:$K$2393))","v":0},0,{"$f":"SUMPRODUCT((Projects!$A$5:$A$2393='MDOT FTA Detail'!$M$3)*(Projects!$C$5:$C$2393='MDOT FTA Detail'!$C$4)*(Projects!$L$5:$L$2393='MDOT FTA Detail'!$A34)*(Projects!$J$5:$J$2393<>'MDOT FTA Detail'!$A$171)*(Projects!$Q$5:$Q$2393))","v":0}]
["EDAF","Economic Development - Category A with Federal Aid","MDOT FA",{"$f":"SUMPRODUCT((Projects!$A$5:$A$2393='MDOT FTA Detail'!$D$3)*(Projects!$C$5:$C$2393='MDOT FTA Detail'!$C$4)*(Projects!$L$5:$L$2393='MDOT FTA Detail'!$A35)*(Projects!$J$5:$J$2393<>'MDOT FTA Detail'!$A$171)*(Projects!$K$5:K$2393))","v":0},0,{"$f":"SUMPRODUCT((Projects!$A$5:$A$2393='MDOT FTA Detail'!$D$3)*(Projects!$C$5:$C$2393='MDOT FTA Detail'!$C$4)*(Projects!$L$5:$L$2393='MDOT FTA Detail'!$A35)*(Projects!$J$5:$J$2393<>'MDOT FTA Detail'!$A$171)*(Projects!$Q$5:Q$2393))","v":0},{"$f":"SUMPRODUCT((Projects!$A$5:$A$2393='MDOT FTA Detail'!$G$3)*(Projects!$C$5:$C$2393='MDOT FTA Detail'!$C$4)*(Projects!$L$5:$L$2393='MDOT FTA Detail'!$A35)*(Projects!$J$5:$J$2393<>'MDOT FTA Detail'!$A$171)*(Projects!$K$5:K$2393))","v":0},0,{"$f":"SUMPRODUCT((Projects!$A$5:$A$2393='MDOT FTA Detail'!$G$3)*(Projects!$C$5:$C$2393='MDOT FTA Detail'!$C$4)*(Projects!$L$5:$L$2393='MDOT FTA Detail'!$A35)*(Projects!$J$5:$J$2393<>'MDOT FTA Detail'!$A$171)*(Projects!$Q$5:Q$2393))","v":0},{"$f":"SUMPRODUCT((Projects!$A$5:$A$2393='MDOT FTA Detail'!$J$3)*(Projects!$C$5:$C$2393='MDOT FTA Detail'!$C$4)*(Projects!$L$5:$L$2393='MDOT FTA Detail'!$A35)*(Projects!$J$5:$J$2393<>'MDOT FTA Detail'!$A$171)*(Projects!$K$5:$K$2393))","v":0},0,{"$f":"SUMPRODUCT((Projects!$A$5:$A$2393='MDOT FTA Detail'!$J$3)*(Projects!$C$5:$C$2393='MDOT FTA Detail'!$C$4)*(Projects!$L$5:$L$2393='MDOT FTA Detail'!$A35)*(Projects!$J$5:$J$2393<>'MDOT FTA Detail'!$A$171)*(Projects!$Q$5:$Q$2393))","v":0},{"$f":"SUMPRODUCT((Projects!$A$5:$A$2393='MDOT FTA Detail'!$M$3)*(Projects!$C$5:$C$2393='MDOT FTA Detail'!$C$4)*(Projects!$L$5:$L$2393='MDOT FTA Detail'!$A35)*(Projects!$J$5:$J$2393<>'MDOT FTA Detail'!$A$171)*(Projects!$K$5:$K$2393))","v":0},0,{"$f":"SUMPRODUCT((Projects!$A$5:$A$2393='MDOT FTA Detail'!$M$3)*(Projects!$C$5:$C$2393='MDOT FTA Detail'!$C$4)*(Projects!$L$5:$L$2393='MDOT FTA Detail'!$A35)*(Projects!$J$5:$J$2393<>'MDOT FTA Detail'!$A$171)*(Projects!$Q$5:$Q$2393))","v":0}]
["EDCF","Economic Development - Category C with Federal Aid","MDOT FA",{"$f":"SUMPRODUCT((Projects!$A$5:$A$2393='MDOT FTA Detail'!$D$3)*(Projects!$C$5:$C$2393='MDOT FTA Detail'!$C$4)*(Projects!$L$5:$L$2393='MDOT FTA Detail'!$A36)*(Projects!$J$5:$J$2393<>'MDOT FTA Detail'!$A$171)*(Projects!$K$5:K$2393))","v":0},0,{"$f":"SUMPRODUCT((Projects!$A$5:$A$2393='MDOT FTA Detail'!$D$3)*(Projects!$C$5:$C$2393='MDOT FTA Detail'!$C$4)*(Projects!$L$5:$L$2393='MDOT FTA Detail'!$A36)*(Projects!$J$5:$J$2393<>'MDOT FTA Detail'!$A$171)*(Projects!$Q$5:Q$2393))","v":0},{"$f":"SUMPRODUCT((Projects!$A$5:$A$2393='MDOT FTA Detail'!$G$3)*(Projects!$C$5:$C$2393='MDOT FTA Detail'!$C$4)*(Projects!$L$5:$L$2393='MDOT FTA Detail'!$A36)*(Projects!$J$5:$J$2393<>'MDOT FTA Detail'!$A$171)*(Projects!$K$5:K$2393))","v":0},0,{"$f":"SUMPRODUCT((Projects!$A$5:$A$2393='MDOT FTA Detail'!$G$3)*(Projects!$C$5:$C$2393='MDOT FTA Detail'!$C$4)*(Projects!$L$5:$L$2393='MDOT FTA Detail'!$A36)*(Projects!$J$5:$J$2393<>'MDOT FTA Detail'!$A$171)*(Projects!$Q$5:Q$2393))","v":0},{"$f":"SUMPRODUCT((Projects!$A$5:$A$2393='MDOT FTA Detail'!$J$3)*(Projects!$C$5:$C$2393='MDOT FTA Detail'!$C$4)*(Projects!$L$5:$L$2393='MDOT FTA Detail'!$A36)*(Projects!$J$5:$J$2393<>'MDOT FTA Detail'!$A$171)*(Projects!$K$5:$K$2393))","v":0},0,{"$f":"SUMPRODUCT((Projects!$A$5:$A$2393='MDOT FTA Detail'!$J$3)*(Projects!$C$5:$C$2393='MDOT FTA Detail'!$C$4)*(Projects!$L$5:$L$2393='MDOT FTA Detail'!$A36)*(Projects!$J$5:$J$2393<>'MDOT FTA Detail'!$A$171)*(Projects!$Q$5:$Q$2393))","v":0},{"$f":"SUMPRODUCT((Projects!$A$5:$A$2393='MDOT FTA Detail'!$M$3)*(Projects!$C$5:$C$2393='MDOT FTA Detail'!$C$4)*(Projects!$L$5:$L$2393='MDOT FTA Detail'!$A36)*(Projects!$J$5:$J$2393<>'MDOT FTA Detail'!$A$171)*(Projects!$K$5:$K$2393))","v":0},0,{"$f":"SUMPRODUCT((Projects!$A$5:$A$2393='MDOT FTA Detail'!$M$3)*(Projects!$C$5:$C$2393='MDOT FTA Detail'!$C$4)*(Projects!$L$5:$L$2393='MDOT FTA Detail'!$A36)*(Projects!$J$5:$J$2393<>'MDOT FTA Detail'!$A$171)*(Projects!$Q$5:$Q$2393))","v":0}]
["EDDF","Economic Development - Category D with Federal Aid","MDOT FA",{"$f":"SUMPRODUCT((Projects!$A$5:$A$2393='MDOT FTA Detail'!$D$3)*(Projects!$C$5:$C$2393='MDOT FTA Detail'!$C$4)*(Projects!$L$5:$L$2393='MDOT FTA Detail'!$A37)*(Projects!$J$5:$J$2393<>'MDOT FTA Detail'!$A$171)*(Projects!$K$5:K$2393))","v":0},0,{"$f":"SUMPRODUCT((Projects!$A$5:$A$2393='MDOT FTA Detail'!$D$3)*(Projects!$C$5:$C$2393='MDOT FTA Detail'!$C$4)*(Projects!$L$5:$L$2393='MDOT FTA Detail'!$A37)*(Projects!$J$5:$J$2393<>'MDOT FTA Detail'!$A$171)*(Projects!$Q$5:Q$2393))","v":0},{"$f":"SUMPRODUCT((Projects!$A$5:$A$2393='MDOT FTA Detail'!$G$3)*(Projects!$C$5:$C$2393='MDOT FTA Detail'!$C$4)*(Projects!$L$5:$L$2393='MDOT FTA Detail'!$A37)*(Projects!$J$5:$J$2393<>'MDOT FTA Detail'!$A$171)*(Projects!$K$5:K$2393))","v":0},0,{"$f":"SUMPRODUCT((Projects!$A$5:$A$2393='MDOT FTA Detail'!$G$3)*(Projects!$C$5:$C$2393='MDOT FTA Detail'!$C$4)*(Projects!$L$5:$L$2393='MDOT FTA Detail'!$A37)*(Projects!$J$5:$J$2393<>'MDOT FTA Detail'!$A$171)*(Projects!$Q$5:Q$2393))","v":0},{"$f":"SUMPRODUCT((Projects!$A$5:$A$2393='MDOT FTA Detail'!$J$3)*(Projects!$C$5:$C$2393='MDOT FTA Detail'!$C$4)*(Projects!$L$5:$L$2393='MDOT FTA Detail'!$A37)*(Projects!$J$5:$J$2393<>'MDOT FTA Detail'!$A$171)*(Projects!$K$5:$K$2393))","v":0},0,{"$f":"SUMPRODUCT((Projects!$A$5:$A$2393='MDOT FTA Detail'!$J$3)*(Projects!$C$5:$C$2393='MDOT FTA Detail'!$C$4)*(Projects!$L$5:$L$2393='MDOT FTA Detail'!$A37)*(Projects!$J$5:$J$2393<>'MDOT FTA Detail'!$A$171)*(Projects!$Q$5:$Q$2393))","v":0},{"$f":"SUMPRODUCT((Projects!$A$5:$A$2393='MDOT FTA Detail'!$M$3)*(Projects!$C$5:$C$2393='MDOT FTA Detail'!$C$4)*(Projects!$L$5:$L$2393='MDOT FTA Detail'!$A37)*(Projects!$J$5:$J$2393<>'MDOT FTA Detail'!$A$171)*(Projects!$K$5:$K$2393))","v":0},0,{"$f":"SUMPRODUCT((Projects!$A$5:$A$2393='MDOT FTA Detail'!$M$3)*(Projects!$C$5:$C$2393='MDOT FTA Detail'!$C$4)*(Projects!$L$5:$L$2393='MDOT FTA Detail'!$A37)*(Projects!$J$5:$J$2393<>'MDOT FTA Detail'!$A$171)*(Projects!$Q$5:$Q$2393))","v":0}]
["EDFF","Economic Development - Category F with Federal Aid","MDOT FA",{"$f":"SUMPRODUCT((Projects!$A$5:$A$2393='MDOT FTA Detail'!$D$3)*(Projects!$C$5:$C$2393='MDOT FTA Detail'!$C$4)*(Projects!$L$5:$L$2393='MDOT FTA Detail'!$A38)*(Projects!$J$5:$J$2393<>'MDOT FTA Detail'!$A$171)*(Projects!$K$5:K$2393))","v":0},0,{"$f":"SUMPRODUCT((Projects!$A$5:$A$2393='MDOT FTA Detail'!$D$3)*(Projects!$C$5:$C$2393='MDOT FTA Detail'!$C$4)*(Projects!$L$5:$L$2393='MDOT FTA Detail'!$A38)*(Projects!$J$5:$J$2393<>'MDOT FTA Detail'!$A$171)*(Projects!$Q$5:Q$2393))","v":0},{"$f":"SUMPRODUCT((Projects!$A$5:$A$2393='MDOT FTA Detail'!$G$3)*(Projects!$C$5:$C$2393='MDOT FTA Detail'!$C$4)*(Projects!$L$5:$L$2393='MDOT FTA Detail'!$A38)*(Projects!$J$5:$J$2393<>'MDOT FTA Detail'!$A$171)*(Projects!$K$5:K$2393))","v":0},0,{"$f":"SUMPRODUCT((Projects!$A$5:$A$2393='MDOT FTA Detail'!$G$3)*(Projects!$C$5:$C$2393='MDOT FTA Detail'!$C$4)*(Projects!$L$5:$L$2393='MDOT FTA Detail'!$A38)*(Projects!$J$5:$J$2393<>'MDOT FTA Detail'!$A$171)*(Projects!$Q$5:Q$2393))","v":0},{"$f":"SUMPRODUCT((Projects!$A$5:$A$2393='MDOT FTA Detail'!$J$3)*(Projects!$C$5:$C$2393='MDOT FTA Detail'!$C$4)*(Projects!$L$5:$L$2393='MDOT FTA Detail'!$A38)*(Projects!$J$5:$J$2393<>'MDOT FTA Detail'!$A$171)*(Projects!$K$5:$K$2393))","v":0},0,{"$f":"SUMPRODUCT((Projects!$A$5:$A$2393='MDOT FTA Detail'!$J$3)*(Projects!$C$5:$C$2393='MDOT FTA Detail'!$C$4)*(Projects!$L$5:$L$2393='MDOT FTA Detail'!$A38)*(Projects!$J$5:$J$2393<>'MDOT FTA Detail'!$A$171)*(Projects!$Q$5:$Q$2393))","v":0},{"$f":"SUMPRODUCT((Projects!$A$5:$A$2393='MDOT FTA Detail'!$M$3)*(Projects!$C$5:$C$2393='MDOT FTA Detail'!$C$4)*(Projects!$L$5:$L$2393='MDOT FTA Detail'!$A38)*(Projects!$J$5:$J$2393<>'MDOT FTA Detail'!$A$171)*(Projects!$K$5:$K$2393))","v":0},0,{"$f":"SUMPRODUCT((Projects!$A$5:$A$2393='MDOT FTA Detail'!$M$3)*(Projects!$C$5:$C$2393='MDOT FTA Detail'!$C$4)*(Projects!$L$5:$L$2393='MDOT FTA Detail'!$A38)*(Projects!$J$5:$J$2393<>'MDOT FTA Detail'!$A$171)*(Projects!$Q$5:$Q$2393))","v":0}]
["ER","Emergency Relief","MDOT FA",{"$f":"SUMPRODUCT((Projects!$A$5:$A$2393='MDOT FTA Detail'!$D$3)*(Projects!$C$5:$C$2393='MDOT FTA Detail'!$C$4)*(Projects!$L$5:$L$2393='MDOT FTA Detail'!$A39)*(Projects!$J$5:$J$2393<>'MDOT FTA Detail'!$A$171)*(Projects!$K$5:K$2393))","v":0},0,{"$f":"SUMPRODUCT((Projects!$A$5:$A$2393='MDOT FTA Detail'!$D$3)*(Projects!$C$5:$C$2393='MDOT FTA Detail'!$C$4)*(Projects!$L$5:$L$2393='MDOT FTA Detail'!$A39)*(Projects!$J$5:$J$2393<>'MDOT FTA Detail'!$A$171)*(Projects!$Q$5:Q$2393))","v":0},{"$f":"SUMPRODUCT((Projects!$A$5:$A$2393='MDOT FTA Detail'!$G$3)*(Projects!$C$5:$C$2393='MDOT FTA Detail'!$C$4)*(Projects!$L$5:$L$2393='MDOT FTA Detail'!$A39)*(Projects!$J$5:$J$2393<>'MDOT FTA Detail'!$A$171)*(Projects!$K$5:K$2393))","v":0},0,{"$f":"SUMPRODUCT((Projects!$A$5:$A$2393='MDOT FTA Detail'!$G$3)*(Projects!$C$5:$C$2393='MDOT FTA Detail'!$C$4)*(Projects!$L$5:$L$2393='MDOT FTA Detail'!$A39)*(Projects!$J$5:$J$2393<>'MDOT FTA Detail'!$A$171)*(Projects!$Q$5:Q$2393))","v":0},{"$f":"SUMPRODUCT((Projects!$A$5:$A$2393='MDOT FTA Detail'!$J$3)*(Projects!$C$5:$C$2393='MDOT FTA Detail'!$C$4)*(Projects!$L$5:$L$2393='MDOT FTA Detail'!$A39)*(Projects!$J$5:$J$2393<>'MDOT FTA Detail'!$A$171)*(Projects!$K$5:$K$2393))","v":0},0,{"$f":"SUMPRODUCT((Projects!$A$5:$A$2393='MDOT FTA Detail'!$J$3)*(Projects!$C$5:$C$2393='MDOT FTA Detail'!$C$4)*(Projects!$L$5:$L$2393='MDOT FTA Detail'!$A39)*(Projects!$J$5:$J$2393<>'MDOT FTA Detail'!$A$171)*(Projects!$Q$5:$Q$2393))","v":0},{"$f":"SUMPRODUCT((Projects!$A$5:$A$2393='MDOT FTA Detail'!$M$3)*(Projects!$C$5:$C$2393='MDOT FTA Detail'!$C$4)*(Projects!$L$5:$L$2393='MDOT FTA Detail'!$A39)*(Projects!$J$5:$J$2393<>'MDOT FTA Detail'!$A$171)*(Projects!$K$5:$K$2393))","v":0},0,{"$f":"SUMPRODUCT((Projects!$A$5:$A$2393='MDOT FTA Detail'!$M$3)*(Projects!$C$5:$C$2393='MDOT FTA Detail'!$C$4)*(Projects!$L$5:$L$2393='MDOT FTA Detail'!$A39)*(Projects!$J$5:$J$2393<>'MDOT FTA Detail'!$A$171)*(Projects!$Q$5:$Q$2393))","v":0}]
["FBD","Ferry Boat & Terminal Discretionary","MDOT FA",{"$f":"SUMPRODUCT((Projects!$A$5:$A$2393='MDOT FTA Detail'!$D$3)*(Projects!$C$5:$C$2393='MDOT FTA Detail'!$C$4)*(Projects!$L$5:$L$2393='MDOT FTA Detail'!$A40)*(Projects!$J$5:$J$2393<>'MDOT FTA Detail'!$A$171)*(Projects!$K$5:K$2393))","v":0},0,{"$f":"SUMPRODUCT((Projects!$A$5:$A$2393='MDOT FTA Detail'!$D$3)*(Projects!$C$5:$C$2393='MDOT FTA Detail'!$C$4)*(Projects!$L$5:$L$2393='MDOT FTA Detail'!$A40)*(Projects!$J$5:$J$2393<>'MDOT FTA Detail'!$A$171)*(Projects!$Q$5:Q$2393))","v":0},{"$f":"SUMPRODUCT((Projects!$A$5:$A$2393='MDOT FTA Detail'!$G$3)*(Projects!$C$5:$C$2393='MDOT FTA Detail'!$C$4)*(Projects!$L$5:$L$2393='MDOT FTA Detail'!$A40)*(Projects!$J$5:$J$2393<>'MDOT FTA Detail'!$A$171)*(Projects!$K$5:K$2393))","v":0},0,{"$f":"SUMPRODUCT((Projects!$A$5:$A$2393='MDOT FTA Detail'!$G$3)*(Projects!$C$5:$C$2393='MDOT FTA Detail'!$C$4)*(Projects!$L$5:$L$2393='MDOT FTA Detail'!$A40)*(Projects!$J$5:$J$2393<>'MDOT FTA Detail'!$A$171)*(Projects!$Q$5:Q$2393))","v":0},{"$f":"SUMPRODUCT((Projects!$A$5:$A$2393='MDOT FTA Detail'!$J$3)*(Projects!$C$5:$C$2393='MDOT FTA Detail'!$C$4)*(Projects!$L$5:$L$2393='MDOT FTA Detail'!$A40)*(Projects!$J$5:$J$2393<>'MDOT FTA Detail'!$A$171)*(Projects!$K$5:$K$2393))","v":0},0,{"$f":"SUMPRODUCT((Projects!$A$5:$A$2393='MDOT FTA Detail'!$J$3)*(Projects!$C$5:$C$2393='MDOT FTA Detail'!$C$4)*(Projects!$L$5:$L$2393='MDOT FTA Detail'!$A40)*(Projects!$J$5:$J$2393<>'MDOT FTA Detail'!$A$171)*(Projects!$Q$5:$Q$2393))","v":0},{"$f":"SUMPRODUCT((Projects!$A$5:$A$2393='MDOT FTA Detail'!$M$3)*(Projects!$C$5:$C$2393='MDOT FTA Detail'!$C$4)*(Projects!$L$5:$L$2393='MDOT FTA Detail'!$A40)*(Projects!$J$5:$J$2393<>'MDOT FTA Detail'!$A$171)*(Projects!$K$5:$K$2393))","v":0},0,{"$f":"SUMPRODUCT((Projects!$A$5:$A$2393='MDOT FTA Detail'!$M$3)*(Projects!$C$5:$C$2393='MDOT FTA Detail'!$C$4)*(Projects!$L$5:$L$2393='MDOT FTA Detail'!$A40)*(Projects!$J$5:$J$2393<>'MDOT FTA Detail'!$A$171)*(Projects!$Q$5:$Q$2393))","v":0}]
["FFH","Federal Forest Highway","MDOT FA",{"$f":"SUMPRODUCT((Projects!$A$5:$A$2393='MDOT FTA Detail'!$D$3)*(Projects!$C$5:$C$2393='MDOT FTA Detail'!$C$4)*(Projects!$L$5:$L$2393='MDOT FTA Detail'!$A41)*(Projects!$J$5:$J$2393<>'MDOT FTA Detail'!$A$171)*(Projects!$K$5:K$2393))","v":0},0,{"$f":"SUMPRODUCT((Projects!$A$5:$A$2393='MDOT FTA Detail'!$D$3)*(Projects!$C$5:$C$2393='MDOT FTA Detail'!$C$4)*(Projects!$L$5:$L$2393='MDOT FTA Detail'!$A41)*(Projects!$J$5:$J$2393<>'MDOT FTA Detail'!$A$171)*(Projects!$Q$5:Q$2393))","v":0},{"$f":"SUMPRODUCT((Projects!$A$5:$A$2393='MDOT FTA Detail'!$G$3)*(Projects!$C$5:$C$2393='MDOT FTA Detail'!$C$4)*(Projects!$L$5:$L$2393='MDOT FTA Detail'!$A41)*(Projects!$J$5:$J$2393<>'MDOT FTA Detail'!$A$171)*(Projects!$K$5:K$2393))","v":0},0,{"$f":"SUMPRODUCT((Projects!$A$5:$A$2393='MDOT FTA Detail'!$G$3)*(Projects!$C$5:$C$2393='MDOT FTA Detail'!$C$4)*(Projects!$L$5:$L$2393='MDOT FTA Detail'!$A41)*(Projects!$J$5:$J$2393<>'MDOT FTA Detail'!$A$171)*(Projects!$Q$5:Q$2393))","v":0},{"$f":"SUMPRODUCT((Projects!$A$5:$A$2393='MDOT FTA Detail'!$J$3)*(Projects!$C$5:$C$2393='MDOT FTA Detail'!$C$4)*(Projects!$L$5:$L$2393='MDOT FTA Detail'!$A41)*(Projects!$J$5:$J$2393<>'MDOT FTA Detail'!$A$171)*(Projects!$K$5:$K$2393))","v":0},0,{"$f":"SUMPRODUCT((Projects!$A$5:$A$2393='MDOT FTA Detail'!$J$3)*(Projects!$C$5:$C$2393='MDOT FTA Detail'!$C$4)*(Projects!$L$5:$L$2393='MDOT FTA Detail'!$A41)*(Projects!$J$5:$J$2393<>'MDOT FTA Detail'!$A$171)*(Projects!$Q$5:$Q$2393))","v":0},{"$f":"SUMPRODUCT((Projects!$A$5:$A$2393='MDOT FTA Detail'!$M$3)*(Projects!$C$5:$C$2393='MDOT FTA Detail'!$C$4)*(Projects!$L$5:$L$2393='MDOT FTA Detail'!$A41)*(Projects!$J$5:$J$2393<>'MDOT FTA Detail'!$A$171)*(Projects!$K$5:$K$2393))","v":0},0,{"$f":"SUMPRODUCT((Projects!$A$5:$A$2393='MDOT FTA Detail'!$M$3)*(Projects!$C$5:$C$2393='MDOT FTA Detail'!$C$4)*(Projects!$L$5:$L$2393='MDOT FTA Detail'!$A41)*(Projects!$J$5:$J$2393<>'MDOT FTA Detail'!$A$171)*(Projects!$Q$5:$Q$2393))","v":0}]
["FLH","Federal Land Highways - Public Lands","MDOT FA",{"$f":"SUMPRODUCT((Projects!$A$5:$A$2393='MDOT FTA Detail'!$D$3)*(Projects!$C$5:$C$2393='MDOT FTA Detail'!$C$4)*(Projects!$L$5:$L$2393='MDOT FTA Detail'!$A42)*(Projects!$J$5:$J$2393<>'MDOT FTA Detail'!$A$171)*(Projects!$K$5:K$2393))","v":0},0,{"$f":"SUMPRODUCT((Projects!$A$5:$A$2393='MDOT FTA Detail'!$D$3)*(Projects!$C$5:$C$2393='MDOT FTA Detail'!$C$4)*(Projects!$L$5:$L$2393='MDOT FTA Detail'!$A42)*(Projects!$J$5:$J$2393<>'MDOT FTA Detail'!$A$171)*(Projects!$Q$5:Q$2393))","v":0},{"$f":"SUMPRODUCT((Projects!$A$5:$A$2393='MDOT FTA Detail'!$G$3)*(Projects!$C$5:$C$2393='MDOT FTA Detail'!$C$4)*(Projects!$L$5:$L$2393='MDOT FTA Detail'!$A42)*(Projects!$J$5:$J$2393<>'MDOT FTA Detail'!$A$171)*(Projects!$K$5:K$2393))","v":0},0,{"$f":"SUMPRODUCT((Projects!$A$5:$A$2393='MDOT FTA Detail'!$G$3)*(Projects!$C$5:$C$2393='MDOT FTA Detail'!$C$4)*(Projects!$L$5:$L$2393='MDOT FTA Detail'!$A42)*(Projects!$J$5:$J$2393<>'MDOT FTA Detail'!$A$171)*(Projects!$Q$5:Q$2393))","v":0},{"$f":"SUMPRODUCT((Projects!$A$5:$A$2393='MDOT FTA Detail'!$J$3)*(Projects!$C$5:$C$2393='MDOT FTA Detail'!$C$4)*(Projects!$L$5:$L$2393='MDOT FTA Detail'!$A42)*(Projects!$J$5:$J$2393<>'MDOT FTA Detail'!$A$171)*(Projects!$K$5:$K$2393))","v":0},0,{"$f":"SUMPRODUCT((Projects!$A$5:$A$2393='MDOT FTA Detail'!$J$3)*(Projects!$C$5:$C$2393='MDOT FTA Detail'!$C$4)*(Projects!$L$5:$L$2393='MDOT FTA Detail'!$A42)*(Projects!$J$5:$J$2393<>'MDOT FTA Detail'!$A$171)*(Projects!$Q$5:$Q$2393))","v":0},{"$f":"SUMPRODUCT((Projects!$A$5:$A$2393='MDOT FTA Detail'!$M$3)*(Projects!$C$5:$C$2393='MDOT FTA Detail'!$C$4)*(Projects!$L$5:$L$2393='MDOT FTA Detail'!$A42)*(Projects!$J$5:$J$2393<>'MDOT FTA Detail'!$A$171)*(Projects!$K$5:$K$2393))","v":0},0,{"$f":"SUMPRODUCT((Projects!$A$5:$A$2393='MDOT FTA Detail'!$M$3)*(Projects!$C$5:$C$2393='MDOT FTA Detail'!$C$4)*(Projects!$L$5:$L$2393='MDOT FTA Detail'!$A42)*(Projects!$J$5:$J$2393<>'MDOT FTA Detail'!$A$171)*(Projects!$Q$5:$Q$2393))","v":0}]
["HBOA","Highway Bridge Obligation  Authority","MDOT FA",{"$f":"SUMPRODUCT((Projects!$A$5:$A$2393='MDOT FTA Detail'!$D$3)*(Projects!$C$5:$C$2393='MDOT FTA Detail'!$C$4)*(Projects!$L$5:$L$2393='MDOT FTA Detail'!$A43)*(Projects!$J$5:$J$2393<>'MDOT FTA Detail'!$A$171)*(Projects!$K$5:K$2393))","v":0},0,{"$f":"SUMPRODUCT((Projects!$A$5:$A$2393='MDOT FTA Detail'!$D$3)*(Projects!$C$5:$C$2393='MDOT FTA Detail'!$C$4)*(Projects!$L$5:$L$2393='MDOT FTA Detail'!$A43)*(Projects!$J$5:$J$2393<>'MDOT FTA Detail'!$A$171)*(Projects!$Q$5:Q$2393))","v":0},{"$f":"SUMPRODUCT((Projects!$A$5:$A$2393='MDOT FTA Detail'!$G$3)*(Projects!$C$5:$C$2393='MDOT FTA Detail'!$C$4)*(Projects!$L$5:$L$2393='MDOT FTA Detail'!$A43)*(Projects!$J$5:$J$2393<>'MDOT FTA Detail'!$A$171)*(Projects!$K$5:K$2393))","v":0},0,{"$f":"SUMPRODUCT((Projects!$A$5:$A$2393='MDOT FTA Detail'!$G$3)*(Projects!$C$5:$C$2393='MDOT FTA Detail'!$C$4)*(Projects!$L$5:$L$2393='MDOT FTA Detail'!$A43)*(Projects!$J$5:$J$2393<>'MDOT FTA Detail'!$A$171)*(Projects!$Q$5:Q$2393))","v":0},{"$f":"SUMPRODUCT((Projects!$A$5:$A$2393='MDOT FTA Detail'!$J$3)*(Projects!$C$5:$C$2393='MDOT FTA Detail'!$C$4)*(Projects!$L$5:$L$2393='MDOT FTA Detail'!$A43)*(Projects!$J$5:$J$2393<>'MDOT FTA Detail'!$A$171)*(Projects!$K$5:$K$2393))","v":0},0,{"$f":"SUMPRODUCT((Projects!$A$5:$A$2393='MDOT FTA Detail'!$J$3)*(Projects!$C$5:$C$2393='MDOT FTA Detail'!$C$4)*(Projects!$L$5:$L$2393='MDOT FTA Detail'!$A43)*(Projects!$J$5:$J$2393<>'MDOT FTA Detail'!$A$171)*(Projects!$Q$5:$Q$2393))","v":0},{"$f":"SUMPRODUCT((Projects!$A$5:$A$2393='MDOT FTA Detail'!$M$3)*(Projects!$C$5:$C$2393='MDOT FTA Detail'!$C$4)*(Projects!$L$5:$L$2393='MDOT FTA Detail'!$A43)*(Projects!$J$5:$J$2393<>'MDOT FTA Detail'!$A$171)*(Projects!$K$5:$K$2393))","v":0},0,{"$f":"SUMPRODUCT((Projects!$A$5:$A$2393='MDOT FTA Detail'!$M$3)*(Projects!$C$5:$C$2393='MDOT FTA Detail'!$C$4)*(Projects!$L$5:$L$2393='MDOT FTA Detail'!$A43)*(Projects!$J$5:$J$2393<>'MDOT FTA Detail'!$A$171)*(Projects!$Q$5:$Q$2393))","v":0}]
["HPP","High Priority Projects (Demo)","MDOT FA",{"$f":"SUMPRODUCT((Projects!$A$5:$A$2393='MDOT FTA Detail'!$D$3)*(Projects!$C$5:$C$2393='MDOT FTA Detail'!$C$4)*(Projects!$L$5:$L$2393='MDOT FTA Detail'!$A44)*(Projects!$J$5:$J$2393<>'MDOT FTA Detail'!$A$171)*(Projects!$K$5:K$2393))","v":0},0,{"$f":"SUMPRODUCT((Projects!$A$5:$A$2393='MDOT FTA Detail'!$D$3)*(Projects!$C$5:$C$2393='MDOT FTA Detail'!$C$4)*(Projects!$L$5:$L$2393='MDOT FTA Detail'!$A44)*(Projects!$J$5:$J$2393<>'MDOT FTA Detail'!$A$171)*(Projects!$Q$5:Q$2393))","v":0},{"$f":"SUMPRODUCT((Projects!$A$5:$A$2393='MDOT FTA Detail'!$G$3)*(Projects!$C$5:$C$2393='MDOT FTA Detail'!$C$4)*(Projects!$L$5:$L$2393='MDOT FTA Detail'!$A44)*(Projects!$J$5:$J$2393<>'MDOT FTA Detail'!$A$171)*(Projects!$K$5:K$2393))","v":0},0,{"$f":"SUMPRODUCT((Projects!$A$5:$A$2393='MDOT FTA Detail'!$G$3)*(Projects!$C$5:$C$2393='MDOT FTA Detail'!$C$4)*(Projects!$L$5:$L$2393='MDOT FTA Detail'!$A44)*(Projects!$J$5:$J$2393<>'MDOT FTA Detail'!$A$171)*(Projects!$Q$5:Q$2393))","v":0},{"$f":"SUMPRODUCT((Projects!$A$5:$A$2393='MDOT FTA Detail'!$J$3)*(Projects!$C$5:$C$2393='MDOT FTA Detail'!$C$4)*(Projects!$L$5:$L$2393='MDOT FTA Detail'!$A44)*(Projects!$J$5:$J$2393<>'MDOT FTA Detail'!$A$171)*(Projects!$K$5:$K$2393))","v":0},0,{"$f":"SUMPRODUCT((Projects!$A$5:$A$2393='MDOT FTA Detail'!$J$3)*(Projects!$C$5:$C$2393='MDOT FTA Detail'!$C$4)*(Projects!$L$5:$L$2393='MDOT FTA Detail'!$A44)*(Projects!$J$5:$J$2393<>'MDOT FTA Detail'!$A$171)*(Projects!$Q$5:$Q$2393))","v":0},{"$f":"SUMPRODUCT((Projects!$A$5:$A$2393='MDOT FTA Detail'!$M$3)*(Projects!$C$5:$C$2393='MDOT FTA Detail'!$C$4)*(Projects!$L$5:$L$2393='MDOT FTA Detail'!$A44)*(Projects!$J$5:$J$2393<>'MDOT FTA Detail'!$A$171)*(Projects!$K$5:$K$2393))","v":0},0,{"$f":"SUMPRODUCT((Projects!$A$5:$A$2393='MDOT FTA Detail'!$M$3)*(Projects!$C$5:$C$2393='MDOT FTA Detail'!$C$4)*(Projects!$L$5:$L$2393='MDOT FTA Detail'!$A44)*(Projects!$J$5:$J$2393<>'MDOT FTA Detail'!$A$171)*(Projects!$Q$5:$Q$2393))","v":0}]
["HPSL","High Priority Projects - SAFETEA-LU","MDOT FA",{"$f":"SUMPRODUCT((Projects!$A$5:$A$2393='MDOT FTA Detail'!$D$3)*(Projects!$C$5:$C$2393='MDOT FTA Detail'!$C$4)*(Projects!$L$5:$L$2393='MDOT FTA Detail'!$A45)*(Projects!$J$5:$J$2393<>'MDOT FTA Detail'!$A$171)*(Projects!$K$5:K$2393))","v":0},0,{"$f":"SUMPRODUCT((Projects!$A$5:$A$2393='MDOT FTA Detail'!$D$3)*(Projects!$C$5:$C$2393='MDOT FTA Detail'!$C$4)*(Projects!$L$5:$L$2393='MDOT FTA Detail'!$A45)*(Projects!$J$5:$J$2393<>'MDOT FTA Detail'!$A$171)*(Projects!$Q$5:Q$2393))","v":0},{"$f":"SUMPRODUCT((Projects!$A$5:$A$2393='MDOT FTA Detail'!$G$3)*(Projects!$C$5:$C$2393='MDOT FTA Detail'!$C$4)*(Projects!$L$5:$L$2393='MDOT FTA Detail'!$A45)*(Projects!$J$5:$J$2393<>'MDOT FTA Detail'!$A$171)*(Projects!$K$5:K$2393))","v":0},0,{"$f":"SUMPRODUCT((Projects!$A$5:$A$2393='MDOT FTA Detail'!$G$3)*(Projects!$C$5:$C$2393='MDOT FTA Detail'!$C$4)*(Projects!$L$5:$L$2393='MDOT FTA Detail'!$A45)*(Projects!$J$5:$J$2393<>'MDOT FTA Detail'!$A$171)*(Projects!$Q$5:Q$2393))","v":0},{"$f":"SUMPRODUCT((Projects!$A$5:$A$2393='MDOT FTA Detail'!$J$3)*(Projects!$C$5:$C$2393='MDOT FTA Detail'!$C$4)*(Projects!$L$5:$L$2393='MDOT FTA Detail'!$A45)*(Projects!$J$5:$J$2393<>'MDOT FTA Detail'!$A$171)*(Projects!$K$5:$K$2393))","v":0},0,{"$f":"SUMPRODUCT((Projects!$A$5:$A$2393='MDOT FTA Detail'!$J$3)*(Projects!$C$5:$C$2393='MDOT FTA Detail'!$C$4)*(Projects!$L$5:$L$2393='MDOT FTA Detail'!$A45)*(Projects!$J$5:$J$2393<>'MDOT FTA Detail'!$A$171)*(Projects!$Q$5:$Q$2393))","v":0},{"$f":"SUMPRODUCT((Projects!$A$5:$A$2393='MDOT FTA Detail'!$M$3)*(Projects!$C$5:$C$2393='MDOT FTA Detail'!$C$4)*(Projects!$L$5:$L$2393='MDOT FTA Detail'!$A45)*(Projects!$J$5:$J$2393<>'MDOT FTA Detail'!$A$171)*(Projects!$K$5:$K$2393))","v":0},0,{"$f":"SUMPRODUCT((Projects!$A$5:$A$2393='MDOT FTA Detail'!$M$3)*(Projects!$C$5:$C$2393='MDOT FTA Detail'!$C$4)*(Projects!$L$5:$L$2393='MDOT FTA Detail'!$A45)*(Projects!$J$5:$J$2393<>'MDOT FTA Detail'!$A$171)*(Projects!$Q$5:$Q$2393))","v":0}]
["HRRR","High Risk Rural Roads - SAFETEA-LU","MDOT FA",{"$f":"SUMPRODUCT((Projects!$A$5:$A$2393='MDOT FTA Detail'!$D$3)*(Projects!$C$5:$C$2393='MDOT FTA Detail'!$C$4)*(Projects!$L$5:$L$2393='MDOT FTA Detail'!$A46)*(Projects!$J$5:$J$2393<>'MDOT FTA Detail'!$A$171)*(Projects!$K$5:K$2393))","v":0},0,{"$f":"SUMPRODUCT((Projects!$A$5:$A$2393='MDOT FTA Detail'!$D$3)*(Projects!$C$5:$C$2393='MDOT FTA Detail'!$C$4)*(Projects!$L$5:$L$2393='MDOT FTA Detail'!$A46)*(Projects!$J$5:$J$2393<>'MDOT FTA Detail'!$A$171)*(Projects!$Q$5:Q$2393))","v":0},{"$f":"SUMPRODUCT((Projects!$A$5:$A$2393='MDOT FTA Detail'!$G$3)*(Projects!$C$5:$C$2393='MDOT FTA Detail'!$C$4)*(Projects!$L$5:$L$2393='MDOT FTA Detail'!$A46)*(Projects!$J$5:$J$2393<>'MDOT FTA Detail'!$A$171)*(Projects!$K$5:K$2393))","v":0},0,{"$f":"SUMPRODUCT((Projects!$A$5:$A$2393='MDOT FTA Detail'!$G$3)*(Projects!$C$5:$C$2393='MDOT FTA Detail'!$C$4)*(Projects!$L$5:$L$2393='MDOT FTA Detail'!$A46)*(Projects!$J$5:$J$2393<>'MDOT FTA Detail'!$A$171)*(Projects!$Q$5:Q$2393))","v":0},{"$f":"SUMPRODUCT((Projects!$A$5:$A$2393='MDOT FTA Detail'!$J$3)*(Projects!$C$5:$C$2393='MDOT FTA Detail'!$C$4)*(Projects!$L$5:$L$2393='MDOT FTA Detail'!$A46)*(Projects!$J$5:$J$2393<>'MDOT FTA Detail'!$A$171)*(Projects!$K$5:$K$2393))","v":0},0,{"$f":"SUMPRODUCT((Projects!$A$5:$A$2393='MDOT FTA Detail'!$J$3)*(Projects!$C$5:$C$2393='MDOT FTA Detail'!$C$4)*(Projects!$L$5:$L$2393='MDOT FTA Detail'!$A46)*(Projects!$J$5:$J$2393<>'MDOT FTA Detail'!$A$171)*(Projects!$Q$5:$Q$2393))","v":0},{"$f":"SUMPRODUCT((Projects!$A$5:$A$2393='MDOT FTA Detail'!$M$3)*(Projects!$C$5:$C$2393='MDOT FTA Detail'!$C$4)*(Projects!$L$5:$L$2393='MDOT FTA Detail'!$A46)*(Projects!$J$5:$J$2393<>'MDOT FTA Detail'!$A$171)*(Projects!$K$5:$K$2393))","v":0},0,{"$f":"SUMPRODUCT((Projects!$A$5:$A$2393='MDOT FTA Detail'!$M$3)*(Projects!$C$5:$C$2393='MDOT FTA Detail'!$C$4)*(Projects!$L$5:$L$2393='MDOT FTA Detail'!$A46)*(Projects!$J$5:$J$2393<>'MDOT FTA Detail'!$A$171)*(Projects!$Q$5:$Q$2393))","v":0}]
["HSG","High Speed Raix Crossings - 100% Federal","MDOT FA",{"$f":"SUMPRODUCT((Projects!$A$5:$A$2393='MDOT FTA Detail'!$D$3)*(Projects!$C$5:$C$2393='MDOT FTA Detail'!$C$4)*(Projects!$L$5:$L$2393='MDOT FTA Detail'!$A47)*(Projects!$J$5:$J$2393<>'MDOT FTA Detail'!$A$171)*(Projects!$K$5:K$2393))","v":0},0,{"$f":"SUMPRODUCT((Projects!$A$5:$A$2393='MDOT FTA Detail'!$D$3)*(Projects!$C$5:$C$2393='MDOT FTA Detail'!$C$4)*(Projects!$L$5:$L$2393='MDOT FTA Detail'!$A47)*(Projects!$J$5:$J$2393<>'MDOT FTA Detail'!$A$171)*(Projects!$Q$5:Q$2393))","v":0},{"$f":"SUMPRODUCT((Projects!$A$5:$A$2393='MDOT FTA Detail'!$G$3)*(Projects!$C$5:$C$2393='MDOT FTA Detail'!$C$4)*(Projects!$L$5:$L$2393='MDOT FTA Detail'!$A47)*(Projects!$J$5:$J$2393<>'MDOT FTA Detail'!$A$171)*(Projects!$K$5:K$2393))","v":0},0,{"$f":"SUMPRODUCT((Projects!$A$5:$A$2393='MDOT FTA Detail'!$G$3)*(Projects!$C$5:$C$2393='MDOT FTA Detail'!$C$4)*(Projects!$L$5:$L$2393='MDOT FTA Detail'!$A47)*(Projects!$J$5:$J$2393<>'MDOT FTA Detail'!$A$171)*(Projects!$Q$5:Q$2393))","v":0},{"$f":"SUMPRODUCT((Projects!$A$5:$A$2393='MDOT FTA Detail'!$J$3)*(Projects!$C$5:$C$2393='MDOT FTA Detail'!$C$4)*(Projects!$L$5:$L$2393='MDOT FTA Detail'!$A47)*(Projects!$J$5:$J$2393<>'MDOT FTA Detail'!$A$171)*(Projects!$K$5:$K$2393))","v":0},0,{"$f":"SUMPRODUCT((Projects!$A$5:$A$2393='MDOT FTA Detail'!$J$3)*(Projects!$C$5:$C$2393='MDOT FTA Detail'!$C$4)*(Projects!$L$5:$L$2393='MDOT FTA Detail'!$A47)*(Projects!$J$5:$J$2393<>'MDOT FTA Detail'!$A$171)*(Projects!$Q$5:$Q$2393))","v":0},{"$f":"SUMPRODUCT((Projects!$A$5:$A$2393='MDOT FTA Detail'!$M$3)*(Projects!$C$5:$C$2393='MDOT FTA Detail'!$C$4)*(Projects!$L$5:$L$2393='MDOT FTA Detail'!$A47)*(Projects!$J$5:$J$2393<>'MDOT FTA Detail'!$A$171)*(Projects!$K$5:$K$2393))","v":0},0,{"$f":"SUMPRODUCT((Projects!$A$5:$A$2393='MDOT FTA Detail'!$M$3)*(Projects!$C$5:$C$2393='MDOT FTA Detail'!$C$4)*(Projects!$L$5:$L$2393='MDOT FTA Detail'!$A47)*(Projects!$J$5:$J$2393<>'MDOT FTA Detail'!$A$171)*(Projects!$Q$5:$Q$2393))","v":0}]
["HSIP","Highway Safety Improvement Program - SAFETEA-LU","MDOT FA",{"$f":"SUMPRODUCT((Projects!$A$5:$A$2393='MDOT FTA Detail'!$D$3)*(Projects!$C$5:$C$2393='MDOT FTA Detail'!$C$4)*(Projects!$L$5:$L$2393='MDOT FTA Detail'!$A48)*(Projects!$J$5:$J$2393<>'MDOT FTA Detail'!$A$171)*(Projects!$K$5:K$2393))","v":0},0,{"$f":"SUMPRODUCT((Projects!$A$5:$A$2393='MDOT FTA Detail'!$D$3)*(Projects!$C$5:$C$2393='MDOT FTA Detail'!$C$4)*(Projects!$L$5:$L$2393='MDOT FTA Detail'!$A48)*(Projects!$J$5:$J$2393<>'MDOT FTA Detail'!$A$171)*(Projects!$Q$5:Q$2393))","v":0},{"$f":"SUMPRODUCT((Projects!$A$5:$A$2393='MDOT FTA Detail'!$G$3)*(Projects!$C$5:$C$2393='MDOT FTA Detail'!$C$4)*(Projects!$L$5:$L$2393='MDOT FTA Detail'!$A48)*(Projects!$J$5:$J$2393<>'MDOT FTA Detail'!$A$171)*(Projects!$K$5:K$2393))","v":67500},7500,{"$f":"SUMPRODUCT((Projects!$A$5:$A$2393='MDOT FTA Detail'!$G$3)*(Projects!$C$5:$C$2393='MDOT FTA Detail'!$C$4)*(Projects!$L$5:$L$2393='MDOT FTA Detail'!$A48)*(Projects!$J$5:$J$2393<>'MDOT FTA Detail'!$A$171)*(Projects!$Q$5:Q$2393))","v":75000},{"$f":"SUMPRODUCT((Projects!$A$5:$A$2393='MDOT FTA Detail'!$J$3)*(Projects!$C$5:$C$2393='MDOT FTA Detail'!$C$4)*(Projects!$L$5:$L$2393='MDOT FTA Detail'!$A48)*(Projects!$J$5:$J$2393<>'MDOT FTA Detail'!$A$171)*(Projects!$K$5:$K$2393))","v":0},0,{"$f":"SUMPRODUCT((Projects!$A$5:$A$2393='MDOT FTA Detail'!$J$3)*(Projects!$C$5:$C$2393='MDOT FTA Detail'!$C$4)*(Projects!$L$5:$L$2393='MDOT FTA Detail'!$A48)*(Projects!$J$5:$J$2393<>'MDOT FTA Detail'!$A$171)*(Projects!$Q$5:$Q$2393))","v":0},{"$f":"SUMPRODUCT((Projects!$A$5:$A$2393='MDOT FTA Detail'!$M$3)*(Projects!$C$5:$C$2393='MDOT FTA Detail'!$C$4)*(Projects!$L$5:$L$2393='MDOT FTA Detail'!$A48)*(Projects!$J$5:$J$2393<>'MDOT FTA Detail'!$A$171)*(Projects!$K$5:$K$2393))","v":292500},32500,{"$f":"SUMPRODUCT((Projects!$A$5:$A$2393='MDOT FTA Detail'!$M$3)*(Projects!$C$5:$C$2393='MDOT FTA Detail'!$C$4)*(Projects!$L$5:$L$2393='MDOT FTA Detail'!$A48)*(Projects!$J$5:$J$2393<>'MDOT FTA Detail'!$A$171)*(Projects!$Q$5:$Q$2393))","v":325000}]
["IM","Interstate Maintenance - No Added Lanes","MDOT FA",{"$f":"SUMPRODUCT((Projects!$A$5:$A$2393='MDOT FTA Detail'!$D$3)*(Projects!$C$5:$C$2393='MDOT FTA Detail'!$C$4)*(Projects!$L$5:$L$2393='MDOT FTA Detail'!$A49)*(Projects!$J$5:$J$2393<>'MDOT FTA Detail'!$A$171)*(Projects!$K$5:K$2393))","v":0},0,{"$f":"SUMPRODUCT((Projects!$A$5:$A$2393='MDOT FTA Detail'!$D$3)*(Projects!$C$5:$C$2393='MDOT FTA Detail'!$C$4)*(Projects!$L$5:$L$2393='MDOT FTA Detail'!$A49)*(Projects!$J$5:$J$2393<>'MDOT FTA Detail'!$A$171)*(Projects!$Q$5:Q$2393))","v":0},{"$f":"SUMPRODUCT((Projects!$A$5:$A$2393='MDOT FTA Detail'!$G$3)*(Projects!$C$5:$C$2393='MDOT FTA Detail'!$C$4)*(Projects!$L$5:$L$2393='MDOT FTA Detail'!$A49)*(Projects!$J$5:$J$2393<>'MDOT FTA Detail'!$A$171)*(Projects!$K$5:K$2393))","v":0},0,{"$f":"SUMPRODUCT((Projects!$A$5:$A$2393='MDOT FTA Detail'!$G$3)*(Projects!$C$5:$C$2393='MDOT FTA Detail'!$C$4)*(Projects!$L$5:$L$2393='MDOT FTA Detail'!$A49)*(Projects!$J$5:$J$2393<>'MDOT FTA Detail'!$A$171)*(Projects!$Q$5:Q$2393))","v":0},{"$f":"SUMPRODUCT((Projects!$A$5:$A$2393='MDOT FTA Detail'!$J$3)*(Projects!$C$5:$C$2393='MDOT FTA Detail'!$C$4)*(Projects!$L$5:$L$2393='MDOT FTA Detail'!$A49)*(Projects!$J$5:$J$2393<>'MDOT FTA Detail'!$A$171)*(Projects!$K$5:$K$2393))","v":0},0,{"$f":"SUMPRODUCT((Projects!$A$5:$A$2393='MDOT FTA Detail'!$J$3)*(Projects!$C$5:$C$2393='MDOT FTA Detail'!$C$4)*(Projects!$L$5:$L$2393='MDOT FTA Detail'!$A49)*(Projects!$J$5:$J$2393<>'MDOT FTA Detail'!$A$171)*(Projects!$Q$5:$Q$2393))","v":0},{"$f":"SUMPRODUCT((Projects!$A$5:$A$2393='MDOT FTA Detail'!$M$3)*(Projects!$C$5:$C$2393='MDOT FTA Detail'!$C$4)*(Projects!$L$5:$L$2393='MDOT FTA Detail'!$A49)*(Projects!$J$5:$J$2393<>'MDOT FTA Detail'!$A$171)*(Projects!$K$5:$K$2393))","v":0},0,{"$f":"SUMPRODUCT((Projects!$A$5:$A$2393='MDOT FTA Detail'!$M$3)*(Projects!$C$5:$C$2393='MDOT FTA Detail'!$C$4)*(Projects!$L$5:$L$2393='MDOT FTA Detail'!$A49)*(Projects!$J$5:$J$2393<>'MDOT FTA Detail'!$A$171)*(Projects!$Q$5:$Q$2393))","v":0}]
["IMD","Interstate Maintenance Discretionary","MDOT FA",{"$f":"SUMPRODUCT((Projects!$A$5:$A$2393='MDOT FTA Detail'!$D$3)*(Projects!$C$5:$C$2393='MDOT FTA Detail'!$C$4)*(Projects!$L$5:$L$2393='MDOT FTA Detail'!$A50)*(Projects!$J$5:$J$2393<>'MDOT FTA Detail'!$A$171)*(Projects!$K$5:K$2393))","v":0},0,{"$f":"SUMPRODUCT((Projects!$A$5:$A$2393='MDOT FTA Detail'!$D$3)*(Projects!$C$5:$C$2393='MDOT FTA Detail'!$C$4)*(Projects!$L$5:$L$2393='MDOT FTA Detail'!$A50)*(Projects!$J$5:$J$2393<>'MDOT FTA Detail'!$A$171)*(Projects!$Q$5:Q$2393))","v":0},{"$f":"SUMPRODUCT((Projects!$A$5:$A$2393='MDOT FTA Detail'!$G$3)*(Projects!$C$5:$C$2393='MDOT FTA Detail'!$C$4)*(Projects!$L$5:$L$2393='MDOT FTA Detail'!$A50)*(Projects!$J$5:$J$2393<>'MDOT FTA Detail'!$A$171)*(Projects!$K$5:K$2393))","v":0},0,{"$f":"SUMPRODUCT((Projects!$A$5:$A$2393='MDOT FTA Detail'!$G$3)*(Projects!$C$5:$C$2393='MDOT FTA Detail'!$C$4)*(Projects!$L$5:$L$2393='MDOT FTA Detail'!$A50)*(Projects!$J$5:$J$2393<>'MDOT FTA Detail'!$A$171)*(Projects!$Q$5:Q$2393))","v":0},{"$f":"SUMPRODUCT((Projects!$A$5:$A$2393='MDOT FTA Detail'!$J$3)*(Projects!$C$5:$C$2393='MDOT FTA Detail'!$C$4)*(Projects!$L$5:$L$2393='MDOT FTA Detail'!$A50)*(Projects!$J$5:$J$2393<>'MDOT FTA Detail'!$A$171)*(Projects!$K$5:$K$2393))","v":0},0,{"$f":"SUMPRODUCT((Projects!$A$5:$A$2393='MDOT FTA Detail'!$J$3)*(Projects!$C$5:$C$2393='MDOT FTA Detail'!$C$4)*(Projects!$L$5:$L$2393='MDOT FTA Detail'!$A50)*(Projects!$J$5:$J$2393<>'MDOT FTA Detail'!$A$171)*(Projects!$Q$5:$Q$2393))","v":0},{"$f":"SUMPRODUCT((Projects!$A$5:$A$2393='MDOT FTA Detail'!$M$3)*(Projects!$C$5:$C$2393='MDOT FTA Detail'!$C$4)*(Projects!$L$5:$L$2393='MDOT FTA Detail'!$A50)*(Projects!$J$5:$J$2393<>'MDOT FTA Detail'!$A$171)*(Projects!$K$5:$K$2393))","v":0},0,{"$f":"SUMPRODUCT((Projects!$A$5:$A$2393='MDOT FTA Detail'!$M$3)*(Projects!$C$5:$C$2393='MDOT FTA Detail'!$C$4)*(Projects!$L$5:$L$2393='MDOT FTA Detail'!$A50)*(Projects!$J$5:$J$2393<>'MDOT FTA Detail'!$A$171)*(Projects!$Q$5:$Q$2393))","v":0}]
["IMG","Interstate Maintenance - Safety - 100% Federal","MDOT FA",{"$f":"SUMPRODUCT((Projects!$A$5:$A$2393='MDOT FTA Detail'!$D$3)*(Projects!$C$5:$C$2393='MDOT FTA Detail'!$C$4)*(Projects!$L$5:$L$2393='MDOT FTA Detail'!$A51)*(Projects!$J$5:$J$2393<>'MDOT FTA Detail'!$A$171)*(Projects!$K$5:K$2393))","v":0},0,{"$f":"SUMPRODUCT((Projects!$A$5:$A$2393='MDOT FTA Detail'!$D$3)*(Projects!$C$5:$C$2393='MDOT FTA Detail'!$C$4)*(Projects!$L$5:$L$2393='MDOT FTA Detail'!$A51)*(Projects!$J$5:$J$2393<>'MDOT FTA Detail'!$A$171)*(Projects!$Q$5:Q$2393))","v":0},{"$f":"SUMPRODUCT((Projects!$A$5:$A$2393='MDOT FTA Detail'!$G$3)*(Projects!$C$5:$C$2393='MDOT FTA Detail'!$C$4)*(Projects!$L$5:$L$2393='MDOT FTA Detail'!$A51)*(Projects!$J$5:$J$2393<>'MDOT FTA Detail'!$A$171)*(Projects!$K$5:K$2393))","v":0},0,{"$f":"SUMPRODUCT((Projects!$A$5:$A$2393='MDOT FTA Detail'!$G$3)*(Projects!$C$5:$C$2393='MDOT FTA Detail'!$C$4)*(Projects!$L$5:$L$2393='MDOT FTA Detail'!$A51)*(Projects!$J$5:$J$2393<>'MDOT FTA Detail'!$A$171)*(Projects!$Q$5:Q$2393))","v":0},{"$f":"SUMPRODUCT((Projects!$A$5:$A$2393='MDOT FTA Detail'!$J$3)*(Projects!$C$5:$C$2393='MDOT FTA Detail'!$C$4)*(Projects!$L$5:$L$2393='MDOT FTA Detail'!$A51)*(Projects!$J$5:$J$2393<>'MDOT FTA Detail'!$A$171)*(Projects!$K$5:$K$2393))","v":0},0,{"$f":"SUMPRODUCT((Projects!$A$5:$A$2393='MDOT FTA Detail'!$J$3)*(Projects!$C$5:$C$2393='MDOT FTA Detail'!$C$4)*(Projects!$L$5:$L$2393='MDOT FTA Detail'!$A51)*(Projects!$J$5:$J$2393<>'MDOT FTA Detail'!$A$171)*(Projects!$Q$5:$Q$2393))","v":0},{"$f":"SUMPRODUCT((Projects!$A$5:$A$2393='MDOT FTA Detail'!$M$3)*(Projects!$C$5:$C$2393='MDOT FTA Detail'!$C$4)*(Projects!$L$5:$L$2393='MDOT FTA Detail'!$A51)*(Projects!$J$5:$J$2393<>'MDOT FTA Detail'!$A$171)*(Projects!$K$5:$K$2393))","v":0},0,{"$f":"SUMPRODUCT((Projects!$A$5:$A$2393='MDOT FTA Detail'!$M$3)*(Projects!$C$5:$C$2393='MDOT FTA Detail'!$C$4)*(Projects!$L$5:$L$2393='MDOT FTA Detail'!$A51)*(Projects!$J$5:$J$2393<>'MDOT FTA Detail'!$A$171)*(Projects!$Q$5:$Q$2393))","v":0}]
["ITS","Intelligent Transportation Systems","MDOT FA",{"$f":"SUMPRODUCT((Projects!$A$5:$A$2393='MDOT FTA Detail'!$D$3)*(Projects!$C$5:$C$2393='MDOT FTA Detail'!$C$4)*(Projects!$L$5:$L$2393='MDOT FTA Detail'!$A52)*(Projects!$J$5:$J$2393<>'MDOT FTA Detail'!$A$171)*(Projects!$K$5:K$2393))","v":0},0,{"$f":"SUMPRODUCT((Projects!$A$5:$A$2393='MDOT FTA Detail'!$D$3)*(Projects!$C$5:$C$2393='MDOT FTA Detail'!$C$4)*(Projects!$L$5:$L$2393='MDOT FTA Detail'!$A52)*(Projects!$J$5:$J$2393<>'MDOT FTA Detail'!$A$171)*(Projects!$Q$5:Q$2393))","v":0},{"$f":"SUMPRODUCT((Projects!$A$5:$A$2393='MDOT FTA Detail'!$G$3)*(Projects!$C$5:$C$2393='MDOT FTA Detail'!$C$4)*(Projects!$L$5:$L$2393='MDOT FTA Detail'!$A52)*(Projects!$J$5:$J$2393<>'MDOT FTA Detail'!$A$171)*(Projects!$K$5:K$2393))","v":0},0,{"$f":"SUMPRODUCT((Projects!$A$5:$A$2393='MDOT FTA Detail'!$G$3)*(Projects!$C$5:$C$2393='MDOT FTA Detail'!$C$4)*(Projects!$L$5:$L$2393='MDOT FTA Detail'!$A52)*(Projects!$J$5:$J$2393<>'MDOT FTA Detail'!$A$171)*(Projects!$Q$5:Q$2393))","v":0},{"$f":"SUMPRODUCT((Projects!$A$5:$A$2393='MDOT FTA Detail'!$J$3)*(Projects!$C$5:$C$2393='MDOT FTA Detail'!$C$4)*(Projects!$L$5:$L$2393='MDOT FTA Detail'!$A52)*(Projects!$J$5:$J$2393<>'MDOT FTA Detail'!$A$171)*(Projects!$K$5:$K$2393))","v":0},0,{"$f":"SUMPRODUCT((Projects!$A$5:$A$2393='MDOT FTA Detail'!$J$3)*(Projects!$C$5:$C$2393='MDOT FTA Detail'!$C$4)*(Projects!$L$5:$L$2393='MDOT FTA Detail'!$A52)*(Projects!$J$5:$J$2393<>'MDOT FTA Detail'!$A$171)*(Projects!$Q$5:$Q$2393))","v":0},{"$f":"SUMPRODUCT((Projects!$A$5:$A$2393='MDOT FTA Detail'!$M$3)*(Projects!$C$5:$C$2393='MDOT FTA Detail'!$C$4)*(Projects!$L$5:$L$2393='MDOT FTA Detail'!$A52)*(Projects!$J$5:$J$2393<>'MDOT FTA Detail'!$A$171)*(Projects!$K$5:$K$2393))","v":0},0,{"$f":"SUMPRODUCT((Projects!$A$5:$A$2393='MDOT FTA Detail'!$M$3)*(Projects!$C$5:$C$2393='MDOT FTA Detail'!$C$4)*(Projects!$L$5:$L$2393='MDOT FTA Detail'!$A52)*(Projects!$J$5:$J$2393<>'MDOT FTA Detail'!$A$171)*(Projects!$Q$5:$Q$2393))","v":0}]
["JST","85% Minimum Floor Surface Transportation","MDOT FA",{"$f":"SUMPRODUCT((Projects!$A$5:$A$2393='MDOT FTA Detail'!$D$3)*(Projects!$C$5:$C$2393='MDOT FTA Detail'!$C$4)*(Projects!$L$5:$L$2393='MDOT FTA Detail'!$A53)*(Projects!$J$5:$J$2393<>'MDOT FTA Detail'!$A$171)*(Projects!$K$5:K$2393))","v":0},0,{"$f":"SUMPRODUCT((Projects!$A$5:$A$2393='MDOT FTA Detail'!$D$3)*(Projects!$C$5:$C$2393='MDOT FTA Detail'!$C$4)*(Projects!$L$5:$L$2393='MDOT FTA Detail'!$A53)*(Projects!$J$5:$J$2393<>'MDOT FTA Detail'!$A$171)*(Projects!$Q$5:Q$2393))","v":0},{"$f":"SUMPRODUCT((Projects!$A$5:$A$2393='MDOT FTA Detail'!$G$3)*(Projects!$C$5:$C$2393='MDOT FTA Detail'!$C$4)*(Projects!$L$5:$L$2393='MDOT FTA Detail'!$A53)*(Projects!$J$5:$J$2393<>'MDOT FTA Detail'!$A$171)*(Projects!$K$5:K$2393))","v":0},0,{"$f":"SUMPRODUCT((Projects!$A$5:$A$2393='MDOT FTA Detail'!$G$3)*(Projects!$C$5:$C$2393='MDOT FTA Detail'!$C$4)*(Projects!$L$5:$L$2393='MDOT FTA Detail'!$A53)*(Projects!$J$5:$J$2393<>'MDOT FTA Detail'!$A$171)*(Projects!$Q$5:Q$2393))","v":0},{"$f":"SUMPRODUCT((Projects!$A$5:$A$2393='MDOT FTA Detail'!$J$3)*(Projects!$C$5:$C$2393='MDOT FTA Detail'!$C$4)*(Projects!$L$5:$L$2393='MDOT FTA Detail'!$A53)*(Projects!$J$5:$J$2393<>'MDOT FTA Detail'!$A$171)*(Projects!$K$5:$K$2393))","v":0},0,{"$f":"SUMPRODUCT((Projects!$A$5:$A$2393='MDOT FTA Detail'!$J$3)*(Projects!$C$5:$C$2393='MDOT FTA Detail'!$C$4)*(Projects!$L$5:$L$2393='MDOT FTA Detail'!$A53)*(Projects!$J$5:$J$2393<>'MDOT FTA Detail'!$A$171)*(Projects!$Q$5:$Q$2393))","v":0},{"$f":"SUMPRODUCT((Projects!$A$5:$A$2393='MDOT FTA Detail'!$M$3)*(Projects!$C$5:$C$2393='MDOT FTA Detail'!$C$4)*(Projects!$L$5:$L$2393='MDOT FTA Detail'!$A53)*(Projects!$J$5:$J$2393<>'MDOT FTA Detail'!$A$171)*(Projects!$K$5:$K$2393))","v":0},0,{"$f":"SUMPRODUCT((Projects!$A$5:$A$2393='MDOT FTA Detail'!$M$3)*(Projects!$C$5:$C$2393='MDOT FTA Detail'!$C$4)*(Projects!$L$5:$L$2393='MDOT FTA Detail'!$A53)*(Projects!$J$5:$J$2393<>'MDOT FTA Detail'!$A$171)*(Projects!$Q$5:$Q$2393))","v":0}]
["JSTU","85% Minimum Floor Surface Transportation (Urban Area > 2499,000)","MDOT FA",{"$f":"SUMPRODUCT((Projects!$A$5:$A$2393='MDOT FTA Detail'!$D$3)*(Projects!$C$5:$C$2393='MDOT FTA Detail'!$C$4)*(Projects!$L$5:$L$2393='MDOT FTA Detail'!$A54)*(Projects!$J$5:$J$2393<>'MDOT FTA Detail'!$A$171)*(Projects!$K$5:K$2393))","v":0},0,{"$f":"SUMPRODUCT((Projects!$A$5:$A$2393='MDOT FTA Detail'!$D$3)*(Projects!$C$5:$C$2393='MDOT FTA Detail'!$C$4)*(Projects!$L$5:$L$2393='MDOT FTA Detail'!$A54)*(Projects!$J$5:$J$2393<>'MDOT FTA Detail'!$A$171)*(Projects!$Q$5:Q$2393))","v":0},{"$f":"SUMPRODUCT((Projects!$A$5:$A$2393='MDOT FTA Detail'!$G$3)*(Projects!$C$5:$C$2393='MDOT FTA Detail'!$C$4)*(Projects!$L$5:$L$2393='MDOT FTA Detail'!$A54)*(Projects!$J$5:$J$2393<>'MDOT FTA Detail'!$A$171)*(Projects!$K$5:K$2393))","v":0},0,{"$f":"SUMPRODUCT((Projects!$A$5:$A$2393='MDOT FTA Detail'!$G$3)*(Projects!$C$5:$C$2393='MDOT FTA Detail'!$C$4)*(Projects!$L$5:$L$2393='MDOT FTA Detail'!$A54)*(Projects!$J$5:$J$2393<>'MDOT FTA Detail'!$A$171)*(Projects!$Q$5:Q$2393))","v":0},{"$f":"SUMPRODUCT((Projects!$A$5:$A$2393='MDOT FTA Detail'!$J$3)*(Projects!$C$5:$C$2393='MDOT FTA Detail'!$C$4)*(Projects!$L$5:$L$2393='MDOT FTA Detail'!$A54)*(Projects!$J$5:$J$2393<>'MDOT FTA Detail'!$A$171)*(Projects!$K$5:$K$2393))","v":0},0,{"$f":"SUMPRODUCT((Projects!$A$5:$A$2393='MDOT FTA Detail'!$J$3)*(Projects!$C$5:$C$2393='MDOT FTA Detail'!$C$4)*(Projects!$L$5:$L$2393='MDOT FTA Detail'!$A54)*(Projects!$J$5:$J$2393<>'MDOT FTA Detail'!$A$171)*(Projects!$Q$5:$Q$2393))","v":0},{"$f":"SUMPRODUCT((Projects!$A$5:$A$2393='MDOT FTA Detail'!$M$3)*(Projects!$C$5:$C$2393='MDOT FTA Detail'!$C$4)*(Projects!$L$5:$L$2393='MDOT FTA Detail'!$A54)*(Projects!$J$5:$J$2393<>'MDOT FTA Detail'!$A$171)*(Projects!$K$5:$K$2393))","v":0},0,{"$f":"SUMPRODUCT((Projects!$A$5:$A$2393='MDOT FTA Detail'!$M$3)*(Projects!$C$5:$C$2393='MDOT FTA Detail'!$C$4)*(Projects!$L$5:$L$2393='MDOT FTA Detail'!$A54)*(Projects!$J$5:$J$2393<>'MDOT FTA Detail'!$A$171)*(Projects!$Q$5:$Q$2393))","v":0}]
["LTA","Local Technical Assistance Program","MDOT FA",{"$f":"SUMPRODUCT((Projects!$A$5:$A$2393='MDOT FTA Detail'!$D$3)*(Projects!$C$5:$C$2393='MDOT FTA Detail'!$C$4)*(Projects!$L$5:$L$2393='MDOT FTA Detail'!$A55)*(Projects!$J$5:$J$2393<>'MDOT FTA Detail'!$A$171)*(Projects!$K$5:K$2393))","v":0},0,{"$f":"SUMPRODUCT((Projects!$A$5:$A$2393='MDOT FTA Detail'!$D$3)*(Projects!$C$5:$C$2393='MDOT FTA Detail'!$C$4)*(Projects!$L$5:$L$2393='MDOT FTA Detail'!$A55)*(Projects!$J$5:$J$2393<>'MDOT FTA Detail'!$A$171)*(Projects!$Q$5:Q$2393))","v":0},{"$f":"SUMPRODUCT((Projects!$A$5:$A$2393='MDOT FTA Detail'!$G$3)*(Projects!$C$5:$C$2393='MDOT FTA Detail'!$C$4)*(Projects!$L$5:$L$2393='MDOT FTA Detail'!$A55)*(Projects!$J$5:$J$2393<>'MDOT FTA Detail'!$A$171)*(Projects!$K$5:K$2393))","v":0},0,{"$f":"SUMPRODUCT((Projects!$A$5:$A$2393='MDOT FTA Detail'!$G$3)*(Projects!$C$5:$C$2393='MDOT FTA Detail'!$C$4)*(Projects!$L$5:$L$2393='MDOT FTA Detail'!$A55)*(Projects!$J$5:$J$2393<>'MDOT FTA Detail'!$A$171)*(Projects!$Q$5:Q$2393))","v":0},{"$f":"SUMPRODUCT((Projects!$A$5:$A$2393='MDOT FTA Detail'!$J$3)*(Projects!$C$5:$C$2393='MDOT FTA Detail'!$C$4)*(Projects!$L$5:$L$2393='MDOT FTA Detail'!$A55)*(Projects!$J$5:$J$2393<>'MDOT FTA Detail'!$A$171)*(Projects!$K$5:$K$2393))","v":0},0,{"$f":"SUMPRODUCT((Projects!$A$5:$A$2393='MDOT FTA Detail'!$J$3)*(Projects!$C$5:$C$2393='MDOT FTA Detail'!$C$4)*(Projects!$L$5:$L$2393='MDOT FTA Detail'!$A55)*(Projects!$J$5:$J$2393<>'MDOT FTA Detail'!$A$171)*(Projects!$Q$5:$Q$2393))","v":0},{"$f":"SUMPRODUCT((Projects!$A$5:$A$2393='MDOT FTA Detail'!$M$3)*(Projects!$C$5:$C$2393='MDOT FTA Detail'!$C$4)*(Projects!$L$5:$L$2393='MDOT FTA Detail'!$A55)*(Projects!$J$5:$J$2393<>'MDOT FTA Detail'!$A$171)*(Projects!$K$5:$K$2393))","v":0},0,{"$f":"SUMPRODUCT((Projects!$A$5:$A$2393='MDOT FTA Detail'!$M$3)*(Projects!$C$5:$C$2393='MDOT FTA Detail'!$C$4)*(Projects!$L$5:$L$2393='MDOT FTA Detail'!$A55)*(Projects!$J$5:$J$2393<>'MDOT FTA Detail'!$A$171)*(Projects!$Q$5:$Q$2393))","v":0}]
["MG","Minimum Guarantee","MDOT FA",{"$f":"SUMPRODUCT((Projects!$A$5:$A$2393='MDOT FTA Detail'!$D$3)*(Projects!$C$5:$C$2393='MDOT FTA Detail'!$C$4)*(Projects!$L$5:$L$2393='MDOT FTA Detail'!$A56)*(Projects!$J$5:$J$2393<>'MDOT FTA Detail'!$A$171)*(Projects!$K$5:K$2393))","v":0},0,{"$f":"SUMPRODUCT((Projects!$A$5:$A$2393='MDOT FTA Detail'!$D$3)*(Projects!$C$5:$C$2393='MDOT FTA Detail'!$C$4)*(Projects!$L$5:$L$2393='MDOT FTA Detail'!$A56)*(Projects!$J$5:$J$2393<>'MDOT FTA Detail'!$A$171)*(Projects!$Q$5:Q$2393))","v":0},{"$f":"SUMPRODUCT((Projects!$A$5:$A$2393='MDOT FTA Detail'!$G$3)*(Projects!$C$5:$C$2393='MDOT FTA Detail'!$C$4)*(Projects!$L$5:$L$2393='MDOT FTA Detail'!$A56)*(Projects!$J$5:$J$2393<>'MDOT FTA Detail'!$A$171)*(Projects!$K$5:K$2393))","v":0},0,{"$f":"SUMPRODUCT((Projects!$A$5:$A$2393='MDOT FTA Detail'!$G$3)*(Projects!$C$5:$C$2393='MDOT FTA Detail'!$C$4)*(Projects!$L$5:$L$2393='MDOT FTA Detail'!$A56)*(Projects!$J$5:$J$2393<>'MDOT FTA Detail'!$A$171)*(Projects!$Q$5:Q$2393))","v":0},{"$f":"SUMPRODUCT((Projects!$A$5:$A$2393='MDOT FTA Detail'!$J$3)*(Projects!$C$5:$C$2393='MDOT FTA Detail'!$C$4)*(Projects!$L$5:$L$2393='MDOT FTA Detail'!$A56)*(Projects!$J$5:$J$2393<>'MDOT FTA Detail'!$A$171)*(Projects!$K$5:$K$2393))","v":0},0,{"$f":"SUMPRODUCT((Projects!$A$5:$A$2393='MDOT FTA Detail'!$J$3)*(Projects!$C$5:$C$2393='MDOT FTA Detail'!$C$4)*(Projects!$L$5:$L$2393='MDOT FTA Detail'!$A56)*(Projects!$J$5:$J$2393<>'MDOT FTA Detail'!$A$171)*(Projects!$Q$5:$Q$2393))","v":0},{"$f":"SUMPRODUCT((Projects!$A$5:$A$2393='MDOT FTA Detail'!$M$3)*(Projects!$C$5:$C$2393='MDOT FTA Detail'!$C$4)*(Projects!$L$5:$L$2393='MDOT FTA Detail'!$A56)*(Projects!$J$5:$J$2393<>'MDOT FTA Detail'!$A$171)*(Projects!$K$5:$K$2393))","v":0},0,{"$f":"SUMPRODUCT((Projects!$A$5:$A$2393='MDOT FTA Detail'!$M$3)*(Projects!$C$5:$C$2393='MDOT FTA Detail'!$C$4)*(Projects!$L$5:$L$2393='MDOT FTA Detail'!$A56)*(Projects!$J$5:$J$2393<>'MDOT FTA Detail'!$A$171)*(Projects!$Q$5:$Q$2393))","v":0}]
["NCII","National Corridor Infrastructure Improvement - SAFETEA-LU","MDOT FA",{"$f":"SUMPRODUCT((Projects!$A$5:$A$2393='MDOT FTA Detail'!$D$3)*(Projects!$C$5:$C$2393='MDOT FTA Detail'!$C$4)*(Projects!$L$5:$L$2393='MDOT FTA Detail'!$A57)*(Projects!$J$5:$J$2393<>'MDOT FTA Detail'!$A$171)*(Projects!$K$5:K$2393))","v":0},0,{"$f":"SUMPRODUCT((Projects!$A$5:$A$2393='MDOT FTA Detail'!$D$3)*(Projects!$C$5:$C$2393='MDOT FTA Detail'!$C$4)*(Projects!$L$5:$L$2393='MDOT FTA Detail'!$A57)*(Projects!$J$5:$J$2393<>'MDOT FTA Detail'!$A$171)*(Projects!$Q$5:Q$2393))","v":0},{"$f":"SUMPRODUCT((Projects!$A$5:$A$2393='MDOT FTA Detail'!$G$3)*(Projects!$C$5:$C$2393='MDOT FTA Detail'!$C$4)*(Projects!$L$5:$L$2393='MDOT FTA Detail'!$A57)*(Projects!$J$5:$J$2393<>'MDOT FTA Detail'!$A$171)*(Projects!$K$5:K$2393))","v":0},0,{"$f":"SUMPRODUCT((Projects!$A$5:$A$2393='MDOT FTA Detail'!$G$3)*(Projects!$C$5:$C$2393='MDOT FTA Detail'!$C$4)*(Projects!$L$5:$L$2393='MDOT FTA Detail'!$A57)*(Projects!$J$5:$J$2393<>'MDOT FTA Detail'!$A$171)*(Projects!$Q$5:Q$2393))","v":0},{"$f":"SUMPRODUCT((Projects!$A$5:$A$2393='MDOT FTA Detail'!$J$3)*(Projects!$C$5:$C$2393='MDOT FTA Detail'!$C$4)*(Projects!$L$5:$L$2393='MDOT FTA Detail'!$A57)*(Projects!$J$5:$J$2393<>'MDOT FTA Detail'!$A$171)*(Projects!$K$5:$K$2393))","v":0},0,{"$f":"SUMPRODUCT((Projects!$A$5:$A$2393='MDOT FTA Detail'!$J$3)*(Projects!$C$5:$C$2393='MDOT FTA Detail'!$C$4)*(Projects!$L$5:$L$2393='MDOT FTA Detail'!$A57)*(Projects!$J$5:$J$2393<>'MDOT FTA Detail'!$A$171)*(Projects!$Q$5:$Q$2393))","v":0},{"$f":"SUMPRODUCT((Projects!$A$5:$A$2393='MDOT FTA Detail'!$M$3)*(Projects!$C$5:$C$2393='MDOT FTA Detail'!$C$4)*(Projects!$L$5:$L$2393='MDOT FTA Detail'!$A57)*(Projects!$J$5:$J$2393<>'MDOT FTA Detail'!$A$171)*(Projects!$K$5:$K$2393))","v":0},0,{"$f":"SUMPRODUCT((Projects!$A$5:$A$2393='MDOT FTA Detail'!$M$3)*(Projects!$C$5:$C$2393='MDOT FTA Detail'!$C$4)*(Projects!$L$5:$L$2393='MDOT FTA Detail'!$A57)*(Projects!$J$5:$J$2393<>'MDOT FTA Detail'!$A$171)*(Projects!$Q$5:$Q$2393))","v":0}]
["NH","National Highway System","MDOT FA",{"$f":"SUMPRODUCT((Projects!$A$5:$A$2393='MDOT FTA Detail'!$D$3)*(Projects!$C$5:$C$2393='MDOT FTA Detail'!$C$4)*(Projects!$L$5:$L$2393='MDOT FTA Detail'!$A58)*(Projects!$J$5:$J$2393<>'MDOT FTA Detail'!$A$171)*(Projects!$K$5:K$2393))","v":0},0,{"$f":"SUMPRODUCT((Projects!$A$5:$A$2393='MDOT FTA Detail'!$D$3)*(Projects!$C$5:$C$2393='MDOT FTA Detail'!$C$4)*(Projects!$L$5:$L$2393='MDOT FTA Detail'!$A58)*(Projects!$J$5:$J$2393<>'MDOT FTA Detail'!$A$171)*(Projects!$Q$5:Q$2393))","v":0},{"$f":"SUMPRODUCT((Projects!$A$5:$A$2393='MDOT FTA Detail'!$G$3)*(Projects!$C$5:$C$2393='MDOT FTA Detail'!$C$4)*(Projects!$L$5:$L$2393='MDOT FTA Detail'!$A58)*(Projects!$J$5:$J$2393<>'MDOT FTA Detail'!$A$171)*(Projects!$K$5:K$2393))","v":0},0,{"$f":"SUMPRODUCT((Projects!$A$5:$A$2393='MDOT FTA Detail'!$G$3)*(Projects!$C$5:$C$2393='MDOT FTA Detail'!$C$4)*(Projects!$L$5:$L$2393='MDOT FTA Detail'!$A58)*(Projects!$J$5:$J$2393<>'MDOT FTA Detail'!$A$171)*(Projects!$Q$5:Q$2393))","v":0},{"$f":"SUMPRODUCT((Projects!$A$5:$A$2393='MDOT FTA Detail'!$J$3)*(Projects!$C$5:$C$2393='MDOT FTA Detail'!$C$4)*(Projects!$L$5:$L$2393='MDOT FTA Detail'!$A58)*(Projects!$J$5:$J$2393<>'MDOT FTA Detail'!$A$171)*(Projects!$K$5:$K$2393))","v":0},0,{"$f":"SUMPRODUCT((Projects!$A$5:$A$2393='MDOT FTA Detail'!$J$3)*(Projects!$C$5:$C$2393='MDOT FTA Detail'!$C$4)*(Projects!$L$5:$L$2393='MDOT FTA Detail'!$A58)*(Projects!$J$5:$J$2393<>'MDOT FTA Detail'!$A$171)*(Projects!$Q$5:$Q$2393))","v":0},{"$f":"SUMPRODUCT((Projects!$A$5:$A$2393='MDOT FTA Detail'!$M$3)*(Projects!$C$5:$C$2393='MDOT FTA Detail'!$C$4)*(Projects!$L$5:$L$2393='MDOT FTA Detail'!$A58)*(Projects!$J$5:$J$2393<>'MDOT FTA Detail'!$A$171)*(Projects!$K$5:$K$2393))","v":0},0,{"$f":"SUMPRODUCT((Projects!$A$5:$A$2393='MDOT FTA Detail'!$M$3)*(Projects!$C$5:$C$2393='MDOT FTA Detail'!$C$4)*(Projects!$L$5:$L$2393='MDOT FTA Detail'!$A58)*(Projects!$J$5:$J$2393<>'MDOT FTA Detail'!$A$171)*(Projects!$Q$5:$Q$2393))","v":0}]
["NHG","National Highway System - Safety - 100% Federal","MDOT FA",{"$f":"SUMPRODUCT((Projects!$A$5:$A$2393='MDOT FTA Detail'!$D$3)*(Projects!$C$5:$C$2393='MDOT FTA Detail'!$C$4)*(Projects!$L$5:$L$2393='MDOT FTA Detail'!$A59)*(Projects!$J$5:$J$2393<>'MDOT FTA Detail'!$A$171)*(Projects!$K$5:K$2393))","v":0},0,{"$f":"SUMPRODUCT((Projects!$A$5:$A$2393='MDOT FTA Detail'!$D$3)*(Projects!$C$5:$C$2393='MDOT FTA Detail'!$C$4)*(Projects!$L$5:$L$2393='MDOT FTA Detail'!$A59)*(Projects!$J$5:$J$2393<>'MDOT FTA Detail'!$A$171)*(Projects!$Q$5:Q$2393))","v":0},{"$f":"SUMPRODUCT((Projects!$A$5:$A$2393='MDOT FTA Detail'!$G$3)*(Projects!$C$5:$C$2393='MDOT FTA Detail'!$C$4)*(Projects!$L$5:$L$2393='MDOT FTA Detail'!$A59)*(Projects!$J$5:$J$2393<>'MDOT FTA Detail'!$A$171)*(Projects!$K$5:K$2393))","v":0},0,{"$f":"SUMPRODUCT((Projects!$A$5:$A$2393='MDOT FTA Detail'!$G$3)*(Projects!$C$5:$C$2393='MDOT FTA Detail'!$C$4)*(Projects!$L$5:$L$2393='MDOT FTA Detail'!$A59)*(Projects!$J$5:$J$2393<>'MDOT FTA Detail'!$A$171)*(Projects!$Q$5:Q$2393))","v":0},{"$f":"SUMPRODUCT((Projects!$A$5:$A$2393='MDOT FTA Detail'!$J$3)*(Projects!$C$5:$C$2393='MDOT FTA Detail'!$C$4)*(Projects!$L$5:$L$2393='MDOT FTA Detail'!$A59)*(Projects!$J$5:$J$2393<>'MDOT FTA Detail'!$A$171)*(Projects!$K$5:$K$2393))","v":0},0,{"$f":"SUMPRODUCT((Projects!$A$5:$A$2393='MDOT FTA Detail'!$J$3)*(Projects!$C$5:$C$2393='MDOT FTA Detail'!$C$4)*(Projects!$L$5:$L$2393='MDOT FTA Detail'!$A59)*(Projects!$J$5:$J$2393<>'MDOT FTA Detail'!$A$171)*(Projects!$Q$5:$Q$2393))","v":0},{"$f":"SUMPRODUCT((Projects!$A$5:$A$2393='MDOT FTA Detail'!$M$3)*(Projects!$C$5:$C$2393='MDOT FTA Detail'!$C$4)*(Projects!$L$5:$L$2393='MDOT FTA Detail'!$A59)*(Projects!$J$5:$J$2393<>'MDOT FTA Detail'!$A$171)*(Projects!$K$5:$K$2393))","v":0},0,{"$f":"SUMPRODUCT((Projects!$A$5:$A$2393='MDOT FTA Detail'!$M$3)*(Projects!$C$5:$C$2393='MDOT FTA Detail'!$C$4)*(Projects!$L$5:$L$2393='MDOT FTA Detail'!$A59)*(Projects!$J$5:$J$2393<>'MDOT FTA Detail'!$A$171)*(Projects!$Q$5:$Q$2393))","v":0}]
["NHI","National Highway Funds on I (Does not Qualify for I)","MDOT FA",{"$f":"SUMPRODUCT((Projects!$A$5:$A$2393='MDOT FTA Detail'!$D$3)*(Projects!$C$5:$C$2393='MDOT FTA Detail'!$C$4)*(Projects!$L$5:$L$2393='MDOT FTA Detail'!$A60)*(Projects!$J$5:$J$2393<>'MDOT FTA Detail'!$A$171)*(Projects!$K$5:K$2393))","v":0},0,{"$f":"SUMPRODUCT((Projects!$A$5:$A$2393='MDOT FTA Detail'!$D$3)*(Projects!$C$5:$C$2393='MDOT FTA Detail'!$C$4)*(Projects!$L$5:$L$2393='MDOT FTA Detail'!$A60)*(Projects!$J$5:$J$2393<>'MDOT FTA Detail'!$A$171)*(Projects!$Q$5:Q$2393))","v":0},{"$f":"SUMPRODUCT((Projects!$A$5:$A$2393='MDOT FTA Detail'!$G$3)*(Projects!$C$5:$C$2393='MDOT FTA Detail'!$C$4)*(Projects!$L$5:$L$2393='MDOT FTA Detail'!$A60)*(Projects!$J$5:$J$2393<>'MDOT FTA Detail'!$A$171)*(Projects!$K$5:K$2393))","v":0},0,{"$f":"SUMPRODUCT((Projects!$A$5:$A$2393='MDOT FTA Detail'!$G$3)*(Projects!$C$5:$C$2393='MDOT FTA Detail'!$C$4)*(Projects!$L$5:$L$2393='MDOT FTA Detail'!$A60)*(Projects!$J$5:$J$2393<>'MDOT FTA Detail'!$A$171)*(Projects!$Q$5:Q$2393))","v":0},{"$f":"SUMPRODUCT((Projects!$A$5:$A$2393='MDOT FTA Detail'!$J$3)*(Projects!$C$5:$C$2393='MDOT FTA Detail'!$C$4)*(Projects!$L$5:$L$2393='MDOT FTA Detail'!$A60)*(Projects!$J$5:$J$2393<>'MDOT FTA Detail'!$A$171)*(Projects!$K$5:$K$2393))","v":0},0,{"$f":"SUMPRODUCT((Projects!$A$5:$A$2393='MDOT FTA Detail'!$J$3)*(Projects!$C$5:$C$2393='MDOT FTA Detail'!$C$4)*(Projects!$L$5:$L$2393='MDOT FTA Detail'!$A60)*(Projects!$J$5:$J$2393<>'MDOT FTA Detail'!$A$171)*(Projects!$Q$5:$Q$2393))","v":0},{"$f":"SUMPRODUCT((Projects!$A$5:$A$2393='MDOT FTA Detail'!$M$3)*(Projects!$C$5:$C$2393='MDOT FTA Detail'!$C$4)*(Projects!$L$5:$L$2393='MDOT FTA Detail'!$A60)*(Projects!$J$5:$J$2393<>'MDOT FTA Detail'!$A$171)*(Projects!$K$5:$K$2393))","v":0},0,{"$f":"SUMPRODUCT((Projects!$A$5:$A$2393='MDOT FTA Detail'!$M$3)*(Projects!$C$5:$C$2393='MDOT FTA Detail'!$C$4)*(Projects!$L$5:$L$2393='MDOT FTA Detail'!$A60)*(Projects!$J$5:$J$2393<>'MDOT FTA Detail'!$A$171)*(Projects!$Q$5:$Q$2393))","v":0}]
["NHIM","National Highway Funds on I (Qualifies for IM)","MDOT FA",{"$f":"SUMPRODUCT((Projects!$A$5:$A$2393='MDOT FTA Detail'!$D$3)*(Projects!$C$5:$C$2393='MDOT FTA Detail'!$C$4)*(Projects!$L$5:$L$2393='MDOT FTA Detail'!$A61)*(Projects!$J$5:$J$2393<>'MDOT FTA Detail'!$A$171)*(Projects!$K$5:K$2393))","v":0},0,{"$f":"SUMPRODUCT((Projects!$A$5:$A$2393='MDOT FTA Detail'!$D$3)*(Projects!$C$5:$C$2393='MDOT FTA Detail'!$C$4)*(Projects!$L$5:$L$2393='MDOT FTA Detail'!$A61)*(Projects!$J$5:$J$2393<>'MDOT FTA Detail'!$A$171)*(Projects!$Q$5:Q$2393))","v":0},{"$f":"SUMPRODUCT((Projects!$A$5:$A$2393='MDOT FTA Detail'!$G$3)*(Projects!$C$5:$C$2393='MDOT FTA Detail'!$C$4)*(Projects!$L$5:$L$2393='MDOT FTA Detail'!$A61)*(Projects!$J$5:$J$2393<>'MDOT FTA Detail'!$A$171)*(Projects!$K$5:K$2393))","v":0},0,{"$f":"SUMPRODUCT((Projects!$A$5:$A$2393='MDOT FTA Detail'!$G$3)*(Projects!$C$5:$C$2393='MDOT FTA Detail'!$C$4)*(Projects!$L$5:$L$2393='MDOT FTA Detail'!$A61)*(Projects!$J$5:$J$2393<>'MDOT FTA Detail'!$A$171)*(Projects!$Q$5:Q$2393))","v":0},{"$f":"SUMPRODUCT((Projects!$A$5:$A$2393='MDOT FTA Detail'!$J$3)*(Projects!$C$5:$C$2393='MDOT FTA Detail'!$C$4)*(Projects!$L$5:$L$2393='MDOT FTA Detail'!$A61)*(Projects!$J$5:$J$2393<>'MDOT FTA Detail'!$A$171)*(Projects!$K$5:$K$2393))","v":0},0,{"$f":"SUMPRODUCT((Projects!$A$5:$A$2393='MDOT FTA Detail'!$J$3)*(Projects!$C$5:$C$2393='MDOT FTA Detail'!$C$4)*(Projects!$L$5:$L$2393='MDOT FTA Detail'!$A61)*(Projects!$J$5:$J$2393<>'MDOT FTA Detail'!$A$171)*(Projects!$Q$5:$Q$2393))","v":0},{"$f":"SUMPRODUCT((Projects!$A$5:$A$2393='MDOT FTA Detail'!$M$3)*(Projects!$C$5:$C$2393='MDOT FTA Detail'!$C$4)*(Projects!$L$5:$L$2393='MDOT FTA Detail'!$A61)*(Projects!$J$5:$J$2393<>'MDOT FTA Detail'!$A$171)*(Projects!$K$5:$K$2393))","v":0},0,{"$f":"SUMPRODUCT((Projects!$A$5:$A$2393='MDOT FTA Detail'!$M$3)*(Projects!$C$5:$C$2393='MDOT FTA Detail'!$C$4)*(Projects!$L$5:$L$2393='MDOT FTA Detail'!$A61)*(Projects!$J$5:$J$2393<>'MDOT FTA Detail'!$A$171)*(Projects!$Q$5:$Q$2393))","v":0}]
["NHS","National Highway System - MDOT Safety Program","MDOT FA",{"$f":"SUMPRODUCT((Projects!$A$5:$A$2393='MDOT FTA Detail'!$D$3)*(Projects!$C$5:$C$2393='MDOT FTA Detail'!$C$4)*(Projects!$L$5:$L$2393='MDOT FTA Detail'!$A62)*(Projects!$J$5:$J$2393<>'MDOT FTA Detail'!$A$171)*(Projects!$K$5:K$2393))","v":0},0,{"$f":"SUMPRODUCT((Projects!$A$5:$A$2393='MDOT FTA Detail'!$D$3)*(Projects!$C$5:$C$2393='MDOT FTA Detail'!$C$4)*(Projects!$L$5:$L$2393='MDOT FTA Detail'!$A62)*(Projects!$J$5:$J$2393<>'MDOT FTA Detail'!$A$171)*(Projects!$Q$5:Q$2393))","v":0},{"$f":"SUMPRODUCT((Projects!$A$5:$A$2393='MDOT FTA Detail'!$G$3)*(Projects!$C$5:$C$2393='MDOT FTA Detail'!$C$4)*(Projects!$L$5:$L$2393='MDOT FTA Detail'!$A62)*(Projects!$J$5:$J$2393<>'MDOT FTA Detail'!$A$171)*(Projects!$K$5:K$2393))","v":0},0,{"$f":"SUMPRODUCT((Projects!$A$5:$A$2393='MDOT FTA Detail'!$G$3)*(Projects!$C$5:$C$2393='MDOT FTA Detail'!$C$4)*(Projects!$L$5:$L$2393='MDOT FTA Detail'!$A62)*(Projects!$J$5:$J$2393<>'MDOT FTA Detail'!$A$171)*(Projects!$Q$5:Q$2393))","v":0},{"$f":"SUMPRODUCT((Projects!$A$5:$A$2393='MDOT FTA Detail'!$J$3)*(Projects!$C$5:$C$2393='MDOT FTA Detail'!$C$4)*(Projects!$L$5:$L$2393='MDOT FTA Detail'!$A62)*(Projects!$J$5:$J$2393<>'MDOT FTA Detail'!$A$171)*(Projects!$K$5:$K$2393))","v":0},0,{"$f":"SUMPRODUCT((Projects!$A$5:$A$2393='MDOT FTA Detail'!$J$3)*(Projects!$C$5:$C$2393='MDOT FTA Detail'!$C$4)*(Projects!$L$5:$L$2393='MDOT FTA Detail'!$A62)*(Projects!$J$5:$J$2393<>'MDOT FTA Detail'!$A$171)*(Projects!$Q$5:$Q$2393))","v":0},{"$f":"SUMPRODUCT((Projects!$A$5:$A$2393='MDOT FTA Detail'!$M$3)*(Projects!$C$5:$C$2393='MDOT FTA Detail'!$C$4)*(Projects!$L$5:$L$2393='MDOT FTA Detail'!$A62)*(Projects!$J$5:$J$2393<>'MDOT FTA Detail'!$A$171)*(Projects!$K$5:$K$2393))","v":0},0,{"$f":"SUMPRODUCT((Projects!$A$5:$A$2393='MDOT FTA Detail'!$M$3)*(Projects!$C$5:$C$2393='MDOT FTA Detail'!$C$4)*(Projects!$L$5:$L$2393='MDOT FTA Detail'!$A62)*(Projects!$J$5:$J$2393<>'MDOT FTA Detail'!$A$171)*(Projects!$Q$5:$Q$2393))","v":0}]
["NRT","National Recreational Trails","MDOT FA",{"$f":"SUMPRODUCT((Projects!$A$5:$A$2393='MDOT FTA Detail'!$D$3)*(Projects!$C$5:$C$2393='MDOT FTA Detail'!$C$4)*(Projects!$L$5:$L$2393='MDOT FTA Detail'!$A63)*(Projects!$J$5:$J$2393<>'MDOT FTA Detail'!$A$171)*(Projects!$K$5:K$2393))","v":0},0,{"$f":"SUMPRODUCT((Projects!$A$5:$A$2393='MDOT FTA Detail'!$D$3)*(Projects!$C$5:$C$2393='MDOT FTA Detail'!$C$4)*(Projects!$L$5:$L$2393='MDOT FTA Detail'!$A63)*(Projects!$J$5:$J$2393<>'MDOT FTA Detail'!$A$171)*(Projects!$Q$5:Q$2393))","v":0},{"$f":"SUMPRODUCT((Projects!$A$5:$A$2393='MDOT FTA Detail'!$G$3)*(Projects!$C$5:$C$2393='MDOT FTA Detail'!$C$4)*(Projects!$L$5:$L$2393='MDOT FTA Detail'!$A63)*(Projects!$J$5:$J$2393<>'MDOT FTA Detail'!$A$171)*(Projects!$K$5:K$2393))","v":0},0,{"$f":"SUMPRODUCT((Projects!$A$5:$A$2393='MDOT FTA Detail'!$G$3)*(Projects!$C$5:$C$2393='MDOT FTA Detail'!$C$4)*(Projects!$L$5:$L$2393='MDOT FTA Detail'!$A63)*(Projects!$J$5:$J$2393<>'MDOT FTA Detail'!$A$171)*(Projects!$Q$5:Q$2393))","v":0},{"$f":"SUMPRODUCT((Projects!$A$5:$A$2393='MDOT FTA Detail'!$J$3)*(Projects!$C$5:$C$2393='MDOT FTA Detail'!$C$4)*(Projects!$L$5:$L$2393='MDOT FTA Detail'!$A63)*(Projects!$J$5:$J$2393<>'MDOT FTA Detail'!$A$171)*(Projects!$K$5:$K$2393))","v":0},0,{"$f":"SUMPRODUCT((Projects!$A$5:$A$2393='MDOT FTA Detail'!$J$3)*(Projects!$C$5:$C$2393='MDOT FTA Detail'!$C$4)*(Projects!$L$5:$L$2393='MDOT FTA Detail'!$A63)*(Projects!$J$5:$J$2393<>'MDOT FTA Detail'!$A$171)*(Projects!$Q$5:$Q$2393))","v":0},{"$f":"SUMPRODUCT((Projects!$A$5:$A$2393='MDOT FTA Detail'!$M$3)*(Projects!$C$5:$C$2393='MDOT FTA Detail'!$C$4)*(Projects!$L$5:$L$2393='MDOT FTA Detail'!$A63)*(Projects!$J$5:$J$2393<>'MDOT FTA Detail'!$A$171)*(Projects!$K$5:$K$2393))","v":0},0,{"$f":"SUMPRODUCT((Projects!$A$5:$A$2393='MDOT FTA Detail'!$M$3)*(Projects!$C$5:$C$2393='MDOT FTA Detail'!$C$4)*(Projects!$L$5:$L$2393='MDOT FTA Detail'!$A63)*(Projects!$J$5:$J$2393<>'MDOT FTA Detail'!$A$171)*(Projects!$Q$5:$Q$2393))","v":0}]
["OFHWA","Other FHWA Funds (Specify source in Comments)","MDOT FA",{"$f":"SUMPRODUCT((Projects!$A$5:$A$2393='MDOT FTA Detail'!$D$3)*(Projects!$C$5:$C$2393='MDOT FTA Detail'!$C$4)*(Projects!$L$5:$L$2393='MDOT FTA Detail'!$A64)*(Projects!$J$5:$J$2393<>'MDOT FTA Detail'!$A$171)*(Projects!$K$5:K$2393))","v":0},0,{"$f":"SUMPRODUCT((Projects!$A$5:$A$2393='MDOT FTA Detail'!$D$3)*(Projects!$C$5:$C$2393='MDOT FTA Detail'!$C$4)*(Projects!$L$5:$L$2393='MDOT FTA Detail'!$A64)*(Projects!$J$5:$J$2393<>'MDOT FTA Detail'!$A$171)*(Projects!$Q$5:Q$2393))","v":0},{"$f":"SUMPRODUCT((Projects!$A$5:$A$2393='MDOT FTA Detail'!$G$3)*(Projects!$C$5:$C$2393='MDOT FTA Detail'!$C$4)*(Projects!$L$5:$L$2393='MDOT FTA Detail'!$A64)*(Projects!$J$5:$J$2393<>'MDOT FTA Detail'!$A$171)*(Projects!$K$5:K$2393))","v":0},0,{"$f":"SUMPRODUCT((Projects!$A$5:$A$2393='MDOT FTA Detail'!$G$3)*(Projects!$C$5:$C$2393='MDOT FTA Detail'!$C$4)*(Projects!$L$5:$L$2393='MDOT FTA Detail'!$A64)*(Projects!$J$5:$J$2393<>'MDOT FTA Detail'!$A$171)*(Projects!$Q$5:Q$2393))","v":0},{"$f":"SUMPRODUCT((Projects!$A$5:$A$2393='MDOT FTA Detail'!$J$3)*(Projects!$C$5:$C$2393='MDOT FTA Detail'!$C$4)*(Projects!$L$5:$L$2393='MDOT FTA Detail'!$A64)*(Projects!$J$5:$J$2393<>'MDOT FTA Detail'!$A$171)*(Projects!$K$5:$K$2393))","v":0},0,{"$f":"SUMPRODUCT((Projects!$A$5:$A$2393='MDOT FTA Detail'!$J$3)*(Projects!$C$5:$C$2393='MDOT FTA Detail'!$C$4)*(Projects!$L$5:$L$2393='MDOT FTA Detail'!$A64)*(Projects!$J$5:$J$2393<>'MDOT FTA Detail'!$A$171)*(Projects!$Q$5:$Q$2393))","v":0},{"$f":"SUMPRODUCT((Projects!$A$5:$A$2393='MDOT FTA Detail'!$M$3)*(Projects!$C$5:$C$2393='MDOT FTA Detail'!$C$4)*(Projects!$L$5:$L$2393='MDOT FTA Detail'!$A64)*(Projects!$J$5:$J$2393<>'MDOT FTA Detail'!$A$171)*(Projects!$K$5:$K$2393))","v":0},0,{"$f":"SUMPRODUCT((Projects!$A$5:$A$2393='MDOT FTA Detail'!$M$3)*(Projects!$C$5:$C$2393='MDOT FTA Detail'!$C$4)*(Projects!$L$5:$L$2393='MDOT FTA Detail'!$A64)*(Projects!$J$5:$J$2393<>'MDOT FTA Detail'!$A$171)*(Projects!$Q$5:$Q$2393))","v":0}]
["PNRS","Projects of National and Regional Significance","MDOT FA",{"$f":"SUMPRODUCT((Projects!$A$5:$A$2393='MDOT FTA Detail'!$D$3)*(Projects!$C$5:$C$2393='MDOT FTA Detail'!$C$4)*(Projects!$L$5:$L$2393='MDOT FTA Detail'!$A65)*(Projects!$J$5:$J$2393<>'MDOT FTA Detail'!$A$171)*(Projects!$K$5:K$2393))","v":0},0,{"$f":"SUMPRODUCT((Projects!$A$5:$A$2393='MDOT FTA Detail'!$D$3)*(Projects!$C$5:$C$2393='MDOT FTA Detail'!$C$4)*(Projects!$L$5:$L$2393='MDOT FTA Detail'!$A65)*(Projects!$J$5:$J$2393<>'MDOT FTA Detail'!$A$171)*(Projects!$Q$5:Q$2393))","v":0},{"$f":"SUMPRODUCT((Projects!$A$5:$A$2393='MDOT FTA Detail'!$G$3)*(Projects!$C$5:$C$2393='MDOT FTA Detail'!$C$4)*(Projects!$L$5:$L$2393='MDOT FTA Detail'!$A65)*(Projects!$J$5:$J$2393<>'MDOT FTA Detail'!$A$171)*(Projects!$K$5:K$2393))","v":0},0,{"$f":"SUMPRODUCT((Projects!$A$5:$A$2393='MDOT FTA Detail'!$G$3)*(Projects!$C$5:$C$2393='MDOT FTA Detail'!$C$4)*(Projects!$L$5:$L$2393='MDOT FTA Detail'!$A65)*(Projects!$J$5:$J$2393<>'MDOT FTA Detail'!$A$171)*(Projects!$Q$5:Q$2393))","v":0},{"$f":"SUMPRODUCT((Projects!$A$5:$A$2393='MDOT FTA Detail'!$J$3)*(Projects!$C$5:$C$2393='MDOT FTA Detail'!$C$4)*(Projects!$L$5:$L$2393='MDOT FTA Detail'!$A65)*(Projects!$J$5:$J$2393<>'MDOT FTA Detail'!$A$171)*(Projects!$K$5:$K$2393))","v":0},0,{"$f":"SUMPRODUCT((Projects!$A$5:$A$2393='MDOT FTA Detail'!$J$3)*(Projects!$C$5:$C$2393='MDOT FTA Detail'!$C$4)*(Projects!$L$5:$L$2393='MDOT FTA Detail'!$A65)*(Projects!$J$5:$J$2393<>'MDOT FTA Detail'!$A$171)*(Projects!$Q$5:$Q$2393))","v":0},{"$f":"SUMPRODUCT((Projects!$A$5:$A$2393='MDOT FTA Detail'!$M$3)*(Projects!$C$5:$C$2393='MDOT FTA Detail'!$C$4)*(Projects!$L$5:$L$2393='MDOT FTA Detail'!$A65)*(Projects!$J$5:$J$2393<>'MDOT FTA Detail'!$A$171)*(Projects!$K$5:$K$2393))","v":0},0,{"$f":"SUMPRODUCT((Projects!$A$5:$A$2393='MDOT FTA Detail'!$M$3)*(Projects!$C$5:$C$2393='MDOT FTA Detail'!$C$4)*(Projects!$L$5:$L$2393='MDOT FTA Detail'!$A65)*(Projects!$J$5:$J$2393<>'MDOT FTA Detail'!$A$171)*(Projects!$Q$5:$Q$2393))","v":0}]
["PRIP","Priority Roads Investment Program","MDOT FA",{"$f":"SUMPRODUCT((Projects!$A$5:$A$2393='MDOT FTA Detail'!$D$3)*(Projects!$C$5:$C$2393='MDOT FTA Detail'!$C$4)*(Projects!$L$5:$L$2393='MDOT FTA Detail'!$A66)*(Projects!$J$5:$J$2393<>'MDOT FTA Detail'!$A$171)*(Projects!$K$5:K$2393))","v":0},{"$f":"F66-D66","v":0},{"$f":"SUMPRODUCT((Projects!$A$5:$A$2393='MDOT FTA Detail'!$D$3)*(Projects!$C$5:$C$2393='MDOT FTA Detail'!$C$4)*(Projects!$L$5:$L$2393='MDOT FTA Detail'!$A66)*(Projects!$J$5:$J$2393<>'MDOT FTA Detail'!$A$171)*(Projects!$Q$5:Q$2393))","v":0},{"$f":"SUMPRODUCT((Projects!$A$5:$A$2393='MDOT FTA Detail'!$G$3)*(Projects!$C$5:$C$2393='MDOT FTA Detail'!$C$4)*(Projects!$L$5:$L$2393='MDOT FTA Detail'!$A66)*(Projects!$J$5:$J$2393<>'MDOT FTA Detail'!$A$171)*(Projects!$K$5:K$2393))","v":0},{"$f":"I66-G66","v":0},{"$f":"SUMPRODUCT((Projects!$A$5:$A$2393='MDOT FTA Detail'!$G$3)*(Projects!$C$5:$C$2393='MDOT FTA Detail'!$C$4)*(Projects!$L$5:$L$2393='MDOT FTA Detail'!$A66)*(Projects!$J$5:$J$2393<>'MDOT FTA Detail'!$A$171)*(Projects!$Q$5:Q$2393))","v":0},{"$f":"SUMPRODUCT((Projects!$A$5:$A$2393='MDOT FTA Detail'!$J$3)*(Projects!$C$5:$C$2393='MDOT FTA Detail'!$C$4)*(Projects!$L$5:$L$2393='MDOT FTA Detail'!$A66)*(Projects!$J$5:$J$2393<>'MDOT FTA Detail'!$A$171)*(Projects!$K$5:$K$2393))","v":0},{"$f":"L66-J66","v":0},{"$f":"SUMPRODUCT((Projects!$A$5:$A$2393='MDOT FTA Detail'!$J$3)*(Projects!$C$5:$C$2393='MDOT FTA Detail'!$C$4)*(Projects!$L$5:$L$2393='MDOT FTA Detail'!$A66)*(Projects!$J$5:$J$2393<>'MDOT FTA Detail'!$A$171)*(Projects!$Q$5:$Q$2393))","v":0},{"$f":"SUMPRODUCT((Projects!$A$5:$A$2393='MDOT FTA Detail'!$M$3)*(Projects!$C$5:$C$2393='MDOT FTA Detail'!$C$4)*(Projects!$L$5:$L$2393='MDOT FTA Detail'!$A66)*(Projects!$J$5:$J$2393<>'MDOT FTA Detail'!$A$171)*(Projects!$K$5:$K$2393))","v":0},{"$f":"O66-M66","v":0},{"$f":"SUMPRODUCT((Projects!$A$5:$A$2393='MDOT FTA Detail'!$M$3)*(Projects!$C$5:$C$2393='MDOT FTA Detail'!$C$4)*(Projects!$L$5:$L$2393='MDOT FTA Detail'!$A66)*(Projects!$J$5:$J$2393<>'MDOT FTA Detail'!$A$171)*(Projects!$Q$5:$Q$2393))","v":0}]
["RP","Research Project","MDOT FA",{"$f":"SUMPRODUCT((Projects!$A$5:$A$2393='MDOT FTA Detail'!$D$3)*(Projects!$C$5:$C$2393='MDOT FTA Detail'!$C$4)*(Projects!$L$5:$L$2393='MDOT FTA Detail'!$A67)*(Projects!$J$5:$J$2393<>'MDOT FTA Detail'!$A$171)*(Projects!$K$5:K$2393))","v":0},0,{"$f":"SUMPRODUCT((Projects!$A$5:$A$2393='MDOT FTA Detail'!$D$3)*(Projects!$C$5:$C$2393='MDOT FTA Detail'!$C$4)*(Projects!$L$5:$L$2393='MDOT FTA Detail'!$A67)*(Projects!$J$5:$J$2393<>'MDOT FTA Detail'!$A$171)*(Projects!$Q$5:Q$2393))","v":0},{"$f":"SUMPRODUCT((Projects!$A$5:$A$2393='MDOT FTA Detail'!$G$3)*(Projects!$C$5:$C$2393='MDOT FTA Detail'!$C$4)*(Projects!$L$5:$L$2393='MDOT FTA Detail'!$A67)*(Projects!$J$5:$J$2393<>'MDOT FTA Detail'!$A$171)*(Projects!$K$5:K$2393))","v":0},0,{"$f":"SUMPRODUCT((Projects!$A$5:$A$2393='MDOT FTA Detail'!$G$3)*(Projects!$C$5:$C$2393='MDOT FTA Detail'!$C$4)*(Projects!$L$5:$L$2393='MDOT FTA Detail'!$A67)*(Projects!$J$5:$J$2393<>'MDOT FTA Detail'!$A$171)*(Projects!$Q$5:Q$2393))","v":0},{"$f":"SUMPRODUCT((Projects!$A$5:$A$2393='MDOT FTA Detail'!$J$3)*(Projects!$C$5:$C$2393='MDOT FTA Detail'!$C$4)*(Projects!$L$5:$L$2393='MDOT FTA Detail'!$A67)*(Projects!$J$5:$J$2393<>'MDOT FTA Detail'!$A$171)*(Projects!$K$5:$K$2393))","v":0},0,{"$f":"SUMPRODUCT((Projects!$A$5:$A$2393='MDOT FTA Detail'!$J$3)*(Projects!$C$5:$C$2393='MDOT FTA Detail'!$C$4)*(Projects!$L$5:$L$2393='MDOT FTA Detail'!$A67)*(Projects!$J$5:$J$2393<>'MDOT FTA Detail'!$A$171)*(Projects!$Q$5:$Q$2393))","v":0},{"$f":"SUMPRODUCT((Projects!$A$5:$A$2393='MDOT FTA Detail'!$M$3)*(Projects!$C$5:$C$2393='MDOT FTA Detail'!$C$4)*(Projects!$L$5:$L$2393='MDOT FTA Detail'!$A67)*(Projects!$J$5:$J$2393<>'MDOT FTA Detail'!$A$171)*(Projects!$K$5:$K$2393))","v":0},0,{"$f":"SUMPRODUCT((Projects!$A$5:$A$2393='MDOT FTA Detail'!$M$3)*(Projects!$C$5:$C$2393='MDOT FTA Detail'!$C$4)*(Projects!$L$5:$L$2393='MDOT FTA Detail'!$A67)*(Projects!$J$5:$J$2393<>'MDOT FTA Detail'!$A$171)*(Projects!$Q$5:$Q$2393))","v":0}]
["RPH","American Recovery and Reinvestment Act","MDOT FA",{"$f":"SUMPRODUCT((Projects!$A$5:$A$2393='MDOT FTA Detail'!$D$3)*(Projects!$C$5:$C$2393='MDOT FTA Detail'!$C$4)*(Projects!$L$5:$L$2393='MDOT FTA Detail'!$A68)*(Projects!$J$5:$J$2393<>'MDOT FTA Detail'!$A$171)*(Projects!$K$5:K$2393))","v":0},0,{"$f":"SUMPRODUCT((Projects!$A$5:$A$2393='MDOT FTA Detail'!$D$3)*(Projects!$C$5:$C$2393='MDOT FTA Detail'!$C$4)*(Projects!$L$5:$L$2393='MDOT FTA Detail'!$A68)*(Projects!$J$5:$J$2393<>'MDOT FTA Detail'!$A$171)*(Projects!$Q$5:Q$2393))","v":0},{"$f":"SUMPRODUCT((Projects!$A$5:$A$2393='MDOT FTA Detail'!$G$3)*(Projects!$C$5:$C$2393='MDOT FTA Detail'!$C$4)*(Projects!$L$5:$L$2393='MDOT FTA Detail'!$A68)*(Projects!$J$5:$J$2393<>'MDOT FTA Detail'!$A$171)*(Projects!$K$5:K$2393))","v":0},0,{"$f":"SUMPRODUCT((Projects!$A$5:$A$2393='MDOT FTA Detail'!$G$3)*(Projects!$C$5:$C$2393='MDOT FTA Detail'!$C$4)*(Projects!$L$5:$L$2393='MDOT FTA Detail'!$A68)*(Projects!$J$5:$J$2393<>'MDOT FTA Detail'!$A$171)*(Projects!$Q$5:Q$2393))","v":0},{"$f":"SUMPRODUCT((Projects!$A$5:$A$2393='MDOT FTA Detail'!$J$3)*(Projects!$C$5:$C$2393='MDOT FTA Detail'!$C$4)*(Projects!$L$5:$L$2393='MDOT FTA Detail'!$A68)*(Projects!$J$5:$J$2393<>'MDOT FTA Detail'!$A$171)*(Projects!$K$5:$K$2393))","v":0},0,{"$f":"SUMPRODUCT((Projects!$A$5:$A$2393='MDOT FTA Detail'!$J$3)*(Projects!$C$5:$C$2393='MDOT FTA Detail'!$C$4)*(Projects!$L$5:$L$2393='MDOT FTA Detail'!$A68)*(Projects!$J$5:$J$2393<>'MDOT FTA Detail'!$A$171)*(Projects!$Q$5:$Q$2393))","v":0},{"$f":"SUMPRODUCT((Projects!$A$5:$A$2393='MDOT FTA Detail'!$M$3)*(Projects!$C$5:$C$2393='MDOT FTA Detail'!$C$4)*(Projects!$L$5:$L$2393='MDOT FTA Detail'!$A68)*(Projects!$J$5:$J$2393<>'MDOT FTA Detail'!$A$171)*(Projects!$K$5:$K$2393))","v":0},0,{"$f":"SUMPRODUCT((Projects!$A$5:$A$2393='MDOT FTA Detail'!$M$3)*(Projects!$C$5:$C$2393='MDOT FTA Detail'!$C$4)*(Projects!$L$5:$L$2393='MDOT FTA Detail'!$A68)*(Projects!$J$5:$J$2393<>'MDOT FTA Detail'!$A$171)*(Projects!$Q$5:$Q$2393))","v":0}]
["SBD","Scenic Byways - Discretionary","MDOT FA",{"$f":"SUMPRODUCT((Projects!$A$5:$A$2393='MDOT FTA Detail'!$D$3)*(Projects!$C$5:$C$2393='MDOT FTA Detail'!$C$4)*(Projects!$L$5:$L$2393='MDOT FTA Detail'!$A69)*(Projects!$J$5:$J$2393<>'MDOT FTA Detail'!$A$171)*(Projects!$K$5:K$2393))","v":0},0,{"$f":"SUMPRODUCT((Projects!$A$5:$A$2393='MDOT FTA Detail'!$D$3)*(Projects!$C$5:$C$2393='MDOT FTA Detail'!$C$4)*(Projects!$L$5:$L$2393='MDOT FTA Detail'!$A69)*(Projects!$J$5:$J$2393<>'MDOT FTA Detail'!$A$171)*(Projects!$Q$5:Q$2393))","v":0},{"$f":"SUMPRODUCT((Projects!$A$5:$A$2393='MDOT FTA Detail'!$G$3)*(Projects!$C$5:$C$2393='MDOT FTA Detail'!$C$4)*(Projects!$L$5:$L$2393='MDOT FTA Detail'!$A69)*(Projects!$J$5:$J$2393<>'MDOT FTA Detail'!$A$171)*(Projects!$K$5:K$2393))","v":0},0,{"$f":"SUMPRODUCT((Projects!$A$5:$A$2393='MDOT FTA Detail'!$G$3)*(Projects!$C$5:$C$2393='MDOT FTA Detail'!$C$4)*(Projects!$L$5:$L$2393='MDOT FTA Detail'!$A69)*(Projects!$J$5:$J$2393<>'MDOT FTA Detail'!$A$171)*(Projects!$Q$5:Q$2393))","v":0},{"$f":"SUMPRODUCT((Projects!$A$5:$A$2393='MDOT FTA Detail'!$J$3)*(Projects!$C$5:$C$2393='MDOT FTA Detail'!$C$4)*(Projects!$L$5:$L$2393='MDOT FTA Detail'!$A69)*(Projects!$J$5:$J$2393<>'MDOT FTA Detail'!$A$171)*(Projects!$K$5:$K$2393))","v":0},0,{"$f":"SUMPRODUCT((Projects!$A$5:$A$2393='MDOT FTA Detail'!$J$3)*(Projects!$C$5:$C$2393='MDOT FTA Detail'!$C$4)*(Projects!$L$5:$L$2393='MDOT FTA Detail'!$A69)*(Projects!$J$5:$J$2393<>'MDOT FTA Detail'!$A$171)*(Projects!$Q$5:$Q$2393))","v":0},{"$f":"SUMPRODUCT((Projects!$A$5:$A$2393='MDOT FTA Detail'!$M$3)*(Projects!$C$5:$C$2393='MDOT FTA Detail'!$C$4)*(Projects!$L$5:$L$2393='MDOT FTA Detail'!$A69)*(Projects!$J$5:$J$2393<>'MDOT FTA Detail'!$A$171)*(Projects!$K$5:$K$2393))","v":0},0,{"$f":"SUMPRODUCT((Projects!$A$5:$A$2393='MDOT FTA Detail'!$M$3)*(Projects!$C$5:$C$2393='MDOT FTA Detail'!$C$4)*(Projects!$L$5:$L$2393='MDOT FTA Detail'!$A69)*(Projects!$J$5:$J$2393<>'MDOT FTA Detail'!$A$171)*(Projects!$Q$5:$Q$2393))","v":0}]
["SIB","State Infrastructure Bank","MDOT FA",{"$f":"SUMPRODUCT((Projects!$A$5:$A$2393='MDOT FTA Detail'!$D$3)*(Projects!$C$5:$C$2393='MDOT FTA Detail'!$C$4)*(Projects!$L$5:$L$2393='MDOT FTA Detail'!$A70)*(Projects!$J$5:$J$2393<>'MDOT FTA Detail'!$A$171)*(Projects!$K$5:K$2393))","v":0},0,{"$f":"SUMPRODUCT((Projects!$A$5:$A$2393='MDOT FTA Detail'!$D$3)*(Projects!$C$5:$C$2393='MDOT FTA Detail'!$C$4)*(Projects!$L$5:$L$2393='MDOT FTA Detail'!$A70)*(Projects!$J$5:$J$2393<>'MDOT FTA Detail'!$A$171)*(Projects!$Q$5:Q$2393))","v":0},{"$f":"SUMPRODUCT((Projects!$A$5:$A$2393='MDOT FTA Detail'!$G$3)*(Projects!$C$5:$C$2393='MDOT FTA Detail'!$C$4)*(Projects!$L$5:$L$2393='MDOT FTA Detail'!$A70)*(Projects!$J$5:$J$2393<>'MDOT FTA Detail'!$A$171)*(Projects!$K$5:K$2393))","v":0},0,{"$f":"SUMPRODUCT((Projects!$A$5:$A$2393='MDOT FTA Detail'!$G$3)*(Projects!$C$5:$C$2393='MDOT FTA Detail'!$C$4)*(Projects!$L$5:$L$2393='MDOT FTA Detail'!$A70)*(Projects!$J$5:$J$2393<>'MDOT FTA Detail'!$A$171)*(Projects!$Q$5:Q$2393))","v":0},{"$f":"SUMPRODUCT((Projects!$A$5:$A$2393='MDOT FTA Detail'!$J$3)*(Projects!$C$5:$C$2393='MDOT FTA Detail'!$C$4)*(Projects!$L$5:$L$2393='MDOT FTA Detail'!$A70)*(Projects!$J$5:$J$2393<>'MDOT FTA Detail'!$A$171)*(Projects!$K$5:$K$2393))","v":0},0,{"$f":"SUMPRODUCT((Projects!$A$5:$A$2393='MDOT FTA Detail'!$J$3)*(Projects!$C$5:$C$2393='MDOT FTA Detail'!$C$4)*(Projects!$L$5:$L$2393='MDOT FTA Detail'!$A70)*(Projects!$J$5:$J$2393<>'MDOT FTA Detail'!$A$171)*(Projects!$Q$5:$Q$2393))","v":0},{"$f":"SUMPRODUCT((Projects!$A$5:$A$2393='MDOT FTA Detail'!$M$3)*(Projects!$C$5:$C$2393='MDOT FTA Detail'!$C$4)*(Projects!$L$5:$L$2393='MDOT FTA Detail'!$A70)*(Projects!$J$5:$J$2393<>'MDOT FTA Detail'!$A$171)*(Projects!$K$5:$K$2393))","v":0},0,{"$f":"SUMPRODUCT((Projects!$A$5:$A$2393='MDOT FTA Detail'!$M$3)*(Projects!$C$5:$C$2393='MDOT FTA Detail'!$C$4)*(Projects!$L$5:$L$2393='MDOT FTA Detail'!$A70)*(Projects!$J$5:$J$2393<>'MDOT FTA Detail'!$A$171)*(Projects!$Q$5:$Q$2393))","v":0}]
["SLG","Surface Transportation Safety","MDOT FA",{"$f":"SUMPRODUCT((Projects!$A$5:$A$2393='MDOT FTA Detail'!$D$3)*(Projects!$C$5:$C$2393='MDOT FTA Detail'!$C$4)*(Projects!$L$5:$L$2393='MDOT FTA Detail'!$A71)*(Projects!$J$5:$J$2393<>'MDOT FTA Detail'!$A$171)*(Projects!$K$5:K$2393))","v":0},0,{"$f":"SUMPRODUCT((Projects!$A$5:$A$2393='MDOT FTA Detail'!$D$3)*(Projects!$C$5:$C$2393='MDOT FTA Detail'!$C$4)*(Projects!$L$5:$L$2393='MDOT FTA Detail'!$A71)*(Projects!$J$5:$J$2393<>'MDOT FTA Detail'!$A$171)*(Projects!$Q$5:Q$2393))","v":0},{"$f":"SUMPRODUCT((Projects!$A$5:$A$2393='MDOT FTA Detail'!$G$3)*(Projects!$C$5:$C$2393='MDOT FTA Detail'!$C$4)*(Projects!$L$5:$L$2393='MDOT FTA Detail'!$A71)*(Projects!$J$5:$J$2393<>'MDOT FTA Detail'!$A$171)*(Projects!$K$5:K$2393))","v":0},0,{"$f":"SUMPRODUCT((Projects!$A$5:$A$2393='MDOT FTA Detail'!$G$3)*(Projects!$C$5:$C$2393='MDOT FTA Detail'!$C$4)*(Projects!$L$5:$L$2393='MDOT FTA Detail'!$A71)*(Projects!$J$5:$J$2393<>'MDOT FTA Detail'!$A$171)*(Projects!$Q$5:Q$2393))","v":0},{"$f":"SUMPRODUCT((Projects!$A$5:$A$2393='MDOT FTA Detail'!$J$3)*(Projects!$C$5:$C$2393='MDOT FTA Detail'!$C$4)*(Projects!$L$5:$L$2393='MDOT FTA Detail'!$A71)*(Projects!$J$5:$J$2393<>'MDOT FTA Detail'!$A$171)*(Projects!$K$5:$K$2393))","v":0},0,{"$f":"SUMPRODUCT((Projects!$A$5:$A$2393='MDOT FTA Detail'!$J$3)*(Projects!$C$5:$C$2393='MDOT FTA Detail'!$C$4)*(Projects!$L$5:$L$2393='MDOT FTA Detail'!$A71)*(Projects!$J$5:$J$2393<>'MDOT FTA Detail'!$A$171)*(Projects!$Q$5:$Q$2393))","v":0},{"$f":"SUMPRODUCT((Projects!$A$5:$A$2393='MDOT FTA Detail'!$M$3)*(Projects!$C$5:$C$2393='MDOT FTA Detail'!$C$4)*(Projects!$L$5:$L$2393='MDOT FTA Detail'!$A71)*(Projects!$J$5:$J$2393<>'MDOT FTA Detail'!$A$171)*(Projects!$K$5:$K$2393))","v":0},0,{"$f":"SUMPRODUCT((Projects!$A$5:$A$2393='MDOT FTA Detail'!$M$3)*(Projects!$C$5:$C$2393='MDOT FTA Detail'!$C$4)*(Projects!$L$5:$L$2393='MDOT FTA Detail'!$A71)*(Projects!$J$5:$J$2393<>'MDOT FTA Detail'!$A$171)*(Projects!$Q$5:$Q$2393))","v":0}]
["SRSE","Surface Transportation Safety Highway Crossing Hazard Elimination","MDOT FA",{"$f":"SUMPRODUCT((Projects!$A$5:$A$2393='MDOT FTA Detail'!$D$3)*(Projects!$C$5:$C$2393='MDOT FTA Detail'!$C$4)*(Projects!$L$5:$L$2393='MDOT FTA Detail'!$A72)*(Projects!$J$5:$J$2393<>'MDOT FTA Detail'!$A$171)*(Projects!$K$5:K$2393))","v":0},0,{"$f":"SUMPRODUCT((Projects!$A$5:$A$2393='MDOT FTA Detail'!$D$3)*(Projects!$C$5:$C$2393='MDOT FTA Detail'!$C$4)*(Projects!$L$5:$L$2393='MDOT FTA Detail'!$A72)*(Projects!$J$5:$J$2393<>'MDOT FTA Detail'!$A$171)*(Projects!$Q$5:Q$2393))","v":0},{"$f":"SUMPRODUCT((Projects!$A$5:$A$2393='MDOT FTA Detail'!$G$3)*(Projects!$C$5:$C$2393='MDOT FTA Detail'!$C$4)*(Projects!$L$5:$L$2393='MDOT FTA Detail'!$A72)*(Projects!$J$5:$J$2393<>'MDOT FTA Detail'!$A$171)*(Projects!$K$5:K$2393))","v":0},0,{"$f":"SUMPRODUCT((Projects!$A$5:$A$2393='MDOT FTA Detail'!$G$3)*(Projects!$C$5:$C$2393='MDOT FTA Detail'!$C$4)*(Projects!$L$5:$L$2393='MDOT FTA Detail'!$A72)*(Projects!$J$5:$J$2393<>'MDOT FTA Detail'!$A$171)*(Projects!$Q$5:Q$2393))","v":0},{"$f":"SUMPRODUCT((Projects!$A$5:$A$2393='MDOT FTA Detail'!$J$3)*(Projects!$C$5:$C$2393='MDOT FTA Detail'!$C$4)*(Projects!$L$5:$L$2393='MDOT FTA Detail'!$A72)*(Projects!$J$5:$J$2393<>'MDOT FTA Detail'!$A$171)*(Projects!$K$5:$K$2393))","v":0},0,{"$f":"SUMPRODUCT((Projects!$A$5:$A$2393='MDOT FTA Detail'!$J$3)*(Projects!$C$5:$C$2393='MDOT FTA Detail'!$C$4)*(Projects!$L$5:$L$2393='MDOT FTA Detail'!$A72)*(Projects!$J$5:$J$2393<>'MDOT FTA Detail'!$A$171)*(Projects!$Q$5:$Q$2393))","v":0},{"$f":"SUMPRODUCT((Projects!$A$5:$A$2393='MDOT FTA Detail'!$M$3)*(Projects!$C$5:$C$2393='MDOT FTA Detail'!$C$4)*(Projects!$L$5:$L$2393='MDOT FTA Detail'!$A72)*(Projects!$J$5:$J$2393<>'MDOT FTA Detail'!$A$171)*(Projects!$K$5:$K$2393))","v":0},0,{"$f":"SUMPRODUCT((Projects!$A$5:$A$2393='MDOT FTA Detail'!$M$3)*(Projects!$C$5:$C$2393='MDOT FTA Detail'!$C$4)*(Projects!$L$5:$L$2393='MDOT FTA Detail'!$A72)*(Projects!$J$5:$J$2393<>'MDOT FTA Detail'!$A$171)*(Projects!$Q$5:$Q$2393))","v":0}]
["SRHG","Surface Transportation Safety Highway Crossing Protection Devices 100%","MDOT FA",{"$f":"SUMPRODUCT((Projects!$A$5:$A$2393='MDOT FTA Detail'!$D$3)*(Projects!$C$5:$C$2393='MDOT FTA Detail'!$C$4)*(Projects!$L$5:$L$2393='MDOT FTA Detail'!$A73)*(Projects!$J$5:$J$2393<>'MDOT FTA Detail'!$A$171)*(Projects!$K$5:K$2393))","v":0},{"$f":"F73-D73","v":0},{"$f":"SUMPRODUCT((Projects!$A$5:$A$2393='MDOT FTA Detail'!$D$3)*(Projects!$C$5:$C$2393='MDOT FTA Detail'!$C$4)*(Projects!$L$5:$L$2393='MDOT FTA Detail'!$A73)*(Projects!$J$5:$J$2393<>'MDOT FTA Detail'!$A$171)*(Projects!$Q$5:Q$2393))","v":0},{"$f":"SUMPRODUCT((Projects!$A$5:$A$2393='MDOT FTA Detail'!$G$3)*(Projects!$C$5:$C$2393='MDOT FTA Detail'!$C$4)*(Projects!$L$5:$L$2393='MDOT FTA Detail'!$A73)*(Projects!$J$5:$J$2393<>'MDOT FTA Detail'!$A$171)*(Projects!$K$5:K$2393))","v":0},{"$f":"I73-G73","v":0},{"$f":"SUMPRODUCT((Projects!$A$5:$A$2393='MDOT FTA Detail'!$G$3)*(Projects!$C$5:$C$2393='MDOT FTA Detail'!$C$4)*(Projects!$L$5:$L$2393='MDOT FTA Detail'!$A73)*(Projects!$J$5:$J$2393<>'MDOT FTA Detail'!$A$171)*(Projects!$Q$5:Q$2393))","v":0},{"$f":"SUMPRODUCT((Projects!$A$5:$A$2393='MDOT FTA Detail'!$J$3)*(Projects!$C$5:$C$2393='MDOT FTA Detail'!$C$4)*(Projects!$L$5:$L$2393='MDOT FTA Detail'!$A73)*(Projects!$J$5:$J$2393<>'MDOT FTA Detail'!$A$171)*(Projects!$K$5:$K$2393))","v":0},{"$f":"L73-J73","v":0},{"$f":"SUMPRODUCT((Projects!$A$5:$A$2393='MDOT FTA Detail'!$J$3)*(Projects!$C$5:$C$2393='MDOT FTA Detail'!$C$4)*(Projects!$L$5:$L$2393='MDOT FTA Detail'!$A73)*(Projects!$J$5:$J$2393<>'MDOT FTA Detail'!$A$171)*(Projects!$Q$5:$Q$2393))","v":0},{"$f":"SUMPRODUCT((Projects!$A$5:$A$2393='MDOT FTA Detail'!$M$3)*(Projects!$C$5:$C$2393='MDOT FTA Detail'!$C$4)*(Projects!$L$5:$L$2393='MDOT FTA Detail'!$A73)*(Projects!$J$5:$J$2393<>'MDOT FTA Detail'!$A$171)*(Projects!$K$5:$K$2393))","v":0},{"$f":"O73-M73","v":0},{"$f":"SUMPRODUCT((Projects!$A$5:$A$2393='MDOT FTA Detail'!$M$3)*(Projects!$C$5:$C$2393='MDOT FTA Detail'!$C$4)*(Projects!$L$5:$L$2393='MDOT FTA Detail'!$A73)*(Projects!$J$5:$J$2393<>'MDOT FTA Detail'!$A$171)*(Projects!$Q$5:$Q$2393))","v":0}]
["SRPG","Safe Routes to School - Either - SAFETEA-LU","MDOT FA",{"$f":"SUMPRODUCT((Projects!$A$5:$A$2393='MDOT FTA Detail'!$D$3)*(Projects!$C$5:$C$2393='MDOT FTA Detail'!$C$4)*(Projects!$L$5:$L$2393='MDOT FTA Detail'!$A74)*(Projects!$J$5:$J$2393<>'MDOT FTA Detail'!$A$171)*(Projects!$K$5:K$2393))","v":0},{"$f":"F74-D74","v":0},{"$f":"SUMPRODUCT((Projects!$A$5:$A$2393='MDOT FTA Detail'!$D$3)*(Projects!$C$5:$C$2393='MDOT FTA Detail'!$C$4)*(Projects!$L$5:$L$2393='MDOT FTA Detail'!$A74)*(Projects!$J$5:$J$2393<>'MDOT FTA Detail'!$A$171)*(Projects!$Q$5:Q$2393))","v":0},{"$f":"SUMPRODUCT((Projects!$A$5:$A$2393='MDOT FTA Detail'!$G$3)*(Projects!$C$5:$C$2393='MDOT FTA Detail'!$C$4)*(Projects!$L$5:$L$2393='MDOT FTA Detail'!$A74)*(Projects!$J$5:$J$2393<>'MDOT FTA Detail'!$A$171)*(Projects!$K$5:K$2393))","v":0},{"$f":"I74-G74","v":0},{"$f":"SUMPRODUCT((Projects!$A$5:$A$2393='MDOT FTA Detail'!$G$3)*(Projects!$C$5:$C$2393='MDOT FTA Detail'!$C$4)*(Projects!$L$5:$L$2393='MDOT FTA Detail'!$A74)*(Projects!$J$5:$J$2393<>'MDOT FTA Detail'!$A$171)*(Projects!$Q$5:Q$2393))","v":0},{"$f":"SUMPRODUCT((Projects!$A$5:$A$2393='MDOT FTA Detail'!$J$3)*(Projects!$C$5:$C$2393='MDOT FTA Detail'!$C$4)*(Projects!$L$5:$L$2393='MDOT FTA Detail'!$A74)*(Projects!$J$5:$J$2393<>'MDOT FTA Detail'!$A$171)*(Projects!$K$5:$K$2393))","v":0},{"$f":"L74-J74","v":0},{"$f":"SUMPRODUCT((Projects!$A$5:$A$2393='MDOT FTA Detail'!$J$3)*(Projects!$C$5:$C$2393='MDOT FTA Detail'!$C$4)*(Projects!$L$5:$L$2393='MDOT FTA Detail'!$A74)*(Projects!$J$5:$J$2393<>'MDOT FTA Detail'!$A$171)*(Projects!$Q$5:$Q$2393))","v":0},{"$f":"SUMPRODUCT((Projects!$A$5:$A$2393='MDOT FTA Detail'!$M$3)*(Projects!$C$5:$C$2393='MDOT FTA Detail'!$C$4)*(Projects!$L$5:$L$2393='MDOT FTA Detail'!$A74)*(Projects!$J$5:$J$2393<>'MDOT FTA Detail'!$A$171)*(Projects!$K$5:$K$2393))","v":0},{"$f":"O74-M74","v":0},{"$f":"SUMPRODUCT((Projects!$A$5:$A$2393='MDOT FTA Detail'!$M$3)*(Projects!$C$5:$C$2393='MDOT FTA Detail'!$C$4)*(Projects!$L$5:$L$2393='MDOT FTA Detail'!$A74)*(Projects!$J$5:$J$2393<>'MDOT FTA Detail'!$A$171)*(Projects!$Q$5:$Q$2393))","v":0}]
["SRSI","Safe Routes to School - Infrastructure - SAFETEA-LU","MDOT FA",{"$f":"SUMPRODUCT((Projects!$A$5:$A$2393='MDOT FTA Detail'!$D$3)*(Projects!$C$5:$C$2393='MDOT FTA Detail'!$C$4)*(Projects!$L$5:$L$2393='MDOT FTA Detail'!$A75)*(Projects!$J$5:$J$2393<>'MDOT FTA Detail'!$A$171)*(Projects!$K$5:K$2393))","v":0},{"$f":"F75-D75","v":0},{"$f":"SUMPRODUCT((Projects!$A$5:$A$2393='MDOT FTA Detail'!$D$3)*(Projects!$C$5:$C$2393='MDOT FTA Detail'!$C$4)*(Projects!$L$5:$L$2393='MDOT FTA Detail'!$A75)*(Projects!$J$5:$J$2393<>'MDOT FTA Detail'!$A$171)*(Projects!$Q$5:Q$2393))","v":0},{"$f":"SUMPRODUCT((Projects!$A$5:$A$2393='MDOT FTA Detail'!$G$3)*(Projects!$C$5:$C$2393='MDOT FTA Detail'!$C$4)*(Projects!$L$5:$L$2393='MDOT FTA Detail'!$A75)*(Projects!$J$5:$J$2393<>'MDOT FTA Detail'!$A$171)*(Projects!$K$5:K$2393))","v":0},{"$f":"I75-G75","v":0},{"$f":"SUMPRODUCT((Projects!$A$5:$A$2393='MDOT FTA Detail'!$G$3)*(Projects!$C$5:$C$2393='MDOT FTA Detail'!$C$4)*(Projects!$L$5:$L$2393='MDOT FTA Detail'!$A75)*(Projects!$J$5:$J$2393<>'MDOT FTA Detail'!$A$171)*(Projects!$Q$5:Q$2393))","v":0},{"$f":"SUMPRODUCT((Projects!$A$5:$A$2393='MDOT FTA Detail'!$J$3)*(Projects!$C$5:$C$2393='MDOT FTA Detail'!$C$4)*(Projects!$L$5:$L$2393='MDOT FTA Detail'!$A75)*(Projects!$J$5:$J$2393<>'MDOT FTA Detail'!$A$171)*(Projects!$K$5:$K$2393))","v":0},{"$f":"L75-J75","v":0},{"$f":"SUMPRODUCT((Projects!$A$5:$A$2393='MDOT FTA Detail'!$J$3)*(Projects!$C$5:$C$2393='MDOT FTA Detail'!$C$4)*(Projects!$L$5:$L$2393='MDOT FTA Detail'!$A75)*(Projects!$J$5:$J$2393<>'MDOT FTA Detail'!$A$171)*(Projects!$Q$5:$Q$2393))","v":0},{"$f":"SUMPRODUCT((Projects!$A$5:$A$2393='MDOT FTA Detail'!$M$3)*(Projects!$C$5:$C$2393='MDOT FTA Detail'!$C$4)*(Projects!$L$5:$L$2393='MDOT FTA Detail'!$A75)*(Projects!$J$5:$J$2393<>'MDOT FTA Detail'!$A$171)*(Projects!$K$5:$K$2393))","v":0},{"$f":"O75-M75","v":0},{"$f":"SUMPRODUCT((Projects!$A$5:$A$2393='MDOT FTA Detail'!$M$3)*(Projects!$C$5:$C$2393='MDOT FTA Detail'!$C$4)*(Projects!$L$5:$L$2393='MDOT FTA Detail'!$A75)*(Projects!$J$5:$J$2393<>'MDOT FTA Detail'!$A$171)*(Projects!$Q$5:$Q$2393))","v":0}]
["SRSN","Safe Routes to School - Non-infrastructure - SAFETEA-LU","MDOT FA",{"$f":"SUMPRODUCT((Projects!$A$5:$A$2393='MDOT FTA Detail'!$D$3)*(Projects!$C$5:$C$2393='MDOT FTA Detail'!$C$4)*(Projects!$L$5:$L$2393='MDOT FTA Detail'!$A76)*(Projects!$J$5:$J$2393<>'MDOT FTA Detail'!$A$171)*(Projects!$K$5:K$2393))","v":0},0,{"$f":"SUMPRODUCT((Projects!$A$5:$A$2393='MDOT FTA Detail'!$D$3)*(Projects!$C$5:$C$2393='MDOT FTA Detail'!$C$4)*(Projects!$L$5:$L$2393='MDOT FTA Detail'!$A76)*(Projects!$J$5:$J$2393<>'MDOT FTA Detail'!$A$171)*(Projects!$Q$5:Q$2393))","v":0},{"$f":"SUMPRODUCT((Projects!$A$5:$A$2393='MDOT FTA Detail'!$G$3)*(Projects!$C$5:$C$2393='MDOT FTA Detail'!$C$4)*(Projects!$L$5:$L$2393='MDOT FTA Detail'!$A76)*(Projects!$J$5:$J$2393<>'MDOT FTA Detail'!$A$171)*(Projects!$K$5:K$2393))","v":0},0,{"$f":"SUMPRODUCT((Projects!$A$5:$A$2393='MDOT FTA Detail'!$G$3)*(Projects!$C$5:$C$2393='MDOT FTA Detail'!$C$4)*(Projects!$L$5:$L$2393='MDOT FTA Detail'!$A76)*(Projects!$J$5:$J$2393<>'MDOT FTA Detail'!$A$171)*(Projects!$Q$5:Q$2393))","v":0},{"$f":"SUMPRODUCT((Projects!$A$5:$A$2393='MDOT FTA Detail'!$J$3)*(Projects!$C$5:$C$2393='MDOT FTA Detail'!$C$4)*(Projects!$L$5:$L$2393='MDOT FTA Detail'!$A76)*(Projects!$J$5:$J$2393<>'MDOT FTA Detail'!$A$171)*(Projects!$K$5:$K$2393))","v":0},0,{"$f":"SUMPRODUCT((Projects!$A$5:$A$2393='MDOT FTA Detail'!$J$3)*(Projects!$C$5:$C$2393='MDOT FTA Detail'!$C$4)*(Projects!$L$5:$L$2393='MDOT FTA Detail'!$A76)*(Projects!$J$5:$J$2393<>'MDOT FTA Detail'!$A$171)*(Projects!$Q$5:$Q$2393))","v":0},{"$f":"SUMPRODUCT((Projects!$A$5:$A$2393='MDOT FTA Detail'!$M$3)*(Projects!$C$5:$C$2393='MDOT FTA Detail'!$C$4)*(Projects!$L$5:$L$2393='MDOT FTA Detail'!$A76)*(Projects!$J$5:$J$2393<>'MDOT FTA Detail'!$A$171)*(Projects!$K$5:$K$2393))","v":0},0,{"$f":"SUMPRODUCT((Projects!$A$5:$A$2393='MDOT FTA Detail'!$M$3)*(Projects!$C$5:$C$2393='MDOT FTA Detail'!$C$4)*(Projects!$L$5:$L$2393='MDOT FTA Detail'!$A76)*(Projects!$J$5:$J$2393<>'MDOT FTA Detail'!$A$171)*(Projects!$Q$5:$Q$2393))","v":0}]
["SST","Supportive Services Training","MDOT FA",{"$f":"SUMPRODUCT((Projects!$A$5:$A$2393='MDOT FTA Detail'!$D$3)*(Projects!$C$5:$C$2393='MDOT FTA Detail'!$C$4)*(Projects!$L$5:$L$2393='MDOT FTA Detail'!$A77)*(Projects!$J$5:$J$2393<>'MDOT FTA Detail'!$A$171)*(Projects!$K$5:K$2393))","v":0},0,{"$f":"SUMPRODUCT((Projects!$A$5:$A$2393='MDOT FTA Detail'!$D$3)*(Projects!$C$5:$C$2393='MDOT FTA Detail'!$C$4)*(Projects!$L$5:$L$2393='MDOT FTA Detail'!$A77)*(Projects!$J$5:$J$2393<>'MDOT FTA Detail'!$A$171)*(Projects!$Q$5:Q$2393))","v":0},{"$f":"SUMPRODUCT((Projects!$A$5:$A$2393='MDOT FTA Detail'!$G$3)*(Projects!$C$5:$C$2393='MDOT FTA Detail'!$C$4)*(Projects!$L$5:$L$2393='MDOT FTA Detail'!$A77)*(Projects!$J$5:$J$2393<>'MDOT FTA Detail'!$A$171)*(Projects!$K$5:K$2393))","v":0},0,{"$f":"SUMPRODUCT((Projects!$A$5:$A$2393='MDOT FTA Detail'!$G$3)*(Projects!$C$5:$C$2393='MDOT FTA Detail'!$C$4)*(Projects!$L$5:$L$2393='MDOT FTA Detail'!$A77)*(Projects!$J$5:$J$2393<>'MDOT FTA Detail'!$A$171)*(Projects!$Q$5:Q$2393))","v":0},{"$f":"SUMPRODUCT((Projects!$A$5:$A$2393='MDOT FTA Detail'!$J$3)*(Projects!$C$5:$C$2393='MDOT FTA Detail'!$C$4)*(Projects!$L$5:$L$2393='MDOT FTA Detail'!$A77)*(Projects!$J$5:$J$2393<>'MDOT FTA Detail'!$A$171)*(Projects!$K$5:$K$2393))","v":0},0,{"$f":"SUMPRODUCT((Projects!$A$5:$A$2393='MDOT FTA Detail'!$J$3)*(Projects!$C$5:$C$2393='MDOT FTA Detail'!$C$4)*(Projects!$L$5:$L$2393='MDOT FTA Detail'!$A77)*(Projects!$J$5:$J$2393<>'MDOT FTA Detail'!$A$171)*(Projects!$Q$5:$Q$2393))","v":0},{"$f":"SUMPRODUCT((Projects!$A$5:$A$2393='MDOT FTA Detail'!$M$3)*(Projects!$C$5:$C$2393='MDOT FTA Detail'!$C$4)*(Projects!$L$5:$L$2393='MDOT FTA Detail'!$A77)*(Projects!$J$5:$J$2393<>'MDOT FTA Detail'!$A$171)*(Projects!$K$5:$K$2393))","v":0},0,{"$f":"SUMPRODUCT((Projects!$A$5:$A$2393='MDOT FTA Detail'!$M$3)*(Projects!$C$5:$C$2393='MDOT FTA Detail'!$C$4)*(Projects!$L$5:$L$2393='MDOT FTA Detail'!$A77)*(Projects!$J$5:$J$2393<>'MDOT FTA Detail'!$A$171)*(Projects!$Q$5:$Q$2393))","v":0}]
["ST","Surface Transportation Program (STP) - Any Area","MDOT FA",{"$f":"SUMPRODUCT((Projects!$A$5:$A$2393='MDOT FTA Detail'!$D$3)*(Projects!$C$5:$C$2393='MDOT FTA Detail'!$C$4)*(Projects!$L$5:$L$2393='MDOT FTA Detail'!$A78)*(Projects!$J$5:$J$2393<>'MDOT FTA Detail'!$A$171)*(Projects!$K$5:K$2393))","v":10814194},2558553,{"$f":"SUMPRODUCT((Projects!$A$5:$A$2393='MDOT FTA Detail'!$D$3)*(Projects!$C$5:$C$2393='MDOT FTA Detail'!$C$4)*(Projects!$L$5:$L$2393='MDOT FTA Detail'!$A78)*(Projects!$J$5:$J$2393<>'MDOT FTA Detail'!$A$171)*(Projects!$Q$5:Q$2393))","v":13372747},{"$f":"SUMPRODUCT((Projects!$A$5:$A$2393='MDOT FTA Detail'!$G$3)*(Projects!$C$5:$C$2393='MDOT FTA Detail'!$C$4)*(Projects!$L$5:$L$2393='MDOT FTA Detail'!$A78)*(Projects!$J$5:$J$2393<>'MDOT FTA Detail'!$A$171)*(Projects!$K$5:K$2393))","v":7666374.5999999996},1628967.4000000004,{"$f":"SUMPRODUCT((Projects!$A$5:$A$2393='MDOT FTA Detail'!$G$3)*(Projects!$C$5:$C$2393='MDOT FTA Detail'!$C$4)*(Projects!$L$5:$L$2393='MDOT FTA Detail'!$A78)*(Projects!$J$5:$J$2393<>'MDOT FTA Detail'!$A$171)*(Projects!$Q$5:Q$2393))","v":9295342},{"$f":"SUMPRODUCT((Projects!$A$5:$A$2393='MDOT FTA Detail'!$J$3)*(Projects!$C$5:$C$2393='MDOT FTA Detail'!$C$4)*(Projects!$L$5:$L$2393='MDOT FTA Detail'!$A78)*(Projects!$J$5:$J$2393<>'MDOT FTA Detail'!$A$171)*(Projects!$K$5:$K$2393))","v":5708180.5999999996},1213776.4000000004,{"$f":"SUMPRODUCT((Projects!$A$5:$A$2393='MDOT FTA Detail'!$J$3)*(Projects!$C$5:$C$2393='MDOT FTA Detail'!$C$4)*(Projects!$L$5:$L$2393='MDOT FTA Detail'!$A78)*(Projects!$J$5:$J$2393<>'MDOT FTA Detail'!$A$171)*(Projects!$Q$5:$Q$2393))","v":6921957},{"$f":"SUMPRODUCT((Projects!$A$5:$A$2393='MDOT FTA Detail'!$M$3)*(Projects!$C$5:$C$2393='MDOT FTA Detail'!$C$4)*(Projects!$L$5:$L$2393='MDOT FTA Detail'!$A78)*(Projects!$J$5:$J$2393<>'MDOT FTA Detail'!$A$171)*(Projects!$K$5:$K$2393))","v":11360691.6},2210653.4000000004,{"$f":"SUMPRODUCT((Projects!$A$5:$A$2393='MDOT FTA Detail'!$M$3)*(Projects!$C$5:$C$2393='MDOT FTA Detail'!$C$4)*(Projects!$L$5:$L$2393='MDOT FTA Detail'!$A78)*(Projects!$J$5:$J$2393<>'MDOT FTA Detail'!$A$171)*(Projects!$Q$5:$Q$2393))","v":13571345}]
["STE","STP - Enhancement","MDOT FA",{"$f":"SUMPRODUCT((Projects!$A$5:$A$2393='MDOT FTA Detail'!$D$3)*(Projects!$C$5:$C$2393='MDOT FTA Detail'!$C$4)*(Projects!$L$5:$L$2393='MDOT FTA Detail'!$A79)*(Projects!$J$5:$J$2393<>'MDOT FTA Detail'!$A$171)*(Projects!$K$5:K$2393))","v":0},0,{"$f":"SUMPRODUCT((Projects!$A$5:$A$2393='MDOT FTA Detail'!$D$3)*(Projects!$C$5:$C$2393='MDOT FTA Detail'!$C$4)*(Projects!$L$5:$L$2393='MDOT FTA Detail'!$A79)*(Projects!$J$5:$J$2393<>'MDOT FTA Detail'!$A$171)*(Projects!$Q$5:Q$2393))","v":0},{"$f":"SUMPRODUCT((Projects!$A$5:$A$2393='MDOT FTA Detail'!$G$3)*(Projects!$C$5:$C$2393='MDOT FTA Detail'!$C$4)*(Projects!$L$5:$L$2393='MDOT FTA Detail'!$A79)*(Projects!$J$5:$J$2393<>'MDOT FTA Detail'!$A$171)*(Projects!$K$5:K$2393))","v":0},0,{"$f":"SUMPRODUCT((Projects!$A$5:$A$2393='MDOT FTA Detail'!$G$3)*(Projects!$C$5:$C$2393='MDOT FTA Detail'!$C$4)*(Projects!$L$5:$L$2393='MDOT FTA Detail'!$A79)*(Projects!$J$5:$J$2393<>'MDOT FTA Detail'!$A$171)*(Projects!$Q$5:Q$2393))","v":0},{"$f":"SUMPRODUCT((Projects!$A$5:$A$2393='MDOT FTA Detail'!$J$3)*(Projects!$C$5:$C$2393='MDOT FTA Detail'!$C$4)*(Projects!$L$5:$L$2393='MDOT FTA Detail'!$A79)*(Projects!$J$5:$J$2393<>'MDOT FTA Detail'!$A$171)*(Projects!$K$5:$K$2393))","v":0},0,{"$f":"SUMPRODUCT((Projects!$A$5:$A$2393='MDOT FTA Detail'!$J$3)*(Projects!$C$5:$C$2393='MDOT FTA Detail'!$C$4)*(Projects!$L$5:$L$2393='MDOT FTA Detail'!$A79)*(Projects!$J$5:$J$2393<>'MDOT FTA Detail'!$A$171)*(Projects!$Q$5:$Q$2393))","v":0},{"$f":"SUMPRODUCT((Projects!$A$5:$A$2393='MDOT FTA Detail'!$M$3)*(Projects!$C$5:$C$2393='MDOT FTA Detail'!$C$4)*(Projects!$L$5:$L$2393='MDOT FTA Detail'!$A79)*(Projects!$J$5:$J$2393<>'MDOT FTA Detail'!$A$171)*(Projects!$K$5:$K$2393))","v":0},0,{"$f":"SUMPRODUCT((Projects!$A$5:$A$2393='MDOT FTA Detail'!$M$3)*(Projects!$C$5:$C$2393='MDOT FTA Detail'!$C$4)*(Projects!$L$5:$L$2393='MDOT FTA Detail'!$A79)*(Projects!$J$5:$J$2393<>'MDOT FTA Detail'!$A$171)*(Projects!$Q$5:$Q$2393))","v":0}]
["STG","STP - Safety - 100% Federal for ST","MDOT FA",{"$f":"SUMPRODUCT((Projects!$A$5:$A$2393='MDOT FTA Detail'!$D$3)*(Projects!$C$5:$C$2393='MDOT FTA Detail'!$C$4)*(Projects!$L$5:$L$2393='MDOT FTA Detail'!$A80)*(Projects!$J$5:$J$2393<>'MDOT FTA Detail'!$A$171)*(Projects!$K$5:K$2393))","v":0},0,{"$f":"SUMPRODUCT((Projects!$A$5:$A$2393='MDOT FTA Detail'!$D$3)*(Projects!$C$5:$C$2393='MDOT FTA Detail'!$C$4)*(Projects!$L$5:$L$2393='MDOT FTA Detail'!$A80)*(Projects!$J$5:$J$2393<>'MDOT FTA Detail'!$A$171)*(Projects!$Q$5:Q$2393))","v":0},{"$f":"SUMPRODUCT((Projects!$A$5:$A$2393='MDOT FTA Detail'!$G$3)*(Projects!$C$5:$C$2393='MDOT FTA Detail'!$C$4)*(Projects!$L$5:$L$2393='MDOT FTA Detail'!$A80)*(Projects!$J$5:$J$2393<>'MDOT FTA Detail'!$A$171)*(Projects!$K$5:K$2393))","v":0},0,{"$f":"SUMPRODUCT((Projects!$A$5:$A$2393='MDOT FTA Detail'!$G$3)*(Projects!$C$5:$C$2393='MDOT FTA Detail'!$C$4)*(Projects!$L$5:$L$2393='MDOT FTA Detail'!$A80)*(Projects!$J$5:$J$2393<>'MDOT FTA Detail'!$A$171)*(Projects!$Q$5:Q$2393))","v":0},{"$f":"SUMPRODUCT((Projects!$A$5:$A$2393='MDOT FTA Detail'!$J$3)*(Projects!$C$5:$C$2393='MDOT FTA Detail'!$C$4)*(Projects!$L$5:$L$2393='MDOT FTA Detail'!$A80)*(Projects!$J$5:$J$2393<>'MDOT FTA Detail'!$A$171)*(Projects!$K$5:$K$2393))","v":0},0,{"$f":"SUMPRODUCT((Projects!$A$5:$A$2393='MDOT FTA Detail'!$J$3)*(Projects!$C$5:$C$2393='MDOT FTA Detail'!$C$4)*(Projects!$L$5:$L$2393='MDOT FTA Detail'!$A80)*(Projects!$J$5:$J$2393<>'MDOT FTA Detail'!$A$171)*(Projects!$Q$5:$Q$2393))","v":0},{"$f":"SUMPRODUCT((Projects!$A$5:$A$2393='MDOT FTA Detail'!$M$3)*(Projects!$C$5:$C$2393='MDOT FTA Detail'!$C$4)*(Projects!$L$5:$L$2393='MDOT FTA Detail'!$A80)*(Projects!$J$5:$J$2393<>'MDOT FTA Detail'!$A$171)*(Projects!$K$5:$K$2393))","v":0},0,{"$f":"SUMPRODUCT((Projects!$A$5:$A$2393='MDOT FTA Detail'!$M$3)*(Projects!$C$5:$C$2393='MDOT FTA Detail'!$C$4)*(Projects!$L$5:$L$2393='MDOT FTA Detail'!$A80)*(Projects!$J$5:$J$2393<>'MDOT FTA Detail'!$A$171)*(Projects!$Q$5:$Q$2393))","v":0}]
["STH","STP - Safety - Hazard Elimination","MDOT FA",{"$f":"SUMPRODUCT((Projects!$A$5:$A$2393='MDOT FTA Detail'!$D$3)*(Projects!$C$5:$C$2393='MDOT FTA Detail'!$C$4)*(Projects!$L$5:$L$2393='MDOT FTA Detail'!$A81)*(Projects!$J$5:$J$2393<>'MDOT FTA Detail'!$A$171)*(Projects!$K$5:K$2393))","v":0},0,{"$f":"SUMPRODUCT((Projects!$A$5:$A$2393='MDOT FTA Detail'!$D$3)*(Projects!$C$5:$C$2393='MDOT FTA Detail'!$C$4)*(Projects!$L$5:$L$2393='MDOT FTA Detail'!$A81)*(Projects!$J$5:$J$2393<>'MDOT FTA Detail'!$A$171)*(Projects!$Q$5:Q$2393))","v":0},{"$f":"SUMPRODUCT((Projects!$A$5:$A$2393='MDOT FTA Detail'!$G$3)*(Projects!$C$5:$C$2393='MDOT FTA Detail'!$C$4)*(Projects!$L$5:$L$2393='MDOT FTA Detail'!$A81)*(Projects!$J$5:$J$2393<>'MDOT FTA Detail'!$A$171)*(Projects!$K$5:K$2393))","v":0},0,{"$f":"SUMPRODUCT((Projects!$A$5:$A$2393='MDOT FTA Detail'!$G$3)*(Projects!$C$5:$C$2393='MDOT FTA Detail'!$C$4)*(Projects!$L$5:$L$2393='MDOT FTA Detail'!$A81)*(Projects!$J$5:$J$2393<>'MDOT FTA Detail'!$A$171)*(Projects!$Q$5:Q$2393))","v":0},{"$f":"SUMPRODUCT((Projects!$A$5:$A$2393='MDOT FTA Detail'!$J$3)*(Projects!$C$5:$C$2393='MDOT FTA Detail'!$C$4)*(Projects!$L$5:$L$2393='MDOT FTA Detail'!$A81)*(Projects!$J$5:$J$2393<>'MDOT FTA Detail'!$A$171)*(Projects!$K$5:$K$2393))","v":0},0,{"$f":"SUMPRODUCT((Projects!$A$5:$A$2393='MDOT FTA Detail'!$J$3)*(Projects!$C$5:$C$2393='MDOT FTA Detail'!$C$4)*(Projects!$L$5:$L$2393='MDOT FTA Detail'!$A81)*(Projects!$J$5:$J$2393<>'MDOT FTA Detail'!$A$171)*(Projects!$Q$5:$Q$2393))","v":0},{"$f":"SUMPRODUCT((Projects!$A$5:$A$2393='MDOT FTA Detail'!$M$3)*(Projects!$C$5:$C$2393='MDOT FTA Detail'!$C$4)*(Projects!$L$5:$L$2393='MDOT FTA Detail'!$A81)*(Projects!$J$5:$J$2393<>'MDOT FTA Detail'!$A$171)*(Projects!$K$5:$K$2393))","v":0},0,{"$f":"SUMPRODUCT((Projects!$A$5:$A$2393='MDOT FTA Detail'!$M$3)*(Projects!$C$5:$C$2393='MDOT FTA Detail'!$C$4)*(Projects!$L$5:$L$2393='MDOT FTA Detail'!$A81)*(Projects!$J$5:$J$2393<>'MDOT FTA Detail'!$A$171)*(Projects!$Q$5:$Q$2393))","v":0}]
["STI","STP - Interstate (90%)","MDOT FA",{"$f":"SUMPRODUCT((Projects!$A$5:$A$2393='MDOT FTA Detail'!$D$3)*(Projects!$C$5:$C$2393='MDOT FTA Detail'!$C$4)*(Projects!$L$5:$L$2393='MDOT FTA Detail'!$A82)*(Projects!$J$5:$J$2393<>'MDOT FTA Detail'!$A$171)*(Projects!$K$5:K$2393))","v":0},0,{"$f":"SUMPRODUCT((Projects!$A$5:$A$2393='MDOT FTA Detail'!$D$3)*(Projects!$C$5:$C$2393='MDOT FTA Detail'!$C$4)*(Projects!$L$5:$L$2393='MDOT FTA Detail'!$A82)*(Projects!$J$5:$J$2393<>'MDOT FTA Detail'!$A$171)*(Projects!$Q$5:Q$2393))","v":0},{"$f":"SUMPRODUCT((Projects!$A$5:$A$2393='MDOT FTA Detail'!$G$3)*(Projects!$C$5:$C$2393='MDOT FTA Detail'!$C$4)*(Projects!$L$5:$L$2393='MDOT FTA Detail'!$A82)*(Projects!$J$5:$J$2393<>'MDOT FTA Detail'!$A$171)*(Projects!$K$5:K$2393))","v":0},0,{"$f":"SUMPRODUCT((Projects!$A$5:$A$2393='MDOT FTA Detail'!$G$3)*(Projects!$C$5:$C$2393='MDOT FTA Detail'!$C$4)*(Projects!$L$5:$L$2393='MDOT FTA Detail'!$A82)*(Projects!$J$5:$J$2393<>'MDOT FTA Detail'!$A$171)*(Projects!$Q$5:Q$2393))","v":0},{"$f":"SUMPRODUCT((Projects!$A$5:$A$2393='MDOT FTA Detail'!$J$3)*(Projects!$C$5:$C$2393='MDOT FTA Detail'!$C$4)*(Projects!$L$5:$L$2393='MDOT FTA Detail'!$A82)*(Projects!$J$5:$J$2393<>'MDOT FTA Detail'!$A$171)*(Projects!$K$5:$K$2393))","v":0},0,{"$f":"SUMPRODUCT((Projects!$A$5:$A$2393='MDOT FTA Detail'!$J$3)*(Projects!$C$5:$C$2393='MDOT FTA Detail'!$C$4)*(Projects!$L$5:$L$2393='MDOT FTA Detail'!$A82)*(Projects!$J$5:$J$2393<>'MDOT FTA Detail'!$A$171)*(Projects!$Q$5:$Q$2393))","v":0},{"$f":"SUMPRODUCT((Projects!$A$5:$A$2393='MDOT FTA Detail'!$M$3)*(Projects!$C$5:$C$2393='MDOT FTA Detail'!$C$4)*(Projects!$L$5:$L$2393='MDOT FTA Detail'!$A82)*(Projects!$J$5:$J$2393<>'MDOT FTA Detail'!$A$171)*(Projects!$K$5:$K$2393))","v":0},0,{"$f":"SUMPRODUCT((Projects!$A$5:$A$2393='MDOT FTA Detail'!$M$3)*(Projects!$C$5:$C$2393='MDOT FTA Detail'!$C$4)*(Projects!$L$5:$L$2393='MDOT FTA Detail'!$A82)*(Projects!$J$5:$J$2393<>'MDOT FTA Detail'!$A$171)*(Projects!$Q$5:$Q$2393))","v":0}]
["STL","STP - Local","MDOT FA",{"$f":"SUMPRODUCT((Projects!$A$5:$A$2393='MDOT FTA Detail'!$D$3)*(Projects!$C$5:$C$2393='MDOT FTA Detail'!$C$4)*(Projects!$L$5:$L$2393='MDOT FTA Detail'!$A83)*(Projects!$J$5:$J$2393<>'MDOT FTA Detail'!$A$171)*(Projects!$K$5:K$2393))","v":0},0,{"$f":"SUMPRODUCT((Projects!$A$5:$A$2393='MDOT FTA Detail'!$D$3)*(Projects!$C$5:$C$2393='MDOT FTA Detail'!$C$4)*(Projects!$L$5:$L$2393='MDOT FTA Detail'!$A83)*(Projects!$J$5:$J$2393<>'MDOT FTA Detail'!$A$171)*(Projects!$Q$5:Q$2393))","v":0},{"$f":"SUMPRODUCT((Projects!$A$5:$A$2393='MDOT FTA Detail'!$G$3)*(Projects!$C$5:$C$2393='MDOT FTA Detail'!$C$4)*(Projects!$L$5:$L$2393='MDOT FTA Detail'!$A83)*(Projects!$J$5:$J$2393<>'MDOT FTA Detail'!$A$171)*(Projects!$K$5:K$2393))","v":0},0,{"$f":"SUMPRODUCT((Projects!$A$5:$A$2393='MDOT FTA Detail'!$G$3)*(Projects!$C$5:$C$2393='MDOT FTA Detail'!$C$4)*(Projects!$L$5:$L$2393='MDOT FTA Detail'!$A83)*(Projects!$J$5:$J$2393<>'MDOT FTA Detail'!$A$171)*(Projects!$Q$5:Q$2393))","v":0},{"$f":"SUMPRODUCT((Projects!$A$5:$A$2393='MDOT FTA Detail'!$J$3)*(Projects!$C$5:$C$2393='MDOT FTA Detail'!$C$4)*(Projects!$L$5:$L$2393='MDOT FTA Detail'!$A83)*(Projects!$J$5:$J$2393<>'MDOT FTA Detail'!$A$171)*(Projects!$K$5:$K$2393))","v":0},0,{"$f":"SUMPRODUCT((Projects!$A$5:$A$2393='MDOT FTA Detail'!$J$3)*(Projects!$C$5:$C$2393='MDOT FTA Detail'!$C$4)*(Projects!$L$5:$L$2393='MDOT FTA Detail'!$A83)*(Projects!$J$5:$J$2393<>'MDOT FTA Detail'!$A$171)*(Projects!$Q$5:$Q$2393))","v":0},{"$f":"SUMPRODUCT((Projects!$A$5:$A$2393='MDOT FTA Detail'!$M$3)*(Projects!$C$5:$C$2393='MDOT FTA Detail'!$C$4)*(Projects!$L$5:$L$2393='MDOT FTA Detail'!$A83)*(Projects!$J$5:$J$2393<>'MDOT FTA Detail'!$A$171)*(Projects!$K$5:$K$2393))","v":0},0,{"$f":"SUMPRODUCT((Projects!$A$5:$A$2393='MDOT FTA Detail'!$M$3)*(Projects!$C$5:$C$2393='MDOT FTA Detail'!$C$4)*(Projects!$L$5:$L$2393='MDOT FTA Detail'!$A83)*(Projects!$J$5:$J$2393<>'MDOT FTA Detail'!$A$171)*(Projects!$Q$5:$Q$2393))","v":0}]
["STLG","Surface Transportation Safety 100% Federal for STL Items","MDOT FA",{"$f":"SUMPRODUCT((Projects!$A$5:$A$2393='MDOT FTA Detail'!$D$3)*(Projects!$C$5:$C$2393='MDOT FTA Detail'!$C$4)*(Projects!$L$5:$L$2393='MDOT FTA Detail'!$A84)*(Projects!$J$5:$J$2393<>'MDOT FTA Detail'!$A$171)*(Projects!$K$5:K$2393))","v":0},{"$f":"F84-D84","v":0},{"$f":"SUMPRODUCT((Projects!$A$5:$A$2393='MDOT FTA Detail'!$D$3)*(Projects!$C$5:$C$2393='MDOT FTA Detail'!$C$4)*(Projects!$L$5:$L$2393='MDOT FTA Detail'!$A84)*(Projects!$J$5:$J$2393<>'MDOT FTA Detail'!$A$171)*(Projects!$Q$5:Q$2393))","v":0},{"$f":"SUMPRODUCT((Projects!$A$5:$A$2393='MDOT FTA Detail'!$G$3)*(Projects!$C$5:$C$2393='MDOT FTA Detail'!$C$4)*(Projects!$L$5:$L$2393='MDOT FTA Detail'!$A84)*(Projects!$J$5:$J$2393<>'MDOT FTA Detail'!$A$171)*(Projects!$K$5:K$2393))","v":0},{"$f":"I84-G84","v":0},{"$f":"SUMPRODUCT((Projects!$A$5:$A$2393='MDOT FTA Detail'!$G$3)*(Projects!$C$5:$C$2393='MDOT FTA Detail'!$C$4)*(Projects!$L$5:$L$2393='MDOT FTA Detail'!$A84)*(Projects!$J$5:$J$2393<>'MDOT FTA Detail'!$A$171)*(Projects!$Q$5:Q$2393))","v":0},{"$f":"SUMPRODUCT((Projects!$A$5:$A$2393='MDOT FTA Detail'!$J$3)*(Projects!$C$5:$C$2393='MDOT FTA Detail'!$C$4)*(Projects!$L$5:$L$2393='MDOT FTA Detail'!$A84)*(Projects!$J$5:$J$2393<>'MDOT FTA Detail'!$A$171)*(Projects!$K$5:$K$2393))","v":0},{"$f":"L84-J84","v":0},{"$f":"SUMPRODUCT((Projects!$A$5:$A$2393='MDOT FTA Detail'!$J$3)*(Projects!$C$5:$C$2393='MDOT FTA Detail'!$C$4)*(Projects!$L$5:$L$2393='MDOT FTA Detail'!$A84)*(Projects!$J$5:$J$2393<>'MDOT FTA Detail'!$A$171)*(Projects!$Q$5:$Q$2393))","v":0},{"$f":"SUMPRODUCT((Projects!$A$5:$A$2393='MDOT FTA Detail'!$M$3)*(Projects!$C$5:$C$2393='MDOT FTA Detail'!$C$4)*(Projects!$L$5:$L$2393='MDOT FTA Detail'!$A84)*(Projects!$J$5:$J$2393<>'MDOT FTA Detail'!$A$171)*(Projects!$K$5:$K$2393))","v":0},{"$f":"O84-M84","v":0},{"$f":"SUMPRODUCT((Projects!$A$5:$A$2393='MDOT FTA Detail'!$M$3)*(Projects!$C$5:$C$2393='MDOT FTA Detail'!$C$4)*(Projects!$L$5:$L$2393='MDOT FTA Detail'!$A84)*(Projects!$J$5:$J$2393<>'MDOT FTA Detail'!$A$171)*(Projects!$Q$5:$Q$2393))","v":0}]
["STR","STP - Safety - Rail-Highway Crossing Protection","MDOT FA",{"$f":"SUMPRODUCT((Projects!$A$5:$A$2393='MDOT FTA Detail'!$D$3)*(Projects!$C$5:$C$2393='MDOT FTA Detail'!$C$4)*(Projects!$L$5:$L$2393='MDOT FTA Detail'!$A85)*(Projects!$J$5:$J$2393<>'MDOT FTA Detail'!$A$171)*(Projects!$K$5:K$2393))","v":0},0,{"$f":"SUMPRODUCT((Projects!$A$5:$A$2393='MDOT FTA Detail'!$D$3)*(Projects!$C$5:$C$2393='MDOT FTA Detail'!$C$4)*(Projects!$L$5:$L$2393='MDOT FTA Detail'!$A85)*(Projects!$J$5:$J$2393<>'MDOT FTA Detail'!$A$171)*(Projects!$Q$5:Q$2393))","v":0},{"$f":"SUMPRODUCT((Projects!$A$5:$A$2393='MDOT FTA Detail'!$G$3)*(Projects!$C$5:$C$2393='MDOT FTA Detail'!$C$4)*(Projects!$L$5:$L$2393='MDOT FTA Detail'!$A85)*(Projects!$J$5:$J$2393<>'MDOT FTA Detail'!$A$171)*(Projects!$K$5:K$2393))","v":0},0,{"$f":"SUMPRODUCT((Projects!$A$5:$A$2393='MDOT FTA Detail'!$G$3)*(Projects!$C$5:$C$2393='MDOT FTA Detail'!$C$4)*(Projects!$L$5:$L$2393='MDOT FTA Detail'!$A85)*(Projects!$J$5:$J$2393<>'MDOT FTA Detail'!$A$171)*(Projects!$Q$5:Q$2393))","v":0},{"$f":"SUMPRODUCT((Projects!$A$5:$A$2393='MDOT FTA Detail'!$J$3)*(Projects!$C$5:$C$2393='MDOT FTA Detail'!$C$4)*(Projects!$L$5:$L$2393='MDOT FTA Detail'!$A85)*(Projects!$J$5:$J$2393<>'MDOT FTA Detail'!$A$171)*(Projects!$K$5:$K$2393))","v":0},0,{"$f":"SUMPRODUCT((Projects!$A$5:$A$2393='MDOT FTA Detail'!$J$3)*(Projects!$C$5:$C$2393='MDOT FTA Detail'!$C$4)*(Projects!$L$5:$L$2393='MDOT FTA Detail'!$A85)*(Projects!$J$5:$J$2393<>'MDOT FTA Detail'!$A$171)*(Projects!$Q$5:$Q$2393))","v":0},{"$f":"SUMPRODUCT((Projects!$A$5:$A$2393='MDOT FTA Detail'!$M$3)*(Projects!$C$5:$C$2393='MDOT FTA Detail'!$C$4)*(Projects!$L$5:$L$2393='MDOT FTA Detail'!$A85)*(Projects!$J$5:$J$2393<>'MDOT FTA Detail'!$A$171)*(Projects!$K$5:$K$2393))","v":0},0,{"$f":"SUMPRODUCT((Projects!$A$5:$A$2393='MDOT FTA Detail'!$M$3)*(Projects!$C$5:$C$2393='MDOT FTA Detail'!$C$4)*(Projects!$L$5:$L$2393='MDOT FTA Detail'!$A85)*(Projects!$J$5:$J$2393<>'MDOT FTA Detail'!$A$171)*(Projects!$Q$5:$Q$2393))","v":0}]
["STRG","STP - Safety Rail-Highway & Incentive Payment - 100% Federal","MDOT FA",{"$f":"SUMPRODUCT((Projects!$A$5:$A$2393='MDOT FTA Detail'!$D$3)*(Projects!$C$5:$C$2393='MDOT FTA Detail'!$C$4)*(Projects!$L$5:$L$2393='MDOT FTA Detail'!$A86)*(Projects!$J$5:$J$2393<>'MDOT FTA Detail'!$A$171)*(Projects!$K$5:K$2393))","v":0},0,{"$f":"SUMPRODUCT((Projects!$A$5:$A$2393='MDOT FTA Detail'!$D$3)*(Projects!$C$5:$C$2393='MDOT FTA Detail'!$C$4)*(Projects!$L$5:$L$2393='MDOT FTA Detail'!$A86)*(Projects!$J$5:$J$2393<>'MDOT FTA Detail'!$A$171)*(Projects!$Q$5:Q$2393))","v":0},{"$f":"SUMPRODUCT((Projects!$A$5:$A$2393='MDOT FTA Detail'!$G$3)*(Projects!$C$5:$C$2393='MDOT FTA Detail'!$C$4)*(Projects!$L$5:$L$2393='MDOT FTA Detail'!$A86)*(Projects!$J$5:$J$2393<>'MDOT FTA Detail'!$A$171)*(Projects!$K$5:K$2393))","v":0},0,{"$f":"SUMPRODUCT((Projects!$A$5:$A$2393='MDOT FTA Detail'!$G$3)*(Projects!$C$5:$C$2393='MDOT FTA Detail'!$C$4)*(Projects!$L$5:$L$2393='MDOT FTA Detail'!$A86)*(Projects!$J$5:$J$2393<>'MDOT FTA Detail'!$A$171)*(Projects!$Q$5:Q$2393))","v":0},{"$f":"SUMPRODUCT((Projects!$A$5:$A$2393='MDOT FTA Detail'!$J$3)*(Projects!$C$5:$C$2393='MDOT FTA Detail'!$C$4)*(Projects!$L$5:$L$2393='MDOT FTA Detail'!$A86)*(Projects!$J$5:$J$2393<>'MDOT FTA Detail'!$A$171)*(Projects!$K$5:$K$2393))","v":0},0,{"$f":"SUMPRODUCT((Projects!$A$5:$A$2393='MDOT FTA Detail'!$J$3)*(Projects!$C$5:$C$2393='MDOT FTA Detail'!$C$4)*(Projects!$L$5:$L$2393='MDOT FTA Detail'!$A86)*(Projects!$J$5:$J$2393<>'MDOT FTA Detail'!$A$171)*(Projects!$Q$5:$Q$2393))","v":0},{"$f":"SUMPRODUCT((Projects!$A$5:$A$2393='MDOT FTA Detail'!$M$3)*(Projects!$C$5:$C$2393='MDOT FTA Detail'!$C$4)*(Projects!$L$5:$L$2393='MDOT FTA Detail'!$A86)*(Projects!$J$5:$J$2393<>'MDOT FTA Detail'!$A$171)*(Projects!$K$5:$K$2393))","v":0},0,{"$f":"SUMPRODUCT((Projects!$A$5:$A$2393='MDOT FTA Detail'!$M$3)*(Projects!$C$5:$C$2393='MDOT FTA Detail'!$C$4)*(Projects!$L$5:$L$2393='MDOT FTA Detail'!$A86)*(Projects!$J$5:$J$2393<>'MDOT FTA Detail'!$A$171)*(Projects!$Q$5:$Q$2393))","v":0}]
["STRH","Surface Transportation Safety Highway Crossing Hazard Elimination","MDOT FA",{"$f":"SUMPRODUCT((Projects!$A$5:$A$2393='MDOT FTA Detail'!$D$3)*(Projects!$C$5:$C$2393='MDOT FTA Detail'!$C$4)*(Projects!$L$5:$L$2393='MDOT FTA Detail'!$A87)*(Projects!$J$5:$J$2393<>'MDOT FTA Detail'!$A$171)*(Projects!$K$5:K$2393))","v":0},{"$f":"F87-D87","v":0},{"$f":"SUMPRODUCT((Projects!$A$5:$A$2393='MDOT FTA Detail'!$D$3)*(Projects!$C$5:$C$2393='MDOT FTA Detail'!$C$4)*(Projects!$L$5:$L$2393='MDOT FTA Detail'!$A87)*(Projects!$J$5:$J$2393<>'MDOT FTA Detail'!$A$171)*(Projects!$Q$5:Q$2393))","v":0},{"$f":"SUMPRODUCT((Projects!$A$5:$A$2393='MDOT FTA Detail'!$G$3)*(Projects!$C$5:$C$2393='MDOT FTA Detail'!$C$4)*(Projects!$L$5:$L$2393='MDOT FTA Detail'!$A87)*(Projects!$J$5:$J$2393<>'MDOT FTA Detail'!$A$171)*(Projects!$K$5:K$2393))","v":0},{"$f":"I87-G87","v":0},{"$f":"SUMPRODUCT((Projects!$A$5:$A$2393='MDOT FTA Detail'!$G$3)*(Projects!$C$5:$C$2393='MDOT FTA Detail'!$C$4)*(Projects!$L$5:$L$2393='MDOT FTA Detail'!$A87)*(Projects!$J$5:$J$2393<>'MDOT FTA Detail'!$A$171)*(Projects!$Q$5:Q$2393))","v":0},{"$f":"SUMPRODUCT((Projects!$A$5:$A$2393='MDOT FTA Detail'!$J$3)*(Projects!$C$5:$C$2393='MDOT FTA Detail'!$C$4)*(Projects!$L$5:$L$2393='MDOT FTA Detail'!$A87)*(Projects!$J$5:$J$2393<>'MDOT FTA Detail'!$A$171)*(Projects!$K$5:$K$2393))","v":0},{"$f":"L87-J87","v":0},{"$f":"SUMPRODUCT((Projects!$A$5:$A$2393='MDOT FTA Detail'!$J$3)*(Projects!$C$5:$C$2393='MDOT FTA Detail'!$C$4)*(Projects!$L$5:$L$2393='MDOT FTA Detail'!$A87)*(Projects!$J$5:$J$2393<>'MDOT FTA Detail'!$A$171)*(Projects!$Q$5:$Q$2393))","v":0},{"$f":"SUMPRODUCT((Projects!$A$5:$A$2393='MDOT FTA Detail'!$M$3)*(Projects!$C$5:$C$2393='MDOT FTA Detail'!$C$4)*(Projects!$L$5:$L$2393='MDOT FTA Detail'!$A87)*(Projects!$J$5:$J$2393<>'MDOT FTA Detail'!$A$171)*(Projects!$K$5:$K$2393))","v":0},{"$f":"O87-M87","v":0},{"$f":"SUMPRODUCT((Projects!$A$5:$A$2393='MDOT FTA Detail'!$M$3)*(Projects!$C$5:$C$2393='MDOT FTA Detail'!$C$4)*(Projects!$L$5:$L$2393='MDOT FTA Detail'!$A87)*(Projects!$J$5:$J$2393<>'MDOT FTA Detail'!$A$171)*(Projects!$Q$5:$Q$2393))","v":0}]
["STRP","Surface Transportation Safety Highway Crossing Protection Devices","MDOT FA",{"$f":"SUMPRODUCT((Projects!$A$5:$A$2393='MDOT FTA Detail'!$D$3)*(Projects!$C$5:$C$2393='MDOT FTA Detail'!$C$4)*(Projects!$L$5:$L$2393='MDOT FTA Detail'!$A88)*(Projects!$J$5:$J$2393<>'MDOT FTA Detail'!$A$171)*(Projects!$K$5:K$2393))","v":0},{"$f":"F88-D88","v":0},{"$f":"SUMPRODUCT((Projects!$A$5:$A$2393='MDOT FTA Detail'!$D$3)*(Projects!$C$5:$C$2393='MDOT FTA Detail'!$C$4)*(Projects!$L$5:$L$2393='MDOT FTA Detail'!$A88)*(Projects!$J$5:$J$2393<>'MDOT FTA Detail'!$A$171)*(Projects!$Q$5:Q$2393))","v":0},{"$f":"SUMPRODUCT((Projects!$A$5:$A$2393='MDOT FTA Detail'!$G$3)*(Projects!$C$5:$C$2393='MDOT FTA Detail'!$C$4)*(Projects!$L$5:$L$2393='MDOT FTA Detail'!$A88)*(Projects!$J$5:$J$2393<>'MDOT FTA Detail'!$A$171)*(Projects!$K$5:K$2393))","v":0},{"$f":"I88-G88","v":0},{"$f":"SUMPRODUCT((Projects!$A$5:$A$2393='MDOT FTA Detail'!$G$3)*(Projects!$C$5:$C$2393='MDOT FTA Detail'!$C$4)*(Projects!$L$5:$L$2393='MDOT FTA Detail'!$A88)*(Projects!$J$5:$J$2393<>'MDOT FTA Detail'!$A$171)*(Projects!$Q$5:Q$2393))","v":0},{"$f":"SUMPRODUCT((Projects!$A$5:$A$2393='MDOT FTA Detail'!$J$3)*(Projects!$C$5:$C$2393='MDOT FTA Detail'!$C$4)*(Projects!$L$5:$L$2393='MDOT FTA Detail'!$A88)*(Projects!$J$5:$J$2393<>'MDOT FTA Detail'!$A$171)*(Projects!$K$5:$K$2393))","v":0},{"$f":"L88-J88","v":0},{"$f":"SUMPRODUCT((Projects!$A$5:$A$2393='MDOT FTA Detail'!$J$3)*(Projects!$C$5:$C$2393='MDOT FTA Detail'!$C$4)*(Projects!$L$5:$L$2393='MDOT FTA Detail'!$A88)*(Projects!$J$5:$J$2393<>'MDOT FTA Detail'!$A$171)*(Projects!$Q$5:$Q$2393))","v":0},{"$f":"SUMPRODUCT((Projects!$A$5:$A$2393='MDOT FTA Detail'!$M$3)*(Projects!$C$5:$C$2393='MDOT FTA Detail'!$C$4)*(Projects!$L$5:$L$2393='MDOT FTA Detail'!$A88)*(Projects!$J$5:$J$2393<>'MDOT FTA Detail'!$A$171)*(Projects!$K$5:$K$2393))","v":0},{"$f":"O88-M88","v":0},{"$f":"SUMPRODUCT((Projects!$A$5:$A$2393='MDOT FTA Detail'!$M$3)*(Projects!$C$5:$C$2393='MDOT FTA Detail'!$C$4)*(Projects!$L$5:$L$2393='MDOT FTA Detail'!$A88)*(Projects!$J$5:$J$2393<>'MDOT FTA Detail'!$A$171)*(Projects!$Q$5:$Q$2393))","v":0}]
["STS","STP - Any Area- MDOT Safety Program","MDOT FA",{"$f":"SUMPRODUCT((Projects!$A$5:$A$2393='MDOT FTA Detail'!$D$3)*(Projects!$C$5:$C$2393='MDOT FTA Detail'!$C$4)*(Projects!$L$5:$L$2393='MDOT FTA Detail'!$A89)*(Projects!$J$5:$J$2393<>'MDOT FTA Detail'!$A$171)*(Projects!$K$5:K$2393))","v":0},0,{"$f":"SUMPRODUCT((Projects!$A$5:$A$2393='MDOT FTA Detail'!$D$3)*(Projects!$C$5:$C$2393='MDOT FTA Detail'!$C$4)*(Projects!$L$5:$L$2393='MDOT FTA Detail'!$A89)*(Projects!$J$5:$J$2393<>'MDOT FTA Detail'!$A$171)*(Projects!$Q$5:Q$2393))","v":0},{"$f":"SUMPRODUCT((Projects!$A$5:$A$2393='MDOT FTA Detail'!$G$3)*(Projects!$C$5:$C$2393='MDOT FTA Detail'!$C$4)*(Projects!$L$5:$L$2393='MDOT FTA Detail'!$A89)*(Projects!$J$5:$J$2393<>'MDOT FTA Detail'!$A$171)*(Projects!$K$5:K$2393))","v":0},0,{"$f":"SUMPRODUCT((Projects!$A$5:$A$2393='MDOT FTA Detail'!$G$3)*(Projects!$C$5:$C$2393='MDOT FTA Detail'!$C$4)*(Projects!$L$5:$L$2393='MDOT FTA Detail'!$A89)*(Projects!$J$5:$J$2393<>'MDOT FTA Detail'!$A$171)*(Projects!$Q$5:Q$2393))","v":0},{"$f":"SUMPRODUCT((Projects!$A$5:$A$2393='MDOT FTA Detail'!$J$3)*(Projects!$C$5:$C$2393='MDOT FTA Detail'!$C$4)*(Projects!$L$5:$L$2393='MDOT FTA Detail'!$A89)*(Projects!$J$5:$J$2393<>'MDOT FTA Detail'!$A$171)*(Projects!$K$5:$K$2393))","v":0},0,{"$f":"SUMPRODUCT((Projects!$A$5:$A$2393='MDOT FTA Detail'!$J$3)*(Projects!$C$5:$C$2393='MDOT FTA Detail'!$C$4)*(Projects!$L$5:$L$2393='MDOT FTA Detail'!$A89)*(Projects!$J$5:$J$2393<>'MDOT FTA Detail'!$A$171)*(Projects!$Q$5:$Q$2393))","v":0},{"$f":"SUMPRODUCT((Projects!$A$5:$A$2393='MDOT FTA Detail'!$M$3)*(Projects!$C$5:$C$2393='MDOT FTA Detail'!$C$4)*(Projects!$L$5:$L$2393='MDOT FTA Detail'!$A89)*(Projects!$J$5:$J$2393<>'MDOT FTA Detail'!$A$171)*(Projects!$K$5:$K$2393))","v":0},0,{"$f":"SUMPRODUCT((Projects!$A$5:$A$2393='MDOT FTA Detail'!$M$3)*(Projects!$C$5:$C$2393='MDOT FTA Detail'!$C$4)*(Projects!$L$5:$L$2393='MDOT FTA Detail'!$A89)*(Projects!$J$5:$J$2393<>'MDOT FTA Detail'!$A$171)*(Projects!$Q$5:$Q$2393))","v":0}]
["STT","STP - Trunkline","MDOT FA",{"$f":"SUMPRODUCT((Projects!$A$5:$A$2393='MDOT FTA Detail'!$D$3)*(Projects!$C$5:$C$2393='MDOT FTA Detail'!$C$4)*(Projects!$L$5:$L$2393='MDOT FTA Detail'!$A90)*(Projects!$J$5:$J$2393<>'MDOT FTA Detail'!$A$171)*(Projects!$K$5:K$2393))","v":0},0,{"$f":"SUMPRODUCT((Projects!$A$5:$A$2393='MDOT FTA Detail'!$D$3)*(Projects!$C$5:$C$2393='MDOT FTA Detail'!$C$4)*(Projects!$L$5:$L$2393='MDOT FTA Detail'!$A90)*(Projects!$J$5:$J$2393<>'MDOT FTA Detail'!$A$171)*(Projects!$Q$5:Q$2393))","v":0},{"$f":"SUMPRODUCT((Projects!$A$5:$A$2393='MDOT FTA Detail'!$G$3)*(Projects!$C$5:$C$2393='MDOT FTA Detail'!$C$4)*(Projects!$L$5:$L$2393='MDOT FTA Detail'!$A90)*(Projects!$J$5:$J$2393<>'MDOT FTA Detail'!$A$171)*(Projects!$K$5:K$2393))","v":0},0,{"$f":"SUMPRODUCT((Projects!$A$5:$A$2393='MDOT FTA Detail'!$G$3)*(Projects!$C$5:$C$2393='MDOT FTA Detail'!$C$4)*(Projects!$L$5:$L$2393='MDOT FTA Detail'!$A90)*(Projects!$J$5:$J$2393<>'MDOT FTA Detail'!$A$171)*(Projects!$Q$5:Q$2393))","v":0},{"$f":"SUMPRODUCT((Projects!$A$5:$A$2393='MDOT FTA Detail'!$J$3)*(Projects!$C$5:$C$2393='MDOT FTA Detail'!$C$4)*(Projects!$L$5:$L$2393='MDOT FTA Detail'!$A90)*(Projects!$J$5:$J$2393<>'MDOT FTA Detail'!$A$171)*(Projects!$K$5:$K$2393))","v":0},0,{"$f":"SUMPRODUCT((Projects!$A$5:$A$2393='MDOT FTA Detail'!$J$3)*(Projects!$C$5:$C$2393='MDOT FTA Detail'!$C$4)*(Projects!$L$5:$L$2393='MDOT FTA Detail'!$A90)*(Projects!$J$5:$J$2393<>'MDOT FTA Detail'!$A$171)*(Projects!$Q$5:$Q$2393))","v":0},{"$f":"SUMPRODUCT((Projects!$A$5:$A$2393='MDOT FTA Detail'!$M$3)*(Projects!$C$5:$C$2393='MDOT FTA Detail'!$C$4)*(Projects!$L$5:$L$2393='MDOT FTA Detail'!$A90)*(Projects!$J$5:$J$2393<>'MDOT FTA Detail'!$A$171)*(Projects!$K$5:$K$2393))","v":0},0,{"$f":"SUMPRODUCT((Projects!$A$5:$A$2393='MDOT FTA Detail'!$M$3)*(Projects!$C$5:$C$2393='MDOT FTA Detail'!$C$4)*(Projects!$L$5:$L$2393='MDOT FTA Detail'!$A90)*(Projects!$J$5:$J$2393<>'MDOT FTA Detail'!$A$171)*(Projects!$Q$5:$Q$2393))","v":0}]
["STU","STP - Urban Areas > 200,000 Population","MDOT FA",{"$f":"SUMPRODUCT((Projects!$A$5:$A$2393='MDOT FTA Detail'!$D$3)*(Projects!$C$5:$C$2393='MDOT FTA Detail'!$C$4)*(Projects!$L$5:$L$2393='MDOT FTA Detail'!$A91)*(Projects!$J$5:$J$2393<>'MDOT FTA Detail'!$A$171)*(Projects!$K$5:K$2393))","v":0},0,{"$f":"SUMPRODUCT((Projects!$A$5:$A$2393='MDOT FTA Detail'!$D$3)*(Projects!$C$5:$C$2393='MDOT FTA Detail'!$C$4)*(Projects!$L$5:$L$2393='MDOT FTA Detail'!$A91)*(Projects!$J$5:$J$2393<>'MDOT FTA Detail'!$A$171)*(Projects!$Q$5:Q$2393))","v":0},{"$f":"SUMPRODUCT((Projects!$A$5:$A$2393='MDOT FTA Detail'!$G$3)*(Projects!$C$5:$C$2393='MDOT FTA Detail'!$C$4)*(Projects!$L$5:$L$2393='MDOT FTA Detail'!$A91)*(Projects!$J$5:$J$2393<>'MDOT FTA Detail'!$A$171)*(Projects!$K$5:K$2393))","v":0},0,{"$f":"SUMPRODUCT((Projects!$A$5:$A$2393='MDOT FTA Detail'!$G$3)*(Projects!$C$5:$C$2393='MDOT FTA Detail'!$C$4)*(Projects!$L$5:$L$2393='MDOT FTA Detail'!$A91)*(Projects!$J$5:$J$2393<>'MDOT FTA Detail'!$A$171)*(Projects!$Q$5:Q$2393))","v":0},{"$f":"SUMPRODUCT((Projects!$A$5:$A$2393='MDOT FTA Detail'!$J$3)*(Projects!$C$5:$C$2393='MDOT FTA Detail'!$C$4)*(Projects!$L$5:$L$2393='MDOT FTA Detail'!$A91)*(Projects!$J$5:$J$2393<>'MDOT FTA Detail'!$A$171)*(Projects!$K$5:$K$2393))","v":0},0,{"$f":"SUMPRODUCT((Projects!$A$5:$A$2393='MDOT FTA Detail'!$J$3)*(Projects!$C$5:$C$2393='MDOT FTA Detail'!$C$4)*(Projects!$L$5:$L$2393='MDOT FTA Detail'!$A91)*(Projects!$J$5:$J$2393<>'MDOT FTA Detail'!$A$171)*(Projects!$Q$5:$Q$2393))","v":0},{"$f":"SUMPRODUCT((Projects!$A$5:$A$2393='MDOT FTA Detail'!$M$3)*(Projects!$C$5:$C$2393='MDOT FTA Detail'!$C$4)*(Projects!$L$5:$L$2393='MDOT FTA Detail'!$A91)*(Projects!$J$5:$J$2393<>'MDOT FTA Detail'!$A$171)*(Projects!$K$5:$K$2393))","v":0},0,{"$f":"SUMPRODUCT((Projects!$A$5:$A$2393='MDOT FTA Detail'!$M$3)*(Projects!$C$5:$C$2393='MDOT FTA Detail'!$C$4)*(Projects!$L$5:$L$2393='MDOT FTA Detail'!$A91)*(Projects!$J$5:$J$2393<>'MDOT FTA Detail'!$A$171)*(Projects!$Q$5:$Q$2393))","v":0}]
["STUG","STP - Urban Areas < 200,000  Population 100%","MDOT FA",{"$f":"SUMPRODUCT((Projects!$A$5:$A$2393='MDOT FTA Detail'!$D$3)*(Projects!$C$5:$C$2393='MDOT FTA Detail'!$C$4)*(Projects!$L$5:$L$2393='MDOT FTA Detail'!$A92)*(Projects!$J$5:$J$2393<>'MDOT FTA Detail'!$A$171)*(Projects!$K$5:K$2393))","v":0},{"$f":"F92-D92","v":0},{"$f":"SUMPRODUCT((Projects!$A$5:$A$2393='MDOT FTA Detail'!$D$3)*(Projects!$C$5:$C$2393='MDOT FTA Detail'!$C$4)*(Projects!$L$5:$L$2393='MDOT FTA Detail'!$A92)*(Projects!$J$5:$J$2393<>'MDOT FTA Detail'!$A$171)*(Projects!$Q$5:Q$2393))","v":0},{"$f":"SUMPRODUCT((Projects!$A$5:$A$2393='MDOT FTA Detail'!$G$3)*(Projects!$C$5:$C$2393='MDOT FTA Detail'!$C$4)*(Projects!$L$5:$L$2393='MDOT FTA Detail'!$A92)*(Projects!$J$5:$J$2393<>'MDOT FTA Detail'!$A$171)*(Projects!$K$5:K$2393))","v":0},{"$f":"I92-G92","v":0},{"$f":"SUMPRODUCT((Projects!$A$5:$A$2393='MDOT FTA Detail'!$G$3)*(Projects!$C$5:$C$2393='MDOT FTA Detail'!$C$4)*(Projects!$L$5:$L$2393='MDOT FTA Detail'!$A92)*(Projects!$J$5:$J$2393<>'MDOT FTA Detail'!$A$171)*(Projects!$Q$5:Q$2393))","v":0},{"$f":"SUMPRODUCT((Projects!$A$5:$A$2393='MDOT FTA Detail'!$J$3)*(Projects!$C$5:$C$2393='MDOT FTA Detail'!$C$4)*(Projects!$L$5:$L$2393='MDOT FTA Detail'!$A92)*(Projects!$J$5:$J$2393<>'MDOT FTA Detail'!$A$171)*(Projects!$K$5:$K$2393))","v":0},{"$f":"L92-J92","v":0},{"$f":"SUMPRODUCT((Projects!$A$5:$A$2393='MDOT FTA Detail'!$J$3)*(Projects!$C$5:$C$2393='MDOT FTA Detail'!$C$4)*(Projects!$L$5:$L$2393='MDOT FTA Detail'!$A92)*(Projects!$J$5:$J$2393<>'MDOT FTA Detail'!$A$171)*(Projects!$Q$5:$Q$2393))","v":0},{"$f":"SUMPRODUCT((Projects!$A$5:$A$2393='MDOT FTA Detail'!$M$3)*(Projects!$C$5:$C$2393='MDOT FTA Detail'!$C$4)*(Projects!$L$5:$L$2393='MDOT FTA Detail'!$A92)*(Projects!$J$5:$J$2393<>'MDOT FTA Detail'!$A$171)*(Projects!$K$5:$K$2393))","v":0},{"$f":"O92-M92","v":0},{"$f":"SUMPRODUCT((Projects!$A$5:$A$2393='MDOT FTA Detail'!$M$3)*(Projects!$C$5:$C$2393='MDOT FTA Detail'!$C$4)*(Projects!$L$5:$L$2393='MDOT FTA Detail'!$A92)*(Projects!$J$5:$J$2393<>'MDOT FTA Detail'!$A$171)*(Projects!$Q$5:$Q$2393))","v":0}]
["STUL","STP - Urban Areas < 200,000 Population","MDOT FA",{"$f":"SUMPRODUCT((Projects!$A$5:$A$2393='MDOT FTA Detail'!$D$3)*(Projects!$C$5:$C$2393='MDOT FTA Detail'!$C$4)*(Projects!$L$5:$L$2393='MDOT FTA Detail'!$A93)*(Projects!$J$5:$J$2393<>'MDOT FTA Detail'!$A$171)*(Projects!$K$5:K$2393))","v":0},0,{"$f":"SUMPRODUCT((Projects!$A$5:$A$2393='MDOT FTA Detail'!$D$3)*(Projects!$C$5:$C$2393='MDOT FTA Detail'!$C$4)*(Projects!$L$5:$L$2393='MDOT FTA Detail'!$A93)*(Projects!$J$5:$J$2393<>'MDOT FTA Detail'!$A$171)*(Projects!$Q$5:Q$2393))","v":0},{"$f":"SUMPRODUCT((Projects!$A$5:$A$2393='MDOT FTA Detail'!$G$3)*(Projects!$C$5:$C$2393='MDOT FTA Detail'!$C$4)*(Projects!$L$5:$L$2393='MDOT FTA Detail'!$A93)*(Projects!$J$5:$J$2393<>'MDOT FTA Detail'!$A$171)*(Projects!$K$5:K$2393))","v":0},0,{"$f":"SUMPRODUCT((Projects!$A$5:$A$2393='MDOT FTA Detail'!$G$3)*(Projects!$C$5:$C$2393='MDOT FTA Detail'!$C$4)*(Projects!$L$5:$L$2393='MDOT FTA Detail'!$A93)*(Projects!$J$5:$J$2393<>'MDOT FTA Detail'!$A$171)*(Projects!$Q$5:Q$2393))","v":0},{"$f":"SUMPRODUCT((Projects!$A$5:$A$2393='MDOT FTA Detail'!$J$3)*(Projects!$C$5:$C$2393='MDOT FTA Detail'!$C$4)*(Projects!$L$5:$L$2393='MDOT FTA Detail'!$A93)*(Projects!$J$5:$J$2393<>'MDOT FTA Detail'!$A$171)*(Projects!$K$5:$K$2393))","v":0},0,{"$f":"SUMPRODUCT((Projects!$A$5:$A$2393='MDOT FTA Detail'!$J$3)*(Projects!$C$5:$C$2393='MDOT FTA Detail'!$C$4)*(Projects!$L$5:$L$2393='MDOT FTA Detail'!$A93)*(Projects!$J$5:$J$2393<>'MDOT FTA Detail'!$A$171)*(Projects!$Q$5:$Q$2393))","v":0},{"$f":"SUMPRODUCT((Projects!$A$5:$A$2393='MDOT FTA Detail'!$M$3)*(Projects!$C$5:$C$2393='MDOT FTA Detail'!$C$4)*(Projects!$L$5:$L$2393='MDOT FTA Detail'!$A93)*(Projects!$J$5:$J$2393<>'MDOT FTA Detail'!$A$171)*(Projects!$K$5:$K$2393))","v":0},0,{"$f":"SUMPRODUCT((Projects!$A$5:$A$2393='MDOT FTA Detail'!$M$3)*(Projects!$C$5:$C$2393='MDOT FTA Detail'!$C$4)*(Projects!$L$5:$L$2393='MDOT FTA Detail'!$A93)*(Projects!$J$5:$J$2393<>'MDOT FTA Detail'!$A$171)*(Projects!$Q$5:$Q$2393))","v":0}]
["STUT","STP - Urban Areas < 200,000 Population - Trunkline","MDOT FA",{"$f":"SUMPRODUCT((Projects!$A$5:$A$2393='MDOT FTA Detail'!$D$3)*(Projects!$C$5:$C$2393='MDOT FTA Detail'!$C$4)*(Projects!$L$5:$L$2393='MDOT FTA Detail'!$A94)*(Projects!$J$5:$J$2393<>'MDOT FTA Detail'!$A$171)*(Projects!$K$5:K$2393))","v":0},0,{"$f":"SUMPRODUCT((Projects!$A$5:$A$2393='MDOT FTA Detail'!$D$3)*(Projects!$C$5:$C$2393='MDOT FTA Detail'!$C$4)*(Projects!$L$5:$L$2393='MDOT FTA Detail'!$A94)*(Projects!$J$5:$J$2393<>'MDOT FTA Detail'!$A$171)*(Projects!$Q$5:Q$2393))","v":0},{"$f":"SUMPRODUCT((Projects!$A$5:$A$2393='MDOT FTA Detail'!$G$3)*(Projects!$C$5:$C$2393='MDOT FTA Detail'!$C$4)*(Projects!$L$5:$L$2393='MDOT FTA Detail'!$A94)*(Projects!$J$5:$J$2393<>'MDOT FTA Detail'!$A$171)*(Projects!$K$5:K$2393))","v":0},0,{"$f":"SUMPRODUCT((Projects!$A$5:$A$2393='MDOT FTA Detail'!$G$3)*(Projects!$C$5:$C$2393='MDOT FTA Detail'!$C$4)*(Projects!$L$5:$L$2393='MDOT FTA Detail'!$A94)*(Projects!$J$5:$J$2393<>'MDOT FTA Detail'!$A$171)*(Projects!$Q$5:Q$2393))","v":0},{"$f":"SUMPRODUCT((Projects!$A$5:$A$2393='MDOT FTA Detail'!$J$3)*(Projects!$C$5:$C$2393='MDOT FTA Detail'!$C$4)*(Projects!$L$5:$L$2393='MDOT FTA Detail'!$A94)*(Projects!$J$5:$J$2393<>'MDOT FTA Detail'!$A$171)*(Projects!$K$5:$K$2393))","v":0},0,{"$f":"SUMPRODUCT((Projects!$A$5:$A$2393='MDOT FTA Detail'!$J$3)*(Projects!$C$5:$C$2393='MDOT FTA Detail'!$C$4)*(Projects!$L$5:$L$2393='MDOT FTA Detail'!$A94)*(Projects!$J$5:$J$2393<>'MDOT FTA Detail'!$A$171)*(Projects!$Q$5:$Q$2393))","v":0},{"$f":"SUMPRODUCT((Projects!$A$5:$A$2393='MDOT FTA Detail'!$M$3)*(Projects!$C$5:$C$2393='MDOT FTA Detail'!$C$4)*(Projects!$L$5:$L$2393='MDOT FTA Detail'!$A94)*(Projects!$J$5:$J$2393<>'MDOT FTA Detail'!$A$171)*(Projects!$K$5:$K$2393))","v":0},0,{"$f":"SUMPRODUCT((Projects!$A$5:$A$2393='MDOT FTA Detail'!$M$3)*(Projects!$C$5:$C$2393='MDOT FTA Detail'!$C$4)*(Projects!$L$5:$L$2393='MDOT FTA Detail'!$A94)*(Projects!$J$5:$J$2393<>'MDOT FTA Detail'!$A$171)*(Projects!$Q$5:$Q$2393))","v":0}]
["SUG","STP - Safety - 100% Federal for STU","MDOT FA",{"$f":"SUMPRODUCT((Projects!$A$5:$A$2393='MDOT FTA Detail'!$D$3)*(Projects!$C$5:$C$2393='MDOT FTA Detail'!$C$4)*(Projects!$L$5:$L$2393='MDOT FTA Detail'!$A95)*(Projects!$J$5:$J$2393<>'MDOT FTA Detail'!$A$171)*(Projects!$K$5:K$2393))","v":0},0,{"$f":"SUMPRODUCT((Projects!$A$5:$A$2393='MDOT FTA Detail'!$D$3)*(Projects!$C$5:$C$2393='MDOT FTA Detail'!$C$4)*(Projects!$L$5:$L$2393='MDOT FTA Detail'!$A95)*(Projects!$J$5:$J$2393<>'MDOT FTA Detail'!$A$171)*(Projects!$Q$5:Q$2393))","v":0},{"$f":"SUMPRODUCT((Projects!$A$5:$A$2393='MDOT FTA Detail'!$G$3)*(Projects!$C$5:$C$2393='MDOT FTA Detail'!$C$4)*(Projects!$L$5:$L$2393='MDOT FTA Detail'!$A95)*(Projects!$J$5:$J$2393<>'MDOT FTA Detail'!$A$171)*(Projects!$K$5:K$2393))","v":0},0,{"$f":"SUMPRODUCT((Projects!$A$5:$A$2393='MDOT FTA Detail'!$G$3)*(Projects!$C$5:$C$2393='MDOT FTA Detail'!$C$4)*(Projects!$L$5:$L$2393='MDOT FTA Detail'!$A95)*(Projects!$J$5:$J$2393<>'MDOT FTA Detail'!$A$171)*(Projects!$Q$5:Q$2393))","v":0},{"$f":"SUMPRODUCT((Projects!$A$5:$A$2393='MDOT FTA Detail'!$J$3)*(Projects!$C$5:$C$2393='MDOT FTA Detail'!$C$4)*(Projects!$L$5:$L$2393='MDOT FTA Detail'!$A95)*(Projects!$J$5:$J$2393<>'MDOT FTA Detail'!$A$171)*(Projects!$K$5:$K$2393))","v":0},0,{"$f":"SUMPRODUCT((Projects!$A$5:$A$2393='MDOT FTA Detail'!$J$3)*(Projects!$C$5:$C$2393='MDOT FTA Detail'!$C$4)*(Projects!$L$5:$L$2393='MDOT FTA Detail'!$A95)*(Projects!$J$5:$J$2393<>'MDOT FTA Detail'!$A$171)*(Projects!$Q$5:$Q$2393))","v":0},{"$f":"SUMPRODUCT((Projects!$A$5:$A$2393='MDOT FTA Detail'!$M$3)*(Projects!$C$5:$C$2393='MDOT FTA Detail'!$C$4)*(Projects!$L$5:$L$2393='MDOT FTA Detail'!$A95)*(Projects!$J$5:$J$2393<>'MDOT FTA Detail'!$A$171)*(Projects!$K$5:$K$2393))","v":0},0,{"$f":"SUMPRODUCT((Projects!$A$5:$A$2393='MDOT FTA Detail'!$M$3)*(Projects!$C$5:$C$2393='MDOT FTA Detail'!$C$4)*(Projects!$L$5:$L$2393='MDOT FTA Detail'!$A95)*(Projects!$J$5:$J$2393<>'MDOT FTA Detail'!$A$171)*(Projects!$Q$5:$Q$2393))","v":0}]
["SUL","Surface Transportation Urban Areas  <200,000 Population","MDOT FA",{"$f":"SUMPRODUCT((Projects!$A$5:$A$2393='MDOT FTA Detail'!$D$3)*(Projects!$C$5:$C$2393='MDOT FTA Detail'!$C$4)*(Projects!$L$5:$L$2393='MDOT FTA Detail'!$A96)*(Projects!$J$5:$J$2393<>'MDOT FTA Detail'!$A$171)*(Projects!$K$5:K$2393))","v":0},0,{"$f":"SUMPRODUCT((Projects!$A$5:$A$2393='MDOT FTA Detail'!$D$3)*(Projects!$C$5:$C$2393='MDOT FTA Detail'!$C$4)*(Projects!$L$5:$L$2393='MDOT FTA Detail'!$A96)*(Projects!$J$5:$J$2393<>'MDOT FTA Detail'!$A$171)*(Projects!$Q$5:Q$2393))","v":0},{"$f":"SUMPRODUCT((Projects!$A$5:$A$2393='MDOT FTA Detail'!$G$3)*(Projects!$C$5:$C$2393='MDOT FTA Detail'!$C$4)*(Projects!$L$5:$L$2393='MDOT FTA Detail'!$A96)*(Projects!$J$5:$J$2393<>'MDOT FTA Detail'!$A$171)*(Projects!$K$5:K$2393))","v":0},0,{"$f":"SUMPRODUCT((Projects!$A$5:$A$2393='MDOT FTA Detail'!$G$3)*(Projects!$C$5:$C$2393='MDOT FTA Detail'!$C$4)*(Projects!$L$5:$L$2393='MDOT FTA Detail'!$A96)*(Projects!$J$5:$J$2393<>'MDOT FTA Detail'!$A$171)*(Projects!$Q$5:Q$2393))","v":0},{"$f":"SUMPRODUCT((Projects!$A$5:$A$2393='MDOT FTA Detail'!$J$3)*(Projects!$C$5:$C$2393='MDOT FTA Detail'!$C$4)*(Projects!$L$5:$L$2393='MDOT FTA Detail'!$A96)*(Projects!$J$5:$J$2393<>'MDOT FTA Detail'!$A$171)*(Projects!$K$5:$K$2393))","v":0},0,{"$f":"SUMPRODUCT((Projects!$A$5:$A$2393='MDOT FTA Detail'!$J$3)*(Projects!$C$5:$C$2393='MDOT FTA Detail'!$C$4)*(Projects!$L$5:$L$2393='MDOT FTA Detail'!$A96)*(Projects!$J$5:$J$2393<>'MDOT FTA Detail'!$A$171)*(Projects!$Q$5:$Q$2393))","v":0},{"$f":"SUMPRODUCT((Projects!$A$5:$A$2393='MDOT FTA Detail'!$M$3)*(Projects!$C$5:$C$2393='MDOT FTA Detail'!$C$4)*(Projects!$L$5:$L$2393='MDOT FTA Detail'!$A96)*(Projects!$J$5:$J$2393<>'MDOT FTA Detail'!$A$171)*(Projects!$K$5:$K$2393))","v":0},0,{"$f":"SUMPRODUCT((Projects!$A$5:$A$2393='MDOT FTA Detail'!$M$3)*(Projects!$C$5:$C$2393='MDOT FTA Detail'!$C$4)*(Projects!$L$5:$L$2393='MDOT FTA Detail'!$A96)*(Projects!$J$5:$J$2393<>'MDOT FTA Detail'!$A$171)*(Projects!$Q$5:$Q$2393))","v":0}]
["SULG","Surfcace Transportation Urban Areas <200,000 Population 100%","MDOT FA",{"$f":"SUMPRODUCT((Projects!$A$5:$A$2393='MDOT FTA Detail'!$D$3)*(Projects!$C$5:$C$2393='MDOT FTA Detail'!$C$4)*(Projects!$L$5:$L$2393='MDOT FTA Detail'!$A97)*(Projects!$J$5:$J$2393<>'MDOT FTA Detail'!$A$171)*(Projects!$K$5:K$2393))","v":0},0,{"$f":"SUMPRODUCT((Projects!$A$5:$A$2393='MDOT FTA Detail'!$D$3)*(Projects!$C$5:$C$2393='MDOT FTA Detail'!$C$4)*(Projects!$L$5:$L$2393='MDOT FTA Detail'!$A97)*(Projects!$J$5:$J$2393<>'MDOT FTA Detail'!$A$171)*(Projects!$Q$5:Q$2393))","v":0},{"$f":"SUMPRODUCT((Projects!$A$5:$A$2393='MDOT FTA Detail'!$G$3)*(Projects!$C$5:$C$2393='MDOT FTA Detail'!$C$4)*(Projects!$L$5:$L$2393='MDOT FTA Detail'!$A97)*(Projects!$J$5:$J$2393<>'MDOT FTA Detail'!$A$171)*(Projects!$K$5:K$2393))","v":0},0,{"$f":"SUMPRODUCT((Projects!$A$5:$A$2393='MDOT FTA Detail'!$G$3)*(Projects!$C$5:$C$2393='MDOT FTA Detail'!$C$4)*(Projects!$L$5:$L$2393='MDOT FTA Detail'!$A97)*(Projects!$J$5:$J$2393<>'MDOT FTA Detail'!$A$171)*(Projects!$Q$5:Q$2393))","v":0},{"$f":"SUMPRODUCT((Projects!$A$5:$A$2393='MDOT FTA Detail'!$J$3)*(Projects!$C$5:$C$2393='MDOT FTA Detail'!$C$4)*(Projects!$L$5:$L$2393='MDOT FTA Detail'!$A97)*(Projects!$J$5:$J$2393<>'MDOT FTA Detail'!$A$171)*(Projects!$K$5:$K$2393))","v":0},0,{"$f":"SUMPRODUCT((Projects!$A$5:$A$2393='MDOT FTA Detail'!$J$3)*(Projects!$C$5:$C$2393='MDOT FTA Detail'!$C$4)*(Projects!$L$5:$L$2393='MDOT FTA Detail'!$A97)*(Projects!$J$5:$J$2393<>'MDOT FTA Detail'!$A$171)*(Projects!$Q$5:$Q$2393))","v":0},{"$f":"SUMPRODUCT((Projects!$A$5:$A$2393='MDOT FTA Detail'!$M$3)*(Projects!$C$5:$C$2393='MDOT FTA Detail'!$C$4)*(Projects!$L$5:$L$2393='MDOT FTA Detail'!$A97)*(Projects!$J$5:$J$2393<>'MDOT FTA Detail'!$A$171)*(Projects!$K$5:$K$2393))","v":0},0,{"$f":"SUMPRODUCT((Projects!$A$5:$A$2393='MDOT FTA Detail'!$M$3)*(Projects!$C$5:$C$2393='MDOT FTA Detail'!$C$4)*(Projects!$L$5:$L$2393='MDOT FTA Detail'!$A97)*(Projects!$J$5:$J$2393<>'MDOT FTA Detail'!$A$171)*(Projects!$Q$5:$Q$2393))","v":0}]
["TA","Transportation Alternatives Program Flex","MDOT FA",{"$f":"SUMPRODUCT((Projects!$A$5:$A$2393='MDOT FTA Detail'!$D$3)*(Projects!$C$5:$C$2393='MDOT FTA Detail'!$C$4)*(Projects!$L$5:$L$2393='MDOT FTA Detail'!$A98)*(Projects!$J$5:$J$2393<>'MDOT FTA Detail'!$A$171)*(Projects!$K$5:K$2393))","v":0},0,{"$f":"SUMPRODUCT((Projects!$A$5:$A$2393='MDOT FTA Detail'!$D$3)*(Projects!$C$5:$C$2393='MDOT FTA Detail'!$C$4)*(Projects!$L$5:$L$2393='MDOT FTA Detail'!$A98)*(Projects!$J$5:$J$2393<>'MDOT FTA Detail'!$A$171)*(Projects!$Q$5:Q$2393))","v":0},{"$f":"SUMPRODUCT((Projects!$A$5:$A$2393='MDOT FTA Detail'!$G$3)*(Projects!$C$5:$C$2393='MDOT FTA Detail'!$C$4)*(Projects!$L$5:$L$2393='MDOT FTA Detail'!$A98)*(Projects!$J$5:$J$2393<>'MDOT FTA Detail'!$A$171)*(Projects!$K$5:K$2393))","v":0},0,{"$f":"SUMPRODUCT((Projects!$A$5:$A$2393='MDOT FTA Detail'!$G$3)*(Projects!$C$5:$C$2393='MDOT FTA Detail'!$C$4)*(Projects!$L$5:$L$2393='MDOT FTA Detail'!$A98)*(Projects!$J$5:$J$2393<>'MDOT FTA Detail'!$A$171)*(Projects!$Q$5:Q$2393))","v":0},{"$f":"SUMPRODUCT((Projects!$A$5:$A$2393='MDOT FTA Detail'!$J$3)*(Projects!$C$5:$C$2393='MDOT FTA Detail'!$C$4)*(Projects!$L$5:$L$2393='MDOT FTA Detail'!$A98)*(Projects!$J$5:$J$2393<>'MDOT FTA Detail'!$A$171)*(Projects!$K$5:$K$2393))","v":0},0,{"$f":"SUMPRODUCT((Projects!$A$5:$A$2393='MDOT FTA Detail'!$J$3)*(Projects!$C$5:$C$2393='MDOT FTA Detail'!$C$4)*(Projects!$L$5:$L$2393='MDOT FTA Detail'!$A98)*(Projects!$J$5:$J$2393<>'MDOT FTA Detail'!$A$171)*(Projects!$Q$5:$Q$2393))","v":0},{"$f":"SUMPRODUCT((Projects!$A$5:$A$2393='MDOT FTA Detail'!$M$3)*(Projects!$C$5:$C$2393='MDOT FTA Detail'!$C$4)*(Projects!$L$5:$L$2393='MDOT FTA Detail'!$A98)*(Projects!$J$5:$J$2393<>'MDOT FTA Detail'!$A$171)*(Projects!$K$5:$K$2393))","v":0},0,{"$f":"SUMPRODUCT((Projects!$A$5:$A$2393='MDOT FTA Detail'!$M$3)*(Projects!$C$5:$C$2393='MDOT FTA Detail'!$C$4)*(Projects!$L$5:$L$2393='MDOT FTA Detail'!$A98)*(Projects!$J$5:$J$2393<>'MDOT FTA Detail'!$A$171)*(Projects!$Q$5:$Q$2393))","v":0}]
["TAL","Transportation Alternatives Rural","MDOT FA",{"$f":"SUMPRODUCT((Projects!$A$5:$A$2393='MDOT FTA Detail'!$D$3)*(Projects!$C$5:$C$2393='MDOT FTA Detail'!$C$4)*(Projects!$L$5:$L$2393='MDOT FTA Detail'!$A99)*(Projects!$J$5:$J$2393<>'MDOT FTA Detail'!$A$171)*(Projects!$K$5:K$2393))","v":0},0,{"$f":"SUMPRODUCT((Projects!$A$5:$A$2393='MDOT FTA Detail'!$D$3)*(Projects!$C$5:$C$2393='MDOT FTA Detail'!$C$4)*(Projects!$L$5:$L$2393='MDOT FTA Detail'!$A99)*(Projects!$J$5:$J$2393<>'MDOT FTA Detail'!$A$171)*(Projects!$Q$5:Q$2393))","v":0},{"$f":"SUMPRODUCT((Projects!$A$5:$A$2393='MDOT FTA Detail'!$G$3)*(Projects!$C$5:$C$2393='MDOT FTA Detail'!$C$4)*(Projects!$L$5:$L$2393='MDOT FTA Detail'!$A99)*(Projects!$J$5:$J$2393<>'MDOT FTA Detail'!$A$171)*(Projects!$K$5:K$2393))","v":0},0,{"$f":"SUMPRODUCT((Projects!$A$5:$A$2393='MDOT FTA Detail'!$G$3)*(Projects!$C$5:$C$2393='MDOT FTA Detail'!$C$4)*(Projects!$L$5:$L$2393='MDOT FTA Detail'!$A99)*(Projects!$J$5:$J$2393<>'MDOT FTA Detail'!$A$171)*(Projects!$Q$5:Q$2393))","v":0},{"$f":"SUMPRODUCT((Projects!$A$5:$A$2393='MDOT FTA Detail'!$J$3)*(Projects!$C$5:$C$2393='MDOT FTA Detail'!$C$4)*(Projects!$L$5:$L$2393='MDOT FTA Detail'!$A99)*(Projects!$J$5:$J$2393<>'MDOT FTA Detail'!$A$171)*(Projects!$K$5:$K$2393))","v":0},0,{"$f":"SUMPRODUCT((Projects!$A$5:$A$2393='MDOT FTA Detail'!$J$3)*(Projects!$C$5:$C$2393='MDOT FTA Detail'!$C$4)*(Projects!$L$5:$L$2393='MDOT FTA Detail'!$A99)*(Projects!$J$5:$J$2393<>'MDOT FTA Detail'!$A$171)*(Projects!$Q$5:$Q$2393))","v":0},{"$f":"SUMPRODUCT((Projects!$A$5:$A$2393='MDOT FTA Detail'!$M$3)*(Projects!$C$5:$C$2393='MDOT FTA Detail'!$C$4)*(Projects!$L$5:$L$2393='MDOT FTA Detail'!$A99)*(Projects!$J$5:$J$2393<>'MDOT FTA Detail'!$A$171)*(Projects!$K$5:$K$2393))","v":0},0,{"$f":"SUMPRODUCT((Projects!$A$5:$A$2393='MDOT FTA Detail'!$M$3)*(Projects!$C$5:$C$2393='MDOT FTA Detail'!$C$4)*(Projects!$L$5:$L$2393='MDOT FTA Detail'!$A99)*(Projects!$J$5:$J$2393<>'MDOT FTA Detail'!$A$171)*(Projects!$Q$5:$Q$2393))","v":0}]
["TAU","Transportation Alternatives Urban Areas > 200,000 Population","MDOT FA",{"$f":"SUMPRODUCT((Projects!$A$5:$A$2393='MDOT FTA Detail'!$D$3)*(Projects!$C$5:$C$2393='MDOT FTA Detail'!$C$4)*(Projects!$L$5:$L$2393='MDOT FTA Detail'!$A100)*(Projects!$J$5:$J$2393<>'MDOT FTA Detail'!$A$171)*(Projects!$K$5:K$2393))","v":0},0,{"$f":"SUMPRODUCT((Projects!$A$5:$A$2393='MDOT FTA Detail'!$D$3)*(Projects!$C$5:$C$2393='MDOT FTA Detail'!$C$4)*(Projects!$L$5:$L$2393='MDOT FTA Detail'!$A100)*(Projects!$J$5:$J$2393<>'MDOT FTA Detail'!$A$171)*(Projects!$Q$5:Q$2393))","v":0},{"$f":"SUMPRODUCT((Projects!$A$5:$A$2393='MDOT FTA Detail'!$G$3)*(Projects!$C$5:$C$2393='MDOT FTA Detail'!$C$4)*(Projects!$L$5:$L$2393='MDOT FTA Detail'!$A100)*(Projects!$J$5:$J$2393<>'MDOT FTA Detail'!$A$171)*(Projects!$K$5:K$2393))","v":0},0,{"$f":"SUMPRODUCT((Projects!$A$5:$A$2393='MDOT FTA Detail'!$G$3)*(Projects!$C$5:$C$2393='MDOT FTA Detail'!$C$4)*(Projects!$L$5:$L$2393='MDOT FTA Detail'!$A100)*(Projects!$J$5:$J$2393<>'MDOT FTA Detail'!$A$171)*(Projects!$Q$5:Q$2393))","v":0},{"$f":"SUMPRODUCT((Projects!$A$5:$A$2393='MDOT FTA Detail'!$J$3)*(Projects!$C$5:$C$2393='MDOT FTA Detail'!$C$4)*(Projects!$L$5:$L$2393='MDOT FTA Detail'!$A100)*(Projects!$J$5:$J$2393<>'MDOT FTA Detail'!$A$171)*(Projects!$K$5:$K$2393))","v":0},0,{"$f":"SUMPRODUCT((Projects!$A$5:$A$2393='MDOT FTA Detail'!$J$3)*(Projects!$C$5:$C$2393='MDOT FTA Detail'!$C$4)*(Projects!$L$5:$L$2393='MDOT FTA Detail'!$A100)*(Projects!$J$5:$J$2393<>'MDOT FTA Detail'!$A$171)*(Projects!$Q$5:$Q$2393))","v":0},{"$f":"SUMPRODUCT((Projects!$A$5:$A$2393='MDOT FTA Detail'!$M$3)*(Projects!$C$5:$C$2393='MDOT FTA Detail'!$C$4)*(Projects!$L$5:$L$2393='MDOT FTA Detail'!$A100)*(Projects!$J$5:$J$2393<>'MDOT FTA Detail'!$A$171)*(Projects!$K$5:$K$2393))","v":0},0,{"$f":"SUMPRODUCT((Projects!$A$5:$A$2393='MDOT FTA Detail'!$M$3)*(Projects!$C$5:$C$2393='MDOT FTA Detail'!$C$4)*(Projects!$L$5:$L$2393='MDOT FTA Detail'!$A100)*(Projects!$J$5:$J$2393<>'MDOT FTA Detail'!$A$171)*(Projects!$Q$5:$Q$2393))","v":0}]
["TAUL","Transporation Alternatives Urban Areas < 200,000 Population","MDOT FA",{"$f":"SUMPRODUCT((Projects!$A$5:$A$2393='MDOT FTA Detail'!$D$3)*(Projects!$C$5:$C$2393='MDOT FTA Detail'!$C$4)*(Projects!$L$5:$L$2393='MDOT FTA Detail'!$A101)*(Projects!$J$5:$J$2393<>'MDOT FTA Detail'!$A$171)*(Projects!$K$5:K$2393))","v":0},0,{"$f":"SUMPRODUCT((Projects!$A$5:$A$2393='MDOT FTA Detail'!$D$3)*(Projects!$C$5:$C$2393='MDOT FTA Detail'!$C$4)*(Projects!$L$5:$L$2393='MDOT FTA Detail'!$A101)*(Projects!$J$5:$J$2393<>'MDOT FTA Detail'!$A$171)*(Projects!$Q$5:Q$2393))","v":0},{"$f":"SUMPRODUCT((Projects!$A$5:$A$2393='MDOT FTA Detail'!$G$3)*(Projects!$C$5:$C$2393='MDOT FTA Detail'!$C$4)*(Projects!$L$5:$L$2393='MDOT FTA Detail'!$A101)*(Projects!$J$5:$J$2393<>'MDOT FTA Detail'!$A$171)*(Projects!$K$5:K$2393))","v":0},0,{"$f":"SUMPRODUCT((Projects!$A$5:$A$2393='MDOT FTA Detail'!$G$3)*(Projects!$C$5:$C$2393='MDOT FTA Detail'!$C$4)*(Projects!$L$5:$L$2393='MDOT FTA Detail'!$A101)*(Projects!$J$5:$J$2393<>'MDOT FTA Detail'!$A$171)*(Projects!$Q$5:Q$2393))","v":0},{"$f":"SUMPRODUCT((Projects!$A$5:$A$2393='MDOT FTA Detail'!$J$3)*(Projects!$C$5:$C$2393='MDOT FTA Detail'!$C$4)*(Projects!$L$5:$L$2393='MDOT FTA Detail'!$A101)*(Projects!$J$5:$J$2393<>'MDOT FTA Detail'!$A$171)*(Projects!$K$5:$K$2393))","v":0},0,{"$f":"SUMPRODUCT((Projects!$A$5:$A$2393='MDOT FTA Detail'!$J$3)*(Projects!$C$5:$C$2393='MDOT FTA Detail'!$C$4)*(Projects!$L$5:$L$2393='MDOT FTA Detail'!$A101)*(Projects!$J$5:$J$2393<>'MDOT FTA Detail'!$A$171)*(Projects!$Q$5:$Q$2393))","v":0},{"$f":"SUMPRODUCT((Projects!$A$5:$A$2393='MDOT FTA Detail'!$M$3)*(Projects!$C$5:$C$2393='MDOT FTA Detail'!$C$4)*(Projects!$L$5:$L$2393='MDOT FTA Detail'!$A101)*(Projects!$J$5:$J$2393<>'MDOT FTA Detail'!$A$171)*(Projects!$K$5:$K$2393))","v":0},0,{"$f":"SUMPRODUCT((Projects!$A$5:$A$2393='MDOT FTA Detail'!$M$3)*(Projects!$C$5:$C$2393='MDOT FTA Detail'!$C$4)*(Projects!$L$5:$L$2393='MDOT FTA Detail'!$A101)*(Projects!$J$5:$J$2393<>'MDOT FTA Detail'!$A$171)*(Projects!$Q$5:$Q$2393))","v":0}]
["TBR","Timber Bridge Fund","MDOT FA",{"$f":"SUMPRODUCT((Projects!$A$5:$A$2393='MDOT FTA Detail'!$D$3)*(Projects!$C$5:$C$2393='MDOT FTA Detail'!$C$4)*(Projects!$L$5:$L$2393='MDOT FTA Detail'!$A102)*(Projects!$J$5:$J$2393<>'MDOT FTA Detail'!$A$171)*(Projects!$K$5:K$2393))","v":0},0,{"$f":"SUMPRODUCT((Projects!$A$5:$A$2393='MDOT FTA Detail'!$D$3)*(Projects!$C$5:$C$2393='MDOT FTA Detail'!$C$4)*(Projects!$L$5:$L$2393='MDOT FTA Detail'!$A102)*(Projects!$J$5:$J$2393<>'MDOT FTA Detail'!$A$171)*(Projects!$Q$5:Q$2393))","v":0},{"$f":"SUMPRODUCT((Projects!$A$5:$A$2393='MDOT FTA Detail'!$G$3)*(Projects!$C$5:$C$2393='MDOT FTA Detail'!$C$4)*(Projects!$L$5:$L$2393='MDOT FTA Detail'!$A102)*(Projects!$J$5:$J$2393<>'MDOT FTA Detail'!$A$171)*(Projects!$K$5:K$2393))","v":0},0,{"$f":"SUMPRODUCT((Projects!$A$5:$A$2393='MDOT FTA Detail'!$G$3)*(Projects!$C$5:$C$2393='MDOT FTA Detail'!$C$4)*(Projects!$L$5:$L$2393='MDOT FTA Detail'!$A102)*(Projects!$J$5:$J$2393<>'MDOT FTA Detail'!$A$171)*(Projects!$Q$5:Q$2393))","v":0},{"$f":"SUMPRODUCT((Projects!$A$5:$A$2393='MDOT FTA Detail'!$J$3)*(Projects!$C$5:$C$2393='MDOT FTA Detail'!$C$4)*(Projects!$L$5:$L$2393='MDOT FTA Detail'!$A102)*(Projects!$J$5:$J$2393<>'MDOT FTA Detail'!$A$171)*(Projects!$K$5:$K$2393))","v":0},0,{"$f":"SUMPRODUCT((Projects!$A$5:$A$2393='MDOT FTA Detail'!$J$3)*(Projects!$C$5:$C$2393='MDOT FTA Detail'!$C$4)*(Projects!$L$5:$L$2393='MDOT FTA Detail'!$A102)*(Projects!$J$5:$J$2393<>'MDOT FTA Detail'!$A$171)*(Projects!$Q$5:$Q$2393))","v":0},{"$f":"SUMPRODUCT((Projects!$A$5:$A$2393='MDOT FTA Detail'!$M$3)*(Projects!$C$5:$C$2393='MDOT FTA Detail'!$C$4)*(Projects!$L$5:$L$2393='MDOT FTA Detail'!$A102)*(Projects!$J$5:$J$2393<>'MDOT FTA Detail'!$A$171)*(Projects!$K$5:$K$2393))","v":0},0,{"$f":"SUMPRODUCT((Projects!$A$5:$A$2393='MDOT FTA Detail'!$M$3)*(Projects!$C$5:$C$2393='MDOT FTA Detail'!$C$4)*(Projects!$L$5:$L$2393='MDOT FTA Detail'!$A102)*(Projects!$J$5:$J$2393<>'MDOT FTA Detail'!$A$171)*(Projects!$Q$5:$Q$2393))","v":0}]
["TCP","Tax Compliance Program","MDOT FA",{"$f":"SUMPRODUCT((Projects!$A$5:$A$2393='MDOT FTA Detail'!$D$3)*(Projects!$C$5:$C$2393='MDOT FTA Detail'!$C$4)*(Projects!$L$5:$L$2393='MDOT FTA Detail'!$A103)*(Projects!$J$5:$J$2393<>'MDOT FTA Detail'!$A$171)*(Projects!$K$5:K$2393))","v":0},0,{"$f":"SUMPRODUCT((Projects!$A$5:$A$2393='MDOT FTA Detail'!$D$3)*(Projects!$C$5:$C$2393='MDOT FTA Detail'!$C$4)*(Projects!$L$5:$L$2393='MDOT FTA Detail'!$A103)*(Projects!$J$5:$J$2393<>'MDOT FTA Detail'!$A$171)*(Projects!$Q$5:Q$2393))","v":0},{"$f":"SUMPRODUCT((Projects!$A$5:$A$2393='MDOT FTA Detail'!$G$3)*(Projects!$C$5:$C$2393='MDOT FTA Detail'!$C$4)*(Projects!$L$5:$L$2393='MDOT FTA Detail'!$A103)*(Projects!$J$5:$J$2393<>'MDOT FTA Detail'!$A$171)*(Projects!$K$5:K$2393))","v":0},0,{"$f":"SUMPRODUCT((Projects!$A$5:$A$2393='MDOT FTA Detail'!$G$3)*(Projects!$C$5:$C$2393='MDOT FTA Detail'!$C$4)*(Projects!$L$5:$L$2393='MDOT FTA Detail'!$A103)*(Projects!$J$5:$J$2393<>'MDOT FTA Detail'!$A$171)*(Projects!$Q$5:Q$2393))","v":0},{"$f":"SUMPRODUCT((Projects!$A$5:$A$2393='MDOT FTA Detail'!$J$3)*(Projects!$C$5:$C$2393='MDOT FTA Detail'!$C$4)*(Projects!$L$5:$L$2393='MDOT FTA Detail'!$A103)*(Projects!$J$5:$J$2393<>'MDOT FTA Detail'!$A$171)*(Projects!$K$5:$K$2393))","v":0},0,{"$f":"SUMPRODUCT((Projects!$A$5:$A$2393='MDOT FTA Detail'!$J$3)*(Projects!$C$5:$C$2393='MDOT FTA Detail'!$C$4)*(Projects!$L$5:$L$2393='MDOT FTA Detail'!$A103)*(Projects!$J$5:$J$2393<>'MDOT FTA Detail'!$A$171)*(Projects!$Q$5:$Q$2393))","v":0},{"$f":"SUMPRODUCT((Projects!$A$5:$A$2393='MDOT FTA Detail'!$M$3)*(Projects!$C$5:$C$2393='MDOT FTA Detail'!$C$4)*(Projects!$L$5:$L$2393='MDOT FTA Detail'!$A103)*(Projects!$J$5:$J$2393<>'MDOT FTA Detail'!$A$171)*(Projects!$K$5:$K$2393))","v":0},0,{"$f":"SUMPRODUCT((Projects!$A$5:$A$2393='MDOT FTA Detail'!$M$3)*(Projects!$C$5:$C$2393='MDOT FTA Detail'!$C$4)*(Projects!$L$5:$L$2393='MDOT FTA Detail'!$A103)*(Projects!$J$5:$J$2393<>'MDOT FTA Detail'!$A$171)*(Projects!$Q$5:$Q$2393))","v":0}]
["TCSP","Transportation, Community and System Preservation","MDOT FA",{"$f":"SUMPRODUCT((Projects!$A$5:$A$2393='MDOT FTA Detail'!$D$3)*(Projects!$C$5:$C$2393='MDOT FTA Detail'!$C$4)*(Projects!$L$5:$L$2393='MDOT FTA Detail'!$A104)*(Projects!$J$5:$J$2393<>'MDOT FTA Detail'!$A$171)*(Projects!$K$5:K$2393))","v":0},0,{"$f":"SUMPRODUCT((Projects!$A$5:$A$2393='MDOT FTA Detail'!$D$3)*(Projects!$C$5:$C$2393='MDOT FTA Detail'!$C$4)*(Projects!$L$5:$L$2393='MDOT FTA Detail'!$A104)*(Projects!$J$5:$J$2393<>'MDOT FTA Detail'!$A$171)*(Projects!$Q$5:Q$2393))","v":0},{"$f":"SUMPRODUCT((Projects!$A$5:$A$2393='MDOT FTA Detail'!$G$3)*(Projects!$C$5:$C$2393='MDOT FTA Detail'!$C$4)*(Projects!$L$5:$L$2393='MDOT FTA Detail'!$A104)*(Projects!$J$5:$J$2393<>'MDOT FTA Detail'!$A$171)*(Projects!$K$5:K$2393))","v":0},0,{"$f":"SUMPRODUCT((Projects!$A$5:$A$2393='MDOT FTA Detail'!$G$3)*(Projects!$C$5:$C$2393='MDOT FTA Detail'!$C$4)*(Projects!$L$5:$L$2393='MDOT FTA Detail'!$A104)*(Projects!$J$5:$J$2393<>'MDOT FTA Detail'!$A$171)*(Projects!$Q$5:Q$2393))","v":0},{"$f":"SUMPRODUCT((Projects!$A$5:$A$2393='MDOT FTA Detail'!$J$3)*(Projects!$C$5:$C$2393='MDOT FTA Detail'!$C$4)*(Projects!$L$5:$L$2393='MDOT FTA Detail'!$A104)*(Projects!$J$5:$J$2393<>'MDOT FTA Detail'!$A$171)*(Projects!$K$5:$K$2393))","v":0},0,{"$f":"SUMPRODUCT((Projects!$A$5:$A$2393='MDOT FTA Detail'!$J$3)*(Projects!$C$5:$C$2393='MDOT FTA Detail'!$C$4)*(Projects!$L$5:$L$2393='MDOT FTA Detail'!$A104)*(Projects!$J$5:$J$2393<>'MDOT FTA Detail'!$A$171)*(Projects!$Q$5:$Q$2393))","v":0},{"$f":"SUMPRODUCT((Projects!$A$5:$A$2393='MDOT FTA Detail'!$M$3)*(Projects!$C$5:$C$2393='MDOT FTA Detail'!$C$4)*(Projects!$L$5:$L$2393='MDOT FTA Detail'!$A104)*(Projects!$J$5:$J$2393<>'MDOT FTA Detail'!$A$171)*(Projects!$K$5:$K$2393))","v":0},0,{"$f":"SUMPRODUCT((Projects!$A$5:$A$2393='MDOT FTA Detail'!$M$3)*(Projects!$C$5:$C$2393='MDOT FTA Detail'!$C$4)*(Projects!$L$5:$L$2393='MDOT FTA Detail'!$A104)*(Projects!$J$5:$J$2393<>'MDOT FTA Detail'!$A$171)*(Projects!$Q$5:$Q$2393))","v":0}]
["TG","Transportation  Grant (100% Fed)","MDOT FA",{"$f":"SUMPRODUCT((Projects!$A$5:$A$2393='MDOT FTA Detail'!$D$3)*(Projects!$C$5:$C$2393='MDOT FTA Detail'!$C$4)*(Projects!$L$5:$L$2393='MDOT FTA Detail'!$A105)*(Projects!$J$5:$J$2393<>'MDOT FTA Detail'!$A$171)*(Projects!$K$5:K$2393))","v":0},0,{"$f":"SUMPRODUCT((Projects!$A$5:$A$2393='MDOT FTA Detail'!$D$3)*(Projects!$C$5:$C$2393='MDOT FTA Detail'!$C$4)*(Projects!$L$5:$L$2393='MDOT FTA Detail'!$A105)*(Projects!$J$5:$J$2393<>'MDOT FTA Detail'!$A$171)*(Projects!$Q$5:Q$2393))","v":0},{"$f":"SUMPRODUCT((Projects!$A$5:$A$2393='MDOT FTA Detail'!$G$3)*(Projects!$C$5:$C$2393='MDOT FTA Detail'!$C$4)*(Projects!$L$5:$L$2393='MDOT FTA Detail'!$A105)*(Projects!$J$5:$J$2393<>'MDOT FTA Detail'!$A$171)*(Projects!$K$5:K$2393))","v":0},0,{"$f":"SUMPRODUCT((Projects!$A$5:$A$2393='MDOT FTA Detail'!$G$3)*(Projects!$C$5:$C$2393='MDOT FTA Detail'!$C$4)*(Projects!$L$5:$L$2393='MDOT FTA Detail'!$A105)*(Projects!$J$5:$J$2393<>'MDOT FTA Detail'!$A$171)*(Projects!$Q$5:Q$2393))","v":0},{"$f":"SUMPRODUCT((Projects!$A$5:$A$2393='MDOT FTA Detail'!$J$3)*(Projects!$C$5:$C$2393='MDOT FTA Detail'!$C$4)*(Projects!$L$5:$L$2393='MDOT FTA Detail'!$A105)*(Projects!$J$5:$J$2393<>'MDOT FTA Detail'!$A$171)*(Projects!$K$5:$K$2393))","v":0},0,{"$f":"SUMPRODUCT((Projects!$A$5:$A$2393='MDOT FTA Detail'!$J$3)*(Projects!$C$5:$C$2393='MDOT FTA Detail'!$C$4)*(Projects!$L$5:$L$2393='MDOT FTA Detail'!$A105)*(Projects!$J$5:$J$2393<>'MDOT FTA Detail'!$A$171)*(Projects!$Q$5:$Q$2393))","v":0},{"$f":"SUMPRODUCT((Projects!$A$5:$A$2393='MDOT FTA Detail'!$M$3)*(Projects!$C$5:$C$2393='MDOT FTA Detail'!$C$4)*(Projects!$L$5:$L$2393='MDOT FTA Detail'!$A105)*(Projects!$J$5:$J$2393<>'MDOT FTA Detail'!$A$171)*(Projects!$K$5:$K$2393))","v":0},0,{"$f":"SUMPRODUCT((Projects!$A$5:$A$2393='MDOT FTA Detail'!$M$3)*(Projects!$C$5:$C$2393='MDOT FTA Detail'!$C$4)*(Projects!$L$5:$L$2393='MDOT FTA Detail'!$A105)*(Projects!$J$5:$J$2393<>'MDOT FTA Detail'!$A$171)*(Projects!$Q$5:$Q$2393))","v":0}]
["TGR2","TIGER II Discretionary Grant","MDOT FA",{"$f":"SUMPRODUCT((Projects!$A$5:$A$2393='MDOT FTA Detail'!$D$3)*(Projects!$C$5:$C$2393='MDOT FTA Detail'!$C$4)*(Projects!$L$5:$L$2393='MDOT FTA Detail'!$A106)*(Projects!$J$5:$J$2393<>'MDOT FTA Detail'!$A$171)*(Projects!$K$5:K$2393))","v":0},{"$f":"F106-D106","v":0},{"$f":"SUMPRODUCT((Projects!$A$5:$A$2393='MDOT FTA Detail'!$D$3)*(Projects!$C$5:$C$2393='MDOT FTA Detail'!$C$4)*(Projects!$L$5:$L$2393='MDOT FTA Detail'!$A106)*(Projects!$J$5:$J$2393<>'MDOT FTA Detail'!$A$171)*(Projects!$Q$5:Q$2393))","v":0},{"$f":"SUMPRODUCT((Projects!$A$5:$A$2393='MDOT FTA Detail'!$G$3)*(Projects!$C$5:$C$2393='MDOT FTA Detail'!$C$4)*(Projects!$L$5:$L$2393='MDOT FTA Detail'!$A106)*(Projects!$J$5:$J$2393<>'MDOT FTA Detail'!$A$171)*(Projects!$K$5:K$2393))","v":0},{"$f":"I106-G106","v":0},{"$f":"SUMPRODUCT((Projects!$A$5:$A$2393='MDOT FTA Detail'!$G$3)*(Projects!$C$5:$C$2393='MDOT FTA Detail'!$C$4)*(Projects!$L$5:$L$2393='MDOT FTA Detail'!$A106)*(Projects!$J$5:$J$2393<>'MDOT FTA Detail'!$A$171)*(Projects!$Q$5:Q$2393))","v":0},{"$f":"SUMPRODUCT((Projects!$A$5:$A$2393='MDOT FTA Detail'!$J$3)*(Projects!$C$5:$C$2393='MDOT FTA Detail'!$C$4)*(Projects!$L$5:$L$2393='MDOT FTA Detail'!$A106)*(Projects!$J$5:$J$2393<>'MDOT FTA Detail'!$A$171)*(Projects!$K$5:$K$2393))","v":0},{"$f":"L106-J106","v":0},{"$f":"SUMPRODUCT((Projects!$A$5:$A$2393='MDOT FTA Detail'!$J$3)*(Projects!$C$5:$C$2393='MDOT FTA Detail'!$C$4)*(Projects!$L$5:$L$2393='MDOT FTA Detail'!$A106)*(Projects!$J$5:$J$2393<>'MDOT FTA Detail'!$A$171)*(Projects!$Q$5:$Q$2393))","v":0},{"$f":"SUMPRODUCT((Projects!$A$5:$A$2393='MDOT FTA Detail'!$M$3)*(Projects!$C$5:$C$2393='MDOT FTA Detail'!$C$4)*(Projects!$L$5:$L$2393='MDOT FTA Detail'!$A106)*(Projects!$J$5:$J$2393<>'MDOT FTA Detail'!$A$171)*(Projects!$K$5:$K$2393))","v":0},{"$f":"O106-M106","v":0},{"$f":"SUMPRODUCT((Projects!$A$5:$A$2393='MDOT FTA Detail'!$M$3)*(Projects!$C$5:$C$2393='MDOT FTA Detail'!$C$4)*(Projects!$L$5:$L$2393='MDOT FTA Detail'!$A106)*(Projects!$J$5:$J$2393<>'MDOT FTA Detail'!$A$171)*(Projects!$Q$5:$Q$2393))","v":0}]
["TGR3","TIGER III Discretionary Grant","MDOT FA",{"$f":"SUMPRODUCT((Projects!$A$5:$A$2393='MDOT FTA Detail'!$D$3)*(Projects!$C$5:$C$2393='MDOT FTA Detail'!$C$4)*(Projects!$L$5:$L$2393='MDOT FTA Detail'!$A107)*(Projects!$J$5:$J$2393<>'MDOT FTA Detail'!$A$171)*(Projects!$K$5:K$2393))","v":0},{"$f":"F107-D107","v":0},{"$f":"SUMPRODUCT((Projects!$A$5:$A$2393='MDOT FTA Detail'!$D$3)*(Projects!$C$5:$C$2393='MDOT FTA Detail'!$C$4)*(Projects!$L$5:$L$2393='MDOT FTA Detail'!$A107)*(Projects!$J$5:$J$2393<>'MDOT FTA Detail'!$A$171)*(Projects!$Q$5:Q$2393))","v":0},{"$f":"SUMPRODUCT((Projects!$A$5:$A$2393='MDOT FTA Detail'!$G$3)*(Projects!$C$5:$C$2393='MDOT FTA Detail'!$C$4)*(Projects!$L$5:$L$2393='MDOT FTA Detail'!$A107)*(Projects!$J$5:$J$2393<>'MDOT FTA Detail'!$A$171)*(Projects!$K$5:K$2393))","v":0},{"$f":"I107-G107","v":0},{"$f":"SUMPRODUCT((Projects!$A$5:$A$2393='MDOT FTA Detail'!$G$3)*(Projects!$C$5:$C$2393='MDOT FTA Detail'!$C$4)*(Projects!$L$5:$L$2393='MDOT FTA Detail'!$A107)*(Projects!$J$5:$J$2393<>'MDOT FTA Detail'!$A$171)*(Projects!$Q$5:Q$2393))","v":0},{"$f":"SUMPRODUCT((Projects!$A$5:$A$2393='MDOT FTA Detail'!$J$3)*(Projects!$C$5:$C$2393='MDOT FTA Detail'!$C$4)*(Projects!$L$5:$L$2393='MDOT FTA Detail'!$A107)*(Projects!$J$5:$J$2393<>'MDOT FTA Detail'!$A$171)*(Projects!$K$5:$K$2393))","v":0},{"$f":"L107-J107","v":0},{"$f":"SUMPRODUCT((Projects!$A$5:$A$2393='MDOT FTA Detail'!$J$3)*(Projects!$C$5:$C$2393='MDOT FTA Detail'!$C$4)*(Projects!$L$5:$L$2393='MDOT FTA Detail'!$A107)*(Projects!$J$5:$J$2393<>'MDOT FTA Detail'!$A$171)*(Projects!$Q$5:$Q$2393))","v":0},{"$f":"SUMPRODUCT((Projects!$A$5:$A$2393='MDOT FTA Detail'!$M$3)*(Projects!$C$5:$C$2393='MDOT FTA Detail'!$C$4)*(Projects!$L$5:$L$2393='MDOT FTA Detail'!$A107)*(Projects!$J$5:$J$2393<>'MDOT FTA Detail'!$A$171)*(Projects!$K$5:$K$2393))","v":0},{"$f":"O107-M107","v":0},{"$f":"SUMPRODUCT((Projects!$A$5:$A$2393='MDOT FTA Detail'!$M$3)*(Projects!$C$5:$C$2393='MDOT FTA Detail'!$C$4)*(Projects!$L$5:$L$2393='MDOT FTA Detail'!$A107)*(Projects!$J$5:$J$2393<>'MDOT FTA Detail'!$A$171)*(Projects!$Q$5:$Q$2393))","v":0}]
["TIP","Transportation Improvements Projects SAFETEA-LU","MDOT FA",{"$f":"SUMPRODUCT((Projects!$A$5:$A$2393='MDOT FTA Detail'!$D$3)*(Projects!$C$5:$C$2393='MDOT FTA Detail'!$C$4)*(Projects!$L$5:$L$2393='MDOT FTA Detail'!$A108)*(Projects!$J$5:$J$2393<>'MDOT FTA Detail'!$A$171)*(Projects!$K$5:K$2393))","v":0},{"$f":"F108-D108","v":0},{"$f":"SUMPRODUCT((Projects!$A$5:$A$2393='MDOT FTA Detail'!$D$3)*(Projects!$C$5:$C$2393='MDOT FTA Detail'!$C$4)*(Projects!$L$5:$L$2393='MDOT FTA Detail'!$A108)*(Projects!$J$5:$J$2393<>'MDOT FTA Detail'!$A$171)*(Projects!$Q$5:Q$2393))","v":0},{"$f":"SUMPRODUCT((Projects!$A$5:$A$2393='MDOT FTA Detail'!$G$3)*(Projects!$C$5:$C$2393='MDOT FTA Detail'!$C$4)*(Projects!$L$5:$L$2393='MDOT FTA Detail'!$A108)*(Projects!$J$5:$J$2393<>'MDOT FTA Detail'!$A$171)*(Projects!$K$5:K$2393))","v":0},{"$f":"I108-G108","v":0},{"$f":"SUMPRODUCT((Projects!$A$5:$A$2393='MDOT FTA Detail'!$G$3)*(Projects!$C$5:$C$2393='MDOT FTA Detail'!$C$4)*(Projects!$L$5:$L$2393='MDOT FTA Detail'!$A108)*(Projects!$J$5:$J$2393<>'MDOT FTA Detail'!$A$171)*(Projects!$Q$5:Q$2393))","v":0},{"$f":"SUMPRODUCT((Projects!$A$5:$A$2393='MDOT FTA Detail'!$J$3)*(Projects!$C$5:$C$2393='MDOT FTA Detail'!$C$4)*(Projects!$L$5:$L$2393='MDOT FTA Detail'!$A108)*(Projects!$J$5:$J$2393<>'MDOT FTA Detail'!$A$171)*(Projects!$K$5:$K$2393))","v":0},{"$f":"L108-J108","v":0},{"$f":"SUMPRODUCT((Projects!$A$5:$A$2393='MDOT FTA Detail'!$J$3)*(Projects!$C$5:$C$2393='MDOT FTA Detail'!$C$4)*(Projects!$L$5:$L$2393='MDOT FTA Detail'!$A108)*(Projects!$J$5:$J$2393<>'MDOT FTA Detail'!$A$171)*(Projects!$Q$5:$Q$2393))","v":0},{"$f":"SUMPRODUCT((Projects!$A$5:$A$2393='MDOT FTA Detail'!$M$3)*(Projects!$C$5:$C$2393='MDOT FTA Detail'!$C$4)*(Projects!$L$5:$L$2393='MDOT FTA Detail'!$A108)*(Projects!$J$5:$J$2393<>'MDOT FTA Detail'!$A$171)*(Projects!$K$5:$K$2393))","v":0},{"$f":"O108-M108","v":0},{"$f":"SUMPRODUCT((Projects!$A$5:$A$2393='MDOT FTA Detail'!$M$3)*(Projects!$C$5:$C$2393='MDOT FTA Detail'!$C$4)*(Projects!$L$5:$L$2393='MDOT FTA Detail'!$A108)*(Projects!$J$5:$J$2393<>'MDOT FTA Detail'!$A$171)*(Projects!$Q$5:$Q$2393))","v":0}]
["TPFD","Truck Parking Faciilities Discretionary","MDOT FA",{"$f":"SUMPRODUCT((Projects!$A$5:$A$2393='MDOT FTA Detail'!$D$3)*(Projects!$C$5:$C$2393='MDOT FTA Detail'!$C$4)*(Projects!$L$5:$L$2393='MDOT FTA Detail'!$A109)*(Projects!$J$5:$J$2393<>'MDOT FTA Detail'!$A$171)*(Projects!$K$5:K$2393))","v":0},0,{"$f":"SUMPRODUCT((Projects!$A$5:$A$2393='MDOT FTA Detail'!$D$3)*(Projects!$C$5:$C$2393='MDOT FTA Detail'!$C$4)*(Projects!$L$5:$L$2393='MDOT FTA Detail'!$A109)*(Projects!$J$5:$J$2393<>'MDOT FTA Detail'!$A$171)*(Projects!$Q$5:Q$2393))","v":0},{"$f":"SUMPRODUCT((Projects!$A$5:$A$2393='MDOT FTA Detail'!$G$3)*(Projects!$C$5:$C$2393='MDOT FTA Detail'!$C$4)*(Projects!$L$5:$L$2393='MDOT FTA Detail'!$A109)*(Projects!$J$5:$J$2393<>'MDOT FTA Detail'!$A$171)*(Projects!$K$5:K$2393))","v":0},0,{"$f":"SUMPRODUCT((Projects!$A$5:$A$2393='MDOT FTA Detail'!$G$3)*(Projects!$C$5:$C$2393='MDOT FTA Detail'!$C$4)*(Projects!$L$5:$L$2393='MDOT FTA Detail'!$A109)*(Projects!$J$5:$J$2393<>'MDOT FTA Detail'!$A$171)*(Projects!$Q$5:Q$2393))","v":0},{"$f":"SUMPRODUCT((Projects!$A$5:$A$2393='MDOT FTA Detail'!$J$3)*(Projects!$C$5:$C$2393='MDOT FTA Detail'!$C$4)*(Projects!$L$5:$L$2393='MDOT FTA Detail'!$A109)*(Projects!$J$5:$J$2393<>'MDOT FTA Detail'!$A$171)*(Projects!$K$5:$K$2393))","v":0},0,{"$f":"SUMPRODUCT((Projects!$A$5:$A$2393='MDOT FTA Detail'!$J$3)*(Projects!$C$5:$C$2393='MDOT FTA Detail'!$C$4)*(Projects!$L$5:$L$2393='MDOT FTA Detail'!$A109)*(Projects!$J$5:$J$2393<>'MDOT FTA Detail'!$A$171)*(Projects!$Q$5:$Q$2393))","v":0},{"$f":"SUMPRODUCT((Projects!$A$5:$A$2393='MDOT FTA Detail'!$M$3)*(Projects!$C$5:$C$2393='MDOT FTA Detail'!$C$4)*(Projects!$L$5:$L$2393='MDOT FTA Detail'!$A109)*(Projects!$J$5:$J$2393<>'MDOT FTA Detail'!$A$171)*(Projects!$K$5:$K$2393))","v":0},0,{"$f":"SUMPRODUCT((Projects!$A$5:$A$2393='MDOT FTA Detail'!$M$3)*(Projects!$C$5:$C$2393='MDOT FTA Detail'!$C$4)*(Projects!$L$5:$L$2393='MDOT FTA Detail'!$A109)*(Projects!$J$5:$J$2393<>'MDOT FTA Detail'!$A$171)*(Projects!$Q$5:$Q$2393))","v":0}]
["CTF","CTF - Comprehensive Transportation Fund","Transit",{"$f":"SUMPRODUCT((Projects!$A$5:$A$2393='MDOT FTA Detail'!$D$3)*(Projects!$L$5:$L$2393='MDOT FTA Detail'!$A110)*(Projects!$K$5:$K$2393))","v":0},{"$f":"F110-D110","v":0},{"$f":"SUMPRODUCT((Projects!$A$5:$A$2393='MDOT FTA Detail'!$D$3)*(Projects!$L$5:$L$2393='MDOT FTA Detail'!$A110)*(Projects!$Q$5:$Q$2393))","v":0},{"$f":"SUMPRODUCT((Projects!$A$5:$A$2393='MDOT FTA Detail'!$G$3)*(Projects!$L$5:$L$2393='MDOT FTA Detail'!$A110)*(Projects!$K$5:$K$2393))","v":0},{"$f":"I110-G110","v":0},{"$f":"SUMPRODUCT((Projects!$A$5:$A$2393='MDOT FTA Detail'!$G$3)*(Projects!$L$5:$L$2393='MDOT FTA Detail'!$A110)*(Projects!$Q$5:$Q$2393))","v":0},{"$f":"SUMPRODUCT((Projects!$A$5:$A$2393='MDOT FTA Detail'!$J$3)*(Projects!$L$5:$L$2393='MDOT FTA Detail'!$A110)*(Projects!$K$5:$K$2393))","v":0},{"$f":"L110-J110","v":0},{"$f":"SUMPRODUCT((Projects!$A$5:$A$2393='MDOT FTA Detail'!$J$3)*(Projects!$L$5:$L$2393='MDOT FTA Detail'!$A110)*(Projects!$Q$5:$Q$2393))","v":0},{"$f":"SUMPRODUCT((Projects!$A$5:$A$2393='MDOT FTA Detail'!$M$3)*(Projects!$L$5:$L$2393='MDOT FTA Detail'!$A110)*(Projects!$K$5:$K$2393))","v":0},{"$f":"O110-M110","v":0},{"$f":"SUMPRODUCT((Projects!$A$5:$A$2393='MDOT FTA Detail'!$M$3)*(Projects!$L$5:$L$2393='MDOT FTA Detail'!$A110)*(Projects!$Q$5:$Q$2393))","v":0}]
[3038,"Section 3038 - Over the Road Bus Program","Transit",{"$f":"SUMPRODUCT((Projects!$A$5:$A$2393='MDOT FTA Detail'!$D$3)*(Projects!$L$5:$L$2393='MDOT FTA Detail'!$A111)*(Projects!$K$5:$K$2393))","v":0},{"$f":"F111-D111","v":0},{"$f":"SUMPRODUCT((Projects!$A$5:$A$2393='MDOT FTA Detail'!$D$3)*(Projects!$L$5:$L$2393='MDOT FTA Detail'!$A111)*(Projects!$Q$5:$Q$2393))","v":0},{"$f":"SUMPRODUCT((Projects!$A$5:$A$2393='MDOT FTA Detail'!$G$3)*(Projects!$L$5:$L$2393='MDOT FTA Detail'!$A111)*(Projects!$K$5:$K$2393))","v":0},{"$f":"I111-G111","v":0},{"$f":"SUMPRODUCT((Projects!$A$5:$A$2393='MDOT FTA Detail'!$G$3)*(Projects!$L$5:$L$2393='MDOT FTA Detail'!$A111)*(Projects!$Q$5:$Q$2393))","v":0},{"$f":"SUMPRODUCT((Projects!$A$5:$A$2393='MDOT FTA Detail'!$J$3)*(Projects!$L$5:$L$2393='MDOT FTA Detail'!$A111)*(Projects!$K$5:$K$2393))","v":0},{"$f":"L111-J111","v":0},{"$f":"SUMPRODUCT((Projects!$A$5:$A$2393='MDOT FTA Detail'!$J$3)*(Projects!$L$5:$L$2393='MDOT FTA Detail'!$A111)*(Projects!$Q$5:$Q$2393))","v":0},{"$f":"SUMPRODUCT((Projects!$A$5:$A$2393='MDOT FTA Detail'!$M$3)*(Projects!$L$5:$L$2393='MDOT FTA Detail'!$A111)*(Projects!$K$5:$K$2393))","v":0},{"$f":"O111-M111","v":0},{"$f":"SUMPRODUCT((Projects!$A$5:$A$2393='MDOT FTA Detail'!$M$3)*(Projects!$L$5:$L$2393='MDOT FTA Detail'!$A111)*(Projects!$Q$5:$Q$2393))","v":0}]
[3045,"Section 3045 - National Fuel Cell Technology Development Program","Transit",{"$f":"SUMPRODUCT((Projects!$A$5:$A$2393='MDOT FTA Detail'!$D$3)*(Projects!$L$5:$L$2393='MDOT FTA Detail'!$A112)*(Projects!$K$5:$K$2393))","v":0},{"$f":"F112-D112","v":0},{"$f":"SUMPRODUCT((Projects!$A$5:$A$2393='MDOT FTA Detail'!$D$3)*(Projects!$L$5:$L$2393='MDOT FTA Detail'!$A112)*(Projects!$Q$5:$Q$2393))","v":0},{"$f":"SUMPRODUCT((Projects!$A$5:$A$2393='MDOT FTA Detail'!$G$3)*(Projects!$L$5:$L$2393='MDOT FTA Detail'!$A112)*(Projects!$K$5:$K$2393))","v":0},{"$f":"I112-G112","v":0},{"$f":"SUMPRODUCT((Projects!$A$5:$A$2393='MDOT FTA Detail'!$G$3)*(Projects!$L$5:$L$2393='MDOT FTA Detail'!$A112)*(Projects!$Q$5:$Q$2393))","v":0},{"$f":"SUMPRODUCT((Projects!$A$5:$A$2393='MDOT FTA Detail'!$J$3)*(Projects!$L$5:$L$2393='MDOT FTA Detail'!$A112)*(Projects!$K$5:$K$2393))","v":0},{"$f":"L112-J112","v":0},{"$f":"SUMPRODUCT((Projects!$A$5:$A$2393='MDOT FTA Detail'!$J$3)*(Projects!$L$5:$L$2393='MDOT FTA Detail'!$A112)*(Projects!$Q$5:$Q$2393))","v":0},{"$f":"SUMPRODUCT((Projects!$A$5:$A$2393='MDOT FTA Detail'!$M$3)*(Projects!$L$5:$L$2393='MDOT FTA Detail'!$A112)*(Projects!$K$5:$K$2393))","v":0},{"$f":"O112-M112","v":0},{"$f":"SUMPRODUCT((Projects!$A$5:$A$2393='MDOT FTA Detail'!$M$3)*(Projects!$L$5:$L$2393='MDOT FTA Detail'!$A112)*(Projects!$Q$5:$Q$2393))","v":0}]
[5303,"Section 5303 - Metropolitan Transportation Planning","Transit",{"$f":"SUMPRODUCT((Projects!$A$5:$A$2393='MDOT FTA Detail'!$D$3)*(Projects!$L$5:$L$2393='MDOT FTA Detail'!$A113)*(Projects!$K$5:$K$2393))","v":0},{"$f":"F113-D113","v":0},{"$f":"SUMPRODUCT((Projects!$A$5:$A$2393='MDOT FTA Detail'!$D$3)*(Projects!$L$5:$L$2393='MDOT FTA Detail'!$A113)*(Projects!$Q$5:$Q$2393))","v":0},{"$f":"SUMPRODUCT((Projects!$A$5:$A$2393='MDOT FTA Detail'!$G$3)*(Projects!$L$5:$L$2393='MDOT FTA Detail'!$A113)*(Projects!$K$5:$K$2393))","v":0},0,{"$f":"SUMPRODUCT((Projects!$A$5:$A$2393='MDOT FTA Detail'!$G$3)*(Projects!$L$5:$L$2393='MDOT FTA Detail'!$A113)*(Projects!$Q$5:$Q$2393))","v":0},{"$f":"SUMPRODUCT((Projects!$A$5:$A$2393='MDOT FTA Detail'!$J$3)*(Projects!$L$5:$L$2393='MDOT FTA Detail'!$A113)*(Projects!$K$5:$K$2393))","v":0},0,{"$f":"SUMPRODUCT((Projects!$A$5:$A$2393='MDOT FTA Detail'!$J$3)*(Projects!$L$5:$L$2393='MDOT FTA Detail'!$A113)*(Projects!$Q$5:$Q$2393))","v":0},{"$f":"SUMPRODUCT((Projects!$A$5:$A$2393='MDOT FTA Detail'!$M$3)*(Projects!$L$5:$L$2393='MDOT FTA Detail'!$A113)*(Projects!$K$5:$K$2393))","v":0},0,{"$f":"SUMPRODUCT((Projects!$A$5:$A$2393='MDOT FTA Detail'!$M$3)*(Projects!$L$5:$L$2393='MDOT FTA Detail'!$A113)*(Projects!$Q$5:$Q$2393))","v":0}]
[5304,"Section 5304 - Statewide Transportation Planning","Transit",{"$f":"SUMPRODUCT((Projects!$A$5:$A$2393='MDOT FTA Detail'!$D$3)*(Projects!$L$5:$L$2393='MDOT FTA Detail'!$A114)*(Projects!$K$5:$K$2393))","v":0},0,{"$f":"SUMPRODUCT((Projects!$A$5:$A$2393='MDOT FTA Detail'!$D$3)*(Projects!$L$5:$L$2393='MDOT FTA Detail'!$A114)*(Projects!$Q$5:$Q$2393))","v":0},{"$f":"SUMPRODUCT((Projects!$A$5:$A$2393='MDOT FTA Detail'!$G$3)*(Projects!$L$5:$L$2393='MDOT FTA Detail'!$A114)*(Projects!$K$5:$K$2393))","v":220000},-139999.99058006943,{"$f":"SUMPRODUCT((Projects!$A$5:$A$2393='MDOT FTA Detail'!$G$3)*(Projects!$L$5:$L$2393='MDOT FTA Detail'!$A114)*(Projects!$Q$5:$Q$2393))","v":80000.00941993059},{"$f":"SUMPRODUCT((Projects!$A$5:$A$2393='MDOT FTA Detail'!$J$3)*(Projects!$L$5:$L$2393='MDOT FTA Detail'!$A114)*(Projects!$K$5:$K$2393))","v":0},0,{"$f":"SUMPRODUCT((Projects!$A$5:$A$2393='MDOT FTA Detail'!$J$3)*(Projects!$L$5:$L$2393='MDOT FTA Detail'!$A114)*(Projects!$Q$5:$Q$2393))","v":0},{"$f":"SUMPRODUCT((Projects!$A$5:$A$2393='MDOT FTA Detail'!$M$3)*(Projects!$L$5:$L$2393='MDOT FTA Detail'!$A114)*(Projects!$K$5:$K$2393))","v":0},0,{"$f":"SUMPRODUCT((Projects!$A$5:$A$2393='MDOT FTA Detail'!$M$3)*(Projects!$L$5:$L$2393='MDOT FTA Detail'!$A114)*(Projects!$Q$5:$Q$2393))","v":0}]
[5305,"Section 5305 - Metropolitan and Statewide Planning","Transit",{"$f":"SUMPRODUCT((Projects!$A$5:$A$2393='MDOT FTA Detail'!$D$3)*(Projects!$L$5:$L$2393='MDOT FTA Detail'!$A115)*(Projects!$K$5:$K$2393))","v":0},0,{"$f":"SUMPRODUCT((Projects!$A$5:$A$2393='MDOT FTA Detail'!$D$3)*(Projects!$L$5:$L$2393='MDOT FTA Detail'!$A115)*(Projects!$Q$5:$Q$2393))","v":0},{"$f":"SUMPRODUCT((Projects!$A$5:$A$2393='MDOT FTA Detail'!$G$3)*(Projects!$L$5:$L$2393='MDOT FTA Detail'!$A115)*(Projects!$K$5:$K$2393))","v":0},0,{"$f":"SUMPRODUCT((Projects!$A$5:$A$2393='MDOT FTA Detail'!$G$3)*(Projects!$L$5:$L$2393='MDOT FTA Detail'!$A115)*(Projects!$Q$5:$Q$2393))","v":0},{"$f":"SUMPRODUCT((Projects!$A$5:$A$2393='MDOT FTA Detail'!$J$3)*(Projects!$L$5:$L$2393='MDOT FTA Detail'!$A115)*(Projects!$K$5:$K$2393))","v":0},0,{"$f":"SUMPRODUCT((Projects!$A$5:$A$2393='MDOT FTA Detail'!$J$3)*(Projects!$L$5:$L$2393='MDOT FTA Detail'!$A115)*(Projects!$Q$5:$Q$2393))","v":0},{"$f":"SUMPRODUCT((Projects!$A$5:$A$2393='MDOT FTA Detail'!$M$3)*(Projects!$L$5:$L$2393='MDOT FTA Detail'!$A115)*(Projects!$K$5:$K$2393))","v":0},0,{"$f":"SUMPRODUCT((Projects!$A$5:$A$2393='MDOT FTA Detail'!$M$3)*(Projects!$L$5:$L$2393='MDOT FTA Detail'!$A115)*(Projects!$Q$5:$Q$2393))","v":0}]
[5307,"Section 5307 - UZA Formula","Transit",{"$f":"SUMPRODUCT((Projects!$A$5:$A$2393='MDOT FTA Detail'!$D$3)*(Projects!$L$5:$L$2393='MDOT FTA Detail'!$A116)*(Projects!$K$5:$K$2393))","v":2155000},1675000,{"$f":"SUMPRODUCT((Projects!$A$5:$A$2393='MDOT FTA Detail'!$D$3)*(Projects!$L$5:$L$2393='MDOT FTA Detail'!$A116)*(Projects!$Q$5:$Q$2393))","v":3830000},{"$f":"SUMPRODUCT((Projects!$A$5:$A$2393='MDOT FTA Detail'!$G$3)*(Projects!$L$5:$L$2393='MDOT FTA Detail'!$A116)*(Projects!$K$5:$K$2393))","v":2155000},1675000,{"$f":"SUMPRODUCT((Projects!$A$5:$A$2393='MDOT FTA Detail'!$G$3)*(Projects!$L$5:$L$2393='MDOT FTA Detail'!$A116)*(Projects!$Q$5:$Q$2393))","v":3830000},{"$f":"SUMPRODUCT((Projects!$A$5:$A$2393='MDOT FTA Detail'!$J$3)*(Projects!$L$5:$L$2393='MDOT FTA Detail'!$A116)*(Projects!$K$5:$K$2393))","v":2155000},1675000,{"$f":"SUMPRODUCT((Projects!$A$5:$A$2393='MDOT FTA Detail'!$J$3)*(Projects!$L$5:$L$2393='MDOT FTA Detail'!$A116)*(Projects!$Q$5:$Q$2393))","v":3830000},{"$f":"SUMPRODUCT((Projects!$A$5:$A$2393='MDOT FTA Detail'!$M$3)*(Projects!$L$5:$L$2393='MDOT FTA Detail'!$A116)*(Projects!$K$5:$K$2393))","v":2155000},1675000,{"$f":"SUMPRODUCT((Projects!$A$5:$A$2393='MDOT FTA Detail'!$M$3)*(Projects!$L$5:$L$2393='MDOT FTA Detail'!$A116)*(Projects!$Q$5:$Q$2393))","v":3830000}]
[5308,"Section 5308 - Clean Fuels Program","Transit",{"$f":"SUMPRODUCT((Projects!$A$5:$A$2393='MDOT FTA Detail'!$D$3)*(Projects!$L$5:$L$2393='MDOT FTA Detail'!$A117)*(Projects!$K$5:$K$2393))","v":0},0,{"$f":"SUMPRODUCT((Projects!$A$5:$A$2393='MDOT FTA Detail'!$D$3)*(Projects!$L$5:$L$2393='MDOT FTA Detail'!$A117)*(Projects!$Q$5:$Q$2393))","v":0},{"$f":"SUMPRODUCT((Projects!$A$5:$A$2393='MDOT FTA Detail'!$G$3)*(Projects!$L$5:$L$2393='MDOT FTA Detail'!$A117)*(Projects!$K$5:$K$2393))","v":0},0,{"$f":"SUMPRODUCT((Projects!$A$5:$A$2393='MDOT FTA Detail'!$G$3)*(Projects!$L$5:$L$2393='MDOT FTA Detail'!$A117)*(Projects!$Q$5:$Q$2393))","v":0},{"$f":"SUMPRODUCT((Projects!$A$5:$A$2393='MDOT FTA Detail'!$J$3)*(Projects!$L$5:$L$2393='MDOT FTA Detail'!$A117)*(Projects!$K$5:$K$2393))","v":0},0,{"$f":"SUMPRODUCT((Projects!$A$5:$A$2393='MDOT FTA Detail'!$J$3)*(Projects!$L$5:$L$2393='MDOT FTA Detail'!$A117)*(Projects!$Q$5:$Q$2393))","v":0},{"$f":"SUMPRODUCT((Projects!$A$5:$A$2393='MDOT FTA Detail'!$M$3)*(Projects!$L$5:$L$2393='MDOT FTA Detail'!$A117)*(Projects!$K$5:$K$2393))","v":0},0,{"$f":"SUMPRODUCT((Projects!$A$5:$A$2393='MDOT FTA Detail'!$M$3)*(Projects!$L$5:$L$2393='MDOT FTA Detail'!$A117)*(Projects!$Q$5:$Q$2393))","v":0}]
[5309,"Section 5309 - Fixed Guideway Capital Investment Grant","Transit",{"$f":"SUMPRODUCT((Projects!$A$5:$A$2393='MDOT FTA Detail'!$D$3)*(Projects!$L$5:$L$2393='MDOT FTA Detail'!$A118)*(Projects!$K$5:$K$2393))","v":0},0,{"$f":"SUMPRODUCT((Projects!$A$5:$A$2393='MDOT FTA Detail'!$D$3)*(Projects!$L$5:$L$2393='MDOT FTA Detail'!$A118)*(Projects!$Q$5:$Q$2393))","v":0},{"$f":"SUMPRODUCT((Projects!$A$5:$A$2393='MDOT FTA Detail'!$G$3)*(Projects!$L$5:$L$2393='MDOT FTA Detail'!$A118)*(Projects!$K$5:$K$2393))","v":0},0,{"$f":"SUMPRODUCT((Projects!$A$5:$A$2393='MDOT FTA Detail'!$G$3)*(Projects!$L$5:$L$2393='MDOT FTA Detail'!$A118)*(Projects!$Q$5:$Q$2393))","v":0},{"$f":"SUMPRODUCT((Projects!$A$5:$A$2393='MDOT FTA Detail'!$J$3)*(Projects!$L$5:$L$2393='MDOT FTA Detail'!$A118)*(Projects!$K$5:$K$2393))","v":0},0,{"$f":"SUMPRODUCT((Projects!$A$5:$A$2393='MDOT FTA Detail'!$J$3)*(Projects!$L$5:$L$2393='MDOT FTA Detail'!$A118)*(Projects!$Q$5:$Q$2393))","v":0},{"$f":"SUMPRODUCT((Projects!$A$5:$A$2393='MDOT FTA Detail'!$M$3)*(Projects!$L$5:$L$2393='MDOT FTA Detail'!$A118)*(Projects!$K$5:$K$2393))","v":0},0,{"$f":"SUMPRODUCT((Projects!$A$5:$A$2393='MDOT FTA Detail'!$M$3)*(Projects!$L$5:$L$2393='MDOT FTA Detail'!$A118)*(Projects!$Q$5:$Q$2393))","v":0}]
[5310,"Section 5310 - Enhanced Mobility of Seniors and Individuals with Disabilities","Transit",{"$f":"SUMPRODUCT((Projects!$A$5:$A$2393='MDOT FTA Detail'!$D$3)*(Projects!$L$5:$L$2393='MDOT FTA Detail'!$A119)*(Projects!$K$5:$K$2393))","v":971746},284186,{"$f":"SUMPRODUCT((Projects!$A$5:$A$2393='MDOT FTA Detail'!$D$3)*(Projects!$L$5:$L$2393='MDOT FTA Detail'!$A119)*(Projects!$Q$5:$Q$2393))","v":1255932},{"$f":"SUMPRODUCT((Projects!$A$5:$A$2393='MDOT FTA Detail'!$G$3)*(Projects!$L$5:$L$2393='MDOT FTA Detail'!$A119)*(Projects!$K$5:$K$2393))","v":441463},163753,{"$f":"SUMPRODUCT((Projects!$A$5:$A$2393='MDOT FTA Detail'!$G$3)*(Projects!$L$5:$L$2393='MDOT FTA Detail'!$A119)*(Projects!$Q$5:$Q$2393))","v":605216},{"$f":"SUMPRODUCT((Projects!$A$5:$A$2393='MDOT FTA Detail'!$J$3)*(Projects!$L$5:$L$2393='MDOT FTA Detail'!$A119)*(Projects!$K$5:$K$2393))","v":414603},144900,{"$f":"SUMPRODUCT((Projects!$A$5:$A$2393='MDOT FTA Detail'!$J$3)*(Projects!$L$5:$L$2393='MDOT FTA Detail'!$A119)*(Projects!$Q$5:$Q$2393))","v":559503},{"$f":"SUMPRODUCT((Projects!$A$5:$A$2393='MDOT FTA Detail'!$M$3)*(Projects!$L$5:$L$2393='MDOT FTA Detail'!$A119)*(Projects!$K$5:$K$2393))","v":426613},147903,{"$f":"SUMPRODUCT((Projects!$A$5:$A$2393='MDOT FTA Detail'!$M$3)*(Projects!$L$5:$L$2393='MDOT FTA Detail'!$A119)*(Projects!$Q$5:$Q$2393))","v":574516}]
[5311,"Section 5311 - Non-UZA ","Transit",{"$f":"SUMPRODUCT((Projects!$A$5:$A$2393='MDOT FTA Detail'!$D$3)*(Projects!$L$5:$L$2393='MDOT FTA Detail'!$A120)*(Projects!$K$5:$K$2393))","v":46585},46585,{"$f":"SUMPRODUCT((Projects!$A$5:$A$2393='MDOT FTA Detail'!$D$3)*(Projects!$L$5:$L$2393='MDOT FTA Detail'!$A120)*(Projects!$Q$5:$Q$2393))","v":93170},{"$f":"SUMPRODUCT((Projects!$A$5:$A$2393='MDOT FTA Detail'!$G$3)*(Projects!$L$5:$L$2393='MDOT FTA Detail'!$A120)*(Projects!$K$5:$K$2393))","v":46585},46585,{"$f":"SUMPRODUCT((Projects!$A$5:$A$2393='MDOT FTA Detail'!$G$3)*(Projects!$L$5:$L$2393='MDOT FTA Detail'!$A120)*(Projects!$Q$5:$Q$2393))","v":93170},{"$f":"SUMPRODUCT((Projects!$A$5:$A$2393='MDOT FTA Detail'!$J$3)*(Projects!$L$5:$L$2393='MDOT FTA Detail'!$A120)*(Projects!$K$5:$K$2393))","v":46585},46585,{"$f":"SUMPRODUCT((Projects!$A$5:$A$2393='MDOT FTA Detail'!$J$3)*(Projects!$L$5:$L$2393='MDOT FTA Detail'!$A120)*(Projects!$Q$5:$Q$2393))","v":93170},{"$f":"SUMPRODUCT((Projects!$A$5:$A$2393='MDOT FTA Detail'!$M$3)*(Projects!$L$5:$L$2393='MDOT FTA Detail'!$A120)*(Projects!$K$5:$K$2393))","v":46585},46585,{"$f":"SUMPRODUCT((Projects!$A$5:$A$2393='MDOT FTA Detail'!$M$3)*(Projects!$L$5:$L$2393='MDOT FTA Detail'!$A120)*(Projects!$Q$5:$Q$2393))","v":93170}]
[5312,"Section 5312 - Research, Development, Demonstration, and Deployment","Transit",{"$f":"SUMPRODUCT((Projects!$A$5:$A$2393='MDOT FTA Detail'!$D$3)*(Projects!$L$5:$L$2393='MDOT FTA Detail'!$A121)*(Projects!$K$5:$K$2393))","v":0},{"$f":"F121-D121","v":0},{"$f":"SUMPRODUCT((Projects!$A$5:$A$2393='MDOT FTA Detail'!$D$3)*(Projects!$L$5:$L$2393='MDOT FTA Detail'!$A121)*(Projects!$Q$5:$Q$2393))","v":0},{"$f":"SUMPRODUCT((Projects!$A$5:$A$2393='MDOT FTA Detail'!$G$3)*(Projects!$L$5:$L$2393='MDOT FTA Detail'!$A121)*(Projects!$K$5:$K$2393))","v":0},{"$f":"I121-G121","v":0},{"$f":"SUMPRODUCT((Projects!$A$5:$A$2393='MDOT FTA Detail'!$G$3)*(Projects!$L$5:$L$2393='MDOT FTA Detail'!$A121)*(Projects!$Q$5:$Q$2393))","v":0},{"$f":"SUMPRODUCT((Projects!$A$5:$A$2393='MDOT FTA Detail'!$J$3)*(Projects!$L$5:$L$2393='MDOT FTA Detail'!$A121)*(Projects!$K$5:$K$2393))","v":0},{"$f":"L121-J121","v":0},{"$f":"SUMPRODUCT((Projects!$A$5:$A$2393='MDOT FTA Detail'!$J$3)*(Projects!$L$5:$L$2393='MDOT FTA Detail'!$A121)*(Projects!$Q$5:$Q$2393))","v":0},{"$f":"SUMPRODUCT((Projects!$A$5:$A$2393='MDOT FTA Detail'!$M$3)*(Projects!$L$5:$L$2393='MDOT FTA Detail'!$A121)*(Projects!$K$5:$K$2393))","v":0},{"$f":"O121-M121","v":0},{"$f":"SUMPRODUCT((Projects!$A$5:$A$2393='MDOT FTA Detail'!$M$3)*(Projects!$L$5:$L$2393='MDOT FTA Detail'!$A121)*(Projects!$Q$5:$Q$2393))","v":0}]
[5313,"Section 5313 - Transit Cooperative Research Program","Transit",{"$f":"SUMPRODUCT((Projects!$A$5:$A$2393='MDOT FTA Detail'!$D$3)*(Projects!$L$5:$L$2393='MDOT FTA Detail'!$A122)*(Projects!$K$5:$K$2393))","v":0},0,{"$f":"SUMPRODUCT((Projects!$A$5:$A$2393='MDOT FTA Detail'!$D$3)*(Projects!$L$5:$L$2393='MDOT FTA Detail'!$A122)*(Projects!$Q$5:$Q$2393))","v":0},{"$f":"SUMPRODUCT((Projects!$A$5:$A$2393='MDOT FTA Detail'!$G$3)*(Projects!$L$5:$L$2393='MDOT FTA Detail'!$A122)*(Projects!$K$5:$K$2393))","v":0},0,{"$f":"SUMPRODUCT((Projects!$A$5:$A$2393='MDOT FTA Detail'!$G$3)*(Projects!$L$5:$L$2393='MDOT FTA Detail'!$A122)*(Projects!$Q$5:$Q$2393))","v":0},{"$f":"SUMPRODUCT((Projects!$A$5:$A$2393='MDOT FTA Detail'!$J$3)*(Projects!$L$5:$L$2393='MDOT FTA Detail'!$A122)*(Projects!$K$5:$K$2393))","v":0},0,{"$f":"SUMPRODUCT((Projects!$A$5:$A$2393='MDOT FTA Detail'!$J$3)*(Projects!$L$5:$L$2393='MDOT FTA Detail'!$A122)*(Projects!$Q$5:$Q$2393))","v":0},{"$f":"SUMPRODUCT((Projects!$A$5:$A$2393='MDOT FTA Detail'!$M$3)*(Projects!$L$5:$L$2393='MDOT FTA Detail'!$A122)*(Projects!$K$5:$K$2393))","v":0},0,{"$f":"SUMPRODUCT((Projects!$A$5:$A$2393='MDOT FTA Detail'!$M$3)*(Projects!$L$5:$L$2393='MDOT FTA Detail'!$A122)*(Projects!$Q$5:$Q$2393))","v":0}]
[5314,"Section 5314 - Technical Assistance and Standards","Transit",{"$f":"SUMPRODUCT((Projects!$A$5:$A$2393='MDOT FTA Detail'!$D$3)*(Projects!$L$5:$L$2393='MDOT FTA Detail'!$A123)*(Projects!$K$5:$K$2393))","v":0},0,{"$f":"SUMPRODUCT((Projects!$A$5:$A$2393='MDOT FTA Detail'!$D$3)*(Projects!$L$5:$L$2393='MDOT FTA Detail'!$A123)*(Projects!$Q$5:$Q$2393))","v":0},{"$f":"SUMPRODUCT((Projects!$A$5:$A$2393='MDOT FTA Detail'!$G$3)*(Projects!$L$5:$L$2393='MDOT FTA Detail'!$A123)*(Projects!$K$5:$K$2393))","v":0},0,{"$f":"SUMPRODUCT((Projects!$A$5:$A$2393='MDOT FTA Detail'!$G$3)*(Projects!$L$5:$L$2393='MDOT FTA Detail'!$A123)*(Projects!$Q$5:$Q$2393))","v":0},{"$f":"SUMPRODUCT((Projects!$A$5:$A$2393='MDOT FTA Detail'!$J$3)*(Projects!$L$5:$L$2393='MDOT FTA Detail'!$A123)*(Projects!$K$5:$K$2393))","v":0},0,{"$f":"SUMPRODUCT((Projects!$A$5:$A$2393='MDOT FTA Detail'!$J$3)*(Projects!$L$5:$L$2393='MDOT FTA Detail'!$A123)*(Projects!$Q$5:$Q$2393))","v":0},{"$f":"SUMPRODUCT((Projects!$A$5:$A$2393='MDOT FTA Detail'!$M$3)*(Projects!$L$5:$L$2393='MDOT FTA Detail'!$A123)*(Projects!$K$5:$K$2393))","v":0},0,{"$f":"SUMPRODUCT((Projects!$A$5:$A$2393='MDOT FTA Detail'!$M$3)*(Projects!$L$5:$L$2393='MDOT FTA Detail'!$A123)*(Projects!$Q$5:$Q$2393))","v":0}]
[5316,"Section 5316 - Transit - Section 5316 - Job Access/Reverse Commute","Transit",{"$f":"SUMPRODUCT((Projects!$A$5:$A$2393='MDOT FTA Detail'!$D$3)*(Projects!$L$5:$L$2393='MDOT FTA Detail'!$A124)*(Projects!$K$5:$K$2393))","v":0},0,{"$f":"SUMPRODUCT((Projects!$A$5:$A$2393='MDOT FTA Detail'!$D$3)*(Projects!$L$5:$L$2393='MDOT FTA Detail'!$A124)*(Projects!$Q$5:$Q$2393))","v":0},{"$f":"SUMPRODUCT((Projects!$A$5:$A$2393='MDOT FTA Detail'!$G$3)*(Projects!$L$5:$L$2393='MDOT FTA Detail'!$A124)*(Projects!$K$5:$K$2393))","v":0},0,{"$f":"SUMPRODUCT((Projects!$A$5:$A$2393='MDOT FTA Detail'!$G$3)*(Projects!$L$5:$L$2393='MDOT FTA Detail'!$A124)*(Projects!$Q$5:$Q$2393))","v":0},{"$f":"SUMPRODUCT((Projects!$A$5:$A$2393='MDOT FTA Detail'!$J$3)*(Projects!$L$5:$L$2393='MDOT FTA Detail'!$A124)*(Projects!$K$5:$K$2393))","v":0},0,{"$f":"SUMPRODUCT((Projects!$A$5:$A$2393='MDOT FTA Detail'!$J$3)*(Projects!$L$5:$L$2393='MDOT FTA Detail'!$A124)*(Projects!$Q$5:$Q$2393))","v":0},{"$f":"SUMPRODUCT((Projects!$A$5:$A$2393='MDOT FTA Detail'!$M$3)*(Projects!$L$5:$L$2393='MDOT FTA Detail'!$A124)*(Projects!$K$5:$K$2393))","v":0},0,{"$f":"SUMPRODUCT((Projects!$A$5:$A$2393='MDOT FTA Detail'!$M$3)*(Projects!$L$5:$L$2393='MDOT FTA Detail'!$A124)*(Projects!$Q$5:$Q$2393))","v":0}]
[5317,"Section 5317 - Transit - Section 5317 - New Freedom Initiative","Transit",{"$f":"SUMPRODUCT((Projects!$A$5:$A$2393='MDOT FTA Detail'!$D$3)*(Projects!$L$5:$L$2393='MDOT FTA Detail'!$A125)*(Projects!$K$5:$K$2393))","v":0},0,{"$f":"SUMPRODUCT((Projects!$A$5:$A$2393='MDOT FTA Detail'!$D$3)*(Projects!$L$5:$L$2393='MDOT FTA Detail'!$A125)*(Projects!$Q$5:$Q$2393))","v":0},{"$f":"SUMPRODUCT((Projects!$A$5:$A$2393='MDOT FTA Detail'!$G$3)*(Projects!$L$5:$L$2393='MDOT FTA Detail'!$A125)*(Projects!$K$5:$K$2393))","v":0},0,{"$f":"SUMPRODUCT((Projects!$A$5:$A$2393='MDOT FTA Detail'!$G$3)*(Projects!$L$5:$L$2393='MDOT FTA Detail'!$A125)*(Projects!$Q$5:$Q$2393))","v":0},{"$f":"SUMPRODUCT((Projects!$A$5:$A$2393='MDOT FTA Detail'!$J$3)*(Projects!$L$5:$L$2393='MDOT FTA Detail'!$A125)*(Projects!$K$5:$K$2393))","v":0},0,{"$f":"SUMPRODUCT((Projects!$A$5:$A$2393='MDOT FTA Detail'!$J$3)*(Projects!$L$5:$L$2393='MDOT FTA Detail'!$A125)*(Projects!$Q$5:$Q$2393))","v":0},{"$f":"SUMPRODUCT((Projects!$A$5:$A$2393='MDOT FTA Detail'!$M$3)*(Projects!$L$5:$L$2393='MDOT FTA Detail'!$A125)*(Projects!$K$5:$K$2393))","v":0},0,{"$f":"SUMPRODUCT((Projects!$A$5:$A$2393='MDOT FTA Detail'!$M$3)*(Projects!$L$5:$L$2393='MDOT FTA Detail'!$A125)*(Projects!$Q$5:$Q$2393))","v":0}]
[5320,"Section 5320 - Alternative Transportation in Parks and Public Lands","Transit",{"$f":"SUMPRODUCT((Projects!$A$5:$A$2393='MDOT FTA Detail'!$D$3)*(Projects!$L$5:$L$2393='MDOT FTA Detail'!$A126)*(Projects!$K$5:$K$2393))","v":0},0,{"$f":"SUMPRODUCT((Projects!$A$5:$A$2393='MDOT FTA Detail'!$D$3)*(Projects!$L$5:$L$2393='MDOT FTA Detail'!$A126)*(Projects!$Q$5:$Q$2393))","v":0},{"$f":"SUMPRODUCT((Projects!$A$5:$A$2393='MDOT FTA Detail'!$G$3)*(Projects!$L$5:$L$2393='MDOT FTA Detail'!$A126)*(Projects!$K$5:$K$2393))","v":0},0,{"$f":"SUMPRODUCT((Projects!$A$5:$A$2393='MDOT FTA Detail'!$G$3)*(Projects!$L$5:$L$2393='MDOT FTA Detail'!$A126)*(Projects!$Q$5:$Q$2393))","v":0},{"$f":"SUMPRODUCT((Projects!$A$5:$A$2393='MDOT FTA Detail'!$J$3)*(Projects!$L$5:$L$2393='MDOT FTA Detail'!$A126)*(Projects!$K$5:$K$2393))","v":0},0,{"$f":"SUMPRODUCT((Projects!$A$5:$A$2393='MDOT FTA Detail'!$J$3)*(Projects!$L$5:$L$2393='MDOT FTA Detail'!$A126)*(Projects!$Q$5:$Q$2393))","v":0},{"$f":"SUMPRODUCT((Projects!$A$5:$A$2393='MDOT FTA Detail'!$M$3)*(Projects!$L$5:$L$2393='MDOT FTA Detail'!$A126)*(Projects!$K$5:$K$2393))","v":0},0,{"$f":"SUMPRODUCT((Projects!$A$5:$A$2393='MDOT FTA Detail'!$M$3)*(Projects!$L$5:$L$2393='MDOT FTA Detail'!$A126)*(Projects!$Q$5:$Q$2393))","v":0}]
[5322,"Section 5322 - Human Resources and Training","Transit",{"$f":"SUMPRODUCT((Projects!$A$5:$A$2393='MDOT FTA Detail'!$D$3)*(Projects!$L$5:$L$2393='MDOT FTA Detail'!$A127)*(Projects!$K$5:$K$2393))","v":0},{"$f":"F127-D127","v":0},{"$f":"SUMPRODUCT((Projects!$A$5:$A$2393='MDOT FTA Detail'!$D$3)*(Projects!$L$5:$L$2393='MDOT FTA Detail'!$A127)*(Projects!$Q$5:$Q$2393))","v":0},{"$f":"SUMPRODUCT((Projects!$A$5:$A$2393='MDOT FTA Detail'!$G$3)*(Projects!$L$5:$L$2393='MDOT FTA Detail'!$A127)*(Projects!$K$5:$K$2393))","v":0},{"$f":"I127-G127","v":0},{"$f":"SUMPRODUCT((Projects!$A$5:$A$2393='MDOT FTA Detail'!$G$3)*(Projects!$L$5:$L$2393='MDOT FTA Detail'!$A127)*(Projects!$Q$5:$Q$2393))","v":0},{"$f":"SUMPRODUCT((Projects!$A$5:$A$2393='MDOT FTA Detail'!$J$3)*(Projects!$L$5:$L$2393='MDOT FTA Detail'!$A127)*(Projects!$K$5:$K$2393))","v":0},{"$f":"L127-J127","v":0},{"$f":"SUMPRODUCT((Projects!$A$5:$A$2393='MDOT FTA Detail'!$J$3)*(Projects!$L$5:$L$2393='MDOT FTA Detail'!$A127)*(Projects!$Q$5:$Q$2393))","v":0},{"$f":"SUMPRODUCT((Projects!$A$5:$A$2393='MDOT FTA Detail'!$M$3)*(Projects!$L$5:$L$2393='MDOT FTA Detail'!$A127)*(Projects!$K$5:$K$2393))","v":0},{"$f":"O127-M127","v":0},{"$f":"SUMPRODUCT((Projects!$A$5:$A$2393='MDOT FTA Detail'!$M$3)*(Projects!$L$5:$L$2393='MDOT FTA Detail'!$A127)*(Projects!$Q$5:$Q$2393))","v":0}]
[5324,"Section 5324 - Emergency Relief","Transit",{"$f":"SUMPRODUCT((Projects!$A$5:$A$2393='MDOT FTA Detail'!$D$3)*(Projects!$L$5:$L$2393='MDOT FTA Detail'!$A128)*(Projects!$K$5:$K$2393))","v":0},0,{"$f":"SUMPRODUCT((Projects!$A$5:$A$2393='MDOT FTA Detail'!$D$3)*(Projects!$L$5:$L$2393='MDOT FTA Detail'!$A128)*(Projects!$Q$5:$Q$2393))","v":0},{"$f":"SUMPRODUCT((Projects!$A$5:$A$2393='MDOT FTA Detail'!$G$3)*(Projects!$L$5:$L$2393='MDOT FTA Detail'!$A128)*(Projects!$K$5:$K$2393))","v":0},0,{"$f":"SUMPRODUCT((Projects!$A$5:$A$2393='MDOT FTA Detail'!$G$3)*(Projects!$L$5:$L$2393='MDOT FTA Detail'!$A128)*(Projects!$Q$5:$Q$2393))","v":0},{"$f":"SUMPRODUCT((Projects!$A$5:$A$2393='MDOT FTA Detail'!$J$3)*(Projects!$L$5:$L$2393='MDOT FTA Detail'!$A128)*(Projects!$K$5:$K$2393))","v":0},0,{"$f":"SUMPRODUCT((Projects!$A$5:$A$2393='MDOT FTA Detail'!$J$3)*(Projects!$L$5:$L$2393='MDOT FTA Detail'!$A128)*(Projects!$Q$5:$Q$2393))","v":0},{"$f":"SUMPRODUCT((Projects!$A$5:$A$2393='MDOT FTA Detail'!$M$3)*(Projects!$L$5:$L$2393='MDOT FTA Detail'!$A128)*(Projects!$K$5:$K$2393))","v":0},0,{"$f":"SUMPRODUCT((Projects!$A$5:$A$2393='MDOT FTA Detail'!$M$3)*(Projects!$L$5:$L$2393='MDOT FTA Detail'!$A128)*(Projects!$Q$5:$Q$2393))","v":0}]
[5326,"Section 5326 - Asset Management Provisions","Transit",{"$f":"SUMPRODUCT((Projects!$A$5:$A$2393='MDOT FTA Detail'!$D$3)*(Projects!$L$5:$L$2393='MDOT FTA Detail'!$A129)*(Projects!$K$5:$K$2393))","v":0},0,{"$f":"SUMPRODUCT((Projects!$A$5:$A$2393='MDOT FTA Detail'!$D$3)*(Projects!$L$5:$L$2393='MDOT FTA Detail'!$A129)*(Projects!$Q$5:$Q$2393))","v":0},{"$f":"SUMPRODUCT((Projects!$A$5:$A$2393='MDOT FTA Detail'!$G$3)*(Projects!$L$5:$L$2393='MDOT FTA Detail'!$A129)*(Projects!$K$5:$K$2393))","v":0},0,{"$f":"SUMPRODUCT((Projects!$A$5:$A$2393='MDOT FTA Detail'!$G$3)*(Projects!$L$5:$L$2393='MDOT FTA Detail'!$A129)*(Projects!$Q$5:$Q$2393))","v":0},{"$f":"SUMPRODUCT((Projects!$A$5:$A$2393='MDOT FTA Detail'!$J$3)*(Projects!$L$5:$L$2393='MDOT FTA Detail'!$A129)*(Projects!$K$5:$K$2393))","v":0},0,{"$f":"SUMPRODUCT((Projects!$A$5:$A$2393='MDOT FTA Detail'!$J$3)*(Projects!$L$5:$L$2393='MDOT FTA Detail'!$A129)*(Projects!$Q$5:$Q$2393))","v":0},{"$f":"SUMPRODUCT((Projects!$A$5:$A$2393='MDOT FTA Detail'!$M$3)*(Projects!$L$5:$L$2393='MDOT FTA Detail'!$A129)*(Projects!$K$5:$K$2393))","v":0},0,{"$f":"SUMPRODUCT((Projects!$A$5:$A$2393='MDOT FTA Detail'!$M$3)*(Projects!$L$5:$L$2393='MDOT FTA Detail'!$A129)*(Projects!$Q$5:$Q$2393))","v":0}]
[5329,"Section 5329 - Safety","Transit",{"$f":"SUMPRODUCT((Projects!$A$5:$A$2393='MDOT FTA Detail'!$D$3)*(Projects!$L$5:$L$2393='MDOT FTA Detail'!$A130)*(Projects!$K$5:$K$2393))","v":0},0,{"$f":"SUMPRODUCT((Projects!$A$5:$A$2393='MDOT FTA Detail'!$D$3)*(Projects!$L$5:$L$2393='MDOT FTA Detail'!$A130)*(Projects!$Q$5:$Q$2393))","v":0},{"$f":"SUMPRODUCT((Projects!$A$5:$A$2393='MDOT FTA Detail'!$G$3)*(Projects!$L$5:$L$2393='MDOT FTA Detail'!$A130)*(Projects!$K$5:$K$2393))","v":0},0,{"$f":"SUMPRODUCT((Projects!$A$5:$A$2393='MDOT FTA Detail'!$G$3)*(Projects!$L$5:$L$2393='MDOT FTA Detail'!$A130)*(Projects!$Q$5:$Q$2393))","v":0},{"$f":"SUMPRODUCT((Projects!$A$5:$A$2393='MDOT FTA Detail'!$J$3)*(Projects!$L$5:$L$2393='MDOT FTA Detail'!$A130)*(Projects!$K$5:$K$2393))","v":0},0,{"$f":"SUMPRODUCT((Projects!$A$5:$A$2393='MDOT FTA Detail'!$J$3)*(Projects!$L$5:$L$2393='MDOT FTA Detail'!$A130)*(Projects!$Q$5:$Q$2393))","v":0},{"$f":"SUMPRODUCT((Projects!$A$5:$A$2393='MDOT FTA Detail'!$M$3)*(Projects!$L$5:$L$2393='MDOT FTA Detail'!$A130)*(Projects!$K$5:$K$2393))","v":0},0,{"$f":"SUMPRODUCT((Projects!$A$5:$A$2393='MDOT FTA Detail'!$M$3)*(Projects!$L$5:$L$2393='MDOT FTA Detail'!$A130)*(Projects!$Q$5:$Q$2393))","v":0}]
[5337,"Section 5337 - State of Good Repair Grants","Transit",{"$f":"SUMPRODUCT((Projects!$A$5:$A$2393='MDOT FTA Detail'!$D$3)*(Projects!$L$5:$L$2393='MDOT FTA Detail'!$A131)*(Projects!$K$5:$K$2393))","v":470000},117600,{"$f":"SUMPRODUCT((Projects!$A$5:$A$2393='MDOT FTA Detail'!$D$3)*(Projects!$L$5:$L$2393='MDOT FTA Detail'!$A131)*(Projects!$Q$5:$Q$2393))","v":587600},{"$f":"SUMPRODUCT((Projects!$A$5:$A$2393='MDOT FTA Detail'!$G$3)*(Projects!$L$5:$L$2393='MDOT FTA Detail'!$A131)*(Projects!$K$5:$K$2393))","v":0},0,{"$f":"SUMPRODUCT((Projects!$A$5:$A$2393='MDOT FTA Detail'!$G$3)*(Projects!$L$5:$L$2393='MDOT FTA Detail'!$A131)*(Projects!$Q$5:$Q$2393))","v":0},{"$f":"SUMPRODUCT((Projects!$A$5:$A$2393='MDOT FTA Detail'!$J$3)*(Projects!$L$5:$L$2393='MDOT FTA Detail'!$A131)*(Projects!$K$5:$K$2393))","v":0},0,{"$f":"SUMPRODUCT((Projects!$A$5:$A$2393='MDOT FTA Detail'!$J$3)*(Projects!$L$5:$L$2393='MDOT FTA Detail'!$A131)*(Projects!$Q$5:$Q$2393))","v":0},{"$f":"SUMPRODUCT((Projects!$A$5:$A$2393='MDOT FTA Detail'!$M$3)*(Projects!$L$5:$L$2393='MDOT FTA Detail'!$A131)*(Projects!$K$5:$K$2393))","v":0},0,{"$f":"SUMPRODUCT((Projects!$A$5:$A$2393='MDOT FTA Detail'!$M$3)*(Projects!$L$5:$L$2393='MDOT FTA Detail'!$A131)*(Projects!$Q$5:$Q$2393))","v":0}]
[5339,"Section 5339 - Bus and Bus Facilities","Transit",{"$f":"SUMPRODUCT((Projects!$A$5:$A$2393='MDOT FTA Detail'!$D$3)*(Projects!$L$5:$L$2393='MDOT FTA Detail'!$A132)*(Projects!$K$5:$K$2393))","v":350572},{"$f":"F132-D132","v":58800},{"$f":"SUMPRODUCT((Projects!$A$5:$A$2393='MDOT FTA Detail'!$D$3)*(Projects!$L$5:$L$2393='MDOT FTA Detail'!$A132)*(Projects!$Q$5:$Q$2393))","v":409372},{"$f":"SUMPRODUCT((Projects!$A$5:$A$2393='MDOT FTA Detail'!$G$3)*(Projects!$L$5:$L$2393='MDOT FTA Detail'!$A132)*(Projects!$K$5:$K$2393))","v":122000},{"$f":"I132-G132","v":30500},{"$f":"SUMPRODUCT((Projects!$A$5:$A$2393='MDOT FTA Detail'!$G$3)*(Projects!$L$5:$L$2393='MDOT FTA Detail'!$A132)*(Projects!$Q$5:$Q$2393))","v":152500},{"$f":"SUMPRODUCT((Projects!$A$5:$A$2393='MDOT FTA Detail'!$J$3)*(Projects!$L$5:$L$2393='MDOT FTA Detail'!$A132)*(Projects!$K$5:$K$2393))","v":0},{"$f":"L132-J132","v":0},{"$f":"SUMPRODUCT((Projects!$A$5:$A$2393='MDOT FTA Detail'!$J$3)*(Projects!$L$5:$L$2393='MDOT FTA Detail'!$A132)*(Projects!$Q$5:$Q$2393))","v":0},{"$f":"SUMPRODUCT((Projects!$A$5:$A$2393='MDOT FTA Detail'!$M$3)*(Projects!$L$5:$L$2393='MDOT FTA Detail'!$A132)*(Projects!$K$5:$K$2393))","v":0},{"$f":"O132-M132","v":0},{"$f":"SUMPRODUCT((Projects!$A$5:$A$2393='MDOT FTA Detail'!$M$3)*(Projects!$L$5:$L$2393='MDOT FTA Detail'!$A132)*(Projects!$Q$5:$Q$2393))","v":0}]
[5505,"Section 5505 - University Transportation Centers Program","Transit",{"$f":"SUMPRODUCT((Projects!$A$5:$A$2393='MDOT FTA Detail'!$D$3)*(Projects!$L$5:$L$2393='MDOT FTA Detail'!$A133)*(Projects!$K$5:$K$2393))","v":0},0,{"$f":"SUMPRODUCT((Projects!$A$5:$A$2393='MDOT FTA Detail'!$D$3)*(Projects!$L$5:$L$2393='MDOT FTA Detail'!$A133)*(Projects!$Q$5:$Q$2393))","v":0},{"$f":"SUMPRODUCT((Projects!$A$5:$A$2393='MDOT FTA Detail'!$G$3)*(Projects!$L$5:$L$2393='MDOT FTA Detail'!$A133)*(Projects!$K$5:$K$2393))","v":0},0,{"$f":"SUMPRODUCT((Projects!$A$5:$A$2393='MDOT FTA Detail'!$G$3)*(Projects!$L$5:$L$2393='MDOT FTA Detail'!$A133)*(Projects!$Q$5:$Q$2393))","v":0},{"$f":"SUMPRODUCT((Projects!$A$5:$A$2393='MDOT FTA Detail'!$J$3)*(Projects!$L$5:$L$2393='MDOT FTA Detail'!$A133)*(Projects!$K$5:$K$2393))","v":0},0,{"$f":"SUMPRODUCT((Projects!$A$5:$A$2393='MDOT FTA Detail'!$J$3)*(Projects!$L$5:$L$2393='MDOT FTA Detail'!$A133)*(Projects!$Q$5:$Q$2393))","v":0},{"$f":"SUMPRODUCT((Projects!$A$5:$A$2393='MDOT FTA Detail'!$M$3)*(Projects!$L$5:$L$2393='MDOT FTA Detail'!$A133)*(Projects!$K$5:$K$2393))","v":0},0,{"$f":"SUMPRODUCT((Projects!$A$5:$A$2393='MDOT FTA Detail'!$M$3)*(Projects!$L$5:$L$2393='MDOT FTA Detail'!$A133)*(Projects!$Q$5:$Q$2393))","v":0}]
["CTF","Comprehensive Transit Fund","Transit","No FF",{"$f":"SUMPRODUCT((Projects!$A$5:$A$2393='MDOT FTA Detail'!$D$3)*(Projects!$K$5:$K$2393=0)*(Projects!$C$5:$C$2393='MDOT FTA Detail'!$C$4)*(Projects!$N$5:$N$2393='MDOT FTA Detail'!$A134)*(Projects!$J$5:$J$2393<>'MDOT FTA Detail'!$A$171)*(Projects!$M$5:$M$2393))","v":0},{"$f":"E134","v":0},"No FF",{"$f":"SUMPRODUCT((Projects!$A$5:$A$2393='MDOT FTA Detail'!$G$3)*(Projects!$K$5:$K$2393=0)*(Projects!$C$5:$C$2393='MDOT FTA Detail'!$C$4)*(Projects!$N$5:$N$2393='MDOT FTA Detail'!$A134)*(Projects!$J$5:$J$2393<>'MDOT FTA Detail'!$A$171)*(Projects!$M$5:$M$2393))","v":0},{"$f":"H134","v":0},"No FF",{"$f":"SUMPRODUCT((Projects!$A$5:$A$2393='MDOT FTA Detail'!$J$3)*(Projects!$K$5:$K$2393=0)*(Projects!$C$5:$C$2393='MDOT FTA Detail'!$C$4)*(Projects!$N$5:$N$2393='MDOT FTA Detail'!$A134)*(Projects!$J$5:$J$2393<>'MDOT FTA Detail'!$A$171)*(Projects!$M$5:$M$2393))","v":0},{"$f":"K134","v":0},"No FF",{"$f":"SUMPRODUCT((Projects!$A$5:$A$2393='MDOT FTA Detail'!$M$3)*(Projects!$K$5:$K$2393=0)*(Projects!$C$5:$C$2393='MDOT FTA Detail'!$C$4)*(Projects!$N$5:$N$2393='MDOT FTA Detail'!$A134)*(Projects!$J$5:$J$2393<>'MDOT FTA Detail'!$A$171)*(Projects!$M$5:$M$2393))","v":0},{"$f":"N134","v":0}]
["BI04","Build Michigan Bond Issue 2004","MDOT M","No FF",{"$f":"SUMPRODUCT((Projects!$A$5:$A$2393='MDOT FTA Detail'!$D$3)*(Projects!$K$5:$K$2393=0)*(Projects!$C$5:$C$2393='MDOT FTA Detail'!$C$4)*(Projects!$N$5:$N$2393='MDOT FTA Detail'!$A135)*(Projects!$J$5:$J$2393<>'MDOT FTA Detail'!$A$171)*(Projects!$M$5:$M$2393))","v":0},0,"No FF",{"$f":"SUMPRODUCT((Projects!$A$5:$A$2393='MDOT FTA Detail'!$G$3)*(Projects!$K$5:$K$2393=0)*(Projects!$C$5:$C$2393='MDOT FTA Detail'!$C$4)*(Projects!$N$5:$N$2393='MDOT FTA Detail'!$A135)*(Projects!$J$5:$J$2393<>'MDOT FTA Detail'!$A$171)*(Projects!$M$5:$M$2393))","v":0},0,"No FF",{"$f":"SUMPRODUCT((Projects!$A$5:$A$2393='MDOT FTA Detail'!$J$3)*(Projects!$K$5:$K$2393=0)*(Projects!$C$5:$C$2393='MDOT FTA Detail'!$C$4)*(Projects!$N$5:$N$2393='MDOT FTA Detail'!$A135)*(Projects!$J$5:$J$2393<>'MDOT FTA Detail'!$A$171)*(Projects!$M$5:$M$2393))","v":0},0,"No FF",{"$f":"SUMPRODUCT((Projects!$A$5:$A$2393='MDOT FTA Detail'!$M$3)*(Projects!$K$5:$K$2393=0)*(Projects!$C$5:$C$2393='MDOT FTA Detail'!$C$4)*(Projects!$N$5:$N$2393='MDOT FTA Detail'!$A135)*(Projects!$J$5:$J$2393<>'MDOT FTA Detail'!$A$171)*(Projects!$M$5:$M$2393))","v":0},0]
["BI06","Build Michigan Bond Issue 2006","MDOT M","No FF",{"$f":"SUMPRODUCT((Projects!$A$5:$A$2393='MDOT FTA Detail'!$D$3)*(Projects!$K$5:$K$2393=0)*(Projects!$C$5:$C$2393='MDOT FTA Detail'!$C$4)*(Projects!$N$5:$N$2393='MDOT FTA Detail'!$A136)*(Projects!$J$5:$J$2393<>'MDOT FTA Detail'!$A$171)*(Projects!$M$5:$M$2393))","v":0},0,"No FF",{"$f":"SUMPRODUCT((Projects!$A$5:$A$2393='MDOT FTA Detail'!$G$3)*(Projects!$K$5:$K$2393=0)*(Projects!$C$5:$C$2393='MDOT FTA Detail'!$C$4)*(Projects!$N$5:$N$2393='MDOT FTA Detail'!$A136)*(Projects!$J$5:$J$2393<>'MDOT FTA Detail'!$A$171)*(Projects!$M$5:$M$2393))","v":0},0,"No FF",{"$f":"SUMPRODUCT((Projects!$A$5:$A$2393='MDOT FTA Detail'!$J$3)*(Projects!$K$5:$K$2393=0)*(Projects!$C$5:$C$2393='MDOT FTA Detail'!$C$4)*(Projects!$N$5:$N$2393='MDOT FTA Detail'!$A136)*(Projects!$J$5:$J$2393<>'MDOT FTA Detail'!$A$171)*(Projects!$M$5:$M$2393))","v":0},0,"No FF",{"$f":"SUMPRODUCT((Projects!$A$5:$A$2393='MDOT FTA Detail'!$M$3)*(Projects!$K$5:$K$2393=0)*(Projects!$C$5:$C$2393='MDOT FTA Detail'!$C$4)*(Projects!$N$5:$N$2393='MDOT FTA Detail'!$A136)*(Projects!$J$5:$J$2393<>'MDOT FTA Detail'!$A$171)*(Projects!$M$5:$M$2393))","v":0},0]
["BI08","Build Michigan Bond Issue 2008","MDOT M","No FF",{"$f":"SUMPRODUCT((Projects!$A$5:$A$2393='MDOT FTA Detail'!$D$3)*(Projects!$K$5:$K$2393=0)*(Projects!$C$5:$C$2393='MDOT FTA Detail'!$C$4)*(Projects!$N$5:$N$2393='MDOT FTA Detail'!$A137)*(Projects!$J$5:$J$2393<>'MDOT FTA Detail'!$A$171)*(Projects!$M$5:$M$2393))","v":0},0,"No FF",{"$f":"SUMPRODUCT((Projects!$A$5:$A$2393='MDOT FTA Detail'!$G$3)*(Projects!$K$5:$K$2393=0)*(Projects!$C$5:$C$2393='MDOT FTA Detail'!$C$4)*(Projects!$N$5:$N$2393='MDOT FTA Detail'!$A137)*(Projects!$J$5:$J$2393<>'MDOT FTA Detail'!$A$171)*(Projects!$M$5:$M$2393))","v":0},0,"No FF",{"$f":"SUMPRODUCT((Projects!$A$5:$A$2393='MDOT FTA Detail'!$J$3)*(Projects!$K$5:$K$2393=0)*(Projects!$C$5:$C$2393='MDOT FTA Detail'!$C$4)*(Projects!$N$5:$N$2393='MDOT FTA Detail'!$A137)*(Projects!$J$5:$J$2393<>'MDOT FTA Detail'!$A$171)*(Projects!$M$5:$M$2393))","v":0},0,"No FF",{"$f":"SUMPRODUCT((Projects!$A$5:$A$2393='MDOT FTA Detail'!$M$3)*(Projects!$K$5:$K$2393=0)*(Projects!$C$5:$C$2393='MDOT FTA Detail'!$C$4)*(Projects!$N$5:$N$2393='MDOT FTA Detail'!$A137)*(Projects!$J$5:$J$2393<>'MDOT FTA Detail'!$A$171)*(Projects!$M$5:$M$2393))","v":0},0]
["BT01","Bond Trunkline Roads for First Issue","MDOT M","No FF",{"$f":"SUMPRODUCT((Projects!$A$5:$A$2393='MDOT FTA Detail'!$D$3)*(Projects!$K$5:$K$2393=0)*(Projects!$C$5:$C$2393='MDOT FTA Detail'!$C$4)*(Projects!$N$5:$N$2393='MDOT FTA Detail'!$A138)*(Projects!$J$5:$J$2393<>'MDOT FTA Detail'!$A$171)*(Projects!$M$5:$M$2393))","v":0},0,"No FF",{"$f":"SUMPRODUCT((Projects!$A$5:$A$2393='MDOT FTA Detail'!$G$3)*(Projects!$K$5:$K$2393=0)*(Projects!$C$5:$C$2393='MDOT FTA Detail'!$C$4)*(Projects!$N$5:$N$2393='MDOT FTA Detail'!$A138)*(Projects!$J$5:$J$2393<>'MDOT FTA Detail'!$A$171)*(Projects!$M$5:$M$2393))","v":0},0,"No FF",{"$f":"SUMPRODUCT((Projects!$A$5:$A$2393='MDOT FTA Detail'!$J$3)*(Projects!$K$5:$K$2393=0)*(Projects!$C$5:$C$2393='MDOT FTA Detail'!$C$4)*(Projects!$N$5:$N$2393='MDOT FTA Detail'!$A138)*(Projects!$J$5:$J$2393<>'MDOT FTA Detail'!$A$171)*(Projects!$M$5:$M$2393))","v":0},0,"No FF",{"$f":"SUMPRODUCT((Projects!$A$5:$A$2393='MDOT FTA Detail'!$M$3)*(Projects!$K$5:$K$2393=0)*(Projects!$C$5:$C$2393='MDOT FTA Detail'!$C$4)*(Projects!$N$5:$N$2393='MDOT FTA Detail'!$A138)*(Projects!$J$5:$J$2393<>'MDOT FTA Detail'!$A$171)*(Projects!$M$5:$M$2393))","v":0},0]
["CANX","Canadian Bridge Funds","MDOT M","No FF",{"$f":"SUMPRODUCT((Projects!$A$5:$A$2393='MDOT FTA Detail'!$D$3)*(Projects!$K$5:$K$2393=0)*(Projects!$C$5:$C$2393='MDOT FTA Detail'!$C$4)*(Projects!$N$5:$N$2393='MDOT FTA Detail'!$A139)*(Projects!$J$5:$J$2393<>'MDOT FTA Detail'!$A$171)*(Projects!$M$5:$M$2393))","v":0},0,"No FF",{"$f":"SUMPRODUCT((Projects!$A$5:$A$2393='MDOT FTA Detail'!$G$3)*(Projects!$K$5:$K$2393=0)*(Projects!$C$5:$C$2393='MDOT FTA Detail'!$C$4)*(Projects!$N$5:$N$2393='MDOT FTA Detail'!$A139)*(Projects!$J$5:$J$2393<>'MDOT FTA Detail'!$A$171)*(Projects!$M$5:$M$2393))","v":0},0,"No FF",{"$f":"SUMPRODUCT((Projects!$A$5:$A$2393='MDOT FTA Detail'!$J$3)*(Projects!$K$5:$K$2393=0)*(Projects!$C$5:$C$2393='MDOT FTA Detail'!$C$4)*(Projects!$N$5:$N$2393='MDOT FTA Detail'!$A139)*(Projects!$J$5:$J$2393<>'MDOT FTA Detail'!$A$171)*(Projects!$M$5:$M$2393))","v":0},0,"No FF",{"$f":"SUMPRODUCT((Projects!$A$5:$A$2393='MDOT FTA Detail'!$M$3)*(Projects!$K$5:$K$2393=0)*(Projects!$C$5:$C$2393='MDOT FTA Detail'!$C$4)*(Projects!$N$5:$N$2393='MDOT FTA Detail'!$A139)*(Projects!$J$5:$J$2393<>'MDOT FTA Detail'!$A$171)*(Projects!$M$5:$M$2393))","v":0},0]
["EDA","Economic Development - Category A","MDOT M","No FF",{"$f":"SUMPRODUCT((Projects!$A$5:$A$2393='MDOT FTA Detail'!$D$3)*(Projects!$K$5:$K$2393=0)*(Projects!$C$5:$C$2393='MDOT FTA Detail'!$C$4)*(Projects!$N$5:$N$2393='MDOT FTA Detail'!$A140)*(Projects!$J$5:$J$2393<>'MDOT FTA Detail'!$A$171)*(Projects!$M$5:$M$2393))","v":0},0,"No FF",{"$f":"SUMPRODUCT((Projects!$A$5:$A$2393='MDOT FTA Detail'!$G$3)*(Projects!$K$5:$K$2393=0)*(Projects!$C$5:$C$2393='MDOT FTA Detail'!$C$4)*(Projects!$N$5:$N$2393='MDOT FTA Detail'!$A140)*(Projects!$J$5:$J$2393<>'MDOT FTA Detail'!$A$171)*(Projects!$M$5:$M$2393))","v":0},0,"No FF",{"$f":"SUMPRODUCT((Projects!$A$5:$A$2393='MDOT FTA Detail'!$J$3)*(Projects!$K$5:$K$2393=0)*(Projects!$C$5:$C$2393='MDOT FTA Detail'!$C$4)*(Projects!$N$5:$N$2393='MDOT FTA Detail'!$A140)*(Projects!$J$5:$J$2393<>'MDOT FTA Detail'!$A$171)*(Projects!$M$5:$M$2393))","v":0},0,"No FF",{"$f":"SUMPRODUCT((Projects!$A$5:$A$2393='MDOT FTA Detail'!$M$3)*(Projects!$K$5:$K$2393=0)*(Projects!$C$5:$C$2393='MDOT FTA Detail'!$C$4)*(Projects!$N$5:$N$2393='MDOT FTA Detail'!$A140)*(Projects!$J$5:$J$2393<>'MDOT FTA Detail'!$A$171)*(Projects!$M$5:$M$2393))","v":0},0]
["EDC","Economic Development - Category C","MDOT M","No FF",{"$f":"SUMPRODUCT((Projects!$A$5:$A$2393='MDOT FTA Detail'!$D$3)*(Projects!$K$5:$K$2393=0)*(Projects!$C$5:$C$2393='MDOT FTA Detail'!$C$4)*(Projects!$N$5:$N$2393='MDOT FTA Detail'!$A141)*(Projects!$J$5:$J$2393<>'MDOT FTA Detail'!$A$171)*(Projects!$M$5:$M$2393))","v":0},0,"No FF",{"$f":"SUMPRODUCT((Projects!$A$5:$A$2393='MDOT FTA Detail'!$G$3)*(Projects!$K$5:$K$2393=0)*(Projects!$C$5:$C$2393='MDOT FTA Detail'!$C$4)*(Projects!$N$5:$N$2393='MDOT FTA Detail'!$A141)*(Projects!$J$5:$J$2393<>'MDOT FTA Detail'!$A$171)*(Projects!$M$5:$M$2393))","v":0},0,"No FF",{"$f":"SUMPRODUCT((Projects!$A$5:$A$2393='MDOT FTA Detail'!$J$3)*(Projects!$K$5:$K$2393=0)*(Projects!$C$5:$C$2393='MDOT FTA Detail'!$C$4)*(Projects!$N$5:$N$2393='MDOT FTA Detail'!$A141)*(Projects!$J$5:$J$2393<>'MDOT FTA Detail'!$A$171)*(Projects!$M$5:$M$2393))","v":0},0,"No FF",{"$f":"SUMPRODUCT((Projects!$A$5:$A$2393='MDOT FTA Detail'!$M$3)*(Projects!$K$5:$K$2393=0)*(Projects!$C$5:$C$2393='MDOT FTA Detail'!$C$4)*(Projects!$N$5:$N$2393='MDOT FTA Detail'!$A141)*(Projects!$J$5:$J$2393<>'MDOT FTA Detail'!$A$171)*(Projects!$M$5:$M$2393))","v":0},0]
["EDD","Economic Development - Category D","MDOT M","No FF",{"$f":"SUMPRODUCT((Projects!$A$5:$A$2393='MDOT FTA Detail'!$D$3)*(Projects!$K$5:$K$2393=0)*(Projects!$C$5:$C$2393='MDOT FTA Detail'!$C$4)*(Projects!$N$5:$N$2393='MDOT FTA Detail'!$A142)*(Projects!$J$5:$J$2393<>'MDOT FTA Detail'!$A$171)*(Projects!$M$5:$M$2393))","v":0},0,"No FF",{"$f":"SUMPRODUCT((Projects!$A$5:$A$2393='MDOT FTA Detail'!$G$3)*(Projects!$K$5:$K$2393=0)*(Projects!$C$5:$C$2393='MDOT FTA Detail'!$C$4)*(Projects!$N$5:$N$2393='MDOT FTA Detail'!$A142)*(Projects!$J$5:$J$2393<>'MDOT FTA Detail'!$A$171)*(Projects!$M$5:$M$2393))","v":0},0,"No FF",{"$f":"SUMPRODUCT((Projects!$A$5:$A$2393='MDOT FTA Detail'!$J$3)*(Projects!$K$5:$K$2393=0)*(Projects!$C$5:$C$2393='MDOT FTA Detail'!$C$4)*(Projects!$N$5:$N$2393='MDOT FTA Detail'!$A142)*(Projects!$J$5:$J$2393<>'MDOT FTA Detail'!$A$171)*(Projects!$M$5:$M$2393))","v":0},0,"No FF",{"$f":"SUMPRODUCT((Projects!$A$5:$A$2393='MDOT FTA Detail'!$M$3)*(Projects!$K$5:$K$2393=0)*(Projects!$C$5:$C$2393='MDOT FTA Detail'!$C$4)*(Projects!$N$5:$N$2393='MDOT FTA Detail'!$A142)*(Projects!$J$5:$J$2393<>'MDOT FTA Detail'!$A$171)*(Projects!$M$5:$M$2393))","v":0},0]
["EDF","Economic Development - Category F","MDOT M","No FF",{"$f":"SUMPRODUCT((Projects!$A$5:$A$2393='MDOT FTA Detail'!$D$3)*(Projects!$K$5:$K$2393=0)*(Projects!$C$5:$C$2393='MDOT FTA Detail'!$C$4)*(Projects!$N$5:$N$2393='MDOT FTA Detail'!$A143)*(Projects!$J$5:$J$2393<>'MDOT FTA Detail'!$A$171)*(Projects!$M$5:$M$2393))","v":0},0,"No FF",{"$f":"SUMPRODUCT((Projects!$A$5:$A$2393='MDOT FTA Detail'!$G$3)*(Projects!$K$5:$K$2393=0)*(Projects!$C$5:$C$2393='MDOT FTA Detail'!$C$4)*(Projects!$N$5:$N$2393='MDOT FTA Detail'!$A143)*(Projects!$J$5:$J$2393<>'MDOT FTA Detail'!$A$171)*(Projects!$M$5:$M$2393))","v":0},0,"No FF",{"$f":"SUMPRODUCT((Projects!$A$5:$A$2393='MDOT FTA Detail'!$J$3)*(Projects!$K$5:$K$2393=0)*(Projects!$C$5:$C$2393='MDOT FTA Detail'!$C$4)*(Projects!$N$5:$N$2393='MDOT FTA Detail'!$A143)*(Projects!$J$5:$J$2393<>'MDOT FTA Detail'!$A$171)*(Projects!$M$5:$M$2393))","v":0},0,"No FF",{"$f":"SUMPRODUCT((Projects!$A$5:$A$2393='MDOT FTA Detail'!$M$3)*(Projects!$K$5:$K$2393=0)*(Projects!$C$5:$C$2393='MDOT FTA Detail'!$C$4)*(Projects!$N$5:$N$2393='MDOT FTA Detail'!$A143)*(Projects!$J$5:$J$2393<>'MDOT FTA Detail'!$A$171)*(Projects!$M$5:$M$2393))","v":0},0]
["GF15","General Fund 2015","MDOT M","No FF",{"$f":"SUMPRODUCT((Projects!$A$5:$A$2393='MDOT FTA Detail'!$D$3)*(Projects!$K$5:$K$2393=0)*(Projects!$C$5:$C$2393='MDOT FTA Detail'!$C$4)*(Projects!$N$5:$N$2393='MDOT FTA Detail'!$A144)*(Projects!$J$5:$J$2393<>'MDOT FTA Detail'!$A$171)*(Projects!$M$5:$M$2393))","v":0},{"$f":"E144","v":0},"No FF",{"$f":"SUMPRODUCT((Projects!$A$5:$A$2393='MDOT FTA Detail'!$G$3)*(Projects!$K$5:$K$2393=0)*(Projects!$C$5:$C$2393='MDOT FTA Detail'!$C$4)*(Projects!$N$5:$N$2393='MDOT FTA Detail'!$A144)*(Projects!$J$5:$J$2393<>'MDOT FTA Detail'!$A$171)*(Projects!$M$5:$M$2393))","v":0},{"$f":"H144","v":0},"No FF",{"$f":"SUMPRODUCT((Projects!$A$5:$A$2393='MDOT FTA Detail'!$J$3)*(Projects!$K$5:$K$2393=0)*(Projects!$C$5:$C$2393='MDOT FTA Detail'!$C$4)*(Projects!$N$5:$N$2393='MDOT FTA Detail'!$A144)*(Projects!$J$5:$J$2393<>'MDOT FTA Detail'!$A$171)*(Projects!$M$5:$M$2393))","v":0},{"$f":"K144","v":0},"No FF",{"$f":"SUMPRODUCT((Projects!$A$5:$A$2393='MDOT FTA Detail'!$M$3)*(Projects!$K$5:$K$2393=0)*(Projects!$C$5:$C$2393='MDOT FTA Detail'!$C$4)*(Projects!$N$5:$N$2393='MDOT FTA Detail'!$A144)*(Projects!$J$5:$J$2393<>'MDOT FTA Detail'!$A$171)*(Projects!$M$5:$M$2393))","v":0},{"$f":"N144","v":0}]
["GF16","General Fund 2016","MDOT M","No FF",{"$f":"SUMPRODUCT((Projects!$A$5:$A$2393='MDOT FTA Detail'!$D$3)*(Projects!$K$5:$K$2393=0)*(Projects!$C$5:$C$2393='MDOT FTA Detail'!$C$4)*(Projects!$N$5:$N$2393='MDOT FTA Detail'!$A145)*(Projects!$J$5:$J$2393<>'MDOT FTA Detail'!$A$171)*(Projects!$M$5:$M$2393))","v":0},0,"No FF",{"$f":"SUMPRODUCT((Projects!$A$5:$A$2393='MDOT FTA Detail'!$G$3)*(Projects!$K$5:$K$2393=0)*(Projects!$C$5:$C$2393='MDOT FTA Detail'!$C$4)*(Projects!$N$5:$N$2393='MDOT FTA Detail'!$A145)*(Projects!$J$5:$J$2393<>'MDOT FTA Detail'!$A$171)*(Projects!$M$5:$M$2393))","v":0},0,"No FF",{"$f":"SUMPRODUCT((Projects!$A$5:$A$2393='MDOT FTA Detail'!$J$3)*(Projects!$K$5:$K$2393=0)*(Projects!$C$5:$C$2393='MDOT FTA Detail'!$C$4)*(Projects!$N$5:$N$2393='MDOT FTA Detail'!$A145)*(Projects!$J$5:$J$2393<>'MDOT FTA Detail'!$A$171)*(Projects!$M$5:$M$2393))","v":0},0,"No FF",{"$f":"SUMPRODUCT((Projects!$A$5:$A$2393='MDOT FTA Detail'!$M$3)*(Projects!$K$5:$K$2393=0)*(Projects!$C$5:$C$2393='MDOT FTA Detail'!$C$4)*(Projects!$N$5:$N$2393='MDOT FTA Detail'!$A145)*(Projects!$J$5:$J$2393<>'MDOT FTA Detail'!$A$171)*(Projects!$M$5:$M$2393))","v":0},0]
["JT07","Jobs Today Bond Issue 2007 GARVEE (State AC for Federal GARVEE Bonds)","MDOT M","No FF",{"$f":"SUMPRODUCT((Projects!$A$5:$A$2393='MDOT FTA Detail'!$D$3)*(Projects!$K$5:$K$2393=0)*(Projects!$C$5:$C$2393='MDOT FTA Detail'!$C$4)*(Projects!$N$5:$N$2393='MDOT FTA Detail'!$A146)*(Projects!$J$5:$J$2393<>'MDOT FTA Detail'!$A$171)*(Projects!$M$5:$M$2393))","v":0},0,"No FF",{"$f":"SUMPRODUCT((Projects!$A$5:$A$2393='MDOT FTA Detail'!$G$3)*(Projects!$K$5:$K$2393=0)*(Projects!$C$5:$C$2393='MDOT FTA Detail'!$C$4)*(Projects!$N$5:$N$2393='MDOT FTA Detail'!$A146)*(Projects!$J$5:$J$2393<>'MDOT FTA Detail'!$A$171)*(Projects!$M$5:$M$2393))","v":0},0,"No FF",{"$f":"SUMPRODUCT((Projects!$A$5:$A$2393='MDOT FTA Detail'!$J$3)*(Projects!$K$5:$K$2393=0)*(Projects!$C$5:$C$2393='MDOT FTA Detail'!$C$4)*(Projects!$N$5:$N$2393='MDOT FTA Detail'!$A146)*(Projects!$J$5:$J$2393<>'MDOT FTA Detail'!$A$171)*(Projects!$M$5:$M$2393))","v":0},0,"No FF",{"$f":"SUMPRODUCT((Projects!$A$5:$A$2393='MDOT FTA Detail'!$M$3)*(Projects!$K$5:$K$2393=0)*(Projects!$C$5:$C$2393='MDOT FTA Detail'!$C$4)*(Projects!$N$5:$N$2393='MDOT FTA Detail'!$A146)*(Projects!$J$5:$J$2393<>'MDOT FTA Detail'!$A$171)*(Projects!$M$5:$M$2393))","v":0},0]
["LFMP","Local Fund Match Program - 100% Local","MDOT M","No FF",{"$f":"SUMPRODUCT((Projects!$A$5:$A$2393='MDOT FTA Detail'!$D$3)*(Projects!$K$5:$K$2393=0)*(Projects!$C$5:$C$2393='MDOT FTA Detail'!$C$4)*(Projects!$N$5:$N$2393='MDOT FTA Detail'!$A147)*(Projects!$J$5:$J$2393<>'MDOT FTA Detail'!$A$171)*(Projects!$M$5:$M$2393))","v":0},0,"No FF",{"$f":"SUMPRODUCT((Projects!$A$5:$A$2393='MDOT FTA Detail'!$G$3)*(Projects!$K$5:$K$2393=0)*(Projects!$C$5:$C$2393='MDOT FTA Detail'!$C$4)*(Projects!$N$5:$N$2393='MDOT FTA Detail'!$A147)*(Projects!$J$5:$J$2393<>'MDOT FTA Detail'!$A$171)*(Projects!$M$5:$M$2393))","v":0},0,"No FF",{"$f":"SUMPRODUCT((Projects!$A$5:$A$2393='MDOT FTA Detail'!$J$3)*(Projects!$K$5:$K$2393=0)*(Projects!$C$5:$C$2393='MDOT FTA Detail'!$C$4)*(Projects!$N$5:$N$2393='MDOT FTA Detail'!$A147)*(Projects!$J$5:$J$2393<>'MDOT FTA Detail'!$A$171)*(Projects!$M$5:$M$2393))","v":0},0,"No FF",{"$f":"SUMPRODUCT((Projects!$A$5:$A$2393='MDOT FTA Detail'!$M$3)*(Projects!$K$5:$K$2393=0)*(Projects!$C$5:$C$2393='MDOT FTA Detail'!$C$4)*(Projects!$N$5:$N$2393='MDOT FTA Detail'!$A147)*(Projects!$J$5:$J$2393<>'MDOT FTA Detail'!$A$171)*(Projects!$M$5:$M$2393))","v":0},0]
["M","State Funds - Michigan Betterment","MDOT M","No FF",{"$f":"SUMPRODUCT((Projects!$A$5:$A$2393='MDOT FTA Detail'!$D$3)*(Projects!$K$5:$K$2393=0)*(Projects!$C$5:$C$2393='MDOT FTA Detail'!$C$4)*(Projects!$N$5:$N$2393='MDOT FTA Detail'!$A148)*(Projects!$J$5:$J$2393<>'MDOT FTA Detail'!$A$171)*(Projects!$M$5:$M$2393))","v":0},0,"No FF",{"$f":"SUMPRODUCT((Projects!$A$5:$A$2393='MDOT FTA Detail'!$G$3)*(Projects!$K$5:$K$2393=0)*(Projects!$C$5:$C$2393='MDOT FTA Detail'!$C$4)*(Projects!$N$5:$N$2393='MDOT FTA Detail'!$A148)*(Projects!$J$5:$J$2393<>'MDOT FTA Detail'!$A$171)*(Projects!$M$5:$M$2393))","v":0},0,"No FF",{"$f":"SUMPRODUCT((Projects!$A$5:$A$2393='MDOT FTA Detail'!$J$3)*(Projects!$K$5:$K$2393=0)*(Projects!$C$5:$C$2393='MDOT FTA Detail'!$C$4)*(Projects!$N$5:$N$2393='MDOT FTA Detail'!$A148)*(Projects!$J$5:$J$2393<>'MDOT FTA Detail'!$A$171)*(Projects!$M$5:$M$2393))","v":0},0,"No FF",{"$f":"SUMPRODUCT((Projects!$A$5:$A$2393='MDOT FTA Detail'!$M$3)*(Projects!$K$5:$K$2393=0)*(Projects!$C$5:$C$2393='MDOT FTA Detail'!$C$4)*(Projects!$N$5:$N$2393='MDOT FTA Detail'!$A148)*(Projects!$J$5:$J$2393<>'MDOT FTA Detail'!$A$171)*(Projects!$M$5:$M$2393))","v":0},0]
["MBS","Michigan Budget Stabilization","MDOT M","No FF",{"$f":"SUMPRODUCT((Projects!$A$5:$A$2393='MDOT FTA Detail'!$D$3)*(Projects!$K$5:$K$2393=0)*(Projects!$C$5:$C$2393='MDOT FTA Detail'!$C$4)*(Projects!$N$5:$N$2393='MDOT FTA Detail'!$A149)*(Projects!$J$5:$J$2393<>'MDOT FTA Detail'!$A$171)*(Projects!$M$5:$M$2393))","v":0},0,"No FF",{"$f":"SUMPRODUCT((Projects!$A$5:$A$2393='MDOT FTA Detail'!$G$3)*(Projects!$K$5:$K$2393=0)*(Projects!$C$5:$C$2393='MDOT FTA Detail'!$C$4)*(Projects!$N$5:$N$2393='MDOT FTA Detail'!$A149)*(Projects!$J$5:$J$2393<>'MDOT FTA Detail'!$A$171)*(Projects!$M$5:$M$2393))","v":0},0,"No FF",{"$f":"SUMPRODUCT((Projects!$A$5:$A$2393='MDOT FTA Detail'!$J$3)*(Projects!$K$5:$K$2393=0)*(Projects!$C$5:$C$2393='MDOT FTA Detail'!$C$4)*(Projects!$N$5:$N$2393='MDOT FTA Detail'!$A149)*(Projects!$J$5:$J$2393<>'MDOT FTA Detail'!$A$171)*(Projects!$M$5:$M$2393))","v":0},0,"No FF",{"$f":"SUMPRODUCT((Projects!$A$5:$A$2393='MDOT FTA Detail'!$M$3)*(Projects!$K$5:$K$2393=0)*(Projects!$C$5:$C$2393='MDOT FTA Detail'!$C$4)*(Projects!$N$5:$N$2393='MDOT FTA Detail'!$A149)*(Projects!$J$5:$J$2393<>'MDOT FTA Detail'!$A$171)*(Projects!$M$5:$M$2393))","v":0},0]
["MBWB","Michigan Blue Water Bridge","MDOT M","No FF",{"$f":"SUMPRODUCT((Projects!$A$5:$A$2393='MDOT FTA Detail'!$D$3)*(Projects!$K$5:$K$2393=0)*(Projects!$C$5:$C$2393='MDOT FTA Detail'!$C$4)*(Projects!$N$5:$N$2393='MDOT FTA Detail'!$A150)*(Projects!$J$5:$J$2393<>'MDOT FTA Detail'!$A$171)*(Projects!$M$5:$M$2393))","v":0},0,"No FF",{"$f":"SUMPRODUCT((Projects!$A$5:$A$2393='MDOT FTA Detail'!$G$3)*(Projects!$K$5:$K$2393=0)*(Projects!$C$5:$C$2393='MDOT FTA Detail'!$C$4)*(Projects!$N$5:$N$2393='MDOT FTA Detail'!$A150)*(Projects!$J$5:$J$2393<>'MDOT FTA Detail'!$A$171)*(Projects!$M$5:$M$2393))","v":0},0,"No FF",{"$f":"SUMPRODUCT((Projects!$A$5:$A$2393='MDOT FTA Detail'!$J$3)*(Projects!$K$5:$K$2393=0)*(Projects!$C$5:$C$2393='MDOT FTA Detail'!$C$4)*(Projects!$N$5:$N$2393='MDOT FTA Detail'!$A150)*(Projects!$J$5:$J$2393<>'MDOT FTA Detail'!$A$171)*(Projects!$M$5:$M$2393))","v":0},0,"No FF",{"$f":"SUMPRODUCT((Projects!$A$5:$A$2393='MDOT FTA Detail'!$M$3)*(Projects!$K$5:$K$2393=0)*(Projects!$C$5:$C$2393='MDOT FTA Detail'!$C$4)*(Projects!$N$5:$N$2393='MDOT FTA Detail'!$A150)*(Projects!$J$5:$J$2393<>'MDOT FTA Detail'!$A$171)*(Projects!$M$5:$M$2393))","v":0},0]
["MCS","State Funds - Critical Structures","MDOT M","No FF",{"$f":"SUMPRODUCT((Projects!$A$5:$A$2393='MDOT FTA Detail'!$D$3)*(Projects!$K$5:$K$2393=0)*(Projects!$C$5:$C$2393='MDOT FTA Detail'!$C$4)*(Projects!$N$5:$N$2393='MDOT FTA Detail'!$A151)*(Projects!$J$5:$J$2393<>'MDOT FTA Detail'!$A$171)*(Projects!$M$5:$M$2393))","v":0},0,"No FF",{"$f":"SUMPRODUCT((Projects!$A$5:$A$2393='MDOT FTA Detail'!$G$3)*(Projects!$K$5:$K$2393=0)*(Projects!$C$5:$C$2393='MDOT FTA Detail'!$C$4)*(Projects!$N$5:$N$2393='MDOT FTA Detail'!$A151)*(Projects!$J$5:$J$2393<>'MDOT FTA Detail'!$A$171)*(Projects!$M$5:$M$2393))","v":0},0,"No FF",{"$f":"SUMPRODUCT((Projects!$A$5:$A$2393='MDOT FTA Detail'!$J$3)*(Projects!$K$5:$K$2393=0)*(Projects!$C$5:$C$2393='MDOT FTA Detail'!$C$4)*(Projects!$N$5:$N$2393='MDOT FTA Detail'!$A151)*(Projects!$J$5:$J$2393<>'MDOT FTA Detail'!$A$171)*(Projects!$M$5:$M$2393))","v":0},0,"No FF",{"$f":"SUMPRODUCT((Projects!$A$5:$A$2393='MDOT FTA Detail'!$M$3)*(Projects!$K$5:$K$2393=0)*(Projects!$C$5:$C$2393='MDOT FTA Detail'!$C$4)*(Projects!$N$5:$N$2393='MDOT FTA Detail'!$A151)*(Projects!$J$5:$J$2393<>'MDOT FTA Detail'!$A$171)*(Projects!$M$5:$M$2393))","v":0},0]
["MDA","Drainage Assessment","MDOT M","No FF",{"$f":"SUMPRODUCT((Projects!$A$5:$A$2393='MDOT FTA Detail'!$D$3)*(Projects!$K$5:$K$2393=0)*(Projects!$C$5:$C$2393='MDOT FTA Detail'!$C$4)*(Projects!$N$5:$N$2393='MDOT FTA Detail'!$A152)*(Projects!$J$5:$J$2393<>'MDOT FTA Detail'!$A$171)*(Projects!$M$5:$M$2393))","v":0},0,"No FF",{"$f":"SUMPRODUCT((Projects!$A$5:$A$2393='MDOT FTA Detail'!$G$3)*(Projects!$K$5:$K$2393=0)*(Projects!$C$5:$C$2393='MDOT FTA Detail'!$C$4)*(Projects!$N$5:$N$2393='MDOT FTA Detail'!$A152)*(Projects!$J$5:$J$2393<>'MDOT FTA Detail'!$A$171)*(Projects!$M$5:$M$2393))","v":0},0,"No FF",{"$f":"SUMPRODUCT((Projects!$A$5:$A$2393='MDOT FTA Detail'!$J$3)*(Projects!$K$5:$K$2393=0)*(Projects!$C$5:$C$2393='MDOT FTA Detail'!$C$4)*(Projects!$N$5:$N$2393='MDOT FTA Detail'!$A152)*(Projects!$J$5:$J$2393<>'MDOT FTA Detail'!$A$171)*(Projects!$M$5:$M$2393))","v":0},0,"No FF",{"$f":"SUMPRODUCT((Projects!$A$5:$A$2393='MDOT FTA Detail'!$M$3)*(Projects!$K$5:$K$2393=0)*(Projects!$C$5:$C$2393='MDOT FTA Detail'!$C$4)*(Projects!$N$5:$N$2393='MDOT FTA Detail'!$A152)*(Projects!$J$5:$J$2393<>'MDOT FTA Detail'!$A$171)*(Projects!$M$5:$M$2393))","v":0},0]
["MER","Emergency Program","MDOT M","No FF",{"$f":"SUMPRODUCT((Projects!$A$5:$A$2393='MDOT FTA Detail'!$D$3)*(Projects!$K$5:$K$2393=0)*(Projects!$C$5:$C$2393='MDOT FTA Detail'!$C$4)*(Projects!$N$5:$N$2393='MDOT FTA Detail'!$A153)*(Projects!$J$5:$J$2393<>'MDOT FTA Detail'!$A$171)*(Projects!$M$5:$M$2393))","v":0},0,"No FF",{"$f":"SUMPRODUCT((Projects!$A$5:$A$2393='MDOT FTA Detail'!$G$3)*(Projects!$K$5:$K$2393=0)*(Projects!$C$5:$C$2393='MDOT FTA Detail'!$C$4)*(Projects!$N$5:$N$2393='MDOT FTA Detail'!$A153)*(Projects!$J$5:$J$2393<>'MDOT FTA Detail'!$A$171)*(Projects!$M$5:$M$2393))","v":0},0,"No FF",{"$f":"SUMPRODUCT((Projects!$A$5:$A$2393='MDOT FTA Detail'!$J$3)*(Projects!$K$5:$K$2393=0)*(Projects!$C$5:$C$2393='MDOT FTA Detail'!$C$4)*(Projects!$N$5:$N$2393='MDOT FTA Detail'!$A153)*(Projects!$J$5:$J$2393<>'MDOT FTA Detail'!$A$171)*(Projects!$M$5:$M$2393))","v":0},0,"No FF",{"$f":"SUMPRODUCT((Projects!$A$5:$A$2393='MDOT FTA Detail'!$M$3)*(Projects!$K$5:$K$2393=0)*(Projects!$C$5:$C$2393='MDOT FTA Detail'!$C$4)*(Projects!$N$5:$N$2393='MDOT FTA Detail'!$A153)*(Projects!$J$5:$J$2393<>'MDOT FTA Detail'!$A$171)*(Projects!$M$5:$M$2393))","v":0},0]
["MIR","State Funds - Institutional Roads","MDOT M","No FF",{"$f":"SUMPRODUCT((Projects!$A$5:$A$2393='MDOT FTA Detail'!$D$3)*(Projects!$K$5:$K$2393=0)*(Projects!$C$5:$C$2393='MDOT FTA Detail'!$C$4)*(Projects!$N$5:$N$2393='MDOT FTA Detail'!$A154)*(Projects!$J$5:$J$2393<>'MDOT FTA Detail'!$A$171)*(Projects!$M$5:$M$2393))","v":0},0,"No FF",{"$f":"SUMPRODUCT((Projects!$A$5:$A$2393='MDOT FTA Detail'!$G$3)*(Projects!$K$5:$K$2393=0)*(Projects!$C$5:$C$2393='MDOT FTA Detail'!$C$4)*(Projects!$N$5:$N$2393='MDOT FTA Detail'!$A154)*(Projects!$J$5:$J$2393<>'MDOT FTA Detail'!$A$171)*(Projects!$M$5:$M$2393))","v":0},0,"No FF",{"$f":"SUMPRODUCT((Projects!$A$5:$A$2393='MDOT FTA Detail'!$J$3)*(Projects!$K$5:$K$2393=0)*(Projects!$C$5:$C$2393='MDOT FTA Detail'!$C$4)*(Projects!$N$5:$N$2393='MDOT FTA Detail'!$A154)*(Projects!$J$5:$J$2393<>'MDOT FTA Detail'!$A$171)*(Projects!$M$5:$M$2393))","v":0},0,"No FF",{"$f":"SUMPRODUCT((Projects!$A$5:$A$2393='MDOT FTA Detail'!$M$3)*(Projects!$K$5:$K$2393=0)*(Projects!$C$5:$C$2393='MDOT FTA Detail'!$C$4)*(Projects!$N$5:$N$2393='MDOT FTA Detail'!$A154)*(Projects!$J$5:$J$2393<>'MDOT FTA Detail'!$A$171)*(Projects!$M$5:$M$2393))","v":0},0]
["MRR","Michigan Railroad","MDOT M","No FF",{"$f":"SUMPRODUCT((Projects!$A$5:$A$2393='MDOT FTA Detail'!$D$3)*(Projects!$K$5:$K$2393=0)*(Projects!$C$5:$C$2393='MDOT FTA Detail'!$C$4)*(Projects!$N$5:$N$2393='MDOT FTA Detail'!$A155)*(Projects!$J$5:$J$2393<>'MDOT FTA Detail'!$A$171)*(Projects!$M$5:$M$2393))","v":0},0,"No FF",{"$f":"SUMPRODUCT((Projects!$A$5:$A$2393='MDOT FTA Detail'!$G$3)*(Projects!$K$5:$K$2393=0)*(Projects!$C$5:$C$2393='MDOT FTA Detail'!$C$4)*(Projects!$N$5:$N$2393='MDOT FTA Detail'!$A155)*(Projects!$J$5:$J$2393<>'MDOT FTA Detail'!$A$171)*(Projects!$M$5:$M$2393))","v":0},0,"No FF",{"$f":"SUMPRODUCT((Projects!$A$5:$A$2393='MDOT FTA Detail'!$J$3)*(Projects!$K$5:$K$2393=0)*(Projects!$C$5:$C$2393='MDOT FTA Detail'!$C$4)*(Projects!$N$5:$N$2393='MDOT FTA Detail'!$A155)*(Projects!$J$5:$J$2393<>'MDOT FTA Detail'!$A$171)*(Projects!$M$5:$M$2393))","v":0},0,"No FF",{"$f":"SUMPRODUCT((Projects!$A$5:$A$2393='MDOT FTA Detail'!$M$3)*(Projects!$K$5:$K$2393=0)*(Projects!$C$5:$C$2393='MDOT FTA Detail'!$C$4)*(Projects!$N$5:$N$2393='MDOT FTA Detail'!$A155)*(Projects!$J$5:$J$2393<>'MDOT FTA Detail'!$A$171)*(Projects!$M$5:$M$2393))","v":0},0]
["MRRF","Michigan Revolving Real Estate Fund","MDOT M","No FF",{"$f":"SUMPRODUCT((Projects!$A$5:$A$2393='MDOT FTA Detail'!$D$3)*(Projects!$K$5:$K$2393=0)*(Projects!$C$5:$C$2393='MDOT FTA Detail'!$C$4)*(Projects!$N$5:$N$2393='MDOT FTA Detail'!$A156)*(Projects!$J$5:$J$2393<>'MDOT FTA Detail'!$A$171)*(Projects!$M$5:$M$2393))","v":0},0,"No FF",{"$f":"SUMPRODUCT((Projects!$A$5:$A$2393='MDOT FTA Detail'!$G$3)*(Projects!$K$5:$K$2393=0)*(Projects!$C$5:$C$2393='MDOT FTA Detail'!$C$4)*(Projects!$N$5:$N$2393='MDOT FTA Detail'!$A156)*(Projects!$J$5:$J$2393<>'MDOT FTA Detail'!$A$171)*(Projects!$M$5:$M$2393))","v":0},0,"No FF",{"$f":"SUMPRODUCT((Projects!$A$5:$A$2393='MDOT FTA Detail'!$J$3)*(Projects!$K$5:$K$2393=0)*(Projects!$C$5:$C$2393='MDOT FTA Detail'!$C$4)*(Projects!$N$5:$N$2393='MDOT FTA Detail'!$A156)*(Projects!$J$5:$J$2393<>'MDOT FTA Detail'!$A$171)*(Projects!$M$5:$M$2393))","v":0},0,"No FF",{"$f":"SUMPRODUCT((Projects!$A$5:$A$2393='MDOT FTA Detail'!$M$3)*(Projects!$K$5:$K$2393=0)*(Projects!$C$5:$C$2393='MDOT FTA Detail'!$C$4)*(Projects!$N$5:$N$2393='MDOT FTA Detail'!$A156)*(Projects!$J$5:$J$2393<>'MDOT FTA Detail'!$A$171)*(Projects!$M$5:$M$2393))","v":0},0]
["MS","Safety Program","MDOT M","No FF",{"$f":"SUMPRODUCT((Projects!$A$5:$A$2393='MDOT FTA Detail'!$D$3)*(Projects!$K$5:$K$2393=0)*(Projects!$C$5:$C$2393='MDOT FTA Detail'!$C$4)*(Projects!$N$5:$N$2393='MDOT FTA Detail'!$A157)*(Projects!$J$5:$J$2393<>'MDOT FTA Detail'!$A$171)*(Projects!$M$5:$M$2393))","v":0},0,"No FF",{"$f":"SUMPRODUCT((Projects!$A$5:$A$2393='MDOT FTA Detail'!$G$3)*(Projects!$K$5:$K$2393=0)*(Projects!$C$5:$C$2393='MDOT FTA Detail'!$C$4)*(Projects!$N$5:$N$2393='MDOT FTA Detail'!$A157)*(Projects!$J$5:$J$2393<>'MDOT FTA Detail'!$A$171)*(Projects!$M$5:$M$2393))","v":0},0,"No FF",{"$f":"SUMPRODUCT((Projects!$A$5:$A$2393='MDOT FTA Detail'!$J$3)*(Projects!$K$5:$K$2393=0)*(Projects!$C$5:$C$2393='MDOT FTA Detail'!$C$4)*(Projects!$N$5:$N$2393='MDOT FTA Detail'!$A157)*(Projects!$J$5:$J$2393<>'MDOT FTA Detail'!$A$171)*(Projects!$M$5:$M$2393))","v":0},0,"No FF",{"$f":"SUMPRODUCT((Projects!$A$5:$A$2393='MDOT FTA Detail'!$M$3)*(Projects!$K$5:$K$2393=0)*(Projects!$C$5:$C$2393='MDOT FTA Detail'!$C$4)*(Projects!$N$5:$N$2393='MDOT FTA Detail'!$A157)*(Projects!$J$5:$J$2393<>'MDOT FTA Detail'!$A$171)*(Projects!$M$5:$M$2393))","v":0},0]
["MTB","Turnback Program","MDOT M","No FF",{"$f":"SUMPRODUCT((Projects!$A$5:$A$2393='MDOT FTA Detail'!$D$3)*(Projects!$K$5:$K$2393=0)*(Projects!$C$5:$C$2393='MDOT FTA Detail'!$C$4)*(Projects!$N$5:$N$2393='MDOT FTA Detail'!$A158)*(Projects!$J$5:$J$2393<>'MDOT FTA Detail'!$A$171)*(Projects!$M$5:$M$2393))","v":0},0,"No FF",{"$f":"SUMPRODUCT((Projects!$A$5:$A$2393='MDOT FTA Detail'!$G$3)*(Projects!$K$5:$K$2393=0)*(Projects!$C$5:$C$2393='MDOT FTA Detail'!$C$4)*(Projects!$N$5:$N$2393='MDOT FTA Detail'!$A158)*(Projects!$J$5:$J$2393<>'MDOT FTA Detail'!$A$171)*(Projects!$M$5:$M$2393))","v":0},0,"No FF",{"$f":"SUMPRODUCT((Projects!$A$5:$A$2393='MDOT FTA Detail'!$J$3)*(Projects!$K$5:$K$2393=0)*(Projects!$C$5:$C$2393='MDOT FTA Detail'!$C$4)*(Projects!$N$5:$N$2393='MDOT FTA Detail'!$A158)*(Projects!$J$5:$J$2393<>'MDOT FTA Detail'!$A$171)*(Projects!$M$5:$M$2393))","v":0},0,"No FF",{"$f":"SUMPRODUCT((Projects!$A$5:$A$2393='MDOT FTA Detail'!$M$3)*(Projects!$K$5:$K$2393=0)*(Projects!$C$5:$C$2393='MDOT FTA Detail'!$C$4)*(Projects!$N$5:$N$2393='MDOT FTA Detail'!$A158)*(Projects!$J$5:$J$2393<>'MDOT FTA Detail'!$A$171)*(Projects!$M$5:$M$2393))","v":0},0]
["PRIP","Priority Roads Investment Program","MDOT M","No FF",{"$f":"SUMPRODUCT((Projects!$A$5:$A$2393='MDOT FTA Detail'!$D$3)*(Projects!$K$5:$K$2393=0)*(Projects!$C$5:$C$2393='MDOT FTA Detail'!$C$4)*(Projects!$N$5:$N$2393='MDOT FTA Detail'!$A159)*(Projects!$J$5:$J$2393<>'MDOT FTA Detail'!$A$171)*(Projects!$M$5:$M$2393))","v":0},{"$f":"E159","v":0},"No FF",{"$f":"SUMPRODUCT((Projects!$A$5:$A$2393='MDOT FTA Detail'!$G$3)*(Projects!$K$5:$K$2393=0)*(Projects!$C$5:$C$2393='MDOT FTA Detail'!$C$4)*(Projects!$N$5:$N$2393='MDOT FTA Detail'!$A159)*(Projects!$J$5:$J$2393<>'MDOT FTA Detail'!$A$171)*(Projects!$M$5:$M$2393))","v":0},{"$f":"H159","v":0},"No FF",{"$f":"SUMPRODUCT((Projects!$A$5:$A$2393='MDOT FTA Detail'!$J$3)*(Projects!$K$5:$K$2393=0)*(Projects!$C$5:$C$2393='MDOT FTA Detail'!$C$4)*(Projects!$N$5:$N$2393='MDOT FTA Detail'!$A159)*(Projects!$J$5:$J$2393<>'MDOT FTA Detail'!$A$171)*(Projects!$M$5:$M$2393))","v":0},{"$f":"K159","v":0},"No FF",{"$f":"SUMPRODUCT((Projects!$A$5:$A$2393='MDOT FTA Detail'!$M$3)*(Projects!$K$5:$K$2393=0)*(Projects!$C$5:$C$2393='MDOT FTA Detail'!$C$4)*(Projects!$N$5:$N$2393='MDOT FTA Detail'!$A159)*(Projects!$J$5:$J$2393<>'MDOT FTA Detail'!$A$171)*(Projects!$M$5:$M$2393))","v":0},{"$f":"N159","v":0}]
["RRRF","Michigan Road and Risk Reserve Fund","MDOT M","No FF",{"$f":"SUMPRODUCT((Projects!$A$5:$A$2393='MDOT FTA Detail'!$D$3)*(Projects!$K$5:$K$2393=0)*(Projects!$C$5:$C$2393='MDOT FTA Detail'!$C$4)*(Projects!$N$5:$N$2393='MDOT FTA Detail'!$A160)*(Projects!$J$5:$J$2393<>'MDOT FTA Detail'!$A$171)*(Projects!$M$5:$M$2393))","v":0},{"$f":"E160","v":0},"No FF",{"$f":"SUMPRODUCT((Projects!$A$5:$A$2393='MDOT FTA Detail'!$G$3)*(Projects!$K$5:$K$2393=0)*(Projects!$C$5:$C$2393='MDOT FTA Detail'!$C$4)*(Projects!$N$5:$N$2393='MDOT FTA Detail'!$A160)*(Projects!$J$5:$J$2393<>'MDOT FTA Detail'!$A$171)*(Projects!$M$5:$M$2393))","v":0},{"$f":"H160","v":0},"No FF",{"$f":"SUMPRODUCT((Projects!$A$5:$A$2393='MDOT FTA Detail'!$J$3)*(Projects!$K$5:$K$2393=0)*(Projects!$C$5:$C$2393='MDOT FTA Detail'!$C$4)*(Projects!$N$5:$N$2393='MDOT FTA Detail'!$A160)*(Projects!$J$5:$J$2393<>'MDOT FTA Detail'!$A$171)*(Projects!$M$5:$M$2393))","v":0},{"$f":"K160","v":0},"No FF",{"$f":"SUMPRODUCT((Projects!$A$5:$A$2393='MDOT FTA Detail'!$M$3)*(Projects!$K$5:$K$2393=0)*(Projects!$C$5:$C$2393='MDOT FTA Detail'!$C$4)*(Projects!$N$5:$N$2393='MDOT FTA Detail'!$A160)*(Projects!$J$5:$J$2393<>'MDOT FTA Detail'!$A$171)*(Projects!$M$5:$M$2393))","v":0},{"$f":"N160","v":0}]
["SIBG","100% State Infrastructure Bank","MDOT M","No FF",{"$f":"SUMPRODUCT((Projects!$A$5:$A$2393='MDOT FTA Detail'!$D$3)*(Projects!$K$5:$K$2393=0)*(Projects!$C$5:$C$2393='MDOT FTA Detail'!$C$4)*(Projects!$N$5:$N$2393='MDOT FTA Detail'!$A161)*(Projects!$J$5:$J$2393<>'MDOT FTA Detail'!$A$171)*(Projects!$M$5:$M$2393))","v":0},0,"No FF",{"$f":"SUMPRODUCT((Projects!$A$5:$A$2393='MDOT FTA Detail'!$G$3)*(Projects!$K$5:$K$2393=0)*(Projects!$C$5:$C$2393='MDOT FTA Detail'!$C$4)*(Projects!$N$5:$N$2393='MDOT FTA Detail'!$A161)*(Projects!$J$5:$J$2393<>'MDOT FTA Detail'!$A$171)*(Projects!$M$5:$M$2393))","v":0},0,"No FF",{"$f":"SUMPRODUCT((Projects!$A$5:$A$2393='MDOT FTA Detail'!$J$3)*(Projects!$K$5:$K$2393=0)*(Projects!$C$5:$C$2393='MDOT FTA Detail'!$C$4)*(Projects!$N$5:$N$2393='MDOT FTA Detail'!$A161)*(Projects!$J$5:$J$2393<>'MDOT FTA Detail'!$A$171)*(Projects!$M$5:$M$2393))","v":0},0,"No FF",{"$f":"SUMPRODUCT((Projects!$A$5:$A$2393='MDOT FTA Detail'!$M$3)*(Projects!$K$5:$K$2393=0)*(Projects!$C$5:$C$2393='MDOT FTA Detail'!$C$4)*(Projects!$N$5:$N$2393='MDOT FTA Detail'!$A161)*(Projects!$J$5:$J$2393<>'MDOT FTA Detail'!$A$171)*(Projects!$M$5:$M$2393))","v":0},0]
["CITY","Local - City (Specify city in Comments)","MDOT M","No FF",{"$f":"SUMPRODUCT((Projects!$A$5:$A$2393='MDOT FTA Detail'!$D$3)*(Projects!$K$5:$K$2393=0)*(Projects!$C$5:$C$2393='MDOT FTA Detail'!$C$4)*(Projects!$P$5:$P$2393='MDOT FTA Detail'!$A162)*(Projects!$J$5:$J$2393<>'MDOT FTA Detail'!$A$171)*(Projects!$O$5:$O$2393))","v":0},0,"No FF",{"$f":"SUMPRODUCT((Projects!$A$5:$A$2393='MDOT FTA Detail'!$G$3)*(Projects!$K$5:$K$2393=0)*(Projects!$C$5:$C$2393='MDOT FTA Detail'!$C$4)*(Projects!$P$5:$P$2393='MDOT FTA Detail'!$A162)*(Projects!$J$5:$J$2393<>'MDOT FTA Detail'!$A$171)*(Projects!$O$5:$O$2393))","v":0},0,"No FF",{"$f":"SUMPRODUCT((Projects!$A$5:$A$2393='MDOT FTA Detail'!$J$3)*(Projects!$K$5:$K$2393=0)*(Projects!$C$5:$C$2393='MDOT FTA Detail'!$C$4)*(Projects!$P$5:$P$2393='MDOT FTA Detail'!$A162)*(Projects!$J$5:$J$2393<>'MDOT FTA Detail'!$A$171)*(Projects!$O$5:$O$2393))","v":0},0,"No FF",{"$f":"SUMPRODUCT((Projects!$A$5:$A$2393='MDOT FTA Detail'!$M$3)*(Projects!$K$5:$K$2393=0)*(Projects!$C$5:$C$2393='MDOT FTA Detail'!$C$4)*(Projects!$P$5:$P$2393='MDOT FTA Detail'!$A162)*(Projects!$J$5:$J$2393<>'MDOT FTA Detail'!$A$171)*(Projects!$O$5:$O$2393))","v":0},0]
["CANX","Canadian Bridge Funds","MDOT M","No FF",{"$f":"SUMPRODUCT((Projects!$A$5:$A$2393='MDOT FTA Detail'!$D$3)*(Projects!$K$5:$K$2393=0)*(Projects!$C$5:$C$2393='MDOT FTA Detail'!$C$4)*(Projects!$P$5:$P$2393='MDOT FTA Detail'!$A163)*(Projects!$J$5:$J$2393<>'MDOT FTA Detail'!$A$171)*(Projects!$O$5:$O$2393))","v":0},0,"No FF",{"$f":"SUMPRODUCT((Projects!$A$5:$A$2393='MDOT FTA Detail'!$G$3)*(Projects!$K$5:$K$2393=0)*(Projects!$C$5:$C$2393='MDOT FTA Detail'!$C$4)*(Projects!$P$5:$P$2393='MDOT FTA Detail'!$A163)*(Projects!$J$5:$J$2393<>'MDOT FTA Detail'!$A$171)*(Projects!$O$5:$O$2393))","v":0},0,"No FF",{"$f":"SUMPRODUCT((Projects!$A$5:$A$2393='MDOT FTA Detail'!$J$3)*(Projects!$K$5:$K$2393=0)*(Projects!$C$5:$C$2393='MDOT FTA Detail'!$C$4)*(Projects!$P$5:$P$2393='MDOT FTA Detail'!$A163)*(Projects!$J$5:$J$2393<>'MDOT FTA Detail'!$A$171)*(Projects!$O$5:$O$2393))","v":0},0,"No FF",{"$f":"SUMPRODUCT((Projects!$A$5:$A$2393='MDOT FTA Detail'!$M$3)*(Projects!$K$5:$K$2393=0)*(Projects!$C$5:$C$2393='MDOT FTA Detail'!$C$4)*(Projects!$P$5:$P$2393='MDOT FTA Detail'!$A163)*(Projects!$J$5:$J$2393<>'MDOT FTA Detail'!$A$171)*(Projects!$O$5:$O$2393))","v":0},0]
["CNTY","Local - County (Specify county in Comments) ","MDOT M","No FF",{"$f":"SUMPRODUCT((Projects!$A$5:$A$2393='MDOT FTA Detail'!$D$3)*(Projects!$K$5:$K$2393=0)*(Projects!$C$5:$C$2393='MDOT FTA Detail'!$C$4)*(Projects!$P$5:$P$2393='MDOT FTA Detail'!$A164)*(Projects!$J$5:$J$2393<>'MDOT FTA Detail'!$A$171)*(Projects!$O$5:$O$2393))","v":0},0,"No FF",{"$f":"SUMPRODUCT((Projects!$A$5:$A$2393='MDOT FTA Detail'!$G$3)*(Projects!$K$5:$K$2393=0)*(Projects!$C$5:$C$2393='MDOT FTA Detail'!$C$4)*(Projects!$P$5:$P$2393='MDOT FTA Detail'!$A164)*(Projects!$J$5:$J$2393<>'MDOT FTA Detail'!$A$171)*(Projects!$O$5:$O$2393))","v":0},0,"No FF",{"$f":"SUMPRODUCT((Projects!$A$5:$A$2393='MDOT FTA Detail'!$J$3)*(Projects!$K$5:$K$2393=0)*(Projects!$C$5:$C$2393='MDOT FTA Detail'!$C$4)*(Projects!$P$5:$P$2393='MDOT FTA Detail'!$A164)*(Projects!$J$5:$J$2393<>'MDOT FTA Detail'!$A$171)*(Projects!$O$5:$O$2393))","v":0},0,"No FF",{"$f":"SUMPRODUCT((Projects!$A$5:$A$2393='MDOT FTA Detail'!$M$3)*(Projects!$K$5:$K$2393=0)*(Projects!$C$5:$C$2393='MDOT FTA Detail'!$C$4)*(Projects!$P$5:$P$2393='MDOT FTA Detail'!$A164)*(Projects!$J$5:$J$2393<>'MDOT FTA Detail'!$A$171)*(Projects!$O$5:$O$2393))","v":0},0]
["OLF","Other Local Funds (Specify local fund source in Comments) ","MDOT M","No FF",{"$f":"SUMPRODUCT((Projects!$A$5:$A$2393='MDOT FTA Detail'!$D$3)*(Projects!$K$5:$K$2393=0)*(Projects!$C$5:$C$2393='MDOT FTA Detail'!$C$4)*(Projects!$P$5:$P$2393='MDOT FTA Detail'!$A165)*(Projects!$J$5:$J$2393<>'MDOT FTA Detail'!$A$171)*(Projects!$O$5:$O$2393))","v":0},0,"No FF",{"$f":"SUMPRODUCT((Projects!$A$5:$A$2393='MDOT FTA Detail'!$G$3)*(Projects!$K$5:$K$2393=0)*(Projects!$C$5:$C$2393='MDOT FTA Detail'!$C$4)*(Projects!$P$5:$P$2393='MDOT FTA Detail'!$A165)*(Projects!$J$5:$J$2393<>'MDOT FTA Detail'!$A$171)*(Projects!$O$5:$O$2393))","v":0},0,"No FF",{"$f":"SUMPRODUCT((Projects!$A$5:$A$2393='MDOT FTA Detail'!$J$3)*(Projects!$K$5:$K$2393=0)*(Projects!$C$5:$C$2393='MDOT FTA Detail'!$C$4)*(Projects!$P$5:$P$2393='MDOT FTA Detail'!$A165)*(Projects!$J$5:$J$2393<>'MDOT FTA Detail'!$A$171)*(Projects!$O$5:$O$2393))","v":0},0,"No FF",{"$f":"SUMPRODUCT((Projects!$A$5:$A$2393='MDOT FTA Detail'!$M$3)*(Projects!$K$5:$K$2393=0)*(Projects!$C$5:$C$2393='MDOT FTA Detail'!$C$4)*(Projects!$P$5:$P$2393='MDOT FTA Detail'!$A165)*(Projects!$J$5:$J$2393<>'MDOT FTA Detail'!$A$171)*(Projects!$O$5:$O$2393))","v":0},0]
["PRVT","Private (Non-governmental)","MDOT M","No FF",{"$f":"SUMPRODUCT((Projects!$A$5:$A$2393='MDOT FTA Detail'!$D$3)*(Projects!$K$5:$K$2393=0)*(Projects!$C$5:$C$2393='MDOT FTA Detail'!$C$4)*(Projects!$P$5:$P$2393='MDOT FTA Detail'!$A166)*(Projects!$J$5:$J$2393<>'MDOT FTA Detail'!$A$171)*(Projects!$O$5:$O$2393))","v":0},0,"No FF",{"$f":"SUMPRODUCT((Projects!$A$5:$A$2393='MDOT FTA Detail'!$G$3)*(Projects!$K$5:$K$2393=0)*(Projects!$C$5:$C$2393='MDOT FTA Detail'!$C$4)*(Projects!$P$5:$P$2393='MDOT FTA Detail'!$A166)*(Projects!$J$5:$J$2393<>'MDOT FTA Detail'!$A$171)*(Projects!$O$5:$O$2393))","v":0},0,"No FF",{"$f":"SUMPRODUCT((Projects!$A$5:$A$2393='MDOT FTA Detail'!$J$3)*(Projects!$K$5:$K$2393=0)*(Projects!$C$5:$C$2393='MDOT FTA Detail'!$C$4)*(Projects!$P$5:$P$2393='MDOT FTA Detail'!$A166)*(Projects!$J$5:$J$2393<>'MDOT FTA Detail'!$A$171)*(Projects!$O$5:$O$2393))","v":0},0,"No FF",{"$f":"SUMPRODUCT((Projects!$A$5:$A$2393='MDOT FTA Detail'!$M$3)*(Projects!$K$5:$K$2393=0)*(Projects!$C$5:$C$2393='MDOT FTA Detail'!$C$4)*(Projects!$P$5:$P$2393='MDOT FTA Detail'!$A166)*(Projects!$J$5:$J$2393<>'MDOT FTA Detail'!$A$171)*(Projects!$O$5:$O$2393))","v":0},0]
["TRAL","Local - Transit Authority Funds (Specify transit authority in Comments)","MDOT M","No FF",{"$f":"SUMPRODUCT((Projects!$A$5:$A$2393='MDOT FTA Detail'!$D$3)*(Projects!$K$5:$K$2393=0)*(Projects!$C$5:$C$2393='MDOT FTA Detail'!$C$4)*(Projects!$P$5:$P$2393='MDOT FTA Detail'!$A167)*(Projects!$J$5:$J$2393<>'MDOT FTA Detail'!$A$171)*(Projects!$O$5:$O$2393))","v":0},0,"No FF",{"$f":"SUMPRODUCT((Projects!$A$5:$A$2393='MDOT FTA Detail'!$G$3)*(Projects!$K$5:$K$2393=0)*(Projects!$C$5:$C$2393='MDOT FTA Detail'!$C$4)*(Projects!$P$5:$P$2393='MDOT FTA Detail'!$A167)*(Projects!$J$5:$J$2393<>'MDOT FTA Detail'!$A$171)*(Projects!$O$5:$O$2393))","v":0},0,"No FF",{"$f":"SUMPRODUCT((Projects!$A$5:$A$2393='MDOT FTA Detail'!$J$3)*(Projects!$K$5:$K$2393=0)*(Projects!$C$5:$C$2393='MDOT FTA Detail'!$C$4)*(Projects!$P$5:$P$2393='MDOT FTA Detail'!$A167)*(Projects!$J$5:$J$2393<>'MDOT FTA Detail'!$A$171)*(Projects!$O$5:$O$2393))","v":0},0,"No FF",{"$f":"SUMPRODUCT((Projects!$A$5:$A$2393='MDOT FTA Detail'!$M$3)*(Projects!$K$5:$K$2393=0)*(Projects!$C$5:$C$2393='MDOT FTA Detail'!$C$4)*(Projects!$P$5:$P$2393='MDOT FTA Detail'!$A167)*(Projects!$J$5:$J$2393<>'MDOT FTA Detail'!$A$171)*(Projects!$O$5:$O$2393))","v":0},0]
["TWP","Local - Township (Specify township in Comments)","MDOT M","No FF",{"$f":"SUMPRODUCT((Projects!$A$5:$A$2393='MDOT FTA Detail'!$D$3)*(Projects!$K$5:$K$2393=0)*(Projects!$C$5:$C$2393='MDOT FTA Detail'!$C$4)*(Projects!$P$5:$P$2393='MDOT FTA Detail'!$A168)*(Projects!$J$5:$J$2393<>'MDOT FTA Detail'!$A$171)*(Projects!$O$5:$O$2393))","v":0},0,"No FF",{"$f":"SUMPRODUCT((Projects!$A$5:$A$2393='MDOT FTA Detail'!$G$3)*(Projects!$K$5:$K$2393=0)*(Projects!$C$5:$C$2393='MDOT FTA Detail'!$C$4)*(Projects!$P$5:$P$2393='MDOT FTA Detail'!$A168)*(Projects!$J$5:$J$2393<>'MDOT FTA Detail'!$A$171)*(Projects!$O$5:$O$2393))","v":0},0,"No FF",{"$f":"SUMPRODUCT((Projects!$A$5:$A$2393='MDOT FTA Detail'!$J$3)*(Projects!$K$5:$K$2393=0)*(Projects!$C$5:$C$2393='MDOT FTA Detail'!$C$4)*(Projects!$P$5:$P$2393='MDOT FTA Detail'!$A168)*(Projects!$J$5:$J$2393<>'MDOT FTA Detail'!$A$171)*(Projects!$O$5:$O$2393))","v":0},0,"No FF",{"$f":"SUMPRODUCT((Projects!$A$5:$A$2393='MDOT FTA Detail'!$M$3)*(Projects!$K$5:$K$2393=0)*(Projects!$C$5:$C$2393='MDOT FTA Detail'!$C$4)*(Projects!$P$5:$P$2393='MDOT FTA Detail'!$A168)*(Projects!$J$5:$J$2393<>'MDOT FTA Detail'!$A$171)*(Projects!$O$5:$O$2393))","v":0},0]
["VLG","Local - Village (Specify village in Comments)","MDOT M","No FF",{"$f":"SUMPRODUCT((Projects!$A$5:$A$2393='MDOT FTA Detail'!$D$3)*(Projects!$K$5:$K$2393=0)*(Projects!$C$5:$C$2393='MDOT FTA Detail'!$C$4)*(Projects!$P$5:$P$2393='MDOT FTA Detail'!$A169)*(Projects!$J$5:$J$2393<>'MDOT FTA Detail'!$A$171)*(Projects!$O$5:$O$2393))","v":0},0,"No FF",{"$f":"SUMPRODUCT((Projects!$A$5:$A$2393='MDOT FTA Detail'!$G$3)*(Projects!$K$5:$K$2393=0)*(Projects!$C$5:$C$2393='MDOT FTA Detail'!$C$4)*(Projects!$P$5:$P$2393='MDOT FTA Detail'!$A169)*(Projects!$J$5:$J$2393<>'MDOT FTA Detail'!$A$171)*(Projects!$O$5:$O$2393))","v":0},0,"No FF",{"$f":"SUMPRODUCT((Projects!$A$5:$A$2393='MDOT FTA Detail'!$J$3)*(Projects!$K$5:$K$2393=0)*(Projects!$C$5:$C$2393='MDOT FTA Detail'!$C$4)*(Projects!$P$5:$P$2393='MDOT FTA Detail'!$A169)*(Projects!$J$5:$J$2393<>'MDOT FTA Detail'!$A$171)*(Projects!$O$5:$O$2393))","v":0},0,"No FF",{"$f":"SUMPRODUCT((Projects!$A$5:$A$2393='MDOT FTA Detail'!$M$3)*(Projects!$K$5:$K$2393=0)*(Projects!$C$5:$C$2393='MDOT FTA Detail'!$C$4)*(Projects!$P$5:$P$2393='MDOT FTA Detail'!$A169)*(Projects!$J$5:$J$2393<>'MDOT FTA Detail'!$A$171)*(Projects!$O$5:$O$2393))","v":0},0]
[]
["AC","MDOT AC Projects","MDOT AC",{"$f":"SUMPRODUCT((Projects!$A$5:$A$2393='MDOT FTA Detail'!$D$3)*(Projects!$C$5:$C$2393='MDOT FTA Detail'!$C$4)*(Projects!$J$5:$J$2393='MDOT FTA Detail'!$A$171)*(Projects!$K$5:$K$2393))","v":0},{"$f":"F171-D171","v":0},{"$f":"SUMPRODUCT((Projects!$A$5:$A$2393='MDOT FTA Detail'!$D$3)*(Projects!$C$5:$C$2393='MDOT FTA Detail'!$C$4)*(Projects!$J$5:$J$2393='MDOT FTA Detail'!$A$171)*(Projects!$Q$5:$Q$2393))","v":0},{"$f":"SUMPRODUCT((Projects!$A$5:$A$2393='MDOT FTA Detail'!$G$3)*(Projects!$C$5:$C$2393='MDOT FTA Detail'!$C$4)*(Projects!$J$5:$J$2393='MDOT FTA Detail'!$A$171)*(Projects!$K$5:$K$2393))","v":0},{"$f":"I171-G171","v":0},{"$f":"SUMPRODUCT((Projects!$A$5:$A$2393='MDOT FTA Detail'!$G$3)*(Projects!$C$5:$C$2393='MDOT FTA Detail'!$C$4)*(Projects!$J$5:$J$2393='MDOT FTA Detail'!$A$171)*(Projects!$Q$5:$Q$2393))","v":0},{"$f":"SUMPRODUCT((Projects!$A$5:$A$2393='MDOT FTA Detail'!$J$3)*(Projects!$C$5:$C$2393='MDOT FTA Detail'!$C$4)*(Projects!$J$5:$J$2393='MDOT FTA Detail'!$A$171)*(Projects!$K$5:$K$2393))","v":0},{"$f":"L171-J171","v":0},{"$f":"SUMPRODUCT((Projects!$A$5:$A$2393='MDOT FTA Detail'!$J$3)*(Projects!$C$5:$C$2393='MDOT FTA Detail'!$C$4)*(Projects!$J$5:$J$2393='MDOT FTA Detail'!$A$171)*(Projects!$Q$5:$Q$2393))","v":0},{"$f":"SUMPRODUCT((Projects!$A$5:$A$2393='MDOT FTA Detail'!$M$3)*(Projects!$C$5:$C$2393='MDOT FTA Detail'!$C$4)*(Projects!$J$5:$J$2393='MDOT FTA Detail'!$A$171)*(Projects!$K$5:$K$2393))","v":0},{"$f":"O171-M171","v":0},{"$f":"SUMPRODUCT((Projects!$A$5:$A$2393='MDOT FTA Detail'!$M$3)*(Projects!$C$5:$C$2393='MDOT FTA Detail'!$C$4)*(Projects!$J$5:$J$2393='MDOT FTA Detail'!$A$171)*(Projects!$Q$5:$Q$2393))","v":0}]

{"sheet":"Local Detail","index":13,"n_rows":147,"n_cols":15,"rows_kept":147,"cut":false,"hidden":false,"merged":[[2,3,2,5],[2,6,2,8],[2,9,2,11],[2,12,2,14]]}
[]
[]
[null,null,null,2017,null,null,2018,null,null,2019,null,null,2020]
["Fund","Fund Sources","Local Program","Proposed Federal Commitments","Proposed Non-Federal Commitments","Total Proposed Commitments","Proposed Federal Commitments","Proposed Non-Federal Commitments","Total Proposed Commitments","Proposed Federal Commitments","Proposed Non-Federal Commitments","Total Proposed Commitments","Proposed Federal Commitments","Proposed Non-Federal Commitments","Total Proposed Commitments"]
[]
["BHI","Bridge Rehabilitation - Prior 1991 - Interstate","Local Bridge",{"$f":"SUMPRODUCT((Projects!$A$5:$A$2393='Local Detail'!$D$3)*(Projects!$C$5:$C$2393<>'MDOT FTA Detail'!$C$4)*(Projects!$L$5:$L$2393='Local Detail'!$A6)*(Projects!$K$5:$K$2393))","v":0},{"$f":"((SUMPRODUCT((Projects!$A$5:$A$2393='Local Detail'!$D$3)*(Projects!$C$5:$C$2393<>'MDOT FTA Detail'!$C$4)*(Projects!$L$5:$L$2393='Local Detail'!$A6)*(Projects!$J$5:$J$2393<>'Local Detail'!$A$147)*(Projects!$M$5:$M$2393)))+(SUMPRODUCT((Projects!$A$5:$A$2393='Local Detail'!$D$3)*(Projects!$C$5:$C$2393<>'MDOT FTA Detail'!$C$4)*(Projects!$L$5:$L$2393='Local Detail'!$A6)*(Projects!$J$5:$J$2393<>'Local Detail'!$A$147)*(Projects!$O$5:$O$2393))))","v":0},{"$f":"D6+E6","v":0},{"$f":"SUMPRODUCT((Projects!$A$5:$A$2393='Local Detail'!$G$3)*(Projects!$C$5:$C$2393<>'MDOT FTA Detail'!$C$4)*(Projects!$L$5:$L$2393='Local Detail'!$A6)*(Projects!$K$5:$K$2393))","v":0},{"$f":"((SUMPRODUCT((Projects!$A$5:$A$2393='Local Detail'!$G$3)*(Projects!$C$5:$C$2393<>'MDOT FTA Detail'!$C$4)*(Projects!$L$5:$L$2393='Local Detail'!$A6)*(Projects!$J$5:$J$2393<>'Local Detail'!$A$147)*(Projects!$M$5:$M$2393)))+(SUMPRODUCT((Projects!$A$5:$A$2393='Local Detail'!$G$3)*(Projects!$C$5:$C$2393<>'MDOT FTA Detail'!$C$4)*(Projects!$L$5:$L$2393='Local Detail'!$A6)*(Projects!$J$5:$J$2393<>'Local Detail'!$A$147)*(Projects!$O$5:$O$2393))))","v":0},{"$f":"G6+H6","v":0},{"$f":"SUMPRODUCT((Projects!$A$5:$A$2393='Local Detail'!$J$3)*(Projects!$C$5:$C$2393<>'MDOT FTA Detail'!$C$4)*(Projects!$L$5:$L$2393='Local Detail'!$A6)*(Projects!$K$5:$K$2393))","v":0},{"$f":"((SUMPRODUCT((Projects!$A$5:$A$2393='Local Detail'!$J$3)*(Projects!$C$5:$C$2393<>'MDOT FTA Detail'!$C$4)*(Projects!$L$5:$L$2393='Local Detail'!$A6)*(Projects!$J$5:$J$2393<>'Local Detail'!$A$147)*(Projects!$M$5:$M$2393)))+(SUMPRODUCT((Projects!$A$5:$A$2393='Local Detail'!$J$3)*(Projects!$C$5:$C$2393<>'MDOT FTA Detail'!$C$4)*(Projects!$L$5:$L$2393='Local Detail'!$A6)*(Projects!$J$5:$J$2393<>'Local Detail'!$A$147)*(Projects!$O$5:$O$2393))))","v":0},{"$f":"J6+K6","v":0},{"$f":"SUMPRODUCT((Projects!$A$5:$A$2393='Local Detail'!$M$3)*(Projects!$C$5:$C$2393<>'MDOT FTA Detail'!$C$4)*(Projects!$L$5:$L$2393='Local Detail'!$A6)*(Projects!$K$5:$K$2393))","v":0},{"$f":"((SUMPRODUCT((Projects!$A$5:$A$2393='Local Detail'!$M$3)*(Projects!$C$5:$C$2393<>'MDOT FTA Detail'!$C$4)*(Projects!$L$5:$L$2393='Local Detail'!$A6)*(Projects!$J$5:$J$2393<>'Local Detail'!$A$147)*(Projects!$M$5:$M$2393)))+(SUMPRODUCT((Projects!$A$5:$A$2393='Local Detail'!$M$3)*(Projects!$C$5:$C$2393<>'MDOT FTA Detail'!$C$4)*(Projects!$L$5:$L$2393='Local Detail'!$A6)*(Projects!$J$5:$J$2393<>'Local Detail'!$A$147)*(Projects!$O$5:$O$2393))))","v":0},{"$f":"M6+N6","v":0}]
["BHN","Bridge Rehabilitation - National Highway System (NHS)","Local Bridge",{"$f":"SUMPRODUCT((Projects!$A$5:$A$2393='Local Detail'!$D$3)*(Projects!$C$5:$C$2393<>'MDOT FTA Detail'!$C$4)*(Projects!$L$5:$L$2393='Local Detail'!$A7)*(Projects!$K$5:$K$2393))","v":0},{"$f":"((SUMPRODUCT((Projects!$A$5:$A$2393='Local Detail'!$D$3)*(Projects!$C$5:$C$2393<>'MDOT FTA Detail'!$C$4)*(Projects!$L$5:$L$2393='Local Detail'!$A7)*(Projects!$J$5:$J$2393<>'Local Detail'!$A$147)*(Projects!$M$5:$M$2393)))+(SUMPRODUCT((Projects!$A$5:$A$2393='Local Detail'!$D$3)*(Projects!$C$5:$C$2393<>'MDOT FTA Detail'!$C$4)*(Projects!$L$5:$L$2393='Local Detail'!$A7)*(Projects!$J$5:$J$2393<>'Local Detail'!$A$147)*(Projects!$O$5:$O$2393))))","v":0},0,{"$f":"SUMPRODUCT((Projects!$A$5:$A$2393='Local Detail'!$G$3)*(Projects!$C$5:$C$2393<>'MDOT FTA Detail'!$C$4)*(Projects!$L$5:$L$2393='Local Detail'!$A7)*(Projects!$K$5:$K$2393))","v":0},{"$f":"((SUMPRODUCT((Projects!$A$5:$A$2393='Local Detail'!$G$3)*(Projects!$C$5:$C$2393<>'MDOT FTA Detail'!$C$4)*(Projects!$L$5:$L$2393='Local Detail'!$A7)*(Projects!$J$5:$J$2393<>'Local Detail'!$A$147)*(Projects!$M$5:$M$2393)))+(SUMPRODUCT((Projects!$A$5:$A$2393='Local Detail'!$G$3)*(Projects!$C$5:$C$2393<>'MDOT FTA Detail'!$C$4)*(Projects!$L$5:$L$2393='Local Detail'!$A7)*(Projects!$J$5:$J$2393<>'Local Detail'!$A$147)*(Projects!$O$5:$O$2393))))","v":0},0,{"$f":"SUMPRODUCT((Projects!$A$5:$A$2393='Local Detail'!$J$3)*(Projects!$C$5:$C$2393<>'MDOT FTA Detail'!$C$4)*(Projects!$L$5:$L$2393='Local Detail'!$A7)*(Projects!$K$5:$K$2393))","v":0},{"$f":"((SUMPRODUCT((Projects!$A$5:$A$2393='Local Detail'!$J$3)*(Projects!$C$5:$C$2393<>'MDOT FTA Detail'!$C$4)*(Projects!$L$5:$L$2393='Local Detail'!$A7)*(Projects!$J$5:$J$2393<>'Local Detail'!$A$147)*(Projects!$M$5:$M$2393)))+(SUMPRODUCT((Projects!$A$5:$A$2393='Local Detail'!$J$3)*(Projects!$C$5:$C$2393<>'MDOT FTA Detail'!$C$4)*(Projects!$L$5:$L$2393='Local Detail'!$A7)*(Projects!$J$5:$J$2393<>'Local Detail'!$A$147)*(Projects!$O$5:$O$2393))))","v":0},0,{"$f":"SUMPRODUCT((Projects!$A$5:$A$2393='Local Detail'!$M$3)*(Projects!$C$5:$C$2393<>'MDOT FTA Detail'!$C$4)*(Projects!$L$5:$L$2393='Local Detail'!$A7)*(Projects!$K$5:$K$2393))","v":0},{"$f":"((SUMPRODUCT((Projects!$A$5:$A$2393='Local Detail'!$M$3)*(Projects!$C$5:$C$2393<>'MDOT FTA Detail'!$C$4)*(Projects!$L$5:$L$2393='Local Detail'!$A7)*(Projects!$J$5:$J$2393<>'Local Detail'!$A$147)*(Projects!$M$5:$M$2393)))+(SUMPRODUCT((Projects!$A$5:$A$2393='Local Detail'!$M$3)*(Projects!$C$5:$C$2393<>'MDOT FTA Detail'!$C$4)*(Projects!$L$5:$L$2393='Local Detail'!$A7)*(Projects!$J$5:$J$2393<>'Local Detail'!$A$147)*(Projects!$O$5:$O$2393))))","v":0},0]
["BHO","Bridge Rehabilitation - Not Classified, Off System","Local Bridge",{"$f":"SUMPRODUCT((Projects!$A$5:$A$2393='Local Detail'!$D$3)*(Projects!$C$5:$C$2393<>'MDOT FTA Detail'!$C$4)*(Projects!$L$5:$L$2393='Local Detail'!$A8)*(Projects!$K$5:$K$2393))","v":0},{"$f":"((SUMPRODUCT((Projects!$A$5:$A$2393='Local Detail'!$D$3)*(Projects!$C$5:$C$2393<>'MDOT FTA Detail'!$C$4)*(Projects!$L$5:$L$2393='Local Detail'!$A8)*(Projects!$J$5:$J$2393<>'Local Detail'!$A$147)*(Projects!$M$5:$M$2393)))+(SUMPRODUCT((Projects!$A$5:$A$2393='Local Detail'!$D$3)*(Projects!$C$5:$C$2393<>'MDOT FTA Detail'!$C$4)*(Projects!$L$5:$L$2393='Local Detail'!$A8)*(Projects!$J$5:$J$2393<>'Local Detail'!$A$147)*(Projects!$O$5:$O$2393))))","v":0},0,{"$f":"SUMPRODUCT((Projects!$A$5:$A$2393='Local Detail'!$G$3)*(Projects!$C$5:$C$2393<>'MDOT FTA Detail'!$C$4)*(Projects!$L$5:$L$2393='Local Detail'!$A8)*(Projects!$K$5:$K$2393))","v":0},{"$f":"((SUMPRODUCT((Projects!$A$5:$A$2393='Local Detail'!$G$3)*(Projects!$C$5:$C$2393<>'MDOT FTA Detail'!$C$4)*(Projects!$L$5:$L$2393='Local Detail'!$A8)*(Projects!$J$5:$J$2393<>'Local Detail'!$A$147)*(Projects!$M$5:$M$2393)))+(SUMPRODUCT((Projects!$A$5:$A$2393='Local Detail'!$G$3)*(Projects!$C$5:$C$2393<>'MDOT FTA Detail'!$C$4)*(Projects!$L$5:$L$2393='Local Detail'!$A8)*(Projects!$J$5:$J$2393<>'Local Detail'!$A$147)*(Projects!$O$5:$O$2393))))","v":0},0,{"$f":"SUMPRODUCT((Projects!$A$5:$A$2393='Local Detail'!$J$3)*(Projects!$C$5:$C$2393<>'MDOT FTA Detail'!$C$4)*(Projects!$L$5:$L$2393='Local Detail'!$A8)*(Projects!$K$5:$K$2393))","v":0},{"$f":"((SUMPRODUCT((Projects!$A$5:$A$2393='Local Detail'!$J$3)*(Projects!$C$5:$C$2393<>'MDOT FTA Detail'!$C$4)*(Projects!$L$5:$L$2393='Local Detail'!$A8)*(Projects!$J$5:$J$2393<>'Local Detail'!$A$147)*(Projects!$M$5:$M$2393)))+(SUMPRODUCT((Projects!$A$5:$A$2393='Local Detail'!$J$3)*(Projects!$C$5:$C$2393<>'MDOT FTA Detail'!$C$4)*(Projects!$L$5:$L$2393='Local Detail'!$A8)*(Projects!$J$5:$J$2393<>'Local Detail'!$A$147)*(Projects!$O$5:$O$2393))))","v":0},0,{"$f":"SUMPRODUCT((Projects!$A$5:$A$2393='Local Detail'!$M$3)*(Projects!$C$5:$C$2393<>'MDOT FTA Detail'!$C$4)*(Projects!$L$5:$L$2393='Local Detail'!$A8)*(Projects!$K$5:$K$2393))","v":0},{"$f":"((SUMPRODUCT((Projects!$A$5:$A$2393='Local Detail'!$M$3)*(Projects!$C$5:$C$2393<>'MDOT FTA Detail'!$C$4)*(Projects!$L$5:$L$2393='Local Detail'!$A8)*(Projects!$J$5:$J$2393<>'Local Detail'!$A$147)*(Projects!$M$5:$M$2393)))+(SUMPRODUCT((Projects!$A$5:$A$2393='Local Detail'!$M$3)*(Projects!$C$5:$C$2393<>'MDOT FTA Detail'!$C$4)*(Projects!$L$5:$L$2393='Local Detail'!$A8)*(Projects!$J$5:$J$2393<>'Local Detail'!$A$147)*(Projects!$O$5:$O$2393))))","v":0},0]
["BHT","Bridge Rehabilitation - Surface Transportation Program (STP)","Local Bridge",{"$f":"SUMPRODUCT((Projects!$A$5:$A$2393='Local Detail'!$D$3)*(Projects!$C$5:$C$2393<>'MDOT FTA Detail'!$C$4)*(Projects!$L$5:$L$2393='Local Detail'!$A9)*(Projects!$K$5:$K$2393))","v":307200},{"$f":"((SUMPRODUCT((Projects!$A$5:$A$2393='Local Detail'!$D$3)*(Projects!$C$5:$C$2393<>'MDOT FTA Detail'!$C$4)*(Projects!$L$5:$L$2393='Local Detail'!$A9)*(Projects!$J$5:$J$2393<>'Local Detail'!$A$147)*(Projects!$M$5:$M$2393)))+(SUMPRODUCT((Projects!$A$5:$A$2393='Local Detail'!$D$3)*(Projects!$C$5:$C$2393<>'MDOT FTA Detail'!$C$4)*(Projects!$L$5:$L$2393='Local Detail'!$A9)*(Projects!$J$5:$J$2393<>'Local Detail'!$A$147)*(Projects!$O$5:$O$2393))))","v":76800},384000,{"$f":"SUMPRODUCT((Projects!$A$5:$A$2393='Local Detail'!$G$3)*(Projects!$C$5:$C$2393<>'MDOT FTA Detail'!$C$4)*(Projects!$L$5:$L$2393='Local Detail'!$A9)*(Projects!$K$5:$K$2393))","v":152000},{"$f":"((SUMPRODUCT((Projects!$A$5:$A$2393='Local Detail'!$G$3)*(Projects!$C$5:$C$2393<>'MDOT FTA Detail'!$C$4)*(Projects!$L$5:$L$2393='Local Detail'!$A9)*(Projects!$J$5:$J$2393<>'Local Detail'!$A$147)*(Projects!$M$5:$M$2393)))+(SUMPRODUCT((Projects!$A$5:$A$2393='Local Detail'!$G$3)*(Projects!$C$5:$C$2393<>'MDOT FTA Detail'!$C$4)*(Projects!$L$5:$L$2393='Local Detail'!$A9)*(Projects!$J$5:$J$2393<>'Local Detail'!$A$147)*(Projects!$O$5:$O$2393))))","v":0},152000,{"$f":"SUMPRODUCT((Projects!$A$5:$A$2393='Local Detail'!$J$3)*(Projects!$C$5:$C$2393<>'MDOT FTA Detail'!$C$4)*(Projects!$L$5:$L$2393='Local Detail'!$A9)*(Projects!$K$5:$K$2393))","v":160800},{"$f":"((SUMPRODUCT((Projects!$A$5:$A$2393='Local Detail'!$J$3)*(Projects!$C$5:$C$2393<>'MDOT FTA Detail'!$C$4)*(Projects!$L$5:$L$2393='Local Detail'!$A9)*(Projects!$J$5:$J$2393<>'Local Detail'!$A$147)*(Projects!$M$5:$M$2393)))+(SUMPRODUCT((Projects!$A$5:$A$2393='Local Detail'!$J$3)*(Projects!$C$5:$C$2393<>'MDOT FTA Detail'!$C$4)*(Projects!$L$5:$L$2393='Local Detail'!$A9)*(Projects!$J$5:$J$2393<>'Local Detail'!$A$147)*(Projects!$O$5:$O$2393))))","v":0},160800,{"$f":"SUMPRODUCT((Projects!$A$5:$A$2393='Local Detail'!$M$3)*(Projects!$C$5:$C$2393<>'MDOT FTA Detail'!$C$4)*(Projects!$L$5:$L$2393='Local Detail'!$A9)*(Projects!$K$5:$K$2393))","v":0},{"$f":"((SUMPRODUCT((Projects!$A$5:$A$2393='Local Detail'!$M$3)*(Projects!$C$5:$C$2393<>'MDOT FTA Detail'!$C$4)*(Projects!$L$5:$L$2393='Local Detail'!$A9)*(Projects!$J$5:$J$2393<>'Local Detail'!$A$147)*(Projects!$M$5:$M$2393)))+(SUMPRODUCT((Projects!$A$5:$A$2393='Local Detail'!$M$3)*(Projects!$C$5:$C$2393<>'MDOT FTA Detail'!$C$4)*(Projects!$L$5:$L$2393='Local Detail'!$A9)*(Projects!$J$5:$J$2393<>'Local Detail'!$A$147)*(Projects!$O$5:$O$2393))))","v":0},0]
["BI08","Build Michigan FY08","Local Other FHWA",{"$f":"SUMPRODUCT((Projects!$A$5:$A$2393='Local Detail'!$D$3)*(Projects!$C$5:$C$2393<>'MDOT FTA Detail'!$C$4)*(Projects!$L$5:$L$2393='Local Detail'!$A10)*(Projects!$K$5:$K$2393))","v":0},{"$f":"((SUMPRODUCT((Projects!$A$5:$A$2393='Local Detail'!$D$3)*(Projects!$C$5:$C$2393<>'MDOT FTA Detail'!$C$4)*(Projects!$L$5:$L$2393='Local Detail'!$A10)*(Projects!$J$5:$J$2393<>'Local Detail'!$A$147)*(Projects!$M$5:$M$2393)))+(SUMPRODUCT((Projects!$A$5:$A$2393='Local Detail'!$D$3)*(Projects!$C$5:$C$2393<>'MDOT FTA Detail'!$C$4)*(Projects!$L$5:$L$2393='Local Detail'!$A10)*(Projects!$J$5:$J$2393<>'Local Detail'!$A$147)*(Projects!$O$5:$O$2393))))","v":0},0,{"$f":"SUMPRODUCT((Projects!$A$5:$A$2393='Local Detail'!$G$3)*(Projects!$C$5:$C$2393<>'MDOT FTA Detail'!$C$4)*(Projects!$L$5:$L$2393='Local Detail'!$A10)*(Projects!$K$5:$K$2393))","v":0},{"$f":"((SUMPRODUCT((Projects!$A$5:$A$2393='Local Detail'!$G$3)*(Projects!$C$5:$C$2393<>'MDOT FTA Detail'!$C$4)*(Projects!$L$5:$L$2393='Local Detail'!$A10)*(Projects!$J$5:$J$2393<>'Local Detail'!$A$147)*(Projects!$M$5:$M$2393)))+(SUMPRODUCT((Projects!$A$5:$A$2393='Local Detail'!$G$3)*(Projects!$C$5:$C$2393<>'MDOT FTA Detail'!$C$4)*(Projects!$L$5:$L$2393='Local Detail'!$A10)*(Projects!$J$5:$J$2393<>'Local Detail'!$A$147)*(Projects!$O$5:$O$2393))))","v":0},0,{"$f":"SUMPRODUCT((Projects!$A$5:$A$2393='Local Detail'!$J$3)*(Projects!$C$5:$C$2393<>'MDOT FTA Detail'!$C$4)*(Projects!$L$5:$L$2393='Local Detail'!$A10)*(Projects!$K$5:$K$2393))","v":0},{"$f":"((SUMPRODUCT((Projects!$A$5:$A$2393='Local Detail'!$J$3)*(Projects!$C$5:$C$2393<>'MDOT FTA Detail'!$C$4)*(Projects!$L$5:$L$2393='Local Detail'!$A10)*(Projects!$J$5:$J$2393<>'Local Detail'!$A$147)*(Projects!$M$5:$M$2393)))+(SUMPRODUCT((Projects!$A$5:$A$2393='Local Detail'!$J$3)*(Projects!$C$5:$C$2393<>'MDOT FTA Detail'!$C$4)*(Projects!$L$5:$L$2393='Local Detail'!$A10)*(Projects!$J$5:$J$2393<>'Local Detail'!$A$147)*(Projects!$O$5:$O$2393))))","v":0},0,{"$f":"SUMPRODUCT((Projects!$A$5:$A$2393='Local Detail'!$M$3)*(Projects!$C$5:$C$2393<>'MDOT FTA Detail'!$C$4)*(Projects!$L$5:$L$2393='Local Detail'!$A10)*(Projects!$K$5:$K$2393))","v":0},{"$f":"((SUMPRODUCT((Projects!$A$5:$A$2393='Local Detail'!$M$3)*(Projects!$C$5:$C$2393<>'MDOT FTA Detail'!$C$4)*(Projects!$L$5:$L$2393='Local Detail'!$A10)*(Projects!$J$5:$J$2393<>'Local Detail'!$A$147)*(Projects!$M$5:$M$2393)))+(SUMPRODUCT((Projects!$A$5:$A$2393='Local Detail'!$M$3)*(Projects!$C$5:$C$2393<>'MDOT FTA Detail'!$C$4)*(Projects!$L$5:$L$2393='Local Detail'!$A10)*(Projects!$J$5:$J$2393<>'Local Detail'!$A$147)*(Projects!$O$5:$O$2393))))","v":0},0]
["BO","Bridge Not Classified Off System","Local Bridge",{"$f":"SUMPRODUCT((Projects!$A$5:$A$2393='Local Detail'!$D$3)*(Projects!$C$5:$C$2393<>'MDOT FTA Detail'!$C$4)*(Projects!$L$5:$L$2393='Local Detail'!$A11)*(Projects!$K$5:$K$2393))","v":0},{"$f":"((SUMPRODUCT((Projects!$A$5:$A$2393='Local Detail'!$D$3)*(Projects!$C$5:$C$2393<>'MDOT FTA Detail'!$C$4)*(Projects!$L$5:$L$2393='Local Detail'!$A11)*(Projects!$J$5:$J$2393<>'Local Detail'!$A$147)*(Projects!$M$5:$M$2393)))+(SUMPRODUCT((Projects!$A$5:$A$2393='Local Detail'!$D$3)*(Projects!$C$5:$C$2393<>'MDOT FTA Detail'!$C$4)*(Projects!$L$5:$L$2393='Local Detail'!$A11)*(Projects!$J$5:$J$2393<>'Local Detail'!$A$147)*(Projects!$O$5:$O$2393))))","v":0},{"$f":"D11+E11","v":0},{"$f":"SUMPRODUCT((Projects!$A$5:$A$2393='Local Detail'!$G$3)*(Projects!$C$5:$C$2393<>'MDOT FTA Detail'!$C$4)*(Projects!$L$5:$L$2393='Local Detail'!$A11)*(Projects!$K$5:$K$2393))","v":0},{"$f":"((SUMPRODUCT((Projects!$A$5:$A$2393='Local Detail'!$G$3)*(Projects!$C$5:$C$2393<>'MDOT FTA Detail'!$C$4)*(Projects!$L$5:$L$2393='Local Detail'!$A11)*(Projects!$J$5:$J$2393<>'Local Detail'!$A$147)*(Projects!$M$5:$M$2393)))+(SUMPRODUCT((Projects!$A$5:$A$2393='Local Detail'!$G$3)*(Projects!$C$5:$C$2393<>'MDOT FTA Detail'!$C$4)*(Projects!$L$5:$L$2393='Local Detail'!$A11)*(Projects!$J$5:$J$2393<>'Local Detail'!$A$147)*(Projects!$O$5:$O$2393))))","v":0},{"$f":"G11+H11","v":0},{"$f":"SUMPRODUCT((Projects!$A$5:$A$2393='Local Detail'!$J$3)*(Projects!$C$5:$C$2393<>'MDOT FTA Detail'!$C$4)*(Projects!$L$5:$L$2393='Local Detail'!$A11)*(Projects!$K$5:$K$2393))","v":0},{"$f":"((SUMPRODUCT((Projects!$A$5:$A$2393='Local Detail'!$J$3)*(Projects!$C$5:$C$2393<>'MDOT FTA Detail'!$C$4)*(Projects!$L$5:$L$2393='Local Detail'!$A11)*(Projects!$J$5:$J$2393<>'Local Detail'!$A$147)*(Projects!$M$5:$M$2393)))+(SUMPRODUCT((Projects!$A$5:$A$2393='Local Detail'!$J$3)*(Projects!$C$5:$C$2393<>'MDOT FTA Detail'!$C$4)*(Projects!$L$5:$L$2393='Local Detail'!$A11)*(Projects!$J$5:$J$2393<>'Local Detail'!$A$147)*(Projects!$O$5:$O$2393))))","v":0},{"$f":"J11+K11","v":0},{"$f":"SUMPRODUCT((Projects!$A$5:$A$2393='Local Detail'!$M$3)*(Projects!$C$5:$C$2393<>'MDOT FTA Detail'!$C$4)*(Projects!$L$5:$L$2393='Local Detail'!$A11)*(Projects!$K$5:$K$2393))","v":0},{"$f":"((SUMPRODUCT((Projects!$A$5:$A$2393='Local Detail'!$M$3)*(Projects!$C$5:$C$2393<>'MDOT FTA Detail'!$C$4)*(Projects!$L$5:$L$2393='Local Detail'!$A11)*(Projects!$J$5:$J$2393<>'Local Detail'!$A$147)*(Projects!$M$5:$M$2393)))+(SUMPRODUCT((Projects!$A$5:$A$2393='Local Detail'!$M$3)*(Projects!$C$5:$C$2393<>'MDOT FTA Detail'!$C$4)*(Projects!$L$5:$L$2393='Local Detail'!$A11)*(Projects!$J$5:$J$2393<>'Local Detail'!$A$147)*(Projects!$O$5:$O$2393))))","v":0},{"$f":"M11+N11","v":0}]
["BOWD","Business Opportunity & Workforce Development Center","Local Other FHWA",{"$f":"SUMPRODUCT((Projects!$A$5:$A$2393='Local Detail'!$D$3)*(Projects!$C$5:$C$2393<>'MDOT FTA Detail'!$C$4)*(Projects!$L$5:$L$2393='Local Detail'!$A12)*(Projects!$K$5:$K$2393))","v":0},{"$f":"((SUMPRODUCT((Projects!$A$5:$A$2393='Local Detail'!$D$3)*(Projects!$C$5:$C$2393<>'MDOT FTA Detail'!$C$4)*(Projects!$L$5:$L$2393='Local Detail'!$A12)*(Projects!$J$5:$J$2393<>'Local Detail'!$A$147)*(Projects!$M$5:$M$2393)))+(SUMPRODUCT((Projects!$A$5:$A$2393='Local Detail'!$D$3)*(Projects!$C$5:$C$2393<>'MDOT FTA Detail'!$C$4)*(Projects!$L$5:$L$2393='Local Detail'!$A12)*(Projects!$J$5:$J$2393<>'Local Detail'!$A$147)*(Projects!$O$5:$O$2393))))","v":0},0,{"$f":"SUMPRODUCT((Projects!$A$5:$A$2393='Local Detail'!$G$3)*(Projects!$C$5:$C$2393<>'MDOT FTA Detail'!$C$4)*(Projects!$L$5:$L$2393='Local Detail'!$A12)*(Projects!$K$5:$K$2393))","v":0},{"$f":"((SUMPRODUCT((Projects!$A$5:$A$2393='Local Detail'!$G$3)*(Projects!$C$5:$C$2393<>'MDOT FTA Detail'!$C$4)*(Projects!$L$5:$L$2393='Local Detail'!$A12)*(Projects!$J$5:$J$2393<>'Local Detail'!$A$147)*(Projects!$M$5:$M$2393)))+(SUMPRODUCT((Projects!$A$5:$A$2393='Local Detail'!$G$3)*(Projects!$C$5:$C$2393<>'MDOT FTA Detail'!$C$4)*(Projects!$L$5:$L$2393='Local Detail'!$A12)*(Projects!$J$5:$J$2393<>'Local Detail'!$A$147)*(Projects!$O$5:$O$2393))))","v":0},0,{"$f":"SUMPRODUCT((Projects!$A$5:$A$2393='Local Detail'!$J$3)*(Projects!$C$5:$C$2393<>'MDOT FTA Detail'!$C$4)*(Projects!$L$5:$L$2393='Local Detail'!$A12)*(Projects!$K$5:$K$2393))","v":0},{"$f":"((SUMPRODUCT((Projects!$A$5:$A$2393='Local Detail'!$J$3)*(Projects!$C$5:$C$2393<>'MDOT FTA Detail'!$C$4)*(Projects!$L$5:$L$2393='Local Detail'!$A12)*(Projects!$J$5:$J$2393<>'Local Detail'!$A$147)*(Projects!$M$5:$M$2393)))+(SUMPRODUCT((Projects!$A$5:$A$2393='Local Detail'!$J$3)*(Projects!$C$5:$C$2393<>'MDOT FTA Detail'!$C$4)*(Projects!$L$5:$L$2393='Local Detail'!$A12)*(Projects!$J$5:$J$2393<>'Local Detail'!$A$147)*(Projects!$O$5:$O$2393))))","v":0},0,{"$f":"SUMPRODUCT((Projects!$A$5:$A$2393='Local Detail'!$M$3)*(Projects!$C$5:$C$2393<>'MDOT FTA Detail'!$C$4)*(Projects!$L$5:$L$2393='Local Detail'!$A12)*(Projects!$K$5:$K$2393))","v":0},{"$f":"((SUMPRODUCT((Projects!$A$5:$A$2393='Local Detail'!$M$3)*(Projects!$C$5:$C$2393<>'MDOT FTA Detail'!$C$4)*(Projects!$L$5:$L$2393='Local Detail'!$A12)*(Projects!$J$5:$J$2393<>'Local Detail'!$A$147)*(Projects!$M$5:$M$2393)))+(SUMPRODUCT((Projects!$A$5:$A$2393='Local Detail'!$M$3)*(Projects!$C$5:$C$2393<>'MDOT FTA Detail'!$C$4)*(Projects!$L$5:$L$2393='Local Detail'!$A12)*(Projects!$J$5:$J$2393<>'Local Detail'!$A$147)*(Projects!$O$5:$O$2393))))","v":0},0]
["BRI","Bridge Replacement - Pre 1991 Interstate","Local Bridge",{"$f":"SUMPRODUCT((Projects!$A$5:$A$2393='Local Detail'!$D$3)*(Projects!$C$5:$C$2393<>'MDOT FTA Detail'!$C$4)*(Projects!$L$5:$L$2393='Local Detail'!$A13)*(Projects!$K$5:$K$2393))","v":0},{"$f":"((SUMPRODUCT((Projects!$A$5:$A$2393='Local Detail'!$D$3)*(Projects!$C$5:$C$2393<>'MDOT FTA Detail'!$C$4)*(Projects!$L$5:$L$2393='Local Detail'!$A13)*(Projects!$J$5:$J$2393<>'Local Detail'!$A$147)*(Projects!$M$5:$M$2393)))+(SUMPRODUCT((Projects!$A$5:$A$2393='Local Detail'!$D$3)*(Projects!$C$5:$C$2393<>'MDOT FTA Detail'!$C$4)*(Projects!$L$5:$L$2393='Local Detail'!$A13)*(Projects!$J$5:$J$2393<>'Local Detail'!$A$147)*(Projects!$O$5:$O$2393))))","v":0},0,{"$f":"SUMPRODUCT((Projects!$A$5:$A$2393='Local Detail'!$G$3)*(Projects!$C$5:$C$2393<>'MDOT FTA Detail'!$C$4)*(Projects!$L$5:$L$2393='Local Detail'!$A13)*(Projects!$K$5:$K$2393))","v":0},{"$f":"((SUMPRODUCT((Projects!$A$5:$A$2393='Local Detail'!$G$3)*(Projects!$C$5:$C$2393<>'MDOT FTA Detail'!$C$4)*(Projects!$L$5:$L$2393='Local Detail'!$A13)*(Projects!$J$5:$J$2393<>'Local Detail'!$A$147)*(Projects!$M$5:$M$2393)))+(SUMPRODUCT((Projects!$A$5:$A$2393='Local Detail'!$G$3)*(Projects!$C$5:$C$2393<>'MDOT FTA Detail'!$C$4)*(Projects!$L$5:$L$2393='Local Detail'!$A13)*(Projects!$J$5:$J$2393<>'Local Detail'!$A$147)*(Projects!$O$5:$O$2393))))","v":0},0,{"$f":"SUMPRODUCT((Projects!$A$5:$A$2393='Local Detail'!$J$3)*(Projects!$C$5:$C$2393<>'MDOT FTA Detail'!$C$4)*(Projects!$L$5:$L$2393='Local Detail'!$A13)*(Projects!$K$5:$K$2393))","v":0},{"$f":"((SUMPRODUCT((Projects!$A$5:$A$2393='Local Detail'!$J$3)*(Projects!$C$5:$C$2393<>'MDOT FTA Detail'!$C$4)*(Projects!$L$5:$L$2393='Local Detail'!$A13)*(Projects!$J$5:$J$2393<>'Local Detail'!$A$147)*(Projects!$M$5:$M$2393)))+(SUMPRODUCT((Projects!$A$5:$A$2393='Local Detail'!$J$3)*(Projects!$C$5:$C$2393<>'MDOT FTA Detail'!$C$4)*(Projects!$L$5:$L$2393='Local Detail'!$A13)*(Projects!$J$5:$J$2393<>'Local Detail'!$A$147)*(Projects!$O$5:$O$2393))))","v":0},0,{"$f":"SUMPRODUCT((Projects!$A$5:$A$2393='Local Detail'!$M$3)*(Projects!$C$5:$C$2393<>'MDOT FTA Detail'!$C$4)*(Projects!$L$5:$L$2393='Local Detail'!$A13)*(Projects!$K$5:$K$2393))","v":0},{"$f":"((SUMPRODUCT((Projects!$A$5:$A$2393='Local Detail'!$M$3)*(Projects!$C$5:$C$2393<>'MDOT FTA Detail'!$C$4)*(Projects!$L$5:$L$2393='Local Detail'!$A13)*(Projects!$J$5:$J$2393<>'Local Detail'!$A$147)*(Projects!$M$5:$M$2393)))+(SUMPRODUCT((Projects!$A$5:$A$2393='Local Detail'!$M$3)*(Projects!$C$5:$C$2393<>'MDOT FTA Detail'!$C$4)*(Projects!$L$5:$L$2393='Local Detail'!$A13)*(Projects!$J$5:$J$2393<>'Local Detail'!$A$147)*(Projects!$O$5:$O$2393))))","v":0},0]
["BRN","Bridge Replacement - National Highway System (NHS)","Local Bridge",{"$f":"SUMPRODUCT((Projects!$A$5:$A$2393='Local Detail'!$D$3)*(Projects!$C$5:$C$2393<>'MDOT FTA Detail'!$C$4)*(Projects!$L$5:$L$2393='Local Detail'!$A14)*(Projects!$K$5:$K$2393))","v":0},{"$f":"((SUMPRODUCT((Projects!$A$5:$A$2393='Local Detail'!$D$3)*(Projects!$C$5:$C$2393<>'MDOT FTA Detail'!$C$4)*(Projects!$L$5:$L$2393='Local Detail'!$A14)*(Projects!$J$5:$J$2393<>'Local Detail'!$A$147)*(Projects!$M$5:$M$2393)))+(SUMPRODUCT((Projects!$A$5:$A$2393='Local Detail'!$D$3)*(Projects!$C$5:$C$2393<>'MDOT FTA Detail'!$C$4)*(Projects!$L$5:$L$2393='Local Detail'!$A14)*(Projects!$J$5:$J$2393<>'Local Detail'!$A$147)*(Projects!$O$5:$O$2393))))","v":0},0,{"$f":"SUMPRODUCT((Projects!$A$5:$A$2393='Local Detail'!$G$3)*(Projects!$C$5:$C$2393<>'MDOT FTA Detail'!$C$4)*(Projects!$L$5:$L$2393='Local Detail'!$A14)*(Projects!$K$5:$K$2393))","v":0},{"$f":"((SUMPRODUCT((Projects!$A$5:$A$2393='Local Detail'!$G$3)*(Projects!$C$5:$C$2393<>'MDOT FTA Detail'!$C$4)*(Projects!$L$5:$L$2393='Local Detail'!$A14)*(Projects!$J$5:$J$2393<>'Local Detail'!$A$147)*(Projects!$M$5:$M$2393)))+(SUMPRODUCT((Projects!$A$5:$A$2393='Local Detail'!$G$3)*(Projects!$C$5:$C$2393<>'MDOT FTA Detail'!$C$4)*(Projects!$L$5:$L$2393='Local Detail'!$A14)*(Projects!$J$5:$J$2393<>'Local Detail'!$A$147)*(Projects!$O$5:$O$2393))))","v":0},0,{"$f":"SUMPRODUCT((Projects!$A$5:$A$2393='Local Detail'!$J$3)*(Projects!$C$5:$C$2393<>'MDOT FTA Detail'!$C$4)*(Projects!$L$5:$L$2393='Local Detail'!$A14)*(Projects!$K$5:$K$2393))","v":0},{"$f":"((SUMPRODUCT((Projects!$A$5:$A$2393='Local Detail'!$J$3)*(Projects!$C$5:$C$2393<>'MDOT FTA Detail'!$C$4)*(Projects!$L$5:$L$2393='Local Detail'!$A14)*(Projects!$J$5:$J$2393<>'Local Detail'!$A$147)*(Projects!$M$5:$M$2393)))+(SUMPRODUCT((Projects!$A$5:$A$2393='Local Detail'!$J$3)*(Projects!$C$5:$C$2393<>'MDOT FTA Detail'!$C$4)*(Projects!$L$5:$L$2393='Local Detail'!$A14)*(Projects!$J$5:$J$2393<>'Local Detail'!$A$147)*(Projects!$O$5:$O$2393))))","v":0},0,{"$f":"SUMPRODUCT((Projects!$A$5:$A$2393='Local Detail'!$M$3)*(Projects!$C$5:$C$2393<>'MDOT FTA Detail'!$C$4)*(Projects!$L$5:$L$2393='Local Detail'!$A14)*(Projects!$K$5:$K$2393))","v":0},{"$f":"((SUMPRODUCT((Projects!$A$5:$A$2393='Local Detail'!$M$3)*(Projects!$C$5:$C$2393<>'MDOT FTA Detail'!$C$4)*(Projects!$L$5:$L$2393='Local Detail'!$A14)*(Projects!$J$5:$J$2393<>'Local Detail'!$A$147)*(Projects!$M$5:$M$2393)))+(SUMPRODUCT((Projects!$A$5:$A$2393='Local Detail'!$M$3)*(Projects!$C$5:$C$2393<>'MDOT FTA Detail'!$C$4)*(Projects!$L$5:$L$2393='Local Detail'!$A14)*(Projects!$J$5:$J$2393<>'Local Detail'!$A$147)*(Projects!$O$5:$O$2393))))","v":0},0]
["BRO","Bridge Replacement - Not Classified, Off System","Local Bridge",{"$f":"SUMPRODUCT((Projects!$A$5:$A$2393='Local Detail'!$D$3)*(Projects!$C$5:$C$2393<>'MDOT FTA Detail'!$C$4)*(Projects!$L$5:$L$2393='Local Detail'!$A15)*(Projects!$K$5:$K$2393))","v":0},{"$f":"((SUMPRODUCT((Projects!$A$5:$A$2393='Local Detail'!$D$3)*(Projects!$C$5:$C$2393<>'MDOT FTA Detail'!$C$4)*(Projects!$L$5:$L$2393='Local Detail'!$A15)*(Projects!$J$5:$J$2393<>'Local Detail'!$A$147)*(Projects!$M$5:$M$2393)))+(SUMPRODUCT((Projects!$A$5:$A$2393='Local Detail'!$D$3)*(Projects!$C$5:$C$2393<>'MDOT FTA Detail'!$C$4)*(Projects!$L$5:$L$2393='Local Detail'!$A15)*(Projects!$J$5:$J$2393<>'Local Detail'!$A$147)*(Projects!$O$5:$O$2393))))","v":0},0,{"$f":"SUMPRODUCT((Projects!$A$5:$A$2393='Local Detail'!$G$3)*(Projects!$C$5:$C$2393<>'MDOT FTA Detail'!$C$4)*(Projects!$L$5:$L$2393='Local Detail'!$A15)*(Projects!$K$5:$K$2393))","v":0},{"$f":"((SUMPRODUCT((Projects!$A$5:$A$2393='Local Detail'!$G$3)*(Projects!$C$5:$C$2393<>'MDOT FTA Detail'!$C$4)*(Projects!$L$5:$L$2393='Local Detail'!$A15)*(Projects!$J$5:$J$2393<>'Local Detail'!$A$147)*(Projects!$M$5:$M$2393)))+(SUMPRODUCT((Projects!$A$5:$A$2393='Local Detail'!$G$3)*(Projects!$C$5:$C$2393<>'MDOT FTA Detail'!$C$4)*(Projects!$L$5:$L$2393='Local Detail'!$A15)*(Projects!$J$5:$J$2393<>'Local Detail'!$A$147)*(Projects!$O$5:$O$2393))))","v":0},0,{"$f":"SUMPRODUCT((Projects!$A$5:$A$2393='Local Detail'!$J$3)*(Projects!$C$5:$C$2393<>'MDOT FTA Detail'!$C$4)*(Projects!$L$5:$L$2393='Local Detail'!$A15)*(Projects!$K$5:$K$2393))","v":0},{"$f":"((SUMPRODUCT((Projects!$A$5:$A$2393='Local Detail'!$J$3)*(Projects!$C$5:$C$2393<>'MDOT FTA Detail'!$C$4)*(Projects!$L$5:$L$2393='Local Detail'!$A15)*(Projects!$J$5:$J$2393<>'Local Detail'!$A$147)*(Projects!$M$5:$M$2393)))+(SUMPRODUCT((Projects!$A$5:$A$2393='Local Detail'!$J$3)*(Projects!$C$5:$C$2393<>'MDOT FTA Detail'!$C$4)*(Projects!$L$5:$L$2393='Local Detail'!$A15)*(Projects!$J$5:$J$2393<>'Local Detail'!$A$147)*(Projects!$O$5:$O$2393))))","v":0},0,{"$f":"SUMPRODUCT((Projects!$A$5:$A$2393='Local Detail'!$M$3)*(Projects!$C$5:$C$2393<>'MDOT FTA Detail'!$C$4)*(Projects!$L$5:$L$2393='Local Detail'!$A15)*(Projects!$K$5:$K$2393))","v":0},{"$f":"((SUMPRODUCT((Projects!$A$5:$A$2393='Local Detail'!$M$3)*(Projects!$C$5:$C$2393<>'MDOT FTA Detail'!$C$4)*(Projects!$L$5:$L$2393='Local Detail'!$A15)*(Projects!$J$5:$J$2393<>'Local Detail'!$A$147)*(Projects!$M$5:$M$2393)))+(SUMPRODUCT((Projects!$A$5:$A$2393='Local Detail'!$M$3)*(Projects!$C$5:$C$2393<>'MDOT FTA Detail'!$C$4)*(Projects!$L$5:$L$2393='Local Detail'!$A15)*(Projects!$J$5:$J$2393<>'Local Detail'!$A$147)*(Projects!$O$5:$O$2393))))","v":0},0]
["BRT","Bridge Replacement - Surface Transportation Program (STP)","Local Bridge",{"$f":"SUMPRODUCT((Projects!$A$5:$A$2393='Local Detail'!$D$3)*(Projects!$C$5:$C$2393<>'MDOT FTA Detail'!$C$4)*(Projects!$L$5:$L$2393='Local Detail'!$A16)*(Projects!$K$5:$K$2393))","v":0},{"$f":"((SUMPRODUCT((Projects!$A$5:$A$2393='Local Detail'!$D$3)*(Projects!$C$5:$C$2393<>'MDOT FTA Detail'!$C$4)*(Projects!$L$5:$L$2393='Local Detail'!$A16)*(Projects!$J$5:$J$2393<>'Local Detail'!$A$147)*(Projects!$M$5:$M$2393)))+(SUMPRODUCT((Projects!$A$5:$A$2393='Local Detail'!$D$3)*(Projects!$C$5:$C$2393<>'MDOT FTA Detail'!$C$4)*(Projects!$L$5:$L$2393='Local Detail'!$A16)*(Projects!$J$5:$J$2393<>'Local Detail'!$A$147)*(Projects!$O$5:$O$2393))))","v":0},0,{"$f":"SUMPRODUCT((Projects!$A$5:$A$2393='Local Detail'!$G$3)*(Projects!$C$5:$C$2393<>'MDOT FTA Detail'!$C$4)*(Projects!$L$5:$L$2393='Local Detail'!$A16)*(Projects!$K$5:$K$2393))","v":0},{"$f":"((SUMPRODUCT((Projects!$A$5:$A$2393='Local Detail'!$G$3)*(Projects!$C$5:$C$2393<>'MDOT FTA Detail'!$C$4)*(Projects!$L$5:$L$2393='Local Detail'!$A16)*(Projects!$J$5:$J$2393<>'Local Detail'!$A$147)*(Projects!$M$5:$M$2393)))+(SUMPRODUCT((Projects!$A$5:$A$2393='Local Detail'!$G$3)*(Projects!$C$5:$C$2393<>'MDOT FTA Detail'!$C$4)*(Projects!$L$5:$L$2393='Local Detail'!$A16)*(Projects!$J$5:$J$2393<>'Local Detail'!$A$147)*(Projects!$O$5:$O$2393))))","v":0},0,{"$f":"SUMPRODUCT((Projects!$A$5:$A$2393='Local Detail'!$J$3)*(Projects!$C$5:$C$2393<>'MDOT FTA Detail'!$C$4)*(Projects!$L$5:$L$2393='Local Detail'!$A16)*(Projects!$K$5:$K$2393))","v":0},{"$f":"((SUMPRODUCT((Projects!$A$5:$A$2393='Local Detail'!$J$3)*(Projects!$C$5:$C$2393<>'MDOT FTA Detail'!$C$4)*(Projects!$L$5:$L$2393='Local Detail'!$A16)*(Projects!$J$5:$J$2393<>'Local Detail'!$A$147)*(Projects!$M$5:$M$2393)))+(SUMPRODUCT((Projects!$A$5:$A$2393='Local Detail'!$J$3)*(Projects!$C$5:$C$2393<>'MDOT FTA Detail'!$C$4)*(Projects!$L$5:$L$2393='Local Detail'!$A16)*(Projects!$J$5:$J$2393<>'Local Detail'!$A$147)*(Projects!$O$5:$O$2393))))","v":0},0,{"$f":"SUMPRODUCT((Projects!$A$5:$A$2393='Local Detail'!$M$3)*(Projects!$C$5:$C$2393<>'MDOT FTA Detail'!$C$4)*(Projects!$L$5:$L$2393='Local Detail'!$A16)*(Projects!$K$5:$K$2393))","v":0},{"$f":"((SUMPRODUCT((Projects!$A$5:$A$2393='Local Detail'!$M$3)*(Projects!$C$5:$C$2393<>'MDOT FTA Detail'!$C$4)*(Projects!$L$5:$L$2393='Local Detail'!$A16)*(Projects!$J$5:$J$2393<>'Local Detail'!$A$147)*(Projects!$M$5:$M$2393)))+(SUMPRODUCT((Projects!$A$5:$A$2393='Local Detail'!$M$3)*(Projects!$C$5:$C$2393<>'MDOT FTA Detail'!$C$4)*(Projects!$L$5:$L$2393='Local Detail'!$A16)*(Projects!$J$5:$J$2393<>'Local Detail'!$A$147)*(Projects!$O$5:$O$2393))))","v":0},0]
["CANX","Canadian Bridge Funds","Local Other FHWA",{"$f":"SUMPRODUCT((Projects!$A$5:$A$2393='Local Detail'!$D$3)*(Projects!$C$5:$C$2393<>'MDOT FTA Detail'!$C$4)*(Projects!$L$5:$L$2393='Local Detail'!$A17)*(Projects!$K$5:$K$2393))","v":0},{"$f":"((SUMPRODUCT((Projects!$A$5:$A$2393='Local Detail'!$D$3)*(Projects!$C$5:$C$2393<>'MDOT FTA Detail'!$C$4)*(Projects!$L$5:$L$2393='Local Detail'!$A17)*(Projects!$J$5:$J$2393<>'Local Detail'!$A$147)*(Projects!$M$5:$M$2393)))+(SUMPRODUCT((Projects!$A$5:$A$2393='Local Detail'!$D$3)*(Projects!$C$5:$C$2393<>'MDOT FTA Detail'!$C$4)*(Projects!$L$5:$L$2393='Local Detail'!$A17)*(Projects!$J$5:$J$2393<>'Local Detail'!$A$147)*(Projects!$O$5:$O$2393))))","v":0},{"$f":"D17+E17","v":0},{"$f":"SUMPRODUCT((Projects!$A$5:$A$2393='Local Detail'!$G$3)*(Projects!$C$5:$C$2393<>'MDOT FTA Detail'!$C$4)*(Projects!$L$5:$L$2393='Local Detail'!$A17)*(Projects!$K$5:$K$2393))","v":0},{"$f":"((SUMPRODUCT((Projects!$A$5:$A$2393='Local Detail'!$G$3)*(Projects!$C$5:$C$2393<>'MDOT FTA Detail'!$C$4)*(Projects!$L$5:$L$2393='Local Detail'!$A17)*(Projects!$J$5:$J$2393<>'Local Detail'!$A$147)*(Projects!$M$5:$M$2393)))+(SUMPRODUCT((Projects!$A$5:$A$2393='Local Detail'!$G$3)*(Projects!$C$5:$C$2393<>'MDOT FTA Detail'!$C$4)*(Projects!$L$5:$L$2393='Local Detail'!$A17)*(Projects!$J$5:$J$2393<>'Local Detail'!$A$147)*(Projects!$O$5:$O$2393))))","v":0},{"$f":"G17+H17","v":0},{"$f":"SUMPRODUCT((Projects!$A$5:$A$2393='Local Detail'!$J$3)*(Projects!$C$5:$C$2393<>'MDOT FTA Detail'!$C$4)*(Projects!$L$5:$L$2393='Local Detail'!$A17)*(Projects!$K$5:$K$2393))","v":0},{"$f":"((SUMPRODUCT((Projects!$A$5:$A$2393='Local Detail'!$J$3)*(Projects!$C$5:$C$2393<>'MDOT FTA Detail'!$C$4)*(Projects!$L$5:$L$2393='Local Detail'!$A17)*(Projects!$J$5:$J$2393<>'Local Detail'!$A$147)*(Projects!$M$5:$M$2393)))+(SUMPRODUCT((Projects!$A$5:$A$2393='Local Detail'!$J$3)*(Projects!$C$5:$C$2393<>'MDOT FTA Detail'!$C$4)*(Projects!$L$5:$L$2393='Local Detail'!$A17)*(Projects!$J$5:$J$2393<>'Local Detail'!$A$147)*(Projects!$O$5:$O$2393))))","v":0},{"$f":"J17+K17","v":0},{"$f":"SUMPRODUCT((Projects!$A$5:$A$2393='Local Detail'!$M$3)*(Projects!$C$5:$C$2393<>'MDOT FTA Detail'!$C$4)*(Projects!$L$5:$L$2393='Local Detail'!$A17)*(Projects!$K$5:$K$2393))","v":0},{"$f":"((SUMPRODUCT((Projects!$A$5:$A$2393='Local Detail'!$M$3)*(Projects!$C$5:$C$2393<>'MDOT FTA Detail'!$C$4)*(Projects!$L$5:$L$2393='Local Detail'!$A17)*(Projects!$J$5:$J$2393<>'Local Detail'!$A$147)*(Projects!$M$5:$M$2393)))+(SUMPRODUCT((Projects!$A$5:$A$2393='Local Detail'!$M$3)*(Projects!$C$5:$C$2393<>'MDOT FTA Detail'!$C$4)*(Projects!$L$5:$L$2393='Local Detail'!$A17)*(Projects!$J$5:$J$2393<>'Local Detail'!$A$147)*(Projects!$O$5:$O$2393))))","v":0},{"$f":"M17+N17","v":0}]
["CBCD","Corridor & Border Crossing Discretionary","Local Other FHWA",{"$f":"SUMPRODUCT((Projects!$A$5:$A$2393='Local Detail'!$D$3)*(Projects!$C$5:$C$2393<>'MDOT FTA Detail'!$C$4)*(Projects!$L$5:$L$2393='Local Detail'!$A18)*(Projects!$K$5:$K$2393))","v":0},{"$f":"((SUMPRODUCT((Projects!$A$5:$A$2393='Local Detail'!$D$3)*(Projects!$C$5:$C$2393<>'MDOT FTA Detail'!$C$4)*(Projects!$L$5:$L$2393='Local Detail'!$A18)*(Projects!$J$5:$J$2393<>'Local Detail'!$A$147)*(Projects!$M$5:$M$2393)))+(SUMPRODUCT((Projects!$A$5:$A$2393='Local Detail'!$D$3)*(Projects!$C$5:$C$2393<>'MDOT FTA Detail'!$C$4)*(Projects!$L$5:$L$2393='Local Detail'!$A18)*(Projects!$J$5:$J$2393<>'Local Detail'!$A$147)*(Projects!$O$5:$O$2393))))","v":0},0,{"$f":"SUMPRODUCT((Projects!$A$5:$A$2393='Local Detail'!$G$3)*(Projects!$C$5:$C$2393<>'MDOT FTA Detail'!$C$4)*(Projects!$L$5:$L$2393='Local Detail'!$A18)*(Projects!$K$5:$K$2393))","v":0},{"$f":"((SUMPRODUCT((Projects!$A$5:$A$2393='Local Detail'!$G$3)*(Projects!$C$5:$C$2393<>'MDOT FTA Detail'!$C$4)*(Projects!$L$5:$L$2393='Local Detail'!$A18)*(Projects!$J$5:$J$2393<>'Local Detail'!$A$147)*(Projects!$M$5:$M$2393)))+(SUMPRODUCT((Projects!$A$5:$A$2393='Local Detail'!$G$3)*(Projects!$C$5:$C$2393<>'MDOT FTA Detail'!$C$4)*(Projects!$L$5:$L$2393='Local Detail'!$A18)*(Projects!$J$5:$J$2393<>'Local Detail'!$A$147)*(Projects!$O$5:$O$2393))))","v":0},0,{"$f":"SUMPRODUCT((Projects!$A$5:$A$2393='Local Detail'!$J$3)*(Projects!$C$5:$C$2393<>'MDOT FTA Detail'!$C$4)*(Projects!$L$5:$L$2393='Local Detail'!$A18)*(Projects!$K$5:$K$2393))","v":0},{"$f":"((SUMPRODUCT((Projects!$A$5:$A$2393='Local Detail'!$J$3)*(Projects!$C$5:$C$2393<>'MDOT FTA Detail'!$C$4)*(Projects!$L$5:$L$2393='Local Detail'!$A18)*(Projects!$J$5:$J$2393<>'Local Detail'!$A$147)*(Projects!$M$5:$M$2393)))+(SUMPRODUCT((Projects!$A$5:$A$2393='Local Detail'!$J$3)*(Projects!$C$5:$C$2393<>'MDOT FTA Detail'!$C$4)*(Projects!$L$5:$L$2393='Local Detail'!$A18)*(Projects!$J$5:$J$2393<>'Local Detail'!$A$147)*(Projects!$O$5:$O$2393))))","v":0},0,{"$f":"SUMPRODUCT((Projects!$A$5:$A$2393='Local Detail'!$M$3)*(Projects!$C$5:$C$2393<>'MDOT FTA Detail'!$C$4)*(Projects!$L$5:$L$2393='Local Detail'!$A18)*(Projects!$K$5:$K$2393))","v":0},{"$f":"((SUMPRODUCT((Projects!$A$5:$A$2393='Local Detail'!$M$3)*(Projects!$C$5:$C$2393<>'MDOT FTA Detail'!$C$4)*(Projects!$L$5:$L$2393='Local Detail'!$A18)*(Projects!$J$5:$J$2393<>'Local Detail'!$A$147)*(Projects!$M$5:$M$2393)))+(SUMPRODUCT((Projects!$A$5:$A$2393='Local Detail'!$M$3)*(Projects!$C$5:$C$2393<>'MDOT FTA Detail'!$C$4)*(Projects!$L$5:$L$2393='Local Detail'!$A18)*(Projects!$J$5:$J$2393<>'Local Detail'!$A$147)*(Projects!$O$5:$O$2393))))","v":0},0]
["CBIP","Coordinated Border Infrastructure Program - SAFETEA-LU","Local Other FHWA",{"$f":"SUMPRODUCT((Projects!$A$5:$A$2393='Local Detail'!$D$3)*(Projects!$C$5:$C$2393<>'MDOT FTA Detail'!$C$4)*(Projects!$L$5:$L$2393='Local Detail'!$A19)*(Projects!$K$5:$K$2393))","v":0},{"$f":"((SUMPRODUCT((Projects!$A$5:$A$2393='Local Detail'!$D$3)*(Projects!$C$5:$C$2393<>'MDOT FTA Detail'!$C$4)*(Projects!$L$5:$L$2393='Local Detail'!$A19)*(Projects!$J$5:$J$2393<>'Local Detail'!$A$147)*(Projects!$M$5:$M$2393)))+(SUMPRODUCT((Projects!$A$5:$A$2393='Local Detail'!$D$3)*(Projects!$C$5:$C$2393<>'MDOT FTA Detail'!$C$4)*(Projects!$L$5:$L$2393='Local Detail'!$A19)*(Projects!$J$5:$J$2393<>'Local Detail'!$A$147)*(Projects!$O$5:$O$2393))))","v":0},0,{"$f":"SUMPRODUCT((Projects!$A$5:$A$2393='Local Detail'!$G$3)*(Projects!$C$5:$C$2393<>'MDOT FTA Detail'!$C$4)*(Projects!$L$5:$L$2393='Local Detail'!$A19)*(Projects!$K$5:$K$2393))","v":0},{"$f":"((SUMPRODUCT((Projects!$A$5:$A$2393='Local Detail'!$G$3)*(Projects!$C$5:$C$2393<>'MDOT FTA Detail'!$C$4)*(Projects!$L$5:$L$2393='Local Detail'!$A19)*(Projects!$J$5:$J$2393<>'Local Detail'!$A$147)*(Projects!$M$5:$M$2393)))+(SUMPRODUCT((Projects!$A$5:$A$2393='Local Detail'!$G$3)*(Projects!$C$5:$C$2393<>'MDOT FTA Detail'!$C$4)*(Projects!$L$5:$L$2393='Local Detail'!$A19)*(Projects!$J$5:$J$2393<>'Local Detail'!$A$147)*(Projects!$O$5:$O$2393))))","v":0},0,{"$f":"SUMPRODUCT((Projects!$A$5:$A$2393='Local Detail'!$J$3)*(Projects!$C$5:$C$2393<>'MDOT FTA Detail'!$C$4)*(Projects!$L$5:$L$2393='Local Detail'!$A19)*(Projects!$K$5:$K$2393))","v":0},{"$f":"((SUMPRODUCT((Projects!$A$5:$A$2393='Local Detail'!$J$3)*(Projects!$C$5:$C$2393<>'MDOT FTA Detail'!$C$4)*(Projects!$L$5:$L$2393='Local Detail'!$A19)*(Projects!$J$5:$J$2393<>'Local Detail'!$A$147)*(Projects!$M$5:$M$2393)))+(SUMPRODUCT((Projects!$A$5:$A$2393='Local Detail'!$J$3)*(Projects!$C$5:$C$2393<>'MDOT FTA Detail'!$C$4)*(Projects!$L$5:$L$2393='Local Detail'!$A19)*(Projects!$J$5:$J$2393<>'Local Detail'!$A$147)*(Projects!$O$5:$O$2393))))","v":0},0,{"$f":"SUMPRODUCT((Projects!$A$5:$A$2393='Local Detail'!$M$3)*(Projects!$C$5:$C$2393<>'MDOT FTA Detail'!$C$4)*(Projects!$L$5:$L$2393='Local Detail'!$A19)*(Projects!$K$5:$K$2393))","v":0},{"$f":"((SUMPRODUCT((Projects!$A$5:$A$2393='Local Detail'!$M$3)*(Projects!$C$5:$C$2393<>'MDOT FTA Detail'!$C$4)*(Projects!$L$5:$L$2393='Local Detail'!$A19)*(Projects!$J$5:$J$2393<>'Local Detail'!$A$147)*(Projects!$M$5:$M$2393)))+(SUMPRODUCT((Projects!$A$5:$A$2393='Local Detail'!$M$3)*(Projects!$C$5:$C$2393<>'MDOT FTA Detail'!$C$4)*(Projects!$L$5:$L$2393='Local Detail'!$A19)*(Projects!$J$5:$J$2393<>'Local Detail'!$A$147)*(Projects!$O$5:$O$2393))))","v":0},0]
["CM","Congestion Mitigation & Air Quality","Local CMAQ",{"$f":"SUMPRODUCT((Projects!$A$5:$A$2393='Local Detail'!$D$3)*(Projects!$C$5:$C$2393<>'MDOT FTA Detail'!$C$4)*(Projects!$L$5:$L$2393='Local Detail'!$A20)*(Projects!$K$5:$K$2393))","v":859104},{"$f":"((SUMPRODUCT((Projects!$A$5:$A$2393='Local Detail'!$D$3)*(Projects!$C$5:$C$2393<>'MDOT FTA Detail'!$C$4)*(Projects!$L$5:$L$2393='Local Detail'!$A20)*(Projects!$J$5:$J$2393<>'Local Detail'!$A$147)*(Projects!$M$5:$M$2393)))+(SUMPRODUCT((Projects!$A$5:$A$2393='Local Detail'!$D$3)*(Projects!$C$5:$C$2393<>'MDOT FTA Detail'!$C$4)*(Projects!$L$5:$L$2393='Local Detail'!$A20)*(Projects!$J$5:$J$2393<>'Local Detail'!$A$147)*(Projects!$O$5:$O$2393))))","v":214776},1073880,{"$f":"SUMPRODUCT((Projects!$A$5:$A$2393='Local Detail'!$G$3)*(Projects!$C$5:$C$2393<>'MDOT FTA Detail'!$C$4)*(Projects!$L$5:$L$2393='Local Detail'!$A20)*(Projects!$K$5:$K$2393))","v":859104},{"$f":"((SUMPRODUCT((Projects!$A$5:$A$2393='Local Detail'!$G$3)*(Projects!$C$5:$C$2393<>'MDOT FTA Detail'!$C$4)*(Projects!$L$5:$L$2393='Local Detail'!$A20)*(Projects!$J$5:$J$2393<>'Local Detail'!$A$147)*(Projects!$M$5:$M$2393)))+(SUMPRODUCT((Projects!$A$5:$A$2393='Local Detail'!$G$3)*(Projects!$C$5:$C$2393<>'MDOT FTA Detail'!$C$4)*(Projects!$L$5:$L$2393='Local Detail'!$A20)*(Projects!$J$5:$J$2393<>'Local Detail'!$A$147)*(Projects!$O$5:$O$2393))))","v":210294},1069398,{"$f":"SUMPRODUCT((Projects!$A$5:$A$2393='Local Detail'!$J$3)*(Projects!$C$5:$C$2393<>'MDOT FTA Detail'!$C$4)*(Projects!$L$5:$L$2393='Local Detail'!$A20)*(Projects!$K$5:$K$2393))","v":859104},{"$f":"((SUMPRODUCT((Projects!$A$5:$A$2393='Local Detail'!$J$3)*(Projects!$C$5:$C$2393<>'MDOT FTA Detail'!$C$4)*(Projects!$L$5:$L$2393='Local Detail'!$A20)*(Projects!$J$5:$J$2393<>'Local Detail'!$A$147)*(Projects!$M$5:$M$2393)))+(SUMPRODUCT((Projects!$A$5:$A$2393='Local Detail'!$J$3)*(Projects!$C$5:$C$2393<>'MDOT FTA Detail'!$C$4)*(Projects!$L$5:$L$2393='Local Detail'!$A20)*(Projects!$J$5:$J$2393<>'Local Detail'!$A$147)*(Projects!$O$5:$O$2393))))","v":239776},1098880,{"$f":"SUMPRODUCT((Projects!$A$5:$A$2393='Local Detail'!$M$3)*(Projects!$C$5:$C$2393<>'MDOT FTA Detail'!$C$4)*(Projects!$L$5:$L$2393='Local Detail'!$A20)*(Projects!$K$5:$K$2393))","v":859104},{"$f":"((SUMPRODUCT((Projects!$A$5:$A$2393='Local Detail'!$M$3)*(Projects!$C$5:$C$2393<>'MDOT FTA Detail'!$C$4)*(Projects!$L$5:$L$2393='Local Detail'!$A20)*(Projects!$J$5:$J$2393<>'Local Detail'!$A$147)*(Projects!$M$5:$M$2393)))+(SUMPRODUCT((Projects!$A$5:$A$2393='Local Detail'!$M$3)*(Projects!$C$5:$C$2393<>'MDOT FTA Detail'!$C$4)*(Projects!$L$5:$L$2393='Local Detail'!$A20)*(Projects!$J$5:$J$2393<>'Local Detail'!$A$147)*(Projects!$O$5:$O$2393))))","v":214776},1073880]
["CMG","Congestion Mitigation & Air Quality - 100% Federal","Local CMAQ",{"$f":"SUMPRODUCT((Projects!$A$5:$A$2393='Local Detail'!$D$3)*(Projects!$C$5:$C$2393<>'MDOT FTA Detail'!$C$4)*(Projects!$L$5:$L$2393='Local Detail'!$A21)*(Projects!$K$5:$K$2393))","v":0},{"$f":"((SUMPRODUCT((Projects!$A$5:$A$2393='Local Detail'!$D$3)*(Projects!$C$5:$C$2393<>'MDOT FTA Detail'!$C$4)*(Projects!$L$5:$L$2393='Local Detail'!$A21)*(Projects!$J$5:$J$2393<>'Local Detail'!$A$147)*(Projects!$M$5:$M$2393)))+(SUMPRODUCT((Projects!$A$5:$A$2393='Local Detail'!$D$3)*(Projects!$C$5:$C$2393<>'MDOT FTA Detail'!$C$4)*(Projects!$L$5:$L$2393='Local Detail'!$A21)*(Projects!$J$5:$J$2393<>'Local Detail'!$A$147)*(Projects!$O$5:$O$2393))))","v":0},0,{"$f":"SUMPRODUCT((Projects!$A$5:$A$2393='Local Detail'!$G$3)*(Projects!$C$5:$C$2393<>'MDOT FTA Detail'!$C$4)*(Projects!$L$5:$L$2393='Local Detail'!$A21)*(Projects!$K$5:$K$2393))","v":0},{"$f":"((SUMPRODUCT((Projects!$A$5:$A$2393='Local Detail'!$G$3)*(Projects!$C$5:$C$2393<>'MDOT FTA Detail'!$C$4)*(Projects!$L$5:$L$2393='Local Detail'!$A21)*(Projects!$J$5:$J$2393<>'Local Detail'!$A$147)*(Projects!$M$5:$M$2393)))+(SUMPRODUCT((Projects!$A$5:$A$2393='Local Detail'!$G$3)*(Projects!$C$5:$C$2393<>'MDOT FTA Detail'!$C$4)*(Projects!$L$5:$L$2393='Local Detail'!$A21)*(Projects!$J$5:$J$2393<>'Local Detail'!$A$147)*(Projects!$O$5:$O$2393))))","v":0},0,{"$f":"SUMPRODUCT((Projects!$A$5:$A$2393='Local Detail'!$J$3)*(Projects!$C$5:$C$2393<>'MDOT FTA Detail'!$C$4)*(Projects!$L$5:$L$2393='Local Detail'!$A21)*(Projects!$K$5:$K$2393))","v":0},{"$f":"((SUMPRODUCT((Projects!$A$5:$A$2393='Local Detail'!$J$3)*(Projects!$C$5:$C$2393<>'MDOT FTA Detail'!$C$4)*(Projects!$L$5:$L$2393='Local Detail'!$A21)*(Projects!$J$5:$J$2393<>'Local Detail'!$A$147)*(Projects!$M$5:$M$2393)))+(SUMPRODUCT((Projects!$A$5:$A$2393='Local Detail'!$J$3)*(Projects!$C$5:$C$2393<>'MDOT FTA Detail'!$C$4)*(Projects!$L$5:$L$2393='Local Detail'!$A21)*(Projects!$J$5:$J$2393<>'Local Detail'!$A$147)*(Projects!$O$5:$O$2393))))","v":0},0,{"$f":"SUMPRODUCT((Projects!$A$5:$A$2393='Local Detail'!$M$3)*(Projects!$C$5:$C$2393<>'MDOT FTA Detail'!$C$4)*(Projects!$L$5:$L$2393='Local Detail'!$A21)*(Projects!$K$5:$K$2393))","v":0},{"$f":"((SUMPRODUCT((Projects!$A$5:$A$2393='Local Detail'!$M$3)*(Projects!$C$5:$C$2393<>'MDOT FTA Detail'!$C$4)*(Projects!$L$5:$L$2393='Local Detail'!$A21)*(Projects!$J$5:$J$2393<>'Local Detail'!$A$147)*(Projects!$M$5:$M$2393)))+(SUMPRODUCT((Projects!$A$5:$A$2393='Local Detail'!$M$3)*(Projects!$C$5:$C$2393<>'MDOT FTA Detail'!$C$4)*(Projects!$L$5:$L$2393='Local Detail'!$A21)*(Projects!$J$5:$J$2393<>'Local Detail'!$A$147)*(Projects!$O$5:$O$2393))))","v":0},0]
["CPM","Congestion Mititagion & Air Quality for PM 2.5 Emissions","Local CMAQ",{"$f":"SUMPRODUCT((Projects!$A$5:$A$2393='Local Detail'!$D$3)*(Projects!$C$5:$C$2393<>'MDOT FTA Detail'!$C$4)*(Projects!$L$5:$L$2393='Local Detail'!$A22)*(Projects!$K$5:$K$2393))","v":0},{"$f":"((SUMPRODUCT((Projects!$A$5:$A$2393='Local Detail'!$D$3)*(Projects!$C$5:$C$2393<>'MDOT FTA Detail'!$C$4)*(Projects!$L$5:$L$2393='Local Detail'!$A22)*(Projects!$J$5:$J$2393<>'Local Detail'!$A$147)*(Projects!$M$5:$M$2393)))+(SUMPRODUCT((Projects!$A$5:$A$2393='Local Detail'!$D$3)*(Projects!$C$5:$C$2393<>'MDOT FTA Detail'!$C$4)*(Projects!$L$5:$L$2393='Local Detail'!$A22)*(Projects!$J$5:$J$2393<>'Local Detail'!$A$147)*(Projects!$O$5:$O$2393))))","v":0},{"$f":"D22+E22","v":0},{"$f":"SUMPRODUCT((Projects!$A$5:$A$2393='Local Detail'!$G$3)*(Projects!$C$5:$C$2393<>'MDOT FTA Detail'!$C$4)*(Projects!$L$5:$L$2393='Local Detail'!$A22)*(Projects!$K$5:$K$2393))","v":0},{"$f":"((SUMPRODUCT((Projects!$A$5:$A$2393='Local Detail'!$G$3)*(Projects!$C$5:$C$2393<>'MDOT FTA Detail'!$C$4)*(Projects!$L$5:$L$2393='Local Detail'!$A22)*(Projects!$J$5:$J$2393<>'Local Detail'!$A$147)*(Projects!$M$5:$M$2393)))+(SUMPRODUCT((Projects!$A$5:$A$2393='Local Detail'!$G$3)*(Projects!$C$5:$C$2393<>'MDOT FTA Detail'!$C$4)*(Projects!$L$5:$L$2393='Local Detail'!$A22)*(Projects!$J$5:$J$2393<>'Local Detail'!$A$147)*(Projects!$O$5:$O$2393))))","v":0},{"$f":"G22+H22","v":0},{"$f":"SUMPRODUCT((Projects!$A$5:$A$2393='Local Detail'!$J$3)*(Projects!$C$5:$C$2393<>'MDOT FTA Detail'!$C$4)*(Projects!$L$5:$L$2393='Local Detail'!$A22)*(Projects!$K$5:$K$2393))","v":0},{"$f":"((SUMPRODUCT((Projects!$A$5:$A$2393='Local Detail'!$J$3)*(Projects!$C$5:$C$2393<>'MDOT FTA Detail'!$C$4)*(Projects!$L$5:$L$2393='Local Detail'!$A22)*(Projects!$J$5:$J$2393<>'Local Detail'!$A$147)*(Projects!$M$5:$M$2393)))+(SUMPRODUCT((Projects!$A$5:$A$2393='Local Detail'!$J$3)*(Projects!$C$5:$C$2393<>'MDOT FTA Detail'!$C$4)*(Projects!$L$5:$L$2393='Local Detail'!$A22)*(Projects!$J$5:$J$2393<>'Local Detail'!$A$147)*(Projects!$O$5:$O$2393))))","v":0},{"$f":"J22+K22","v":0},{"$f":"SUMPRODUCT((Projects!$A$5:$A$2393='Local Detail'!$M$3)*(Projects!$C$5:$C$2393<>'MDOT FTA Detail'!$C$4)*(Projects!$L$5:$L$2393='Local Detail'!$A22)*(Projects!$K$5:$K$2393))","v":0},{"$f":"((SUMPRODUCT((Projects!$A$5:$A$2393='Local Detail'!$M$3)*(Projects!$C$5:$C$2393<>'MDOT FTA Detail'!$C$4)*(Projects!$L$5:$L$2393='Local Detail'!$A22)*(Projects!$J$5:$J$2393<>'Local Detail'!$A$147)*(Projects!$M$5:$M$2393)))+(SUMPRODUCT((Projects!$A$5:$A$2393='Local Detail'!$M$3)*(Projects!$C$5:$C$2393<>'MDOT FTA Detail'!$C$4)*(Projects!$L$5:$L$2393='Local Detail'!$A22)*(Projects!$J$5:$J$2393<>'Local Detail'!$A$147)*(Projects!$O$5:$O$2393))))","v":0},{"$f":"M22+N22","v":0}]
["CPMG","Congestion Mititagion & Air Quality for PM 2.5 Emissions - 100% Federal","Local CMAQ",{"$f":"SUMPRODUCT((Projects!$A$5:$A$2393='Local Detail'!$D$3)*(Projects!$C$5:$C$2393<>'MDOT FTA Detail'!$C$4)*(Projects!$L$5:$L$2393='Local Detail'!$A23)*(Projects!$K$5:$K$2393))","v":0},{"$f":"((SUMPRODUCT((Projects!$A$5:$A$2393='Local Detail'!$D$3)*(Projects!$C$5:$C$2393<>'MDOT FTA Detail'!$C$4)*(Projects!$L$5:$L$2393='Local Detail'!$A23)*(Projects!$J$5:$J$2393<>'Local Detail'!$A$147)*(Projects!$M$5:$M$2393)))+(SUMPRODUCT((Projects!$A$5:$A$2393='Local Detail'!$D$3)*(Projects!$C$5:$C$2393<>'MDOT FTA Detail'!$C$4)*(Projects!$L$5:$L$2393='Local Detail'!$A23)*(Projects!$J$5:$J$2393<>'Local Detail'!$A$147)*(Projects!$O$5:$O$2393))))","v":0},0,{"$f":"SUMPRODUCT((Projects!$A$5:$A$2393='Local Detail'!$G$3)*(Projects!$C$5:$C$2393<>'MDOT FTA Detail'!$C$4)*(Projects!$L$5:$L$2393='Local Detail'!$A23)*(Projects!$K$5:$K$2393))","v":0},{"$f":"((SUMPRODUCT((Projects!$A$5:$A$2393='Local Detail'!$G$3)*(Projects!$C$5:$C$2393<>'MDOT FTA Detail'!$C$4)*(Projects!$L$5:$L$2393='Local Detail'!$A23)*(Projects!$J$5:$J$2393<>'Local Detail'!$A$147)*(Projects!$M$5:$M$2393)))+(SUMPRODUCT((Projects!$A$5:$A$2393='Local Detail'!$G$3)*(Projects!$C$5:$C$2393<>'MDOT FTA Detail'!$C$4)*(Projects!$L$5:$L$2393='Local Detail'!$A23)*(Projects!$J$5:$J$2393<>'Local Detail'!$A$147)*(Projects!$O$5:$O$2393))))","v":0},0,{"$f":"SUMPRODUCT((Projects!$A$5:$A$2393='Local Detail'!$J$3)*(Projects!$C$5:$C$2393<>'MDOT FTA Detail'!$C$4)*(Projects!$L$5:$L$2393='Local Detail'!$A23)*(Projects!$K$5:$K$2393))","v":0},{"$f":"((SUMPRODUCT((Projects!$A$5:$A$2393='Local Detail'!$J$3)*(Projects!$C$5:$C$2393<>'MDOT FTA Detail'!$C$4)*(Projects!$L$5:$L$2393='Local Detail'!$A23)*(Projects!$J$5:$J$2393<>'Local Detail'!$A$147)*(Projects!$M$5:$M$2393)))+(SUMPRODUCT((Projects!$A$5:$A$2393='Local Detail'!$J$3)*(Projects!$C$5:$C$2393<>'MDOT FTA Detail'!$C$4)*(Projects!$L$5:$L$2393='Local Detail'!$A23)*(Projects!$J$5:$J$2393<>'Local Detail'!$A$147)*(Projects!$O$5:$O$2393))))","v":0},0,{"$f":"SUMPRODUCT((Projects!$A$5:$A$2393='Local Detail'!$M$3)*(Projects!$C$5:$C$2393<>'MDOT FTA Detail'!$C$4)*(Projects!$L$5:$L$2393='Local Detail'!$A23)*(Projects!$K$5:$K$2393))","v":0},{"$f":"((SUMPRODUCT((Projects!$A$5:$A$2393='Local Detail'!$M$3)*(Projects!$C$5:$C$2393<>'MDOT FTA Detail'!$C$4)*(Projects!$L$5:$L$2393='Local Detail'!$A23)*(Projects!$J$5:$J$2393<>'Local Detail'!$A$147)*(Projects!$M$5:$M$2393)))+(SUMPRODUCT((Projects!$A$5:$A$2393='Local Detail'!$M$3)*(Projects!$C$5:$C$2393<>'MDOT FTA Detail'!$C$4)*(Projects!$L$5:$L$2393='Local Detail'!$A23)*(Projects!$J$5:$J$2393<>'Local Detail'!$A$147)*(Projects!$O$5:$O$2393))))","v":0},0]
["D129","Demonstration for Surface Transportation - Section 129","Local STP",{"$f":"SUMPRODUCT((Projects!$A$5:$A$2393='Local Detail'!$D$3)*(Projects!$C$5:$C$2393<>'MDOT FTA Detail'!$C$4)*(Projects!$L$5:$L$2393='Local Detail'!$A24)*(Projects!$K$5:$K$2393))","v":0},{"$f":"((SUMPRODUCT((Projects!$A$5:$A$2393='Local Detail'!$D$3)*(Projects!$C$5:$C$2393<>'MDOT FTA Detail'!$C$4)*(Projects!$L$5:$L$2393='Local Detail'!$A24)*(Projects!$J$5:$J$2393<>'Local Detail'!$A$147)*(Projects!$M$5:$M$2393)))+(SUMPRODUCT((Projects!$A$5:$A$2393='Local Detail'!$D$3)*(Projects!$C$5:$C$2393<>'MDOT FTA Detail'!$C$4)*(Projects!$L$5:$L$2393='Local Detail'!$A24)*(Projects!$J$5:$J$2393<>'Local Detail'!$A$147)*(Projects!$O$5:$O$2393))))","v":0},{"$f":"D24+E24","v":0},{"$f":"SUMPRODUCT((Projects!$A$5:$A$2393='Local Detail'!$G$3)*(Projects!$C$5:$C$2393<>'MDOT FTA Detail'!$C$4)*(Projects!$L$5:$L$2393='Local Detail'!$A24)*(Projects!$K$5:$K$2393))","v":0},{"$f":"((SUMPRODUCT((Projects!$A$5:$A$2393='Local Detail'!$G$3)*(Projects!$C$5:$C$2393<>'MDOT FTA Detail'!$C$4)*(Projects!$L$5:$L$2393='Local Detail'!$A24)*(Projects!$J$5:$J$2393<>'Local Detail'!$A$147)*(Projects!$M$5:$M$2393)))+(SUMPRODUCT((Projects!$A$5:$A$2393='Local Detail'!$G$3)*(Projects!$C$5:$C$2393<>'MDOT FTA Detail'!$C$4)*(Projects!$L$5:$L$2393='Local Detail'!$A24)*(Projects!$J$5:$J$2393<>'Local Detail'!$A$147)*(Projects!$O$5:$O$2393))))","v":0},{"$f":"G24+H24","v":0},{"$f":"SUMPRODUCT((Projects!$A$5:$A$2393='Local Detail'!$J$3)*(Projects!$C$5:$C$2393<>'MDOT FTA Detail'!$C$4)*(Projects!$L$5:$L$2393='Local Detail'!$A24)*(Projects!$K$5:$K$2393))","v":0},{"$f":"((SUMPRODUCT((Projects!$A$5:$A$2393='Local Detail'!$J$3)*(Projects!$C$5:$C$2393<>'MDOT FTA Detail'!$C$4)*(Projects!$L$5:$L$2393='Local Detail'!$A24)*(Projects!$J$5:$J$2393<>'Local Detail'!$A$147)*(Projects!$M$5:$M$2393)))+(SUMPRODUCT((Projects!$A$5:$A$2393='Local Detail'!$J$3)*(Projects!$C$5:$C$2393<>'MDOT FTA Detail'!$C$4)*(Projects!$L$5:$L$2393='Local Detail'!$A24)*(Projects!$J$5:$J$2393<>'Local Detail'!$A$147)*(Projects!$O$5:$O$2393))))","v":0},{"$f":"J24+K24","v":0},{"$f":"SUMPRODUCT((Projects!$A$5:$A$2393='Local Detail'!$M$3)*(Projects!$C$5:$C$2393<>'MDOT FTA Detail'!$C$4)*(Projects!$L$5:$L$2393='Local Detail'!$A24)*(Projects!$K$5:$K$2393))","v":0},{"$f":"((SUMPRODUCT((Projects!$A$5:$A$2393='Local Detail'!$M$3)*(Projects!$C$5:$C$2393<>'MDOT FTA Detail'!$C$4)*(Projects!$L$5:$L$2393='Local Detail'!$A24)*(Projects!$J$5:$J$2393<>'Local Detail'!$A$147)*(Projects!$M$5:$M$2393)))+(SUMPRODUCT((Projects!$A$5:$A$2393='Local Detail'!$M$3)*(Projects!$C$5:$C$2393<>'MDOT FTA Detail'!$C$4)*(Projects!$L$5:$L$2393='Local Detail'!$A24)*(Projects!$J$5:$J$2393<>'Local Detail'!$A$147)*(Projects!$O$5:$O$2393))))","v":0},{"$f":"M24+N24","v":0}]
["DIG","ISTEA Demonstration 100% Federal on Interstate","Local Other FHWA",{"$f":"SUMPRODUCT((Projects!$A$5:$A$2393='Local Detail'!$D$3)*(Projects!$C$5:$C$2393<>'MDOT FTA Detail'!$C$4)*(Projects!$L$5:$L$2393='Local Detail'!$A25)*(Projects!$K$5:$K$2393))","v":0},{"$f":"((SUMPRODUCT((Projects!$A$5:$A$2393='Local Detail'!$D$3)*(Projects!$C$5:$C$2393<>'MDOT FTA Detail'!$C$4)*(Projects!$L$5:$L$2393='Local Detail'!$A25)*(Projects!$J$5:$J$2393<>'Local Detail'!$A$147)*(Projects!$M$5:$M$2393)))+(SUMPRODUCT((Projects!$A$5:$A$2393='Local Detail'!$D$3)*(Projects!$C$5:$C$2393<>'MDOT FTA Detail'!$C$4)*(Projects!$L$5:$L$2393='Local Detail'!$A25)*(Projects!$J$5:$J$2393<>'Local Detail'!$A$147)*(Projects!$O$5:$O$2393))))","v":0},0,{"$f":"SUMPRODUCT((Projects!$A$5:$A$2393='Local Detail'!$G$3)*(Projects!$C$5:$C$2393<>'MDOT FTA Detail'!$C$4)*(Projects!$L$5:$L$2393='Local Detail'!$A25)*(Projects!$K$5:$K$2393))","v":0},{"$f":"((SUMPRODUCT((Projects!$A$5:$A$2393='Local Detail'!$G$3)*(Projects!$C$5:$C$2393<>'MDOT FTA Detail'!$C$4)*(Projects!$L$5:$L$2393='Local Detail'!$A25)*(Projects!$J$5:$J$2393<>'Local Detail'!$A$147)*(Projects!$M$5:$M$2393)))+(SUMPRODUCT((Projects!$A$5:$A$2393='Local Detail'!$G$3)*(Projects!$C$5:$C$2393<>'MDOT FTA Detail'!$C$4)*(Projects!$L$5:$L$2393='Local Detail'!$A25)*(Projects!$J$5:$J$2393<>'Local Detail'!$A$147)*(Projects!$O$5:$O$2393))))","v":0},0,{"$f":"SUMPRODUCT((Projects!$A$5:$A$2393='Local Detail'!$J$3)*(Projects!$C$5:$C$2393<>'MDOT FTA Detail'!$C$4)*(Projects!$L$5:$L$2393='Local Detail'!$A25)*(Projects!$K$5:$K$2393))","v":0},{"$f":"((SUMPRODUCT((Projects!$A$5:$A$2393='Local Detail'!$J$3)*(Projects!$C$5:$C$2393<>'MDOT FTA Detail'!$C$4)*(Projects!$L$5:$L$2393='Local Detail'!$A25)*(Projects!$J$5:$J$2393<>'Local Detail'!$A$147)*(Projects!$M$5:$M$2393)))+(SUMPRODUCT((Projects!$A$5:$A$2393='Local Detail'!$J$3)*(Projects!$C$5:$C$2393<>'MDOT FTA Detail'!$C$4)*(Projects!$L$5:$L$2393='Local Detail'!$A25)*(Projects!$J$5:$J$2393<>'Local Detail'!$A$147)*(Projects!$O$5:$O$2393))))","v":0},0,{"$f":"SUMPRODUCT((Projects!$A$5:$A$2393='Local Detail'!$M$3)*(Projects!$C$5:$C$2393<>'MDOT FTA Detail'!$C$4)*(Projects!$L$5:$L$2393='Local Detail'!$A25)*(Projects!$K$5:$K$2393))","v":0},{"$f":"((SUMPRODUCT((Projects!$A$5:$A$2393='Local Detail'!$M$3)*(Projects!$C$5:$C$2393<>'MDOT FTA Detail'!$C$4)*(Projects!$L$5:$L$2393='Local Detail'!$A25)*(Projects!$J$5:$J$2393<>'Local Detail'!$A$147)*(Projects!$M$5:$M$2393)))+(SUMPRODUCT((Projects!$A$5:$A$2393='Local Detail'!$M$3)*(Projects!$C$5:$C$2393<>'MDOT FTA Detail'!$C$4)*(Projects!$L$5:$L$2393='Local Detail'!$A25)*(Projects!$J$5:$J$2393<>'Local Detail'!$A$147)*(Projects!$O$5:$O$2393))))","v":0},0]
["DOG","ISTEA Demonstration 100% Federal Not Classified","Local Other FHWA",{"$f":"SUMPRODUCT((Projects!$A$5:$A$2393='Local Detail'!$D$3)*(Projects!$C$5:$C$2393<>'MDOT FTA Detail'!$C$4)*(Projects!$L$5:$L$2393='Local Detail'!$A26)*(Projects!$K$5:$K$2393))","v":0},{"$f":"((SUMPRODUCT((Projects!$A$5:$A$2393='Local Detail'!$D$3)*(Projects!$C$5:$C$2393<>'MDOT FTA Detail'!$C$4)*(Projects!$L$5:$L$2393='Local Detail'!$A26)*(Projects!$J$5:$J$2393<>'Local Detail'!$A$147)*(Projects!$M$5:$M$2393)))+(SUMPRODUCT((Projects!$A$5:$A$2393='Local Detail'!$D$3)*(Projects!$C$5:$C$2393<>'MDOT FTA Detail'!$C$4)*(Projects!$L$5:$L$2393='Local Detail'!$A26)*(Projects!$J$5:$J$2393<>'Local Detail'!$A$147)*(Projects!$O$5:$O$2393))))","v":0},0,{"$f":"SUMPRODUCT((Projects!$A$5:$A$2393='Local Detail'!$G$3)*(Projects!$C$5:$C$2393<>'MDOT FTA Detail'!$C$4)*(Projects!$L$5:$L$2393='Local Detail'!$A26)*(Projects!$K$5:$K$2393))","v":0},{"$f":"((SUMPRODUCT((Projects!$A$5:$A$2393='Local Detail'!$G$3)*(Projects!$C$5:$C$2393<>'MDOT FTA Detail'!$C$4)*(Projects!$L$5:$L$2393='Local Detail'!$A26)*(Projects!$J$5:$J$2393<>'Local Detail'!$A$147)*(Projects!$M$5:$M$2393)))+(SUMPRODUCT((Projects!$A$5:$A$2393='Local Detail'!$G$3)*(Projects!$C$5:$C$2393<>'MDOT FTA Detail'!$C$4)*(Projects!$L$5:$L$2393='Local Detail'!$A26)*(Projects!$J$5:$J$2393<>'Local Detail'!$A$147)*(Projects!$O$5:$O$2393))))","v":0},0,{"$f":"SUMPRODUCT((Projects!$A$5:$A$2393='Local Detail'!$J$3)*(Projects!$C$5:$C$2393<>'MDOT FTA Detail'!$C$4)*(Projects!$L$5:$L$2393='Local Detail'!$A26)*(Projects!$K$5:$K$2393))","v":0},{"$f":"((SUMPRODUCT((Projects!$A$5:$A$2393='Local Detail'!$J$3)*(Projects!$C$5:$C$2393<>'MDOT FTA Detail'!$C$4)*(Projects!$L$5:$L$2393='Local Detail'!$A26)*(Projects!$J$5:$J$2393<>'Local Detail'!$A$147)*(Projects!$M$5:$M$2393)))+(SUMPRODUCT((Projects!$A$5:$A$2393='Local Detail'!$J$3)*(Projects!$C$5:$C$2393<>'MDOT FTA Detail'!$C$4)*(Projects!$L$5:$L$2393='Local Detail'!$A26)*(Projects!$J$5:$J$2393<>'Local Detail'!$A$147)*(Projects!$O$5:$O$2393))))","v":0},0,{"$f":"SUMPRODUCT((Projects!$A$5:$A$2393='Local Detail'!$M$3)*(Projects!$C$5:$C$2393<>'MDOT FTA Detail'!$C$4)*(Projects!$L$5:$L$2393='Local Detail'!$A26)*(Projects!$K$5:$K$2393))","v":0},{"$f":"((SUMPRODUCT((Projects!$A$5:$A$2393='Local Detail'!$M$3)*(Projects!$C$5:$C$2393<>'MDOT FTA Detail'!$C$4)*(Projects!$L$5:$L$2393='Local Detail'!$A26)*(Projects!$J$5:$J$2393<>'Local Detail'!$A$147)*(Projects!$M$5:$M$2393)))+(SUMPRODUCT((Projects!$A$5:$A$2393='Local Detail'!$M$3)*(Projects!$C$5:$C$2393<>'MDOT FTA Detail'!$C$4)*(Projects!$L$5:$L$2393='Local Detail'!$A26)*(Projects!$J$5:$J$2393<>'Local Detail'!$A$147)*(Projects!$O$5:$O$2393))))","v":0},0]
["DPN","ISTEA Demonstration 80% Federal on NHS","Local Other FHWA",{"$f":"SUMPRODUCT((Projects!$A$5:$A$2393='Local Detail'!$D$3)*(Projects!$C$5:$C$2393<>'MDOT FTA Detail'!$C$4)*(Projects!$L$5:$L$2393='Local Detail'!$A27)*(Projects!$K$5:$K$2393))","v":0},{"$f":"((SUMPRODUCT((Projects!$A$5:$A$2393='Local Detail'!$D$3)*(Projects!$C$5:$C$2393<>'MDOT FTA Detail'!$C$4)*(Projects!$L$5:$L$2393='Local Detail'!$A27)*(Projects!$J$5:$J$2393<>'Local Detail'!$A$147)*(Projects!$M$5:$M$2393)))+(SUMPRODUCT((Projects!$A$5:$A$2393='Local Detail'!$D$3)*(Projects!$C$5:$C$2393<>'MDOT FTA Detail'!$C$4)*(Projects!$L$5:$L$2393='Local Detail'!$A27)*(Projects!$J$5:$J$2393<>'Local Detail'!$A$147)*(Projects!$O$5:$O$2393))))","v":0},0,{"$f":"SUMPRODUCT((Projects!$A$5:$A$2393='Local Detail'!$G$3)*(Projects!$C$5:$C$2393<>'MDOT FTA Detail'!$C$4)*(Projects!$L$5:$L$2393='Local Detail'!$A27)*(Projects!$K$5:$K$2393))","v":0},{"$f":"((SUMPRODUCT((Projects!$A$5:$A$2393='Local Detail'!$G$3)*(Projects!$C$5:$C$2393<>'MDOT FTA Detail'!$C$4)*(Projects!$L$5:$L$2393='Local Detail'!$A27)*(Projects!$J$5:$J$2393<>'Local Detail'!$A$147)*(Projects!$M$5:$M$2393)))+(SUMPRODUCT((Projects!$A$5:$A$2393='Local Detail'!$G$3)*(Projects!$C$5:$C$2393<>'MDOT FTA Detail'!$C$4)*(Projects!$L$5:$L$2393='Local Detail'!$A27)*(Projects!$J$5:$J$2393<>'Local Detail'!$A$147)*(Projects!$O$5:$O$2393))))","v":0},0,{"$f":"SUMPRODUCT((Projects!$A$5:$A$2393='Local Detail'!$J$3)*(Projects!$C$5:$C$2393<>'MDOT FTA Detail'!$C$4)*(Projects!$L$5:$L$2393='Local Detail'!$A27)*(Projects!$K$5:$K$2393))","v":0},{"$f":"((SUMPRODUCT((Projects!$A$5:$A$2393='Local Detail'!$J$3)*(Projects!$C$5:$C$2393<>'MDOT FTA Detail'!$C$4)*(Projects!$L$5:$L$2393='Local Detail'!$A27)*(Projects!$J$5:$J$2393<>'Local Detail'!$A$147)*(Projects!$M$5:$M$2393)))+(SUMPRODUCT((Projects!$A$5:$A$2393='Local Detail'!$J$3)*(Projects!$C$5:$C$2393<>'MDOT FTA Detail'!$C$4)*(Projects!$L$5:$L$2393='Local Detail'!$A27)*(Projects!$J$5:$J$2393<>'Local Detail'!$A$147)*(Projects!$O$5:$O$2393))))","v":0},0,{"$f":"SUMPRODUCT((Projects!$A$5:$A$2393='Local Detail'!$M$3)*(Projects!$C$5:$C$2393<>'MDOT FTA Detail'!$C$4)*(Projects!$L$5:$L$2393='Local Detail'!$A27)*(Projects!$K$5:$K$2393))","v":0},{"$f":"((SUMPRODUCT((Projects!$A$5:$A$2393='Local Detail'!$M$3)*(Projects!$C$5:$C$2393<>'MDOT FTA Detail'!$C$4)*(Projects!$L$5:$L$2393='Local Detail'!$A27)*(Projects!$J$5:$J$2393<>'Local Detail'!$A$147)*(Projects!$M$5:$M$2393)))+(SUMPRODUCT((Projects!$A$5:$A$2393='Local Detail'!$M$3)*(Projects!$C$5:$C$2393<>'MDOT FTA Detail'!$C$4)*(Projects!$L$5:$L$2393='Local Detail'!$A27)*(Projects!$J$5:$J$2393<>'Local Detail'!$A$147)*(Projects!$O$5:$O$2393))))","v":0},0]
["DPO","ISTEA Demonstration 80% Federal Not Classified","Local Other FHWA",{"$f":"SUMPRODUCT((Projects!$A$5:$A$2393='Local Detail'!$D$3)*(Projects!$C$5:$C$2393<>'MDOT FTA Detail'!$C$4)*(Projects!$L$5:$L$2393='Local Detail'!$A28)*(Projects!$K$5:$K$2393))","v":0},{"$f":"((SUMPRODUCT((Projects!$A$5:$A$2393='Local Detail'!$D$3)*(Projects!$C$5:$C$2393<>'MDOT FTA Detail'!$C$4)*(Projects!$L$5:$L$2393='Local Detail'!$A28)*(Projects!$J$5:$J$2393<>'Local Detail'!$A$147)*(Projects!$M$5:$M$2393)))+(SUMPRODUCT((Projects!$A$5:$A$2393='Local Detail'!$D$3)*(Projects!$C$5:$C$2393<>'MDOT FTA Detail'!$C$4)*(Projects!$L$5:$L$2393='Local Detail'!$A28)*(Projects!$J$5:$J$2393<>'Local Detail'!$A$147)*(Projects!$O$5:$O$2393))))","v":0},0,{"$f":"SUMPRODUCT((Projects!$A$5:$A$2393='Local Detail'!$G$3)*(Projects!$C$5:$C$2393<>'MDOT FTA Detail'!$C$4)*(Projects!$L$5:$L$2393='Local Detail'!$A28)*(Projects!$K$5:$K$2393))","v":0},{"$f":"((SUMPRODUCT((Projects!$A$5:$A$2393='Local Detail'!$G$3)*(Projects!$C$5:$C$2393<>'MDOT FTA Detail'!$C$4)*(Projects!$L$5:$L$2393='Local Detail'!$A28)*(Projects!$J$5:$J$2393<>'Local Detail'!$A$147)*(Projects!$M$5:$M$2393)))+(SUMPRODUCT((Projects!$A$5:$A$2393='Local Detail'!$G$3)*(Projects!$C$5:$C$2393<>'MDOT FTA Detail'!$C$4)*(Projects!$L$5:$L$2393='Local Detail'!$A28)*(Projects!$J$5:$J$2393<>'Local Detail'!$A$147)*(Projects!$O$5:$O$2393))))","v":0},0,{"$f":"SUMPRODUCT((Projects!$A$5:$A$2393='Local Detail'!$J$3)*(Projects!$C$5:$C$2393<>'MDOT FTA Detail'!$C$4)*(Projects!$L$5:$L$2393='Local Detail'!$A28)*(Projects!$K$5:$K$2393))","v":0},{"$f":"((SUMPRODUCT((Projects!$A$5:$A$2393='Local Detail'!$J$3)*(Projects!$C$5:$C$2393<>'MDOT FTA Detail'!$C$4)*(Projects!$L$5:$L$2393='Local Detail'!$A28)*(Projects!$J$5:$J$2393<>'Local Detail'!$A$147)*(Projects!$M$5:$M$2393)))+(SUMPRODUCT((Projects!$A$5:$A$2393='Local Detail'!$J$3)*(Projects!$C$5:$C$2393<>'MDOT FTA Detail'!$C$4)*(Projects!$L$5:$L$2393='Local Detail'!$A28)*(Projects!$J$5:$J$2393<>'Local Detail'!$A$147)*(Projects!$O$5:$O$2393))))","v":0},0,{"$f":"SUMPRODUCT((Projects!$A$5:$A$2393='Local Detail'!$M$3)*(Projects!$C$5:$C$2393<>'MDOT FTA Detail'!$C$4)*(Projects!$L$5:$L$2393='Local Detail'!$A28)*(Projects!$K$5:$K$2393))","v":0},{"$f":"((SUMPRODUCT((Projects!$A$5:$A$2393='Local Detail'!$M$3)*(Projects!$C$5:$C$2393<>'MDOT FTA Detail'!$C$4)*(Projects!$L$5:$L$2393='Local Detail'!$A28)*(Projects!$J$5:$J$2393<>'Local Detail'!$A$147)*(Projects!$M$5:$M$2393)))+(SUMPRODUCT((Projects!$A$5:$A$2393='Local Detail'!$M$3)*(Projects!$C$5:$C$2393<>'MDOT FTA Detail'!$C$4)*(Projects!$L$5:$L$2393='Local Detail'!$A28)*(Projects!$J$5:$J$2393<>'Local Detail'!$A$147)*(Projects!$O$5:$O$2393))))","v":0},0]
["DPS","ISTEA Demonstration 80% Federal on STP","Local Other FHWA",{"$f":"SUMPRODUCT((Projects!$A$5:$A$2393='Local Detail'!$D$3)*(Projects!$C$5:$C$2393<>'MDOT FTA Detail'!$C$4)*(Projects!$L$5:$L$2393='Local Detail'!$A29)*(Projects!$K$5:$K$2393))","v":0},{"$f":"((SUMPRODUCT((Projects!$A$5:$A$2393='Local Detail'!$D$3)*(Projects!$C$5:$C$2393<>'MDOT FTA Detail'!$C$4)*(Projects!$L$5:$L$2393='Local Detail'!$A29)*(Projects!$J$5:$J$2393<>'Local Detail'!$A$147)*(Projects!$M$5:$M$2393)))+(SUMPRODUCT((Projects!$A$5:$A$2393='Local Detail'!$D$3)*(Projects!$C$5:$C$2393<>'MDOT FTA Detail'!$C$4)*(Projects!$L$5:$L$2393='Local Detail'!$A29)*(Projects!$J$5:$J$2393<>'Local Detail'!$A$147)*(Projects!$O$5:$O$2393))))","v":0},0,{"$f":"SUMPRODUCT((Projects!$A$5:$A$2393='Local Detail'!$G$3)*(Projects!$C$5:$C$2393<>'MDOT FTA Detail'!$C$4)*(Projects!$L$5:$L$2393='Local Detail'!$A29)*(Projects!$K$5:$K$2393))","v":0},{"$f":"((SUMPRODUCT((Projects!$A$5:$A$2393='Local Detail'!$G$3)*(Projects!$C$5:$C$2393<>'MDOT FTA Detail'!$C$4)*(Projects!$L$5:$L$2393='Local Detail'!$A29)*(Projects!$J$5:$J$2393<>'Local Detail'!$A$147)*(Projects!$M$5:$M$2393)))+(SUMPRODUCT((Projects!$A$5:$A$2393='Local Detail'!$G$3)*(Projects!$C$5:$C$2393<>'MDOT FTA Detail'!$C$4)*(Projects!$L$5:$L$2393='Local Detail'!$A29)*(Projects!$J$5:$J$2393<>'Local Detail'!$A$147)*(Projects!$O$5:$O$2393))))","v":0},0,{"$f":"SUMPRODUCT((Projects!$A$5:$A$2393='Local Detail'!$J$3)*(Projects!$C$5:$C$2393<>'MDOT FTA Detail'!$C$4)*(Projects!$L$5:$L$2393='Local Detail'!$A29)*(Projects!$K$5:$K$2393))","v":0},{"$f":"((SUMPRODUCT((Projects!$A$5:$A$2393='Local Detail'!$J$3)*(Projects!$C$5:$C$2393<>'MDOT FTA Detail'!$C$4)*(Projects!$L$5:$L$2393='Local Detail'!$A29)*(Projects!$J$5:$J$2393<>'Local Detail'!$A$147)*(Projects!$M$5:$M$2393)))+(SUMPRODUCT((Projects!$A$5:$A$2393='Local Detail'!$J$3)*(Projects!$C$5:$C$2393<>'MDOT FTA Detail'!$C$4)*(Projects!$L$5:$L$2393='Local Detail'!$A29)*(Projects!$J$5:$J$2393<>'Local Detail'!$A$147)*(Projects!$O$5:$O$2393))))","v":0},0,{"$f":"SUMPRODUCT((Projects!$A$5:$A$2393='Local Detail'!$M$3)*(Projects!$C$5:$C$2393<>'MDOT FTA Detail'!$C$4)*(Projects!$L$5:$L$2393='Local Detail'!$A29)*(Projects!$K$5:$K$2393))","v":0},{"$f":"((SUMPRODUCT((Projects!$A$5:$A$2393='Local Detail'!$M$3)*(Projects!$C$5:$C$2393<>'MDOT FTA Detail'!$C$4)*(Projects!$L$5:$L$2393='Local Detail'!$A29)*(Projects!$J$5:$J$2393<>'Local Detail'!$A$147)*(Projects!$M$5:$M$2393)))+(SUMPRODUCT((Projects!$A$5:$A$2393='Local Detail'!$M$3)*(Projects!$C$5:$C$2393<>'MDOT FTA Detail'!$C$4)*(Projects!$L$5:$L$2393='Local Detail'!$A29)*(Projects!$J$5:$J$2393<>'Local Detail'!$A$147)*(Projects!$O$5:$O$2393))))","v":0},0]
["DPSA","Demonstration Project Section 112 Division A","Local Other FHWA",{"$f":"SUMPRODUCT((Projects!$A$5:$A$2393='Local Detail'!$D$3)*(Projects!$C$5:$C$2393<>'MDOT FTA Detail'!$C$4)*(Projects!$L$5:$L$2393='Local Detail'!$A30)*(Projects!$K$5:$K$2393))","v":0},{"$f":"((SUMPRODUCT((Projects!$A$5:$A$2393='Local Detail'!$D$3)*(Projects!$C$5:$C$2393<>'MDOT FTA Detail'!$C$4)*(Projects!$L$5:$L$2393='Local Detail'!$A30)*(Projects!$J$5:$J$2393<>'Local Detail'!$A$147)*(Projects!$M$5:$M$2393)))+(SUMPRODUCT((Projects!$A$5:$A$2393='Local Detail'!$D$3)*(Projects!$C$5:$C$2393<>'MDOT FTA Detail'!$C$4)*(Projects!$L$5:$L$2393='Local Detail'!$A30)*(Projects!$J$5:$J$2393<>'Local Detail'!$A$147)*(Projects!$O$5:$O$2393))))","v":0},0,{"$f":"SUMPRODUCT((Projects!$A$5:$A$2393='Local Detail'!$G$3)*(Projects!$C$5:$C$2393<>'MDOT FTA Detail'!$C$4)*(Projects!$L$5:$L$2393='Local Detail'!$A30)*(Projects!$K$5:$K$2393))","v":0},{"$f":"((SUMPRODUCT((Projects!$A$5:$A$2393='Local Detail'!$G$3)*(Projects!$C$5:$C$2393<>'MDOT FTA Detail'!$C$4)*(Projects!$L$5:$L$2393='Local Detail'!$A30)*(Projects!$J$5:$J$2393<>'Local Detail'!$A$147)*(Projects!$M$5:$M$2393)))+(SUMPRODUCT((Projects!$A$5:$A$2393='Local Detail'!$G$3)*(Projects!$C$5:$C$2393<>'MDOT FTA Detail'!$C$4)*(Projects!$L$5:$L$2393='Local Detail'!$A30)*(Projects!$J$5:$J$2393<>'Local Detail'!$A$147)*(Projects!$O$5:$O$2393))))","v":0},0,{"$f":"SUMPRODUCT((Projects!$A$5:$A$2393='Local Detail'!$J$3)*(Projects!$C$5:$C$2393<>'MDOT FTA Detail'!$C$4)*(Projects!$L$5:$L$2393='Local Detail'!$A30)*(Projects!$K$5:$K$2393))","v":0},{"$f":"((SUMPRODUCT((Projects!$A$5:$A$2393='Local Detail'!$J$3)*(Projects!$C$5:$C$2393<>'MDOT FTA Detail'!$C$4)*(Projects!$L$5:$L$2393='Local Detail'!$A30)*(Projects!$J$5:$J$2393<>'Local Detail'!$A$147)*(Projects!$M$5:$M$2393)))+(SUMPRODUCT((Projects!$A$5:$A$2393='Local Detail'!$J$3)*(Projects!$C$5:$C$2393<>'MDOT FTA Detail'!$C$4)*(Projects!$L$5:$L$2393='Local Detail'!$A30)*(Projects!$J$5:$J$2393<>'Local Detail'!$A$147)*(Projects!$O$5:$O$2393))))","v":0},0,{"$f":"SUMPRODUCT((Projects!$A$5:$A$2393='Local Detail'!$M$3)*(Projects!$C$5:$C$2393<>'MDOT FTA Detail'!$C$4)*(Projects!$L$5:$L$2393='Local Detail'!$A30)*(Projects!$K$5:$K$2393))","v":0},{"$f":"((SUMPRODUCT((Projects!$A$5:$A$2393='Local Detail'!$M$3)*(Projects!$C$5:$C$2393<>'MDOT FTA Detail'!$C$4)*(Projects!$L$5:$L$2393='Local Detail'!$A30)*(Projects!$J$5:$J$2393<>'Local Detail'!$A$147)*(Projects!$M$5:$M$2393)))+(SUMPRODUCT((Projects!$A$5:$A$2393='Local Detail'!$M$3)*(Projects!$C$5:$C$2393<>'MDOT FTA Detail'!$C$4)*(Projects!$L$5:$L$2393='Local Detail'!$A30)*(Projects!$J$5:$J$2393<>'Local Detail'!$A$147)*(Projects!$O$5:$O$2393))))","v":0},0]
["DST","Donor Bonus Surface Transportation","Local EB",{"$f":"SUMPRODUCT((Projects!$A$5:$A$2393='Local Detail'!$D$3)*(Projects!$C$5:$C$2393<>'MDOT FTA Detail'!$C$4)*(Projects!$L$5:$L$2393='Local Detail'!$A31)*(Projects!$K$5:$K$2393))","v":0},{"$f":"((SUMPRODUCT((Projects!$A$5:$A$2393='Local Detail'!$D$3)*(Projects!$C$5:$C$2393<>'MDOT FTA Detail'!$C$4)*(Projects!$L$5:$L$2393='Local Detail'!$A31)*(Projects!$J$5:$J$2393<>'Local Detail'!$A$147)*(Projects!$M$5:$M$2393)))+(SUMPRODUCT((Projects!$A$5:$A$2393='Local Detail'!$D$3)*(Projects!$C$5:$C$2393<>'MDOT FTA Detail'!$C$4)*(Projects!$L$5:$L$2393='Local Detail'!$A31)*(Projects!$J$5:$J$2393<>'Local Detail'!$A$147)*(Projects!$O$5:$O$2393))))","v":0},0,{"$f":"SUMPRODUCT((Projects!$A$5:$A$2393='Local Detail'!$G$3)*(Projects!$C$5:$C$2393<>'MDOT FTA Detail'!$C$4)*(Projects!$L$5:$L$2393='Local Detail'!$A31)*(Projects!$K$5:$K$2393))","v":0},{"$f":"((SUMPRODUCT((Projects!$A$5:$A$2393='Local Detail'!$G$3)*(Projects!$C$5:$C$2393<>'MDOT FTA Detail'!$C$4)*(Projects!$L$5:$L$2393='Local Detail'!$A31)*(Projects!$J$5:$J$2393<>'Local Detail'!$A$147)*(Projects!$M$5:$M$2393)))+(SUMPRODUCT((Projects!$A$5:$A$2393='Local Detail'!$G$3)*(Projects!$C$5:$C$2393<>'MDOT FTA Detail'!$C$4)*(Projects!$L$5:$L$2393='Local Detail'!$A31)*(Projects!$J$5:$J$2393<>'Local Detail'!$A$147)*(Projects!$O$5:$O$2393))))","v":0},0,{"$f":"SUMPRODUCT((Projects!$A$5:$A$2393='Local Detail'!$J$3)*(Projects!$C$5:$C$2393<>'MDOT FTA Detail'!$C$4)*(Projects!$L$5:$L$2393='Local Detail'!$A31)*(Projects!$K$5:$K$2393))","v":0},{"$f":"((SUMPRODUCT((Projects!$A$5:$A$2393='Local Detail'!$J$3)*(Projects!$C$5:$C$2393<>'MDOT FTA Detail'!$C$4)*(Projects!$L$5:$L$2393='Local Detail'!$A31)*(Projects!$J$5:$J$2393<>'Local Detail'!$A$147)*(Projects!$M$5:$M$2393)))+(SUMPRODUCT((Projects!$A$5:$A$2393='Local Detail'!$J$3)*(Projects!$C$5:$C$2393<>'MDOT FTA Detail'!$C$4)*(Projects!$L$5:$L$2393='Local Detail'!$A31)*(Projects!$J$5:$J$2393<>'Local Detail'!$A$147)*(Projects!$O$5:$O$2393))))","v":0},0,{"$f":"SUMPRODUCT((Projects!$A$5:$A$2393='Local Detail'!$M$3)*(Projects!$C$5:$C$2393<>'MDOT FTA Detail'!$C$4)*(Projects!$L$5:$L$2393='Local Detail'!$A31)*(Projects!$K$5:$K$2393))","v":0},{"$f":"((SUMPRODUCT((Projects!$A$5:$A$2393='Local Detail'!$M$3)*(Projects!$C$5:$C$2393<>'MDOT FTA Detail'!$C$4)*(Projects!$L$5:$L$2393='Local Detail'!$A31)*(Projects!$J$5:$J$2393<>'Local Detail'!$A$147)*(Projects!$M$5:$M$2393)))+(SUMPRODUCT((Projects!$A$5:$A$2393='Local Detail'!$M$3)*(Projects!$C$5:$C$2393<>'MDOT FTA Detail'!$C$4)*(Projects!$L$5:$L$2393='Local Detail'!$A31)*(Projects!$J$5:$J$2393<>'Local Detail'!$A$147)*(Projects!$O$5:$O$2393))))","v":0},0]
["DSTU","Donor Bonus Surface Transportation - (Urban > 2499,000)","Local EB",{"$f":"SUMPRODUCT((Projects!$A$5:$A$2393='Local Detail'!$D$3)*(Projects!$C$5:$C$2393<>'MDOT FTA Detail'!$C$4)*(Projects!$L$5:$L$2393='Local Detail'!$A32)*(Projects!$K$5:$K$2393))","v":0},{"$f":"((SUMPRODUCT((Projects!$A$5:$A$2393='Local Detail'!$D$3)*(Projects!$C$5:$C$2393<>'MDOT FTA Detail'!$C$4)*(Projects!$L$5:$L$2393='Local Detail'!$A32)*(Projects!$J$5:$J$2393<>'Local Detail'!$A$147)*(Projects!$M$5:$M$2393)))+(SUMPRODUCT((Projects!$A$5:$A$2393='Local Detail'!$D$3)*(Projects!$C$5:$C$2393<>'MDOT FTA Detail'!$C$4)*(Projects!$L$5:$L$2393='Local Detail'!$A32)*(Projects!$J$5:$J$2393<>'Local Detail'!$A$147)*(Projects!$O$5:$O$2393))))","v":0},0,{"$f":"SUMPRODUCT((Projects!$A$5:$A$2393='Local Detail'!$G$3)*(Projects!$C$5:$C$2393<>'MDOT FTA Detail'!$C$4)*(Projects!$L$5:$L$2393='Local Detail'!$A32)*(Projects!$K$5:$K$2393))","v":0},{"$f":"((SUMPRODUCT((Projects!$A$5:$A$2393='Local Detail'!$G$3)*(Projects!$C$5:$C$2393<>'MDOT FTA Detail'!$C$4)*(Projects!$L$5:$L$2393='Local Detail'!$A32)*(Projects!$J$5:$J$2393<>'Local Detail'!$A$147)*(Projects!$M$5:$M$2393)))+(SUMPRODUCT((Projects!$A$5:$A$2393='Local Detail'!$G$3)*(Projects!$C$5:$C$2393<>'MDOT FTA Detail'!$C$4)*(Projects!$L$5:$L$2393='Local Detail'!$A32)*(Projects!$J$5:$J$2393<>'Local Detail'!$A$147)*(Projects!$O$5:$O$2393))))","v":0},0,{"$f":"SUMPRODUCT((Projects!$A$5:$A$2393='Local Detail'!$J$3)*(Projects!$C$5:$C$2393<>'MDOT FTA Detail'!$C$4)*(Projects!$L$5:$L$2393='Local Detail'!$A32)*(Projects!$K$5:$K$2393))","v":0},{"$f":"((SUMPRODUCT((Projects!$A$5:$A$2393='Local Detail'!$J$3)*(Projects!$C$5:$C$2393<>'MDOT FTA Detail'!$C$4)*(Projects!$L$5:$L$2393='Local Detail'!$A32)*(Projects!$J$5:$J$2393<>'Local Detail'!$A$147)*(Projects!$M$5:$M$2393)))+(SUMPRODUCT((Projects!$A$5:$A$2393='Local Detail'!$J$3)*(Projects!$C$5:$C$2393<>'MDOT FTA Detail'!$C$4)*(Projects!$L$5:$L$2393='Local Detail'!$A32)*(Projects!$J$5:$J$2393<>'Local Detail'!$A$147)*(Projects!$O$5:$O$2393))))","v":0},0,{"$f":"SUMPRODUCT((Projects!$A$5:$A$2393='Local Detail'!$M$3)*(Projects!$C$5:$C$2393<>'MDOT FTA Detail'!$C$4)*(Projects!$L$5:$L$2393='Local Detail'!$A32)*(Projects!$K$5:$K$2393))","v":0},{"$f":"((SUMPRODUCT((Projects!$A$5:$A$2393='Local Detail'!$M$3)*(Projects!$C$5:$C$2393<>'MDOT FTA Detail'!$C$4)*(Projects!$L$5:$L$2393='Local Detail'!$A32)*(Projects!$J$5:$J$2393<>'Local Detail'!$A$147)*(Projects!$M$5:$M$2393)))+(SUMPRODUCT((Projects!$A$5:$A$2393='Local Detail'!$M$3)*(Projects!$C$5:$C$2393<>'MDOT FTA Detail'!$C$4)*(Projects!$L$5:$L$2393='Local Detail'!$A32)*(Projects!$J$5:$J$2393<>'Local Detail'!$A$147)*(Projects!$O$5:$O$2393))))","v":0},0]
["DSTT","Donor Bonus Surface Transportation - Rural - Trunkline","Local EB",{"$f":"SUMPRODUCT((Projects!$A$5:$A$2393='Local Detail'!$D$3)*(Projects!$C$5:$C$2393<>'MDOT FTA Detail'!$C$4)*(Projects!$L$5:$L$2393='Local Detail'!$A33)*(Projects!$K$5:$K$2393))","v":0},{"$f":"((SUMPRODUCT((Projects!$A$5:$A$2393='Local Detail'!$D$3)*(Projects!$C$5:$C$2393<>'MDOT FTA Detail'!$C$4)*(Projects!$L$5:$L$2393='Local Detail'!$A33)*(Projects!$J$5:$J$2393<>'Local Detail'!$A$147)*(Projects!$M$5:$M$2393)))+(SUMPRODUCT((Projects!$A$5:$A$2393='Local Detail'!$D$3)*(Projects!$C$5:$C$2393<>'MDOT FTA Detail'!$C$4)*(Projects!$L$5:$L$2393='Local Detail'!$A33)*(Projects!$J$5:$J$2393<>'Local Detail'!$A$147)*(Projects!$O$5:$O$2393))))","v":0},0,{"$f":"SUMPRODUCT((Projects!$A$5:$A$2393='Local Detail'!$G$3)*(Projects!$C$5:$C$2393<>'MDOT FTA Detail'!$C$4)*(Projects!$L$5:$L$2393='Local Detail'!$A33)*(Projects!$K$5:$K$2393))","v":0},{"$f":"((SUMPRODUCT((Projects!$A$5:$A$2393='Local Detail'!$G$3)*(Projects!$C$5:$C$2393<>'MDOT FTA Detail'!$C$4)*(Projects!$L$5:$L$2393='Local Detail'!$A33)*(Projects!$J$5:$J$2393<>'Local Detail'!$A$147)*(Projects!$M$5:$M$2393)))+(SUMPRODUCT((Projects!$A$5:$A$2393='Local Detail'!$G$3)*(Projects!$C$5:$C$2393<>'MDOT FTA Detail'!$C$4)*(Projects!$L$5:$L$2393='Local Detail'!$A33)*(Projects!$J$5:$J$2393<>'Local Detail'!$A$147)*(Projects!$O$5:$O$2393))))","v":0},0,{"$f":"SUMPRODUCT((Projects!$A$5:$A$2393='Local Detail'!$J$3)*(Projects!$C$5:$C$2393<>'MDOT FTA Detail'!$C$4)*(Projects!$L$5:$L$2393='Local Detail'!$A33)*(Projects!$K$5:$K$2393))","v":0},{"$f":"((SUMPRODUCT((Projects!$A$5:$A$2393='Local Detail'!$J$3)*(Projects!$C$5:$C$2393<>'MDOT FTA Detail'!$C$4)*(Projects!$L$5:$L$2393='Local Detail'!$A33)*(Projects!$J$5:$J$2393<>'Local Detail'!$A$147)*(Projects!$M$5:$M$2393)))+(SUMPRODUCT((Projects!$A$5:$A$2393='Local Detail'!$J$3)*(Projects!$C$5:$C$2393<>'MDOT FTA Detail'!$C$4)*(Projects!$L$5:$L$2393='Local Detail'!$A33)*(Projects!$J$5:$J$2393<>'Local Detail'!$A$147)*(Projects!$O$5:$O$2393))))","v":0},0,{"$f":"SUMPRODUCT((Projects!$A$5:$A$2393='Local Detail'!$M$3)*(Projects!$C$5:$C$2393<>'MDOT FTA Detail'!$C$4)*(Projects!$L$5:$L$2393='Local Detail'!$A33)*(Projects!$K$5:$K$2393))","v":0},{"$f":"((SUMPRODUCT((Projects!$A$5:$A$2393='Local Detail'!$M$3)*(Projects!$C$5:$C$2393<>'MDOT FTA Detail'!$C$4)*(Projects!$L$5:$L$2393='Local Detail'!$A33)*(Projects!$J$5:$J$2393<>'Local Detail'!$A$147)*(Projects!$M$5:$M$2393)))+(SUMPRODUCT((Projects!$A$5:$A$2393='Local Detail'!$M$3)*(Projects!$C$5:$C$2393<>'MDOT FTA Detail'!$C$4)*(Projects!$L$5:$L$2393='Local Detail'!$A33)*(Projects!$J$5:$J$2393<>'Local Detail'!$A$147)*(Projects!$O$5:$O$2393))))","v":0},0]
["EBSL","Equity Bonus - SAFETEA-LU","Local EB",{"$f":"SUMPRODUCT((Projects!$A$5:$A$2393='Local Detail'!$D$3)*(Projects!$C$5:$C$2393<>'MDOT FTA Detail'!$C$4)*(Projects!$L$5:$L$2393='Local Detail'!$A34)*(Projects!$K$5:$K$2393))","v":0},{"$f":"((SUMPRODUCT((Projects!$A$5:$A$2393='Local Detail'!$D$3)*(Projects!$C$5:$C$2393<>'MDOT FTA Detail'!$C$4)*(Projects!$L$5:$L$2393='Local Detail'!$A34)*(Projects!$J$5:$J$2393<>'Local Detail'!$A$147)*(Projects!$M$5:$M$2393)))+(SUMPRODUCT((Projects!$A$5:$A$2393='Local Detail'!$D$3)*(Projects!$C$5:$C$2393<>'MDOT FTA Detail'!$C$4)*(Projects!$L$5:$L$2393='Local Detail'!$A34)*(Projects!$J$5:$J$2393<>'Local Detail'!$A$147)*(Projects!$O$5:$O$2393))))","v":0},0,{"$f":"SUMPRODUCT((Projects!$A$5:$A$2393='Local Detail'!$G$3)*(Projects!$C$5:$C$2393<>'MDOT FTA Detail'!$C$4)*(Projects!$L$5:$L$2393='Local Detail'!$A34)*(Projects!$K$5:$K$2393))","v":0},{"$f":"((SUMPRODUCT((Projects!$A$5:$A$2393='Local Detail'!$G$3)*(Projects!$C$5:$C$2393<>'MDOT FTA Detail'!$C$4)*(Projects!$L$5:$L$2393='Local Detail'!$A34)*(Projects!$J$5:$J$2393<>'Local Detail'!$A$147)*(Projects!$M$5:$M$2393)))+(SUMPRODUCT((Projects!$A$5:$A$2393='Local Detail'!$G$3)*(Projects!$C$5:$C$2393<>'MDOT FTA Detail'!$C$4)*(Projects!$L$5:$L$2393='Local Detail'!$A34)*(Projects!$J$5:$J$2393<>'Local Detail'!$A$147)*(Projects!$O$5:$O$2393))))","v":0},0,{"$f":"SUMPRODUCT((Projects!$A$5:$A$2393='Local Detail'!$J$3)*(Projects!$C$5:$C$2393<>'MDOT FTA Detail'!$C$4)*(Projects!$L$5:$L$2393='Local Detail'!$A34)*(Projects!$K$5:$K$2393))","v":0},{"$f":"((SUMPRODUCT((Projects!$A$5:$A$2393='Local Detail'!$J$3)*(Projects!$C$5:$C$2393<>'MDOT FTA Detail'!$C$4)*(Projects!$L$5:$L$2393='Local Detail'!$A34)*(Projects!$J$5:$J$2393<>'Local Detail'!$A$147)*(Projects!$M$5:$M$2393)))+(SUMPRODUCT((Projects!$A$5:$A$2393='Local Detail'!$J$3)*(Projects!$C$5:$C$2393<>'MDOT FTA Detail'!$C$4)*(Projects!$L$5:$L$2393='Local Detail'!$A34)*(Projects!$J$5:$J$2393<>'Local Detail'!$A$147)*(Projects!$O$5:$O$2393))))","v":0},0,{"$f":"SUMPRODUCT((Projects!$A$5:$A$2393='Local Detail'!$M$3)*(Projects!$C$5:$C$2393<>'MDOT FTA Detail'!$C$4)*(Projects!$L$5:$L$2393='Local Detail'!$A34)*(Projects!$K$5:$K$2393))","v":0},{"$f":"((SUMPRODUCT((Projects!$A$5:$A$2393='Local Detail'!$M$3)*(Projects!$C$5:$C$2393<>'MDOT FTA Detail'!$C$4)*(Projects!$L$5:$L$2393='Local Detail'!$A34)*(Projects!$J$5:$J$2393<>'Local Detail'!$A$147)*(Projects!$M$5:$M$2393)))+(SUMPRODUCT((Projects!$A$5:$A$2393='Local Detail'!$M$3)*(Projects!$C$5:$C$2393<>'MDOT FTA Detail'!$C$4)*(Projects!$L$5:$L$2393='Local Detail'!$A34)*(Projects!$J$5:$J$2393<>'Local Detail'!$A$147)*(Projects!$O$5:$O$2393))))","v":0},0]
["EDAF","Economic Development - Category A with Federal Aid","Local EB",{"$f":"SUMPRODUCT((Projects!$A$5:$A$2393='Local Detail'!$D$3)*(Projects!$C$5:$C$2393<>'MDOT FTA Detail'!$C$4)*(Projects!$L$5:$L$2393='Local Detail'!$A35)*(Projects!$K$5:$K$2393))","v":0},{"$f":"((SUMPRODUCT((Projects!$A$5:$A$2393='Local Detail'!$D$3)*(Projects!$C$5:$C$2393<>'MDOT FTA Detail'!$C$4)*(Projects!$L$5:$L$2393='Local Detail'!$A35)*(Projects!$J$5:$J$2393<>'Local Detail'!$A$147)*(Projects!$M$5:$M$2393)))+(SUMPRODUCT((Projects!$A$5:$A$2393='Local Detail'!$D$3)*(Projects!$C$5:$C$2393<>'MDOT FTA Detail'!$C$4)*(Projects!$L$5:$L$2393='Local Detail'!$A35)*(Projects!$J$5:$J$2393<>'Local Detail'!$A$147)*(Projects!$O$5:$O$2393))))","v":0},0,{"$f":"SUMPRODUCT((Projects!$A$5:$A$2393='Local Detail'!$G$3)*(Projects!$C$5:$C$2393<>'MDOT FTA Detail'!$C$4)*(Projects!$L$5:$L$2393='Local Detail'!$A35)*(Projects!$K$5:$K$2393))","v":0},{"$f":"((SUMPRODUCT((Projects!$A$5:$A$2393='Local Detail'!$G$3)*(Projects!$C$5:$C$2393<>'MDOT FTA Detail'!$C$4)*(Projects!$L$5:$L$2393='Local Detail'!$A35)*(Projects!$J$5:$J$2393<>'Local Detail'!$A$147)*(Projects!$M$5:$M$2393)))+(SUMPRODUCT((Projects!$A$5:$A$2393='Local Detail'!$G$3)*(Projects!$C$5:$C$2393<>'MDOT FTA Detail'!$C$4)*(Projects!$L$5:$L$2393='Local Detail'!$A35)*(Projects!$J$5:$J$2393<>'Local Detail'!$A$147)*(Projects!$O$5:$O$2393))))","v":0},0,{"$f":"SUMPRODUCT((Projects!$A$5:$A$2393='Local Detail'!$J$3)*(Projects!$C$5:$C$2393<>'MDOT FTA Detail'!$C$4)*(Projects!$L$5:$L$2393='Local Detail'!$A35)*(Projects!$K$5:$K$2393))","v":0},{"$f":"((SUMPRODUCT((Projects!$A$5:$A$2393='Local Detail'!$J$3)*(Projects!$C$5:$C$2393<>'MDOT FTA Detail'!$C$4)*(Projects!$L$5:$L$2393='Local Detail'!$A35)*(Projects!$J$5:$J$2393<>'Local Detail'!$A$147)*(Projects!$M$5:$M$2393)))+(SUMPRODUCT((Projects!$A$5:$A$2393='Local Detail'!$J$3)*(Projects!$C$5:$C$2393<>'MDOT FTA Detail'!$C$4)*(Projects!$L$5:$L$2393='Local Detail'!$A35)*(Projects!$J$5:$J$2393<>'Local Detail'!$A$147)*(Projects!$O$5:$O$2393))))","v":0},0,{"$f":"SUMPRODUCT((Projects!$A$5:$A$2393='Local Detail'!$M$3)*(Projects!$C$5:$C$2393<>'MDOT FTA Detail'!$C$4)*(Projects!$L$5:$L$2393='Local Detail'!$A35)*(Projects!$K$5:$K$2393))","v":0},{"$f":"((SUMPRODUCT((Projects!$A$5:$A$2393='Local Detail'!$M$3)*(Projects!$C$5:$C$2393<>'MDOT FTA Detail'!$C$4)*(Projects!$L$5:$L$2393='Local Detail'!$A35)*(Projects!$J$5:$J$2393<>'Local Detail'!$A$147)*(Projects!$M$5:$M$2393)))+(SUMPRODUCT((Projects!$A$5:$A$2393='Local Detail'!$M$3)*(Projects!$C$5:$C$2393<>'MDOT FTA Detail'!$C$4)*(Projects!$L$5:$L$2393='Local Detail'!$A35)*(Projects!$J$5:$J$2393<>'Local Detail'!$A$147)*(Projects!$O$5:$O$2393))))","v":0},0]
["EDCF","Economic Development - Category C with Federal Aid","Local EB",{"$f":"SUMPRODUCT((Projects!$A$5:$A$2393='Local Detail'!$D$3)*(Projects!$C$5:$C$2393<>'MDOT FTA Detail'!$C$4)*(Projects!$L$5:$L$2393='Local Detail'!$A36)*(Projects!$K$5:$K$2393))","v":0},{"$f":"((SUMPRODUCT((Projects!$A$5:$A$2393='Local Detail'!$D$3)*(Projects!$C$5:$C$2393<>'MDOT FTA Detail'!$C$4)*(Projects!$L$5:$L$2393='Local Detail'!$A36)*(Projects!$J$5:$J$2393<>'Local Detail'!$A$147)*(Projects!$M$5:$M$2393)))+(SUMPRODUCT((Projects!$A$5:$A$2393='Local Detail'!$D$3)*(Projects!$C$5:$C$2393<>'MDOT FTA Detail'!$C$4)*(Projects!$L$5:$L$2393='Local Detail'!$A36)*(Projects!$J$5:$J$2393<>'Local Detail'!$A$147)*(Projects!$O$5:$O$2393))))","v":0},0,{"$f":"SUMPRODUCT((Projects!$A$5:$A$2393='Local Detail'!$G$3)*(Projects!$C$5:$C$2393<>'MDOT FTA Detail'!$C$4)*(Projects!$L$5:$L$2393='Local Detail'!$A36)*(Projects!$K$5:$K$2393))","v":0},{"$f":"((SUMPRODUCT((Projects!$A$5:$A$2393='Local Detail'!$G$3)*(Projects!$C$5:$C$2393<>'MDOT FTA Detail'!$C$4)*(Projects!$L$5:$L$2393='Local Detail'!$A36)*(Projects!$J$5:$J$2393<>'Local Detail'!$A$147)*(Projects!$M$5:$M$2393)))+(SUMPRODUCT((Projects!$A$5:$A$2393='Local Detail'!$G$3)*(Projects!$C$5:$C$2393<>'MDOT FTA Detail'!$C$4)*(Projects!$L$5:$L$2393='Local Detail'!$A36)*(Projects!$J$5:$J$2393<>'Local Detail'!$A$147)*(Projects!$O$5:$O$2393))))","v":0},0,{"$f":"SUMPRODUCT((Projects!$A$5:$A$2393='Local Detail'!$J$3)*(Projects!$C$5:$C$2393<>'MDOT FTA Detail'!$C$4)*(Projects!$L$5:$L$2393='Local Detail'!$A36)*(Projects!$K$5:$K$2393))","v":0},{"$f":"((SUMPRODUCT((Projects!$A$5:$A$2393='Local Detail'!$J$3)*(Projects!$C$5:$C$2393<>'MDOT FTA Detail'!$C$4)*(Projects!$L$5:$L$2393='Local Detail'!$A36)*(Projects!$J$5:$J$2393<>'Local Detail'!$A$147)*(Projects!$M$5:$M$2393)))+(SUMPRODUCT((Projects!$A$5:$A$2393='Local Detail'!$J$3)*(Projects!$C$5:$C$2393<>'MDOT FTA Detail'!$C$4)*(Projects!$L$5:$L$2393='Local Detail'!$A36)*(Projects!$J$5:$J$2393<>'Local Detail'!$A$147)*(Projects!$O$5:$O$2393))))","v":0},0,{"$f":"SUMPRODUCT((Projects!$A$5:$A$2393='Local Detail'!$M$3)*(Projects!$C$5:$C$2393<>'MDOT FTA Detail'!$C$4)*(Projects!$L$5:$L$2393='Local Detail'!$A36)*(Projects!$K$5:$K$2393))","v":0},{"$f":"((SUMPRODUCT((Projects!$A$5:$A$2393='Local Detail'!$M$3)*(Projects!$C$5:$C$2393<>'MDOT FTA Detail'!$C$4)*(Projects!$L$5:$L$2393='Local Detail'!$A36)*(Projects!$J$5:$J$2393<>'Local Detail'!$A$147)*(Projects!$M$5:$M$2393)))+(SUMPRODUCT((Projects!$A$5:$A$2393='Local Detail'!$M$3)*(Projects!$C$5:$C$2393<>'MDOT FTA Detail'!$C$4)*(Projects!$L$5:$L$2393='Local Detail'!$A36)*(Projects!$J$5:$J$2393<>'Local Detail'!$A$147)*(Projects!$O$5:$O$2393))))","v":0},0]
["EDDF","Economic Development - Category D with Federal Aid","Local EB",{"$f":"SUMPRODUCT((Projects!$A$5:$A$2393='Local Detail'!$D$3)*(Projects!$C$5:$C$2393<>'MDOT FTA Detail'!$C$4)*(Projects!$L$5:$L$2393='Local Detail'!$A37)*(Projects!$K$5:$K$2393))","v":0},{"$f":"((SUMPRODUCT((Projects!$A$5:$A$2393='Local Detail'!$D$3)*(Projects!$C$5:$C$2393<>'MDOT FTA Detail'!$C$4)*(Projects!$L$5:$L$2393='Local Detail'!$A37)*(Projects!$J$5:$J$2393<>'Local Detail'!$A$147)*(Projects!$M$5:$M$2393)))+(SUMPRODUCT((Projects!$A$5:$A$2393='Local Detail'!$D$3)*(Projects!$C$5:$C$2393<>'MDOT FTA Detail'!$C$4)*(Projects!$L$5:$L$2393='Local Detail'!$A37)*(Projects!$J$5:$J$2393<>'Local Detail'!$A$147)*(Projects!$O$5:$O$2393))))","v":0},0,{"$f":"SUMPRODUCT((Projects!$A$5:$A$2393='Local Detail'!$G$3)*(Projects!$C$5:$C$2393<>'MDOT FTA Detail'!$C$4)*(Projects!$L$5:$L$2393='Local Detail'!$A37)*(Projects!$K$5:$K$2393))","v":0},{"$f":"((SUMPRODUCT((Projects!$A$5:$A$2393='Local Detail'!$G$3)*(Projects!$C$5:$C$2393<>'MDOT FTA Detail'!$C$4)*(Projects!$L$5:$L$2393='Local Detail'!$A37)*(Projects!$J$5:$J$2393<>'Local Detail'!$A$147)*(Projects!$M$5:$M$2393)))+(SUMPRODUCT((Projects!$A$5:$A$2393='Local Detail'!$G$3)*(Projects!$C$5:$C$2393<>'MDOT FTA Detail'!$C$4)*(Projects!$L$5:$L$2393='Local Detail'!$A37)*(Projects!$J$5:$J$2393<>'Local Detail'!$A$147)*(Projects!$O$5:$O$2393))))","v":0},0,{"$f":"SUMPRODUCT((Projects!$A$5:$A$2393='Local Detail'!$J$3)*(Projects!$C$5:$C$2393<>'MDOT FTA Detail'!$C$4)*(Projects!$L$5:$L$2393='Local Detail'!$A37)*(Projects!$K$5:$K$2393))","v":0},{"$f":"((SUMPRODUCT((Projects!$A$5:$A$2393='Local Detail'!$J$3)*(Projects!$C$5:$C$2393<>'MDOT FTA Detail'!$C$4)*(Projects!$L$5:$L$2393='Local Detail'!$A37)*(Projects!$J$5:$J$2393<>'Local Detail'!$A$147)*(Projects!$M$5:$M$2393)))+(SUMPRODUCT((Projects!$A$5:$A$2393='Local Detail'!$J$3)*(Projects!$C$5:$C$2393<>'MDOT FTA Detail'!$C$4)*(Projects!$L$5:$L$2393='Local Detail'!$A37)*(Projects!$J$5:$J$2393<>'Local Detail'!$A$147)*(Projects!$O$5:$O$2393))))","v":0},0,{"$f":"SUMPRODUCT((Projects!$A$5:$A$2393='Local Detail'!$M$3)*(Projects!$C$5:$C$2393<>'MDOT FTA Detail'!$C$4)*(Projects!$L$5:$L$2393='Local Detail'!$A37)*(Projects!$K$5:$K$2393))","v":0},{"$f":"((SUMPRODUCT((Projects!$A$5:$A$2393='Local Detail'!$M$3)*(Projects!$C$5:$C$2393<>'MDOT FTA Detail'!$C$4)*(Projects!$L$5:$L$2393='Local Detail'!$A37)*(Projects!$J$5:$J$2393<>'Local Detail'!$A$147)*(Projects!$M$5:$M$2393)))+(SUMPRODUCT((Projects!$A$5:$A$2393='Local Detail'!$M$3)*(Projects!$C$5:$C$2393<>'MDOT FTA Detail'!$C$4)*(Projects!$L$5:$L$2393='Local Detail'!$A37)*(Projects!$J$5:$J$2393<>'Local Detail'!$A$147)*(Projects!$O$5:$O$2393))))","v":0},0]
["EDFF","Economic Development - Category F with Federal Aid","Local EB",{"$f":"SUMPRODUCT((Projects!$A$5:$A$2393='Local Detail'!$D$3)*(Projects!$C$5:$C$2393<>'MDOT FTA Detail'!$C$4)*(Projects!$L$5:$L$2393='Local Detail'!$A38)*(Projects!$K$5:$K$2393))","v":0},{"$f":"((SUMPRODUCT((Projects!$A$5:$A$2393='Local Detail'!$D$3)*(Projects!$C$5:$C$2393<>'MDOT FTA Detail'!$C$4)*(Projects!$L$5:$L$2393='Local Detail'!$A38)*(Projects!$J$5:$J$2393<>'Local Detail'!$A$147)*(Projects!$M$5:$M$2393)))+(SUMPRODUCT((Projects!$A$5:$A$2393='Local Detail'!$D$3)*(Projects!$C$5:$C$2393<>'MDOT FTA Detail'!$C$4)*(Projects!$L$5:$L$2393='Local Detail'!$A38)*(Projects!$J$5:$J$2393<>'Local Detail'!$A$147)*(Projects!$O$5:$O$2393))))","v":0},0,{"$f":"SUMPRODUCT((Projects!$A$5:$A$2393='Local Detail'!$G$3)*(Projects!$C$5:$C$2393<>'MDOT FTA Detail'!$C$4)*(Projects!$L$5:$L$2393='Local Detail'!$A38)*(Projects!$K$5:$K$2393))","v":0},{"$f":"((SUMPRODUCT((Projects!$A$5:$A$2393='Local Detail'!$G$3)*(Projects!$C$5:$C$2393<>'MDOT FTA Detail'!$C$4)*(Projects!$L$5:$L$2393='Local Detail'!$A38)*(Projects!$J$5:$J$2393<>'Local Detail'!$A$147)*(Projects!$M$5:$M$2393)))+(SUMPRODUCT((Projects!$A$5:$A$2393='Local Detail'!$G$3)*(Projects!$C$5:$C$2393<>'MDOT FTA Detail'!$C$4)*(Projects!$L$5:$L$2393='Local Detail'!$A38)*(Projects!$J$5:$J$2393<>'Local Detail'!$A$147)*(Projects!$O$5:$O$2393))))","v":0},0,{"$f":"SUMPRODUCT((Projects!$A$5:$A$2393='Local Detail'!$J$3)*(Projects!$C$5:$C$2393<>'MDOT FTA Detail'!$C$4)*(Projects!$L$5:$L$2393='Local Detail'!$A38)*(Projects!$K$5:$K$2393))","v":0},{"$f":"((SUMPRODUCT((Projects!$A$5:$A$2393='Local Detail'!$J$3)*(Projects!$C$5:$C$2393<>'MDOT FTA Detail'!$C$4)*(Projects!$L$5:$L$2393='Local Detail'!$A38)*(Projects!$J$5:$J$2393<>'Local Detail'!$A$147)*(Projects!$M$5:$M$2393)))+(SUMPRODUCT((Projects!$A$5:$A$2393='Local Detail'!$J$3)*(Projects!$C$5:$C$2393<>'MDOT FTA Detail'!$C$4)*(Projects!$L$5:$L$2393='Local Detail'!$A38)*(Projects!$J$5:$J$2393<>'Local Detail'!$A$147)*(Projects!$O$5:$O$2393))))","v":0},0,{"$f":"SUMPRODUCT((Projects!$A$5:$A$2393='Local Detail'!$M$3)*(Projects!$C$5:$C$2393<>'MDOT FTA Detail'!$C$4)*(Projects!$L$5:$L$2393='Local Detail'!$A38)*(Projects!$K$5:$K$2393))","v":0},{"$f":"((SUMPRODUCT((Projects!$A$5:$A$2393='Local Detail'!$M$3)*(Projects!$C$5:$C$2393<>'MDOT FTA Detail'!$C$4)*(Projects!$L$5:$L$2393='Local Detail'!$A38)*(Projects!$J$5:$J$2393<>'Local Detail'!$A$147)*(Projects!$M$5:$M$2393)))+(SUMPRODUCT((Projects!$A$5:$A$2393='Local Detail'!$M$3)*(Projects!$C$5:$C$2393<>'MDOT FTA Detail'!$C$4)*(Projects!$L$5:$L$2393='Local Detail'!$A38)*(Projects!$J$5:$J$2393<>'Local Detail'!$A$147)*(Projects!$O$5:$O$2393))))","v":0},0]
["ER","Emergency Relief","Local Other FHWA",{"$f":"SUMPRODUCT((Projects!$A$5:$A$2393='Local Detail'!$D$3)*(Projects!$C$5:$C$2393<>'MDOT FTA Detail'!$C$4)*(Projects!$L$5:$L$2393='Local Detail'!$A39)*(Projects!$K$5:$K$2393))","v":0},{"$f":"((SUMPRODUCT((Projects!$A$5:$A$2393='Local Detail'!$D$3)*(Projects!$C$5:$C$2393<>'MDOT FTA Detail'!$C$4)*(Projects!$L$5:$L$2393='Local Detail'!$A39)*(Projects!$J$5:$J$2393<>'Local Detail'!$A$147)*(Projects!$M$5:$M$2393)))+(SUMPRODUCT((Projects!$A$5:$A$2393='Local Detail'!$D$3)*(Projects!$C$5:$C$2393<>'MDOT FTA Detail'!$C$4)*(Projects!$L$5:$L$2393='Local Detail'!$A39)*(Projects!$J$5:$J$2393<>'Local Detail'!$A$147)*(Projects!$O$5:$O$2393))))","v":0},0,{"$f":"SUMPRODUCT((Projects!$A$5:$A$2393='Local Detail'!$G$3)*(Projects!$C$5:$C$2393<>'MDOT FTA Detail'!$C$4)*(Projects!$L$5:$L$2393='Local Detail'!$A39)*(Projects!$K$5:$K$2393))","v":0},{"$f":"((SUMPRODUCT((Projects!$A$5:$A$2393='Local Detail'!$G$3)*(Projects!$C$5:$C$2393<>'MDOT FTA Detail'!$C$4)*(Projects!$L$5:$L$2393='Local Detail'!$A39)*(Projects!$J$5:$J$2393<>'Local Detail'!$A$147)*(Projects!$M$5:$M$2393)))+(SUMPRODUCT((Projects!$A$5:$A$2393='Local Detail'!$G$3)*(Projects!$C$5:$C$2393<>'MDOT FTA Detail'!$C$4)*(Projects!$L$5:$L$2393='Local Detail'!$A39)*(Projects!$J$5:$J$2393<>'Local Detail'!$A$147)*(Projects!$O$5:$O$2393))))","v":0},0,{"$f":"SUMPRODUCT((Projects!$A$5:$A$2393='Local Detail'!$J$3)*(Projects!$C$5:$C$2393<>'MDOT FTA Detail'!$C$4)*(Projects!$L$5:$L$2393='Local Detail'!$A39)*(Projects!$K$5:$K$2393))","v":0},{"$f":"((SUMPRODUCT((Projects!$A$5:$A$2393='Local Detail'!$J$3)*(Projects!$C$5:$C$2393<>'MDOT FTA Detail'!$C$4)*(Projects!$L$5:$L$2393='Local Detail'!$A39)*(Projects!$J$5:$J$2393<>'Local Detail'!$A$147)*(Projects!$M$5:$M$2393)))+(SUMPRODUCT((Projects!$A$5:$A$2393='Local Detail'!$J$3)*(Projects!$C$5:$C$2393<>'MDOT FTA Detail'!$C$4)*(Projects!$L$5:$L$2393='Local Detail'!$A39)*(Projects!$J$5:$J$2393<>'Local Detail'!$A$147)*(Projects!$O$5:$O$2393))))","v":0},0,{"$f":"SUMPRODUCT((Projects!$A$5:$A$2393='Local Detail'!$M$3)*(Projects!$C$5:$C$2393<>'MDOT FTA Detail'!$C$4)*(Projects!$L$5:$L$2393='Local Detail'!$A39)*(Projects!$K$5:$K$2393))","v":0},{"$f":"((SUMPRODUCT((Projects!$A$5:$A$2393='Local Detail'!$M$3)*(Projects!$C$5:$C$2393<>'MDOT FTA Detail'!$C$4)*(Projects!$L$5:$L$2393='Local Detail'!$A39)*(Projects!$J$5:$J$2393<>'Local Detail'!$A$147)*(Projects!$M$5:$M$2393)))+(SUMPRODUCT((Projects!$A$5:$A$2393='Local Detail'!$M$3)*(Projects!$C$5:$C$2393<>'MDOT FTA Detail'!$C$4)*(Projects!$L$5:$L$2393='Local Detail'!$A39)*(Projects!$J$5:$J$2393<>'Local Detail'!$A$147)*(Projects!$O$5:$O$2393))))","v":0},0]
["FBD","Ferry Boat & Terminal Discretionary","Local Other FHWA",{"$f":"SUMPRODUCT((Projects!$A$5:$A$2393='Local Detail'!$D$3)*(Projects!$C$5:$C$2393<>'MDOT FTA Detail'!$C$4)*(Projects!$L$5:$L$2393='Local Detail'!$A40)*(Projects!$K$5:$K$2393))","v":0},{"$f":"((SUMPRODUCT((Projects!$A$5:$A$2393='Local Detail'!$D$3)*(Projects!$C$5:$C$2393<>'MDOT FTA Detail'!$C$4)*(Projects!$L$5:$L$2393='Local Detail'!$A40)*(Projects!$J$5:$J$2393<>'Local Detail'!$A$147)*(Projects!$M$5:$M$2393)))+(SUMPRODUCT((Projects!$A$5:$A$2393='Local Detail'!$D$3)*(Projects!$C$5:$C$2393<>'MDOT FTA Detail'!$C$4)*(Projects!$L$5:$L$2393='Local Detail'!$A40)*(Projects!$J$5:$J$2393<>'Local Detail'!$A$147)*(Projects!$O$5:$O$2393))))","v":0},0,{"$f":"SUMPRODUCT((Projects!$A$5:$A$2393='Local Detail'!$G$3)*(Projects!$C$5:$C$2393<>'MDOT FTA Detail'!$C$4)*(Projects!$L$5:$L$2393='Local Detail'!$A40)*(Projects!$K$5:$K$2393))","v":0},{"$f":"((SUMPRODUCT((Projects!$A$5:$A$2393='Local Detail'!$G$3)*(Projects!$C$5:$C$2393<>'MDOT FTA Detail'!$C$4)*(Projects!$L$5:$L$2393='Local Detail'!$A40)*(Projects!$J$5:$J$2393<>'Local Detail'!$A$147)*(Projects!$M$5:$M$2393)))+(SUMPRODUCT((Projects!$A$5:$A$2393='Local Detail'!$G$3)*(Projects!$C$5:$C$2393<>'MDOT FTA Detail'!$C$4)*(Projects!$L$5:$L$2393='Local Detail'!$A40)*(Projects!$J$5:$J$2393<>'Local Detail'!$A$147)*(Projects!$O$5:$O$2393))))","v":0},0,{"$f":"SUMPRODUCT((Projects!$A$5:$A$2393='Local Detail'!$J$3)*(Projects!$C$5:$C$2393<>'MDOT FTA Detail'!$C$4)*(Projects!$L$5:$L$2393='Local Detail'!$A40)*(Projects!$K$5:$K$2393))","v":0},{"$f":"((SUMPRODUCT((Projects!$A$5:$A$2393='Local Detail'!$J$3)*(Projects!$C$5:$C$2393<>'MDOT FTA Detail'!$C$4)*(Projects!$L$5:$L$2393='Local Detail'!$A40)*(Projects!$J$5:$J$2393<>'Local Detail'!$A$147)*(Projects!$M$5:$M$2393)))+(SUMPRODUCT((Projects!$A$5:$A$2393='Local Detail'!$J$3)*(Projects!$C$5:$C$2393<>'MDOT FTA Detail'!$C$4)*(Projects!$L$5:$L$2393='Local Detail'!$A40)*(Projects!$J$5:$J$2393<>'Local Detail'!$A$147)*(Projects!$O$5:$O$2393))))","v":0},0,{"$f":"SUMPRODUCT((Projects!$A$5:$A$2393='Local Detail'!$M$3)*(Projects!$C$5:$C$2393<>'MDOT FTA Detail'!$C$4)*(Projects!$L$5:$L$2393='Local Detail'!$A40)*(Projects!$K$5:$K$2393))","v":0},{"$f":"((SUMPRODUCT((Projects!$A$5:$A$2393='Local Detail'!$M$3)*(Projects!$C$5:$C$2393<>'MDOT FTA Detail'!$C$4)*(Projects!$L$5:$L$2393='Local Detail'!$A40)*(Projects!$J$5:$J$2393<>'Local Detail'!$A$147)*(Projects!$M$5:$M$2393)))+(SUMPRODUCT((Projects!$A$5:$A$2393='Local Detail'!$M$3)*(Projects!$C$5:$C$2393<>'MDOT FTA Detail'!$C$4)*(Projects!$L$5:$L$2393='Local Detail'!$A40)*(Projects!$J$5:$J$2393<>'Local Detail'!$A$147)*(Projects!$O$5:$O$2393))))","v":0},0]
["FFH","Federal Forest Highway","Local Other FHWA",{"$f":"SUMPRODUCT((Projects!$A$5:$A$2393='Local Detail'!$D$3)*(Projects!$C$5:$C$2393<>'MDOT FTA Detail'!$C$4)*(Projects!$L$5:$L$2393='Local Detail'!$A41)*(Projects!$K$5:$K$2393))","v":0},{"$f":"((SUMPRODUCT((Projects!$A$5:$A$2393='Local Detail'!$D$3)*(Projects!$C$5:$C$2393<>'MDOT FTA Detail'!$C$4)*(Projects!$L$5:$L$2393='Local Detail'!$A41)*(Projects!$J$5:$J$2393<>'Local Detail'!$A$147)*(Projects!$M$5:$M$2393)))+(SUMPRODUCT((Projects!$A$5:$A$2393='Local Detail'!$D$3)*(Projects!$C$5:$C$2393<>'MDOT FTA Detail'!$C$4)*(Projects!$L$5:$L$2393='Local Detail'!$A41)*(Projects!$J$5:$J$2393<>'Local Detail'!$A$147)*(Projects!$O$5:$O$2393))))","v":0},0,{"$f":"SUMPRODUCT((Projects!$A$5:$A$2393='Local Detail'!$G$3)*(Projects!$C$5:$C$2393<>'MDOT FTA Detail'!$C$4)*(Projects!$L$5:$L$2393='Local Detail'!$A41)*(Projects!$K$5:$K$2393))","v":0},{"$f":"((SUMPRODUCT((Projects!$A$5:$A$2393='Local Detail'!$G$3)*(Projects!$C$5:$C$2393<>'MDOT FTA Detail'!$C$4)*(Projects!$L$5:$L$2393='Local Detail'!$A41)*(Projects!$J$5:$J$2393<>'Local Detail'!$A$147)*(Projects!$M$5:$M$2393)))+(SUMPRODUCT((Projects!$A$5:$A$2393='Local Detail'!$G$3)*(Projects!$C$5:$C$2393<>'MDOT FTA Detail'!$C$4)*(Projects!$L$5:$L$2393='Local Detail'!$A41)*(Projects!$J$5:$J$2393<>'Local Detail'!$A$147)*(Projects!$O$5:$O$2393))))","v":0},0,{"$f":"SUMPRODUCT((Projects!$A$5:$A$2393='Local Detail'!$J$3)*(Projects!$C$5:$C$2393<>'MDOT FTA Detail'!$C$4)*(Projects!$L$5:$L$2393='Local Detail'!$A41)*(Projects!$K$5:$K$2393))","v":0},{"$f":"((SUMPRODUCT((Projects!$A$5:$A$2393='Local Detail'!$J$3)*(Projects!$C$5:$C$2393<>'MDOT FTA Detail'!$C$4)*(Projects!$L$5:$L$2393='Local Detail'!$A41)*(Projects!$J$5:$J$2393<>'Local Detail'!$A$147)*(Projects!$M$5:$M$2393)))+(SUMPRODUCT((Projects!$A$5:$A$2393='Local Detail'!$J$3)*(Projects!$C$5:$C$2393<>'MDOT FTA Detail'!$C$4)*(Projects!$L$5:$L$2393='Local Detail'!$A41)*(Projects!$J$5:$J$2393<>'Local Detail'!$A$147)*(Projects!$O$5:$O$2393))))","v":0},0,{"$f":"SUMPRODUCT((Projects!$A$5:$A$2393='Local Detail'!$M$3)*(Projects!$C$5:$C$2393<>'MDOT FTA Detail'!$C$4)*(Projects!$L$5:$L$2393='Local Detail'!$A41)*(Projects!$K$5:$K$2393))","v":0},{"$f":"((SUMPRODUCT((Projects!$A$5:$A$2393='Local Detail'!$M$3)*(Projects!$C$5:$C$2393<>'MDOT FTA Detail'!$C$4)*(Projects!$L$5:$L$2393='Local Detail'!$A41)*(Projects!$J$5:$J$2393<>'Local Detail'!$A$147)*(Projects!$M$5:$M$2393)))+(SUMPRODUCT((Projects!$A$5:$A$2393='Local Detail'!$M$3)*(Projects!$C$5:$C$2393<>'MDOT FTA Detail'!$C$4)*(Projects!$L$5:$L$2393='Local Detail'!$A41)*(Projects!$J$5:$J$2393<>'Local Detail'!$A$147)*(Projects!$O$5:$O$2393))))","v":0},0]
["FLH","Federal Land Highways - Public Lands","Local Other FHWA",{"$f":"SUMPRODUCT((Projects!$A$5:$A$2393='Local Detail'!$D$3)*(Projects!$C$5:$C$2393<>'MDOT FTA Detail'!$C$4)*(Projects!$L$5:$L$2393='Local Detail'!$A42)*(Projects!$K$5:$K$2393))","v":0},{"$f":"((SUMPRODUCT((Projects!$A$5:$A$2393='Local Detail'!$D$3)*(Projects!$C$5:$C$2393<>'MDOT FTA Detail'!$C$4)*(Projects!$L$5:$L$2393='Local Detail'!$A42)*(Projects!$J$5:$J$2393<>'Local Detail'!$A$147)*(Projects!$M$5:$M$2393)))+(SUMPRODUCT((Projects!$A$5:$A$2393='Local Detail'!$D$3)*(Projects!$C$5:$C$2393<>'MDOT FTA Detail'!$C$4)*(Projects!$L$5:$L$2393='Local Detail'!$A42)*(Projects!$J$5:$J$2393<>'Local Detail'!$A$147)*(Projects!$O$5:$O$2393))))","v":0},0,{"$f":"SUMPRODUCT((Projects!$A$5:$A$2393='Local Detail'!$G$3)*(Projects!$C$5:$C$2393<>'MDOT FTA Detail'!$C$4)*(Projects!$L$5:$L$2393='Local Detail'!$A42)*(Projects!$K$5:$K$2393))","v":0},{"$f":"((SUMPRODUCT((Projects!$A$5:$A$2393='Local Detail'!$G$3)*(Projects!$C$5:$C$2393<>'MDOT FTA Detail'!$C$4)*(Projects!$L$5:$L$2393='Local Detail'!$A42)*(Projects!$J$5:$J$2393<>'Local Detail'!$A$147)*(Projects!$M$5:$M$2393)))+(SUMPRODUCT((Projects!$A$5:$A$2393='Local Detail'!$G$3)*(Projects!$C$5:$C$2393<>'MDOT FTA Detail'!$C$4)*(Projects!$L$5:$L$2393='Local Detail'!$A42)*(Projects!$J$5:$J$2393<>'Local Detail'!$A$147)*(Projects!$O$5:$O$2393))))","v":0},0,{"$f":"SUMPRODUCT((Projects!$A$5:$A$2393='Local Detail'!$J$3)*(Projects!$C$5:$C$2393<>'MDOT FTA Detail'!$C$4)*(Projects!$L$5:$L$2393='Local Detail'!$A42)*(Projects!$K$5:$K$2393))","v":0},{"$f":"((SUMPRODUCT((Projects!$A$5:$A$2393='Local Detail'!$J$3)*(Projects!$C$5:$C$2393<>'MDOT FTA Detail'!$C$4)*(Projects!$L$5:$L$2393='Local Detail'!$A42)*(Projects!$J$5:$J$2393<>'Local Detail'!$A$147)*(Projects!$M$5:$M$2393)))+(SUMPRODUCT((Projects!$A$5:$A$2393='Local Detail'!$J$3)*(Projects!$C$5:$C$2393<>'MDOT FTA Detail'!$C$4)*(Projects!$L$5:$L$2393='Local Detail'!$A42)*(Projects!$J$5:$J$2393<>'Local Detail'!$A$147)*(Projects!$O$5:$O$2393))))","v":0},0,{"$f":"SUMPRODUCT((Projects!$A$5:$A$2393='Local Detail'!$M$3)*(Projects!$C$5:$C$2393<>'MDOT FTA Detail'!$C$4)*(Projects!$L$5:$L$2393='Local Detail'!$A42)*(Projects!$K$5:$K$2393))","v":0},{"$f":"((SUMPRODUCT((Projects!$A$5:$A$2393='Local Detail'!$M$3)*(Projects!$C$5:$C$2393<>'MDOT FTA Detail'!$C$4)*(Projects!$L$5:$L$2393='Local Detail'!$A42)*(Projects!$J$5:$J$2393<>'Local Detail'!$A$147)*(Projects!$M$5:$M$2393)))+(SUMPRODUCT((Projects!$A$5:$A$2393='Local Detail'!$M$3)*(Projects!$C$5:$C$2393<>'MDOT FTA Detail'!$C$4)*(Projects!$L$5:$L$2393='Local Detail'!$A42)*(Projects!$J$5:$J$2393<>'Local Detail'!$A$147)*(Projects!$O$5:$O$2393))))","v":0},0]
["HBOA","Highway Bridge Obligation  Authority","Local Bridge",{"$f":"SUMPRODUCT((Projects!$A$5:$A$2393='Local Detail'!$D$3)*(Projects!$C$5:$C$2393<>'MDOT FTA Detail'!$C$4)*(Projects!$L$5:$L$2393='Local Detail'!$A43)*(Projects!$K$5:$K$2393))","v":0},{"$f":"((SUMPRODUCT((Projects!$A$5:$A$2393='Local Detail'!$D$3)*(Projects!$C$5:$C$2393<>'MDOT FTA Detail'!$C$4)*(Projects!$L$5:$L$2393='Local Detail'!$A43)*(Projects!$J$5:$J$2393<>'Local Detail'!$A$147)*(Projects!$M$5:$M$2393)))+(SUMPRODUCT((Projects!$A$5:$A$2393='Local Detail'!$D$3)*(Projects!$C$5:$C$2393<>'MDOT FTA Detail'!$C$4)*(Projects!$L$5:$L$2393='Local Detail'!$A43)*(Projects!$J$5:$J$2393<>'Local Detail'!$A$147)*(Projects!$O$5:$O$2393))))","v":0},0,{"$f":"SUMPRODUCT((Projects!$A$5:$A$2393='Local Detail'!$G$3)*(Projects!$C$5:$C$2393<>'MDOT FTA Detail'!$C$4)*(Projects!$L$5:$L$2393='Local Detail'!$A43)*(Projects!$K$5:$K$2393))","v":0},{"$f":"((SUMPRODUCT((Projects!$A$5:$A$2393='Local Detail'!$G$3)*(Projects!$C$5:$C$2393<>'MDOT FTA Detail'!$C$4)*(Projects!$L$5:$L$2393='Local Detail'!$A43)*(Projects!$J$5:$J$2393<>'Local Detail'!$A$147)*(Projects!$M$5:$M$2393)))+(SUMPRODUCT((Projects!$A$5:$A$2393='Local Detail'!$G$3)*(Projects!$C$5:$C$2393<>'MDOT FTA Detail'!$C$4)*(Projects!$L$5:$L$2393='Local Detail'!$A43)*(Projects!$J$5:$J$2393<>'Local Detail'!$A$147)*(Projects!$O$5:$O$2393))))","v":0},0,{"$f":"SUMPRODUCT((Projects!$A$5:$A$2393='Local Detail'!$J$3)*(Projects!$C$5:$C$2393<>'MDOT FTA Detail'!$C$4)*(Projects!$L$5:$L$2393='Local Detail'!$A43)*(Projects!$K$5:$K$2393))","v":0},{"$f":"((SUMPRODUCT((Projects!$A$5:$A$2393='Local Detail'!$J$3)*(Projects!$C$5:$C$2393<>'MDOT FTA Detail'!$C$4)*(Projects!$L$5:$L$2393='Local Detail'!$A43)*(Projects!$J$5:$J$2393<>'Local Detail'!$A$147)*(Projects!$M$5:$M$2393)))+(SUMPRODUCT((Projects!$A$5:$A$2393='Local Detail'!$J$3)*(Projects!$C$5:$C$2393<>'MDOT FTA Detail'!$C$4)*(Projects!$L$5:$L$2393='Local Detail'!$A43)*(Projects!$J$5:$J$2393<>'Local Detail'!$A$147)*(Projects!$O$5:$O$2393))))","v":0},0,{"$f":"SUMPRODUCT((Projects!$A$5:$A$2393='Local Detail'!$M$3)*(Projects!$C$5:$C$2393<>'MDOT FTA Detail'!$C$4)*(Projects!$L$5:$L$2393='Local Detail'!$A43)*(Projects!$K$5:$K$2393))","v":0},{"$f":"((SUMPRODUCT((Projects!$A$5:$A$2393='Local Detail'!$M$3)*(Projects!$C$5:$C$2393<>'MDOT FTA Detail'!$C$4)*(Projects!$L$5:$L$2393='Local Detail'!$A43)*(Projects!$J$5:$J$2393<>'Local Detail'!$A$147)*(Projects!$M$5:$M$2393)))+(SUMPRODUCT((Projects!$A$5:$A$2393='Local Detail'!$M$3)*(Projects!$C$5:$C$2393<>'MDOT FTA Detail'!$C$4)*(Projects!$L$5:$L$2393='Local Detail'!$A43)*(Projects!$J$5:$J$2393<>'Local Detail'!$A$147)*(Projects!$O$5:$O$2393))))","v":0},0]
["HPP","High Priority Projects (Demo)","Local Other FHWA",{"$f":"SUMPRODUCT((Projects!$A$5:$A$2393='Local Detail'!$D$3)*(Projects!$C$5:$C$2393<>'MDOT FTA Detail'!$C$4)*(Projects!$L$5:$L$2393='Local Detail'!$A44)*(Projects!$K$5:$K$2393))","v":0},{"$f":"((SUMPRODUCT((Projects!$A$5:$A$2393='Local Detail'!$D$3)*(Projects!$C$5:$C$2393<>'MDOT FTA Detail'!$C$4)*(Projects!$L$5:$L$2393='Local Detail'!$A44)*(Projects!$J$5:$J$2393<>'Local Detail'!$A$147)*(Projects!$M$5:$M$2393)))+(SUMPRODUCT((Projects!$A$5:$A$2393='Local Detail'!$D$3)*(Projects!$C$5:$C$2393<>'MDOT FTA Detail'!$C$4)*(Projects!$L$5:$L$2393='Local Detail'!$A44)*(Projects!$J$5:$J$2393<>'Local Detail'!$A$147)*(Projects!$O$5:$O$2393))))","v":0},0,{"$f":"SUMPRODUCT((Projects!$A$5:$A$2393='Local Detail'!$G$3)*(Projects!$C$5:$C$2393<>'MDOT FTA Detail'!$C$4)*(Projects!$L$5:$L$2393='Local Detail'!$A44)*(Projects!$K$5:$K$2393))","v":41337},{"$f":"((SUMPRODUCT((Projects!$A$5:$A$2393='Local Detail'!$G$3)*(Projects!$C$5:$C$2393<>'MDOT FTA Detail'!$C$4)*(Projects!$L$5:$L$2393='Local Detail'!$A44)*(Projects!$J$5:$J$2393<>'Local Detail'!$A$147)*(Projects!$M$5:$M$2393)))+(SUMPRODUCT((Projects!$A$5:$A$2393='Local Detail'!$G$3)*(Projects!$C$5:$C$2393<>'MDOT FTA Detail'!$C$4)*(Projects!$L$5:$L$2393='Local Detail'!$A44)*(Projects!$J$5:$J$2393<>'Local Detail'!$A$147)*(Projects!$O$5:$O$2393))))","v":8267},49604,{"$f":"SUMPRODUCT((Projects!$A$5:$A$2393='Local Detail'!$J$3)*(Projects!$C$5:$C$2393<>'MDOT FTA Detail'!$C$4)*(Projects!$L$5:$L$2393='Local Detail'!$A44)*(Projects!$K$5:$K$2393))","v":0},{"$f":"((SUMPRODUCT((Projects!$A$5:$A$2393='Local Detail'!$J$3)*(Projects!$C$5:$C$2393<>'MDOT FTA Detail'!$C$4)*(Projects!$L$5:$L$2393='Local Detail'!$A44)*(Projects!$J$5:$J$2393<>'Local Detail'!$A$147)*(Projects!$M$5:$M$2393)))+(SUMPRODUCT((Projects!$A$5:$A$2393='Local Detail'!$J$3)*(Projects!$C$5:$C$2393<>'MDOT FTA Detail'!$C$4)*(Projects!$L$5:$L$2393='Local Detail'!$A44)*(Projects!$J$5:$J$2393<>'Local Detail'!$A$147)*(Projects!$O$5:$O$2393))))","v":0},0,{"$f":"SUMPRODUCT((Projects!$A$5:$A$2393='Local Detail'!$M$3)*(Projects!$C$5:$C$2393<>'MDOT FTA Detail'!$C$4)*(Projects!$L$5:$L$2393='Local Detail'!$A44)*(Projects!$K$5:$K$2393))","v":0},{"$f":"((SUMPRODUCT((Projects!$A$5:$A$2393='Local Detail'!$M$3)*(Projects!$C$5:$C$2393<>'MDOT FTA Detail'!$C$4)*(Projects!$L$5:$L$2393='Local Detail'!$A44)*(Projects!$J$5:$J$2393<>'Local Detail'!$A$147)*(Projects!$M$5:$M$2393)))+(SUMPRODUCT((Projects!$A$5:$A$2393='Local Detail'!$M$3)*(Projects!$C$5:$C$2393<>'MDOT FTA Detail'!$C$4)*(Projects!$L$5:$L$2393='Local Detail'!$A44)*(Projects!$J$5:$J$2393<>'Local Detail'!$A$147)*(Projects!$O$5:$O$2393))))","v":0},0]
["HPSL","High Priority Projects - SAFETEA-LU","Local Other FHWA",{"$f":"SUMPRODUCT((Projects!$A$5:$A$2393='Local Detail'!$D$3)*(Projects!$C$5:$C$2393<>'MDOT FTA Detail'!$C$4)*(Projects!$L$5:$L$2393='Local Detail'!$A45)*(Projects!$K$5:$K$2393))","v":0},{"$f":"((SUMPRODUCT((Projects!$A$5:$A$2393='Local Detail'!$D$3)*(Projects!$C$5:$C$2393<>'MDOT FTA Detail'!$C$4)*(Projects!$L$5:$L$2393='Local Detail'!$A45)*(Projects!$J$5:$J$2393<>'Local Detail'!$A$147)*(Projects!$M$5:$M$2393)))+(SUMPRODUCT((Projects!$A$5:$A$2393='Local Detail'!$D$3)*(Projects!$C$5:$C$2393<>'MDOT FTA Detail'!$C$4)*(Projects!$L$5:$L$2393='Local Detail'!$A45)*(Projects!$J$5:$J$2393<>'Local Detail'!$A$147)*(Projects!$O$5:$O$2393))))","v":0},0,{"$f":"SUMPRODUCT((Projects!$A$5:$A$2393='Local Detail'!$G$3)*(Projects!$C$5:$C$2393<>'MDOT FTA Detail'!$C$4)*(Projects!$L$5:$L$2393='Local Detail'!$A45)*(Projects!$K$5:$K$2393))","v":0},{"$f":"((SUMPRODUCT((Projects!$A$5:$A$2393='Local Detail'!$G$3)*(Projects!$C$5:$C$2393<>'MDOT FTA Detail'!$C$4)*(Projects!$L$5:$L$2393='Local Detail'!$A45)*(Projects!$J$5:$J$2393<>'Local Detail'!$A$147)*(Projects!$M$5:$M$2393)))+(SUMPRODUCT((Projects!$A$5:$A$2393='Local Detail'!$G$3)*(Projects!$C$5:$C$2393<>'MDOT FTA Detail'!$C$4)*(Projects!$L$5:$L$2393='Local Detail'!$A45)*(Projects!$J$5:$J$2393<>'Local Detail'!$A$147)*(Projects!$O$5:$O$2393))))","v":0},0,{"$f":"SUMPRODUCT((Projects!$A$5:$A$2393='Local Detail'!$J$3)*(Projects!$C$5:$C$2393<>'MDOT FTA Detail'!$C$4)*(Projects!$L$5:$L$2393='Local Detail'!$A45)*(Projects!$K$5:$K$2393))","v":0},{"$f":"((SUMPRODUCT((Projects!$A$5:$A$2393='Local Detail'!$J$3)*(Projects!$C$5:$C$2393<>'MDOT FTA Detail'!$C$4)*(Projects!$L$5:$L$2393='Local Detail'!$A45)*(Projects!$J$5:$J$2393<>'Local Detail'!$A$147)*(Projects!$M$5:$M$2393)))+(SUMPRODUCT((Projects!$A$5:$A$2393='Local Detail'!$J$3)*(Projects!$C$5:$C$2393<>'MDOT FTA Detail'!$C$4)*(Projects!$L$5:$L$2393='Local Detail'!$A45)*(Projects!$J$5:$J$2393<>'Local Detail'!$A$147)*(Projects!$O$5:$O$2393))))","v":0},0,{"$f":"SUMPRODUCT((Projects!$A$5:$A$2393='Local Detail'!$M$3)*(Projects!$C$5:$C$2393<>'MDOT FTA Detail'!$C$4)*(Projects!$L$5:$L$2393='Local Detail'!$A45)*(Projects!$K$5:$K$2393))","v":0},{"$f":"((SUMPRODUCT((Projects!$A$5:$A$2393='Local Detail'!$M$3)*(Projects!$C$5:$C$2393<>'MDOT FTA Detail'!$C$4)*(Projects!$L$5:$L$2393='Local Detail'!$A45)*(Projects!$J$5:$J$2393<>'Local Detail'!$A$147)*(Projects!$M$5:$M$2393)))+(SUMPRODUCT((Projects!$A$5:$A$2393='Local Detail'!$M$3)*(Projects!$C$5:$C$2393<>'MDOT FTA Detail'!$C$4)*(Projects!$L$5:$L$2393='Local Detail'!$A45)*(Projects!$J$5:$J$2393<>'Local Detail'!$A$147)*(Projects!$O$5:$O$2393))))","v":0},0]
["HRRR","High Risk Rural Roads - SAFETEA-LU","Local Safety",{"$f":"SUMPRODUCT((Projects!$A$5:$A$2393='Local Detail'!$D$3)*(Projects!$C$5:$C$2393<>'MDOT FTA Detail'!$C$4)*(Projects!$L$5:$L$2393='Local Detail'!$A46)*(Projects!$K$5:$K$2393))","v":0},{"$f":"((SUMPRODUCT((Projects!$A$5:$A$2393='Local Detail'!$D$3)*(Projects!$C$5:$C$2393<>'MDOT FTA Detail'!$C$4)*(Projects!$L$5:$L$2393='Local Detail'!$A46)*(Projects!$J$5:$J$2393<>'Local Detail'!$A$147)*(Projects!$M$5:$M$2393)))+(SUMPRODUCT((Projects!$A$5:$A$2393='Local Detail'!$D$3)*(Projects!$C$5:$C$2393<>'MDOT FTA Detail'!$C$4)*(Projects!$L$5:$L$2393='Local Detail'!$A46)*(Projects!$J$5:$J$2393<>'Local Detail'!$A$147)*(Projects!$O$5:$O$2393))))","v":0},0,{"$f":"SUMPRODUCT((Projects!$A$5:$A$2393='Local Detail'!$G$3)*(Projects!$C$5:$C$2393<>'MDOT FTA Detail'!$C$4)*(Projects!$L$5:$L$2393='Local Detail'!$A46)*(Projects!$K$5:$K$2393))","v":0},{"$f":"((SUMPRODUCT((Projects!$A$5:$A$2393='Local Detail'!$G$3)*(Projects!$C$5:$C$2393<>'MDOT FTA Detail'!$C$4)*(Projects!$L$5:$L$2393='Local Detail'!$A46)*(Projects!$J$5:$J$2393<>'Local Detail'!$A$147)*(Projects!$M$5:$M$2393)))+(SUMPRODUCT((Projects!$A$5:$A$2393='Local Detail'!$G$3)*(Projects!$C$5:$C$2393<>'MDOT FTA Detail'!$C$4)*(Projects!$L$5:$L$2393='Local Detail'!$A46)*(Projects!$J$5:$J$2393<>'Local Detail'!$A$147)*(Projects!$O$5:$O$2393))))","v":0},0,{"$f":"SUMPRODUCT((Projects!$A$5:$A$2393='Local Detail'!$J$3)*(Projects!$C$5:$C$2393<>'MDOT FTA Detail'!$C$4)*(Projects!$L$5:$L$2393='Local Detail'!$A46)*(Projects!$K$5:$K$2393))","v":0},{"$f":"((SUMPRODUCT((Projects!$A$5:$A$2393='Local Detail'!$J$3)*(Projects!$C$5:$C$2393<>'MDOT FTA Detail'!$C$4)*(Projects!$L$5:$L$2393='Local Detail'!$A46)*(Projects!$J$5:$J$2393<>'Local Detail'!$A$147)*(Projects!$M$5:$M$2393)))+(SUMPRODUCT((Projects!$A$5:$A$2393='Local Detail'!$J$3)*(Projects!$C$5:$C$2393<>'MDOT FTA Detail'!$C$4)*(Projects!$L$5:$L$2393='Local Detail'!$A46)*(Projects!$J$5:$J$2393<>'Local Detail'!$A$147)*(Projects!$O$5:$O$2393))))","v":0},0,{"$f":"SUMPRODUCT((Projects!$A$5:$A$2393='Local Detail'!$M$3)*(Projects!$C$5:$C$2393<>'MDOT FTA Detail'!$C$4)*(Projects!$L$5:$L$2393='Local Detail'!$A46)*(Projects!$K$5:$K$2393))","v":0},{"$f":"((SUMPRODUCT((Projects!$A$5:$A$2393='Local Detail'!$M$3)*(Projects!$C$5:$C$2393<>'MDOT FTA Detail'!$C$4)*(Projects!$L$5:$L$2393='Local Detail'!$A46)*(Projects!$J$5:$J$2393<>'Local Detail'!$A$147)*(Projects!$M$5:$M$2393)))+(SUMPRODUCT((Projects!$A$5:$A$2393='Local Detail'!$M$3)*(Projects!$C$5:$C$2393<>'MDOT FTA Detail'!$C$4)*(Projects!$L$5:$L$2393='Local Detail'!$A46)*(Projects!$J$5:$J$2393<>'Local Detail'!$A$147)*(Projects!$O$5:$O$2393))))","v":0},0]
["HSG","High Speed Raix Crossings - 100% Federal","Local Other FHWA",{"$f":"SUMPRODUCT((Projects!$A$5:$A$2393='Local Detail'!$D$3)*(Projects!$C$5:$C$2393<>'MDOT FTA Detail'!$C$4)*(Projects!$L$5:$L$2393='Local Detail'!$A47)*(Projects!$K$5:$K$2393))","v":0},{"$f":"((SUMPRODUCT((Projects!$A$5:$A$2393='Local Detail'!$D$3)*(Projects!$C$5:$C$2393<>'MDOT FTA Detail'!$C$4)*(Projects!$L$5:$L$2393='Local Detail'!$A47)*(Projects!$J$5:$J$2393<>'Local Detail'!$A$147)*(Projects!$M$5:$M$2393)))+(SUMPRODUCT((Projects!$A$5:$A$2393='Local Detail'!$D$3)*(Projects!$C$5:$C$2393<>'MDOT FTA Detail'!$C$4)*(Projects!$L$5:$L$2393='Local Detail'!$A47)*(Projects!$J$5:$J$2393<>'Local Detail'!$A$147)*(Projects!$O$5:$O$2393))))","v":0},0,{"$f":"SUMPRODUCT((Projects!$A$5:$A$2393='Local Detail'!$G$3)*(Projects!$C$5:$C$2393<>'MDOT FTA Detail'!$C$4)*(Projects!$L$5:$L$2393='Local Detail'!$A47)*(Projects!$K$5:$K$2393))","v":0},{"$f":"((SUMPRODUCT((Projects!$A$5:$A$2393='Local Detail'!$G$3)*(Projects!$C$5:$C$2393<>'MDOT FTA Detail'!$C$4)*(Projects!$L$5:$L$2393='Local Detail'!$A47)*(Projects!$J$5:$J$2393<>'Local Detail'!$A$147)*(Projects!$M$5:$M$2393)))+(SUMPRODUCT((Projects!$A$5:$A$2393='Local Detail'!$G$3)*(Projects!$C$5:$C$2393<>'MDOT FTA Detail'!$C$4)*(Projects!$L$5:$L$2393='Local Detail'!$A47)*(Projects!$J$5:$J$2393<>'Local Detail'!$A$147)*(Projects!$O$5:$O$2393))))","v":0},0,{"$f":"SUMPRODUCT((Projects!$A$5:$A$2393='Local Detail'!$J$3)*(Projects!$C$5:$C$2393<>'MDOT FTA Detail'!$C$4)*(Projects!$L$5:$L$2393='Local Detail'!$A47)*(Projects!$K$5:$K$2393))","v":0},{"$f":"((SUMPRODUCT((Projects!$A$5:$A$2393='Local Detail'!$J$3)*(Projects!$C$5:$C$2393<>'MDOT FTA Detail'!$C$4)*(Projects!$L$5:$L$2393='Local Detail'!$A47)*(Projects!$J$5:$J$2393<>'Local Detail'!$A$147)*(Projects!$M$5:$M$2393)))+(SUMPRODUCT((Projects!$A$5:$A$2393='Local Detail'!$J$3)*(Projects!$C$5:$C$2393<>'MDOT FTA Detail'!$C$4)*(Projects!$L$5:$L$2393='Local Detail'!$A47)*(Projects!$J$5:$J$2393<>'Local Detail'!$A$147)*(Projects!$O$5:$O$2393))))","v":0},0,{"$f":"SUMPRODUCT((Projects!$A$5:$A$2393='Local Detail'!$M$3)*(Projects!$C$5:$C$2393<>'MDOT FTA Detail'!$C$4)*(Projects!$L$5:$L$2393='Local Detail'!$A47)*(Projects!$K$5:$K$2393))","v":0},{"$f":"((SUMPRODUCT((Projects!$A$5:$A$2393='Local Detail'!$M$3)*(Projects!$C$5:$C$2393<>'MDOT FTA Detail'!$C$4)*(Projects!$L$5:$L$2393='Local Detail'!$A47)*(Projects!$J$5:$J$2393<>'Local Detail'!$A$147)*(Projects!$M$5:$M$2393)))+(SUMPRODUCT((Projects!$A$5:$A$2393='Local Detail'!$M$3)*(Projects!$C$5:$C$2393<>'MDOT FTA Detail'!$C$4)*(Projects!$L$5:$L$2393='Local Detail'!$A47)*(Projects!$J$5:$J$2393<>'Local Detail'!$A$147)*(Projects!$O$5:$O$2393))))","v":0},0]
["HSIP","Highway Safety Improvement Program - SAFETEA-LU","Local Safety",{"$f":"SUMPRODUCT((Projects!$A$5:$A$2393='Local Detail'!$D$3)*(Projects!$C$5:$C$2393<>'MDOT FTA Detail'!$C$4)*(Projects!$L$5:$L$2393='Local Detail'!$A48)*(Projects!$K$5:$K$2393))","v":0},{"$f":"((SUMPRODUCT((Projects!$A$5:$A$2393='Local Detail'!$D$3)*(Projects!$C$5:$C$2393<>'MDOT FTA Detail'!$C$4)*(Projects!$L$5:$L$2393='Local Detail'!$A48)*(Projects!$J$5:$J$2393<>'Local Detail'!$A$147)*(Projects!$M$5:$M$2393)))+(SUMPRODUCT((Projects!$A$5:$A$2393='Local Detail'!$D$3)*(Projects!$C$5:$C$2393<>'MDOT FTA Detail'!$C$4)*(Projects!$L$5:$L$2393='Local Detail'!$A48)*(Projects!$J$5:$J$2393<>'Local Detail'!$A$147)*(Projects!$O$5:$O$2393))))","v":0},0,{"$f":"SUMPRODUCT((Projects!$A$5:$A$2393='Local Detail'!$G$3)*(Projects!$C$5:$C$2393<>'MDOT FTA Detail'!$C$4)*(Projects!$L$5:$L$2393='Local Detail'!$A48)*(Projects!$K$5:$K$2393))","v":0},{"$f":"((SUMPRODUCT((Projects!$A$5:$A$2393='Local Detail'!$G$3)*(Projects!$C$5:$C$2393<>'MDOT FTA Detail'!$C$4)*(Projects!$L$5:$L$2393='Local Detail'!$A48)*(Projects!$J$5:$J$2393<>'Local Detail'!$A$147)*(Projects!$M$5:$M$2393)))+(SUMPRODUCT((Projects!$A$5:$A$2393='Local Detail'!$G$3)*(Projects!$C$5:$C$2393<>'MDOT FTA Detail'!$C$4)*(Projects!$L$5:$L$2393='Local Detail'!$A48)*(Projects!$J$5:$J$2393<>'Local Detail'!$A$147)*(Projects!$O$5:$O$2393))))","v":0},0,{"$f":"SUMPRODUCT((Projects!$A$5:$A$2393='Local Detail'!$J$3)*(Projects!$C$5:$C$2393<>'MDOT FTA Detail'!$C$4)*(Projects!$L$5:$L$2393='Local Detail'!$A48)*(Projects!$K$5:$K$2393))","v":0},{"$f":"((SUMPRODUCT((Projects!$A$5:$A$2393='Local Detail'!$J$3)*(Projects!$C$5:$C$2393<>'MDOT FTA Detail'!$C$4)*(Projects!$L$5:$L$2393='Local Detail'!$A48)*(Projects!$J$5:$J$2393<>'Local Detail'!$A$147)*(Projects!$M$5:$M$2393)))+(SUMPRODUCT((Projects!$A$5:$A$2393='Local Detail'!$J$3)*(Projects!$C$5:$C$2393<>'MDOT FTA Detail'!$C$4)*(Projects!$L$5:$L$2393='Local Detail'!$A48)*(Projects!$J$5:$J$2393<>'Local Detail'!$A$147)*(Projects!$O$5:$O$2393))))","v":0},0,{"$f":"SUMPRODUCT((Projects!$A$5:$A$2393='Local Detail'!$M$3)*(Projects!$C$5:$C$2393<>'MDOT FTA Detail'!$C$4)*(Projects!$L$5:$L$2393='Local Detail'!$A48)*(Projects!$K$5:$K$2393))","v":0},{"$f":"((SUMPRODUCT((Projects!$A$5:$A$2393='Local Detail'!$M$3)*(Projects!$C$5:$C$2393<>'MDOT FTA Detail'!$C$4)*(Projects!$L$5:$L$2393='Local Detail'!$A48)*(Projects!$J$5:$J$2393<>'Local Detail'!$A$147)*(Projects!$M$5:$M$2393)))+(SUMPRODUCT((Projects!$A$5:$A$2393='Local Detail'!$M$3)*(Projects!$C$5:$C$2393<>'MDOT FTA Detail'!$C$4)*(Projects!$L$5:$L$2393='Local Detail'!$A48)*(Projects!$J$5:$J$2393<>'Local Detail'!$A$147)*(Projects!$O$5:$O$2393))))","v":0},0]
["IM","Interstate Maintenance - No Added Lanes","Local Other FHWA",{"$f":"SUMPRODUCT((Projects!$A$5:$A$2393='Local Detail'!$D$3)*(Projects!$C$5:$C$2393<>'MDOT FTA Detail'!$C$4)*(Projects!$L$5:$L$2393='Local Detail'!$A49)*(Projects!$K$5:$K$2393))","v":0},{"$f":"((SUMPRODUCT((Projects!$A$5:$A$2393='Local Detail'!$D$3)*(Projects!$C$5:$C$2393<>'MDOT FTA Detail'!$C$4)*(Projects!$L$5:$L$2393='Local Detail'!$A49)*(Projects!$J$5:$J$2393<>'Local Detail'!$A$147)*(Projects!$M$5:$M$2393)))+(SUMPRODUCT((Projects!$A$5:$A$2393='Local Detail'!$D$3)*(Projects!$C$5:$C$2393<>'MDOT FTA Detail'!$C$4)*(Projects!$L$5:$L$2393='Local Detail'!$A49)*(Projects!$J$5:$J$2393<>'Local Detail'!$A$147)*(Projects!$O$5:$O$2393))))","v":0},0,{"$f":"SUMPRODUCT((Projects!$A$5:$A$2393='Local Detail'!$G$3)*(Projects!$C$5:$C$2393<>'MDOT FTA Detail'!$C$4)*(Projects!$L$5:$L$2393='Local Detail'!$A49)*(Projects!$K$5:$K$2393))","v":0},{"$f":"((SUMPRODUCT((Projects!$A$5:$A$2393='Local Detail'!$G$3)*(Projects!$C$5:$C$2393<>'MDOT FTA Detail'!$C$4)*(Projects!$L$5:$L$2393='Local Detail'!$A49)*(Projects!$J$5:$J$2393<>'Local Detail'!$A$147)*(Projects!$M$5:$M$2393)))+(SUMPRODUCT((Projects!$A$5:$A$2393='Local Detail'!$G$3)*(Projects!$C$5:$C$2393<>'MDOT FTA Detail'!$C$4)*(Projects!$L$5:$L$2393='Local Detail'!$A49)*(Projects!$J$5:$J$2393<>'Local Detail'!$A$147)*(Projects!$O$5:$O$2393))))","v":0},0,{"$f":"SUMPRODUCT((Projects!$A$5:$A$2393='Local Detail'!$J$3)*(Projects!$C$5:$C$2393<>'MDOT FTA Detail'!$C$4)*(Projects!$L$5:$L$2393='Local Detail'!$A49)*(Projects!$K$5:$K$2393))","v":0},{"$f":"((SUMPRODUCT((Projects!$A$5:$A$2393='Local Detail'!$J$3)*(Projects!$C$5:$C$2393<>'MDOT FTA Detail'!$C$4)*(Projects!$L$5:$L$2393='Local Detail'!$A49)*(Projects!$J$5:$J$2393<>'Local Detail'!$A$147)*(Projects!$M$5:$M$2393)))+(SUMPRODUCT((Projects!$A$5:$A$2393='Local Detail'!$J$3)*(Projects!$C$5:$C$2393<>'MDOT FTA Detail'!$C$4)*(Projects!$L$5:$L$2393='Local Detail'!$A49)*(Projects!$J$5:$J$2393<>'Local Detail'!$A$147)*(Projects!$O$5:$O$2393))))","v":0},0,{"$f":"SUMPRODUCT((Projects!$A$5:$A$2393='Local Detail'!$M$3)*(Projects!$C$5:$C$2393<>'MDOT FTA Detail'!$C$4)*(Projects!$L$5:$L$2393='Local Detail'!$A49)*(Projects!$K$5:$K$2393))","v":0},{"$f":"((SUMPRODUCT((Projects!$A$5:$A$2393='Local Detail'!$M$3)*(Projects!$C$5:$C$2393<>'MDOT FTA Detail'!$C$4)*(Projects!$L$5:$L$2393='Local Detail'!$A49)*(Projects!$J$5:$J$2393<>'Local Detail'!$A$147)*(Projects!$M$5:$M$2393)))+(SUMPRODUCT((Projects!$A$5:$A$2393='Local Detail'!$M$3)*(Projects!$C$5:$C$2393<>'MDOT FTA Detail'!$C$4)*(Projects!$L$5:$L$2393='Local Detail'!$A49)*(Projects!$J$5:$J$2393<>'Local Detail'!$A$147)*(Projects!$O$5:$O$2393))))","v":0},0]
["IMD","Interstate Maintenance Discretionary","Local Other FHWA",{"$f":"SUMPRODUCT((Projects!$A$5:$A$2393='Local Detail'!$D$3)*(Projects!$C$5:$C$2393<>'MDOT FTA Detail'!$C$4)*(Projects!$L$5:$L$2393='Local Detail'!$A50)*(Projects!$K$5:$K$2393))","v":0},{"$f":"((SUMPRODUCT((Projects!$A$5:$A$2393='Local Detail'!$D$3)*(Projects!$C$5:$C$2393<>'MDOT FTA Detail'!$C$4)*(Projects!$L$5:$L$2393='Local Detail'!$A50)*(Projects!$J$5:$J$2393<>'Local Detail'!$A$147)*(Projects!$M$5:$M$2393)))+(SUMPRODUCT((Projects!$A$5:$A$2393='Local Detail'!$D$3)*(Projects!$C$5:$C$2393<>'MDOT FTA Detail'!$C$4)*(Projects!$L$5:$L$2393='Local Detail'!$A50)*(Projects!$J$5:$J$2393<>'Local Detail'!$A$147)*(Projects!$O$5:$O$2393))))","v":0},0,{"$f":"SUMPRODUCT((Projects!$A$5:$A$2393='Local Detail'!$G$3)*(Projects!$C$5:$C$2393<>'MDOT FTA Detail'!$C$4)*(Projects!$L$5:$L$2393='Local Detail'!$A50)*(Projects!$K$5:$K$2393))","v":0},{"$f":"((SUMPRODUCT((Projects!$A$5:$A$2393='Local Detail'!$G$3)*(Projects!$C$5:$C$2393<>'MDOT FTA Detail'!$C$4)*(Projects!$L$5:$L$2393='Local Detail'!$A50)*(Projects!$J$5:$J$2393<>'Local Detail'!$A$147)*(Projects!$M$5:$M$2393)))+(SUMPRODUCT((Projects!$A$5:$A$2393='Local Detail'!$G$3)*(Projects!$C$5:$C$2393<>'MDOT FTA Detail'!$C$4)*(Projects!$L$5:$L$2393='Local Detail'!$A50)*(Projects!$J$5:$J$2393<>'Local Detail'!$A$147)*(Projects!$O$5:$O$2393))))","v":0},0,{"$f":"SUMPRODUCT((Projects!$A$5:$A$2393='Local Detail'!$J$3)*(Projects!$C$5:$C$2393<>'MDOT FTA Detail'!$C$4)*(Projects!$L$5:$L$2393='Local Detail'!$A50)*(Projects!$K$5:$K$2393))","v":0},{"$f":"((SUMPRODUCT((Projects!$A$5:$A$2393='Local Detail'!$J$3)*(Projects!$C$5:$C$2393<>'MDOT FTA Detail'!$C$4)*(Projects!$L$5:$L$2393='Local Detail'!$A50)*(Projects!$J$5:$J$2393<>'Local Detail'!$A$147)*(Projects!$M$5:$M$2393)))+(SUMPRODUCT((Projects!$A$5:$A$2393='Local Detail'!$J$3)*(Projects!$C$5:$C$2393<>'MDOT FTA Detail'!$C$4)*(Projects!$L$5:$L$2393='Local Detail'!$A50)*(Projects!$J$5:$J$2393<>'Local Detail'!$A$147)*(Projects!$O$5:$O$2393))))","v":0},0,{"$f":"SUMPRODUCT((Projects!$A$5:$A$2393='Local Detail'!$M$3)*(Projects!$C$5:$C$2393<>'MDOT FTA Detail'!$C$4)*(Projects!$L$5:$L$2393='Local Detail'!$A50)*(Projects!$K$5:$K$2393))","v":0},{"$f":"((SUMPRODUCT((Projects!$A$5:$A$2393='Local Detail'!$M$3)*(Projects!$C$5:$C$2393<>'MDOT FTA Detail'!$C$4)*(Projects!$L$5:$L$2393='Local Detail'!$A50)*(Projects!$J$5:$J$2393<>'Local Detail'!$A$147)*(Projects!$M$5:$M$2393)))+(SUMPRODUCT((Projects!$A$5:$A$2393='Local Detail'!$M$3)*(Projects!$C$5:$C$2393<>'MDOT FTA Detail'!$C$4)*(Projects!$L$5:$L$2393='Local Detail'!$A50)*(Projects!$J$5:$J$2393<>'Local Detail'!$A$147)*(Projects!$O$5:$O$2393))))","v":0},0]
["IMG","Interstate Maintenance - Safety - 100% Federal","Local Other FHWA",{"$f":"SUMPRODUCT((Projects!$A$5:$A$2393='Local Detail'!$D$3)*(Projects!$C$5:$C$2393<>'MDOT FTA Detail'!$C$4)*(Projects!$L$5:$L$2393='Local Detail'!$A51)*(Projects!$K$5:$K$2393))","v":0},{"$f":"((SUMPRODUCT((Projects!$A$5:$A$2393='Local Detail'!$D$3)*(Projects!$C$5:$C$2393<>'MDOT FTA Detail'!$C$4)*(Projects!$L$5:$L$2393='Local Detail'!$A51)*(Projects!$J$5:$J$2393<>'Local Detail'!$A$147)*(Projects!$M$5:$M$2393)))+(SUMPRODUCT((Projects!$A$5:$A$2393='Local Detail'!$D$3)*(Projects!$C$5:$C$2393<>'MDOT FTA Detail'!$C$4)*(Projects!$L$5:$L$2393='Local Detail'!$A51)*(Projects!$J$5:$J$2393<>'Local Detail'!$A$147)*(Projects!$O$5:$O$2393))))","v":0},0,{"$f":"SUMPRODUCT((Projects!$A$5:$A$2393='Local Detail'!$G$3)*(Projects!$C$5:$C$2393<>'MDOT FTA Detail'!$C$4)*(Projects!$L$5:$L$2393='Local Detail'!$A51)*(Projects!$K$5:$K$2393))","v":0},{"$f":"((SUMPRODUCT((Projects!$A$5:$A$2393='Local Detail'!$G$3)*(Projects!$C$5:$C$2393<>'MDOT FTA Detail'!$C$4)*(Projects!$L$5:$L$2393='Local Detail'!$A51)*(Projects!$J$5:$J$2393<>'Local Detail'!$A$147)*(Projects!$M$5:$M$2393)))+(SUMPRODUCT((Projects!$A$5:$A$2393='Local Detail'!$G$3)*(Projects!$C$5:$C$2393<>'MDOT FTA Detail'!$C$4)*(Projects!$L$5:$L$2393='Local Detail'!$A51)*(Projects!$J$5:$J$2393<>'Local Detail'!$A$147)*(Projects!$O$5:$O$2393))))","v":0},0,{"$f":"SUMPRODUCT((Projects!$A$5:$A$2393='Local Detail'!$J$3)*(Projects!$C$5:$C$2393<>'MDOT FTA Detail'!$C$4)*(Projects!$L$5:$L$2393='Local Detail'!$A51)*(Projects!$K$5:$K$2393))","v":0},{"$f":"((SUMPRODUCT((Projects!$A$5:$A$2393='Local Detail'!$J$3)*(Projects!$C$5:$C$2393<>'MDOT FTA Detail'!$C$4)*(Projects!$L$5:$L$2393='Local Detail'!$A51)*(Projects!$J$5:$J$2393<>'Local Detail'!$A$147)*(Projects!$M$5:$M$2393)))+(SUMPRODUCT((Projects!$A$5:$A$2393='Local Detail'!$J$3)*(Projects!$C$5:$C$2393<>'MDOT FTA Detail'!$C$4)*(Projects!$L$5:$L$2393='Local Detail'!$A51)*(Projects!$J$5:$J$2393<>'Local Detail'!$A$147)*(Projects!$O$5:$O$2393))))","v":0},0,{"$f":"SUMPRODUCT((Projects!$A$5:$A$2393='Local Detail'!$M$3)*(Projects!$C$5:$C$2393<>'MDOT FTA Detail'!$C$4)*(Projects!$L$5:$L$2393='Local Detail'!$A51)*(Projects!$K$5:$K$2393))","v":0},{"$f":"((SUMPRODUCT((Projects!$A$5:$A$2393='Local Detail'!$M$3)*(Projects!$C$5:$C$2393<>'MDOT FTA Detail'!$C$4)*(Projects!$L$5:$L$2393='Local Detail'!$A51)*(Projects!$J$5:$J$2393<>'Local Detail'!$A$147)*(Projects!$M$5:$M$2393)))+(SUMPRODUCT((Projects!$A$5:$A$2393='Local Detail'!$M$3)*(Projects!$C$5:$C$2393<>'MDOT FTA Detail'!$C$4)*(Projects!$L$5:$L$2393='Local Detail'!$A51)*(Projects!$J$5:$J$2393<>'Local Detail'!$A$147)*(Projects!$O$5:$O$2393))))","v":0},0]
["ITS","Intelligent Transportation Systems","Local Other FHWA",{"$f":"SUMPRODUCT((Projects!$A$5:$A$2393='Local Detail'!$D$3)*(Projects!$C$5:$C$2393<>'MDOT FTA Detail'!$C$4)*(Projects!$L$5:$L$2393='Local Detail'!$A52)*(Projects!$K$5:$K$2393))","v":0},{"$f":"((SUMPRODUCT((Projects!$A$5:$A$2393='Local Detail'!$D$3)*(Projects!$C$5:$C$2393<>'MDOT FTA Detail'!$C$4)*(Projects!$L$5:$L$2393='Local Detail'!$A52)*(Projects!$J$5:$J$2393<>'Local Detail'!$A$147)*(Projects!$M$5:$M$2393)))+(SUMPRODUCT((Projects!$A$5:$A$2393='Local Detail'!$D$3)*(Projects!$C$5:$C$2393<>'MDOT FTA Detail'!$C$4)*(Projects!$L$5:$L$2393='Local Detail'!$A52)*(Projects!$J$5:$J$2393<>'Local Detail'!$A$147)*(Projects!$O$5:$O$2393))))","v":0},0,{"$f":"SUMPRODUCT((Projects!$A$5:$A$2393='Local Detail'!$G$3)*(Projects!$C$5:$C$2393<>'MDOT FTA Detail'!$C$4)*(Projects!$L$5:$L$2393='Local Detail'!$A52)*(Projects!$K$5:$K$2393))","v":0},{"$f":"((SUMPRODUCT((Projects!$A$5:$A$2393='Local Detail'!$G$3)*(Projects!$C$5:$C$2393<>'MDOT FTA Detail'!$C$4)*(Projects!$L$5:$L$2393='Local Detail'!$A52)*(Projects!$J$5:$J$2393<>'Local Detail'!$A$147)*(Projects!$M$5:$M$2393)))+(SUMPRODUCT((Projects!$A$5:$A$2393='Local Detail'!$G$3)*(Projects!$C$5:$C$2393<>'MDOT FTA Detail'!$C$4)*(Projects!$L$5:$L$2393='Local Detail'!$A52)*(Projects!$J$5:$J$2393<>'Local Detail'!$A$147)*(Projects!$O$5:$O$2393))))","v":0},0,{"$f":"SUMPRODUCT((Projects!$A$5:$A$2393='Local Detail'!$J$3)*(Projects!$C$5:$C$2393<>'MDOT FTA Detail'!$C$4)*(Projects!$L$5:$L$2393='Local Detail'!$A52)*(Projects!$K$5:$K$2393))","v":0},{"$f":"((SUMPRODUCT((Projects!$A$5:$A$2393='Local Detail'!$J$3)*(Projects!$C$5:$C$2393<>'MDOT FTA Detail'!$C$4)*(Projects!$L$5:$L$2393='Local Detail'!$A52)*(Projects!$J$5:$J$2393<>'Local Detail'!$A$147)*(Projects!$M$5:$M$2393)))+(SUMPRODUCT((Projects!$A$5:$A$2393='Local Detail'!$J$3)*(Projects!$C$5:$C$2393<>'MDOT FTA Detail'!$C$4)*(Projects!$L$5:$L$2393='Local Detail'!$A52)*(Projects!$J$5:$J$2393<>'Local Detail'!$A$147)*(Projects!$O$5:$O$2393))))","v":0},0,{"$f":"SUMPRODUCT((Projects!$A$5:$A$2393='Local Detail'!$M$3)*(Projects!$C$5:$C$2393<>'MDOT FTA Detail'!$C$4)*(Projects!$L$5:$L$2393='Local Detail'!$A52)*(Projects!$K$5:$K$2393))","v":0},{"$f":"((SUMPRODUCT((Projects!$A$5:$A$2393='Local Detail'!$M$3)*(Projects!$C$5:$C$2393<>'MDOT FTA Detail'!$C$4)*(Projects!$L$5:$L$2393='Local Detail'!$A52)*(Projects!$J$5:$J$2393<>'Local Detail'!$A$147)*(Projects!$M$5:$M$2393)))+(SUMPRODUCT((Projects!$A$5:$A$2393='Local Detail'!$M$3)*(Projects!$C$5:$C$2393<>'MDOT FTA Detail'!$C$4)*(Projects!$L$5:$L$2393='Local Detail'!$A52)*(Projects!$J$5:$J$2393<>'Local Detail'!$A$147)*(Projects!$O$5:$O$2393))))","v":0},0]
["JST","85% Minimum Floor Surface Transportation","Local STP",{"$f":"SUMPRODUCT((Projects!$A$5:$A$2393='Local Detail'!$D$3)*(Projects!$C$5:$C$2393<>'MDOT FTA Detail'!$C$4)*(Projects!$L$5:$L$2393='Local Detail'!$A53)*(Projects!$K$5:$K$2393))","v":0},{"$f":"((SUMPRODUCT((Projects!$A$5:$A$2393='Local Detail'!$D$3)*(Projects!$C$5:$C$2393<>'MDOT FTA Detail'!$C$4)*(Projects!$L$5:$L$2393='Local Detail'!$A53)*(Projects!$J$5:$J$2393<>'Local Detail'!$A$147)*(Projects!$M$5:$M$2393)))+(SUMPRODUCT((Projects!$A$5:$A$2393='Local Detail'!$D$3)*(Projects!$C$5:$C$2393<>'MDOT FTA Detail'!$C$4)*(Projects!$L$5:$L$2393='Local Detail'!$A53)*(Projects!$J$5:$J$2393<>'Local Detail'!$A$147)*(Projects!$O$5:$O$2393))))","v":0},0,{"$f":"SUMPRODUCT((Projects!$A$5:$A$2393='Local Detail'!$G$3)*(Projects!$C$5:$C$2393<>'MDOT FTA Detail'!$C$4)*(Projects!$L$5:$L$2393='Local Detail'!$A53)*(Projects!$K$5:$K$2393))","v":0},{"$f":"((SUMPRODUCT((Projects!$A$5:$A$2393='Local Detail'!$G$3)*(Projects!$C$5:$C$2393<>'MDOT FTA Detail'!$C$4)*(Projects!$L$5:$L$2393='Local Detail'!$A53)*(Projects!$J$5:$J$2393<>'Local Detail'!$A$147)*(Projects!$M$5:$M$2393)))+(SUMPRODUCT((Projects!$A$5:$A$2393='Local Detail'!$G$3)*(Projects!$C$5:$C$2393<>'MDOT FTA Detail'!$C$4)*(Projects!$L$5:$L$2393='Local Detail'!$A53)*(Projects!$J$5:$J$2393<>'Local Detail'!$A$147)*(Projects!$O$5:$O$2393))))","v":0},0,{"$f":"SUMPRODUCT((Projects!$A$5:$A$2393='Local Detail'!$J$3)*(Projects!$C$5:$C$2393<>'MDOT FTA Detail'!$C$4)*(Projects!$L$5:$L$2393='Local Detail'!$A53)*(Projects!$K$5:$K$2393))","v":0},{"$f":"((SUMPRODUCT((Projects!$A$5:$A$2393='Local Detail'!$J$3)*(Projects!$C$5:$C$2393<>'MDOT FTA Detail'!$C$4)*(Projects!$L$5:$L$2393='Local Detail'!$A53)*(Projects!$J$5:$J$2393<>'Local Detail'!$A$147)*(Projects!$M$5:$M$2393)))+(SUMPRODUCT((Projects!$A$5:$A$2393='Local Detail'!$J$3)*(Projects!$C$5:$C$2393<>'MDOT FTA Detail'!$C$4)*(Projects!$L$5:$L$2393='Local Detail'!$A53)*(Projects!$J$5:$J$2393<>'Local Detail'!$A$147)*(Projects!$O$5:$O$2393))))","v":0},0,{"$f":"SUMPRODUCT((Projects!$A$5:$A$2393='Local Detail'!$M$3)*(Projects!$C$5:$C$2393<>'MDOT FTA Detail'!$C$4)*(Projects!$L$5:$L$2393='Local Detail'!$A53)*(Projects!$K$5:$K$2393))","v":0},{"$f":"((SUMPRODUCT((Projects!$A$5:$A$2393='Local Detail'!$M$3)*(Projects!$C$5:$C$2393<>'MDOT FTA Detail'!$C$4)*(Projects!$L$5:$L$2393='Local Detail'!$A53)*(Projects!$J$5:$J$2393<>'Local Detail'!$A$147)*(Projects!$M$5:$M$2393)))+(SUMPRODUCT((Projects!$A$5:$A$2393='Local Detail'!$M$3)*(Projects!$C$5:$C$2393<>'MDOT FTA Detail'!$C$4)*(Projects!$L$5:$L$2393='Local Detail'!$A53)*(Projects!$J$5:$J$2393<>'Local Detail'!$A$147)*(Projects!$O$5:$O$2393))))","v":0},0]
["JSTU","85% Minimum Floor Surface Transportation (Urban Area > 2499,000)","Local STP",{"$f":"SUMPRODUCT((Projects!$A$5:$A$2393='Local Detail'!$D$3)*(Projects!$C$5:$C$2393<>'MDOT FTA Detail'!$C$4)*(Projects!$L$5:$L$2393='Local Detail'!$A54)*(Projects!$K$5:$K$2393))","v":0},{"$f":"((SUMPRODUCT((Projects!$A$5:$A$2393='Local Detail'!$D$3)*(Projects!$C$5:$C$2393<>'MDOT FTA Detail'!$C$4)*(Projects!$L$5:$L$2393='Local Detail'!$A54)*(Projects!$J$5:$J$2393<>'Local Detail'!$A$147)*(Projects!$M$5:$M$2393)))+(SUMPRODUCT((Projects!$A$5:$A$2393='Local Detail'!$D$3)*(Projects!$C$5:$C$2393<>'MDOT FTA Detail'!$C$4)*(Projects!$L$5:$L$2393='Local Detail'!$A54)*(Projects!$J$5:$J$2393<>'Local Detail'!$A$147)*(Projects!$O$5:$O$2393))))","v":0},0,{"$f":"SUMPRODUCT((Projects!$A$5:$A$2393='Local Detail'!$G$3)*(Projects!$C$5:$C$2393<>'MDOT FTA Detail'!$C$4)*(Projects!$L$5:$L$2393='Local Detail'!$A54)*(Projects!$K$5:$K$2393))","v":0},{"$f":"((SUMPRODUCT((Projects!$A$5:$A$2393='Local Detail'!$G$3)*(Projects!$C$5:$C$2393<>'MDOT FTA Detail'!$C$4)*(Projects!$L$5:$L$2393='Local Detail'!$A54)*(Projects!$J$5:$J$2393<>'Local Detail'!$A$147)*(Projects!$M$5:$M$2393)))+(SUMPRODUCT((Projects!$A$5:$A$2393='Local Detail'!$G$3)*(Projects!$C$5:$C$2393<>'MDOT FTA Detail'!$C$4)*(Projects!$L$5:$L$2393='Local Detail'!$A54)*(Projects!$J$5:$J$2393<>'Local Detail'!$A$147)*(Projects!$O$5:$O$2393))))","v":0},0,{"$f":"SUMPRODUCT((Projects!$A$5:$A$2393='Local Detail'!$J$3)*(Projects!$C$5:$C$2393<>'MDOT FTA Detail'!$C$4)*(Projects!$L$5:$L$2393='Local Detail'!$A54)*(Projects!$K$5:$K$2393))","v":0},{"$f":"((SUMPRODUCT((Projects!$A$5:$A$2393='Local Detail'!$J$3)*(Projects!$C$5:$C$2393<>'MDOT FTA Detail'!$C$4)*(Projects!$L$5:$L$2393='Local Detail'!$A54)*(Projects!$J$5:$J$2393<>'Local Detail'!$A$147)*(Projects!$M$5:$M$2393)))+(SUMPRODUCT((Projects!$A$5:$A$2393='Local Detail'!$J$3)*(Projects!$C$5:$C$2393<>'MDOT FTA Detail'!$C$4)*(Projects!$L$5:$L$2393='Local Detail'!$A54)*(Projects!$J$5:$J$2393<>'Local Detail'!$A$147)*(Projects!$O$5:$O$2393))))","v":0},0,{"$f":"SUMPRODUCT((Projects!$A$5:$A$2393='Local Detail'!$M$3)*(Projects!$C$5:$C$2393<>'MDOT FTA Detail'!$C$4)*(Projects!$L$5:$L$2393='Local Detail'!$A54)*(Projects!$K$5:$K$2393))","v":0},{"$f":"((SUMPRODUCT((Projects!$A$5:$A$2393='Local Detail'!$M$3)*(Projects!$C$5:$C$2393<>'MDOT FTA Detail'!$C$4)*(Projects!$L$5:$L$2393='Local Detail'!$A54)*(Projects!$J$5:$J$2393<>'Local Detail'!$A$147)*(Projects!$M$5:$M$2393)))+(SUMPRODUCT((Projects!$A$5:$A$2393='Local Detail'!$M$3)*(Projects!$C$5:$C$2393<>'MDOT FTA Detail'!$C$4)*(Projects!$L$5:$L$2393='Local Detail'!$A54)*(Projects!$J$5:$J$2393<>'Local Detail'!$A$147)*(Projects!$O$5:$O$2393))))","v":0},0]
["LTA","Local Technical Assistance Program","Local Other FHWA",{"$f":"SUMPRODUCT((Projects!$A$5:$A$2393='Local Detail'!$D$3)*(Projects!$C$5:$C$2393<>'MDOT FTA Detail'!$C$4)*(Projects!$L$5:$L$2393='Local Detail'!$A55)*(Projects!$K$5:$K$2393))","v":0},{"$f":"((SUMPRODUCT((Projects!$A$5:$A$2393='Local Detail'!$D$3)*(Projects!$C$5:$C$2393<>'MDOT FTA Detail'!$C$4)*(Projects!$L$5:$L$2393='Local Detail'!$A55)*(Projects!$J$5:$J$2393<>'Local Detail'!$A$147)*(Projects!$M$5:$M$2393)))+(SUMPRODUCT((Projects!$A$5:$A$2393='Local Detail'!$D$3)*(Projects!$C$5:$C$2393<>'MDOT FTA Detail'!$C$4)*(Projects!$L$5:$L$2393='Local Detail'!$A55)*(Projects!$J$5:$J$2393<>'Local Detail'!$A$147)*(Projects!$O$5:$O$2393))))","v":0},0,{"$f":"SUMPRODUCT((Projects!$A$5:$A$2393='Local Detail'!$G$3)*(Projects!$C$5:$C$2393<>'MDOT FTA Detail'!$C$4)*(Projects!$L$5:$L$2393='Local Detail'!$A55)*(Projects!$K$5:$K$2393))","v":0},{"$f":"((SUMPRODUCT((Projects!$A$5:$A$2393='Local Detail'!$G$3)*(Projects!$C$5:$C$2393<>'MDOT FTA Detail'!$C$4)*(Projects!$L$5:$L$2393='Local Detail'!$A55)*(Projects!$J$5:$J$2393<>'Local Detail'!$A$147)*(Projects!$M$5:$M$2393)))+(SUMPRODUCT((Projects!$A$5:$A$2393='Local Detail'!$G$3)*(Projects!$C$5:$C$2393<>'MDOT FTA Detail'!$C$4)*(Projects!$L$5:$L$2393='Local Detail'!$A55)*(Projects!$J$5:$J$2393<>'Local Detail'!$A$147)*(Projects!$O$5:$O$2393))))","v":0},0,{"$f":"SUMPRODUCT((Projects!$A$5:$A$2393='Local Detail'!$J$3)*(Projects!$C$5:$C$2393<>'MDOT FTA Detail'!$C$4)*(Projects!$L$5:$L$2393='Local Detail'!$A55)*(Projects!$K$5:$K$2393))","v":0},{"$f":"((SUMPRODUCT((Projects!$A$5:$A$2393='Local Detail'!$J$3)*(Projects!$C$5:$C$2393<>'MDOT FTA Detail'!$C$4)*(Projects!$L$5:$L$2393='Local Detail'!$A55)*(Projects!$J$5:$J$2393<>'Local Detail'!$A$147)*(Projects!$M$5:$M$2393)))+(SUMPRODUCT((Projects!$A$5:$A$2393='Local Detail'!$J$3)*(Projects!$C$5:$C$2393<>'MDOT FTA Detail'!$C$4)*(Projects!$L$5:$L$2393='Local Detail'!$A55)*(Projects!$J$5:$J$2393<>'Local Detail'!$A$147)*(Projects!$O$5:$O$2393))))","v":0},0,{"$f":"SUMPRODUCT((Projects!$A$5:$A$2393='Local Detail'!$M$3)*(Projects!$C$5:$C$2393<>'MDOT FTA Detail'!$C$4)*(Projects!$L$5:$L$2393='Local Detail'!$A55)*(Projects!$K$5:$K$2393))","v":0},{"$f":"((SUMPRODUCT((Projects!$A$5:$A$2393='Local Detail'!$M$3)*(Projects!$C$5:$C$2393<>'MDOT FTA Detail'!$C$4)*(Projects!$L$5:$L$2393='Local Detail'!$A55)*(Projects!$J$5:$J$2393<>'Local Detail'!$A$147)*(Projects!$M$5:$M$2393)))+(SUMPRODUCT((Projects!$A$5:$A$2393='Local Detail'!$M$3)*(Projects!$C$5:$C$2393<>'MDOT FTA Detail'!$C$4)*(Projects!$L$5:$L$2393='Local Detail'!$A55)*(Projects!$J$5:$J$2393<>'Local Detail'!$A$147)*(Projects!$O$5:$O$2393))))","v":0},0]
["MG","Minimum Guarantee","Local Other FHWA",{"$f":"SUMPRODUCT((Projects!$A$5:$A$2393='Local Detail'!$D$3)*(Projects!$C$5:$C$2393<>'MDOT FTA Detail'!$C$4)*(Projects!$L$5:$L$2393='Local Detail'!$A56)*(Projects!$K$5:$K$2393))","v":0},{"$f":"((SUMPRODUCT((Projects!$A$5:$A$2393='Local Detail'!$D$3)*(Projects!$C$5:$C$2393<>'MDOT FTA Detail'!$C$4)*(Projects!$L$5:$L$2393='Local Detail'!$A56)*(Projects!$J$5:$J$2393<>'Local Detail'!$A$147)*(Projects!$M$5:$M$2393)))+(SUMPRODUCT((Projects!$A$5:$A$2393='Local Detail'!$D$3)*(Projects!$C$5:$C$2393<>'MDOT FTA Detail'!$C$4)*(Projects!$L$5:$L$2393='Local Detail'!$A56)*(Projects!$J$5:$J$2393<>'Local Detail'!$A$147)*(Projects!$O$5:$O$2393))))","v":0},0,{"$f":"SUMPRODUCT((Projects!$A$5:$A$2393='Local Detail'!$G$3)*(Projects!$C$5:$C$2393<>'MDOT FTA Detail'!$C$4)*(Projects!$L$5:$L$2393='Local Detail'!$A56)*(Projects!$K$5:$K$2393))","v":0},{"$f":"((SUMPRODUCT((Projects!$A$5:$A$2393='Local Detail'!$G$3)*(Projects!$C$5:$C$2393<>'MDOT FTA Detail'!$C$4)*(Projects!$L$5:$L$2393='Local Detail'!$A56)*(Projects!$J$5:$J$2393<>'Local Detail'!$A$147)*(Projects!$M$5:$M$2393)))+(SUMPRODUCT((Projects!$A$5:$A$2393='Local Detail'!$G$3)*(Projects!$C$5:$C$2393<>'MDOT FTA Detail'!$C$4)*(Projects!$L$5:$L$2393='Local Detail'!$A56)*(Projects!$J$5:$J$2393<>'Local Detail'!$A$147)*(Projects!$O$5:$O$2393))))","v":0},0,{"$f":"SUMPRODUCT((Projects!$A$5:$A$2393='Local Detail'!$J$3)*(Projects!$C$5:$C$2393<>'MDOT FTA Detail'!$C$4)*(Projects!$L$5:$L$2393='Local Detail'!$A56)*(Projects!$K$5:$K$2393))","v":0},{"$f":"((SUMPRODUCT((Projects!$A$5:$A$2393='Local Detail'!$J$3)*(Projects!$C$5:$C$2393<>'MDOT FTA Detail'!$C$4)*(Projects!$L$5:$L$2393='Local Detail'!$A56)*(Projects!$J$5:$J$2393<>'Local Detail'!$A$147)*(Projects!$M$5:$M$2393)))+(SUMPRODUCT((Projects!$A$5:$A$2393='Local Detail'!$J$3)*(Projects!$C$5:$C$2393<>'MDOT FTA Detail'!$C$4)*(Projects!$L$5:$L$2393='Local Detail'!$A56)*(Projects!$J$5:$J$2393<>'Local Detail'!$A$147)*(Projects!$O$5:$O$2393))))","v":0},0,{"$f":"SUMPRODUCT((Projects!$A$5:$A$2393='Local Detail'!$M$3)*(Projects!$C$5:$C$2393<>'MDOT FTA Detail'!$C$4)*(Projects!$L$5:$L$2393='Local Detail'!$A56)*(Projects!$K$5:$K$2393))","v":0},{"$f":"((SUMPRODUCT((Projects!$A$5:$A$2393='Local Detail'!$M$3)*(Projects!$C$5:$C$2393<>'MDOT FTA Detail'!$C$4)*(Projects!$L$5:$L$2393='Local Detail'!$A56)*(Projects!$J$5:$J$2393<>'Local Detail'!$A$147)*(Projects!$M$5:$M$2393)))+(SUMPRODUCT((Projects!$A$5:$A$2393='Local Detail'!$M$3)*(Projects!$C$5:$C$2393<>'MDOT FTA Detail'!$C$4)*(Projects!$L$5:$L$2393='Local Detail'!$A56)*(Projects!$J$5:$J$2393<>'Local Detail'!$A$147)*(Projects!$O$5:$O$2393))))","v":0},0]
["NCII","National Corridor Infrastructure Improvement - SAFETEA-LU","Local Other FHWA",{"$f":"SUMPRODUCT((Projects!$A$5:$A$2393='Local Detail'!$D$3)*(Projects!$C$5:$C$2393<>'MDOT FTA Detail'!$C$4)*(Projects!$L$5:$L$2393='Local Detail'!$A57)*(Projects!$K$5:$K$2393))","v":0},{"$f":"((SUMPRODUCT((Projects!$A$5:$A$2393='Local Detail'!$D$3)*(Projects!$C$5:$C$2393<>'MDOT FTA Detail'!$C$4)*(Projects!$L$5:$L$2393='Local Detail'!$A57)*(Projects!$J$5:$J$2393<>'Local Detail'!$A$147)*(Projects!$M$5:$M$2393)))+(SUMPRODUCT((Projects!$A$5:$A$2393='Local Detail'!$D$3)*(Projects!$C$5:$C$2393<>'MDOT FTA Detail'!$C$4)*(Projects!$L$5:$L$2393='Local Detail'!$A57)*(Projects!$J$5:$J$2393<>'Local Detail'!$A$147)*(Projects!$O$5:$O$2393))))","v":0},0,{"$f":"SUMPRODUCT((Projects!$A$5:$A$2393='Local Detail'!$G$3)*(Projects!$C$5:$C$2393<>'MDOT FTA Detail'!$C$4)*(Projects!$L$5:$L$2393='Local Detail'!$A57)*(Projects!$K$5:$K$2393))","v":0},{"$f":"((SUMPRODUCT((Projects!$A$5:$A$2393='Local Detail'!$G$3)*(Projects!$C$5:$C$2393<>'MDOT FTA Detail'!$C$4)*(Projects!$L$5:$L$2393='Local Detail'!$A57)*(Projects!$J$5:$J$2393<>'Local Detail'!$A$147)*(Projects!$M$5:$M$2393)))+(SUMPRODUCT((Projects!$A$5:$A$2393='Local Detail'!$G$3)*(Projects!$C$5:$C$2393<>'MDOT FTA Detail'!$C$4)*(Projects!$L$5:$L$2393='Local Detail'!$A57)*(Projects!$J$5:$J$2393<>'Local Detail'!$A$147)*(Projects!$O$5:$O$2393))))","v":0},0,{"$f":"SUMPRODUCT((Projects!$A$5:$A$2393='Local Detail'!$J$3)*(Projects!$C$5:$C$2393<>'MDOT FTA Detail'!$C$4)*(Projects!$L$5:$L$2393='Local Detail'!$A57)*(Projects!$K$5:$K$2393))","v":0},{"$f":"((SUMPRODUCT((Projects!$A$5:$A$2393='Local Detail'!$J$3)*(Projects!$C$5:$C$2393<>'MDOT FTA Detail'!$C$4)*(Projects!$L$5:$L$2393='Local Detail'!$A57)*(Projects!$J$5:$J$2393<>'Local Detail'!$A$147)*(Projects!$M$5:$M$2393)))+(SUMPRODUCT((Projects!$A$5:$A$2393='Local Detail'!$J$3)*(Projects!$C$5:$C$2393<>'MDOT FTA Detail'!$C$4)*(Projects!$L$5:$L$2393='Local Detail'!$A57)*(Projects!$J$5:$J$2393<>'Local Detail'!$A$147)*(Projects!$O$5:$O$2393))))","v":0},0,{"$f":"SUMPRODUCT((Projects!$A$5:$A$2393='Local Detail'!$M$3)*(Projects!$C$5:$C$2393<>'MDOT FTA Detail'!$C$4)*(Projects!$L$5:$L$2393='Local Detail'!$A57)*(Projects!$K$5:$K$2393))","v":0},{"$f":"((SUMPRODUCT((Projects!$A$5:$A$2393='Local Detail'!$M$3)*(Projects!$C$5:$C$2393<>'MDOT FTA Detail'!$C$4)*(Projects!$L$5:$L$2393='Local Detail'!$A57)*(Projects!$J$5:$J$2393<>'Local Detail'!$A$147)*(Projects!$M$5:$M$2393)))+(SUMPRODUCT((Projects!$A$5:$A$2393='Local Detail'!$M$3)*(Projects!$C$5:$C$2393<>'MDOT FTA Detail'!$C$4)*(Projects!$L$5:$L$2393='Local Detail'!$A57)*(Projects!$J$5:$J$2393<>'Local Detail'!$A$147)*(Projects!$O$5:$O$2393))))","v":0},0]
["NH","National Highway System","Local Other FHWA",{"$f":"SUMPRODUCT((Projects!$A$5:$A$2393='Local Detail'!$D$3)*(Projects!$C$5:$C$2393<>'MDOT FTA Detail'!$C$4)*(Projects!$L$5:$L$2393='Local Detail'!$A58)*(Projects!$K$5:$K$2393))","v":0},{"$f":"((SUMPRODUCT((Projects!$A$5:$A$2393='Local Detail'!$D$3)*(Projects!$C$5:$C$2393<>'MDOT FTA Detail'!$C$4)*(Projects!$L$5:$L$2393='Local Detail'!$A58)*(Projects!$J$5:$J$2393<>'Local Detail'!$A$147)*(Projects!$M$5:$M$2393)))+(SUMPRODUCT((Projects!$A$5:$A$2393='Local Detail'!$D$3)*(Projects!$C$5:$C$2393<>'MDOT FTA Detail'!$C$4)*(Projects!$L$5:$L$2393='Local Detail'!$A58)*(Projects!$J$5:$J$2393<>'Local Detail'!$A$147)*(Projects!$O$5:$O$2393))))","v":0},0,{"$f":"SUMPRODUCT((Projects!$A$5:$A$2393='Local Detail'!$G$3)*(Projects!$C$5:$C$2393<>'MDOT FTA Detail'!$C$4)*(Projects!$L$5:$L$2393='Local Detail'!$A58)*(Projects!$K$5:$K$2393))","v":0},{"$f":"((SUMPRODUCT((Projects!$A$5:$A$2393='Local Detail'!$G$3)*(Projects!$C$5:$C$2393<>'MDOT FTA Detail'!$C$4)*(Projects!$L$5:$L$2393='Local Detail'!$A58)*(Projects!$J$5:$J$2393<>'Local Detail'!$A$147)*(Projects!$M$5:$M$2393)))+(SUMPRODUCT((Projects!$A$5:$A$2393='Local Detail'!$G$3)*(Projects!$C$5:$C$2393<>'MDOT FTA Detail'!$C$4)*(Projects!$L$5:$L$2393='Local Detail'!$A58)*(Projects!$J$5:$J$2393<>'Local Detail'!$A$147)*(Projects!$O$5:$O$2393))))","v":0},0,{"$f":"SUMPRODUCT((Projects!$A$5:$A$2393='Local Detail'!$J$3)*(Projects!$C$5:$C$2393<>'MDOT FTA Detail'!$C$4)*(Projects!$L$5:$L$2393='Local Detail'!$A58)*(Projects!$K$5:$K$2393))","v":0},{"$f":"((SUMPRODUCT((Projects!$A$5:$A$2393='Local Detail'!$J$3)*(Projects!$C$5:$C$2393<>'MDOT FTA Detail'!$C$4)*(Projects!$L$5:$L$2393='Local Detail'!$A58)*(Projects!$J$5:$J$2393<>'Local Detail'!$A$147)*(Projects!$M$5:$M$2393)))+(SUMPRODUCT((Projects!$A$5:$A$2393='Local Detail'!$J$3)*(Projects!$C$5:$C$2393<>'MDOT FTA Detail'!$C$4)*(Projects!$L$5:$L$2393='Local Detail'!$A58)*(Projects!$J$5:$J$2393<>'Local Detail'!$A$147)*(Projects!$O$5:$O$2393))))","v":0},0,{"$f":"SUMPRODUCT((Projects!$A$5:$A$2393='Local Detail'!$M$3)*(Projects!$C$5:$C$2393<>'MDOT FTA Detail'!$C$4)*(Projects!$L$5:$L$2393='Local Detail'!$A58)*(Projects!$K$5:$K$2393))","v":0},{"$f":"((SUMPRODUCT((Projects!$A$5:$A$2393='Local Detail'!$M$3)*(Projects!$C$5:$C$2393<>'MDOT FTA Detail'!$C$4)*(Projects!$L$5:$L$2393='Local Detail'!$A58)*(Projects!$J$5:$J$2393<>'Local Detail'!$A$147)*(Projects!$M$5:$M$2393)))+(SUMPRODUCT((Projects!$A$5:$A$2393='Local Detail'!$M$3)*(Projects!$C$5:$C$2393<>'MDOT FTA Detail'!$C$4)*(Projects!$L$5:$L$2393='Local Detail'!$A58)*(Projects!$J$5:$J$2393<>'Local Detail'!$A$147)*(Projects!$O$5:$O$2393))))","v":0},0]
["NHG","National Highway System - Safety - 100% Federal","Local Other FHWA",{"$f":"SUMPRODUCT((Projects!$A$5:$A$2393='Local Detail'!$D$3)*(Projects!$C$5:$C$2393<>'MDOT FTA Detail'!$C$4)*(Projects!$L$5:$L$2393='Local Detail'!$A59)*(Projects!$K$5:$K$2393))","v":0},{"$f":"((SUMPRODUCT((Projects!$A$5:$A$2393='Local Detail'!$D$3)*(Projects!$C$5:$C$2393<>'MDOT FTA Detail'!$C$4)*(Projects!$L$5:$L$2393='Local Detail'!$A59)*(Projects!$J$5:$J$2393<>'Local Detail'!$A$147)*(Projects!$M$5:$M$2393)))+(SUMPRODUCT((Projects!$A$5:$A$2393='Local Detail'!$D$3)*(Projects!$C$5:$C$2393<>'MDOT FTA Detail'!$C$4)*(Projects!$L$5:$L$2393='Local Detail'!$A59)*(Projects!$J$5:$J$2393<>'Local Detail'!$A$147)*(Projects!$O$5:$O$2393))))","v":0},0,{"$f":"SUMPRODUCT((Projects!$A$5:$A$2393='Local Detail'!$G$3)*(Projects!$C$5:$C$2393<>'MDOT FTA Detail'!$C$4)*(Projects!$L$5:$L$2393='Local Detail'!$A59)*(Projects!$K$5:$K$2393))","v":0},{"$f":"((SUMPRODUCT((Projects!$A$5:$A$2393='Local Detail'!$G$3)*(Projects!$C$5:$C$2393<>'MDOT FTA Detail'!$C$4)*(Projects!$L$5:$L$2393='Local Detail'!$A59)*(Projects!$J$5:$J$2393<>'Local Detail'!$A$147)*(Projects!$M$5:$M$2393)))+(SUMPRODUCT((Projects!$A$5:$A$2393='Local Detail'!$G$3)*(Projects!$C$5:$C$2393<>'MDOT FTA Detail'!$C$4)*(Projects!$L$5:$L$2393='Local Detail'!$A59)*(Projects!$J$5:$J$2393<>'Local Detail'!$A$147)*(Projects!$O$5:$O$2393))))","v":0},0,{"$f":"SUMPRODUCT((Projects!$A$5:$A$2393='Local Detail'!$J$3)*(Projects!$C$5:$C$2393<>'MDOT FTA Detail'!$C$4)*(Projects!$L$5:$L$2393='Local Detail'!$A59)*(Projects!$K$5:$K$2393))","v":0},{"$f":"((SUMPRODUCT((Projects!$A$5:$A$2393='Local Detail'!$J$3)*(Projects!$C$5:$C$2393<>'MDOT FTA Detail'!$C$4)*(Projects!$L$5:$L$2393='Local Detail'!$A59)*(Projects!$J$5:$J$2393<>'Local Detail'!$A$147)*(Projects!$M$5:$M$2393)))+(SUMPRODUCT((Projects!$A$5:$A$2393='Local Detail'!$J$3)*(Projects!$C$5:$C$2393<>'MDOT FTA Detail'!$C$4)*(Projects!$L$5:$L$2393='Local Detail'!$A59)*(Projects!$J$5:$J$2393<>'Local Detail'!$A$147)*(Projects!$O$5:$O$2393))))","v":0},0,{"$f":"SUMPRODUCT((Projects!$A$5:$A$2393='Local Detail'!$M$3)*(Projects!$C$5:$C$2393<>'MDOT FTA Detail'!$C$4)*(Projects!$L$5:$L$2393='Local Detail'!$A59)*(Projects!$K$5:$K$2393))","v":0},{"$f":"((SUMPRODUCT((Projects!$A$5:$A$2393='Local Detail'!$M$3)*(Projects!$C$5:$C$2393<>'MDOT FTA Detail'!$C$4)*(Projects!$L$5:$L$2393='Local Detail'!$A59)*(Projects!$J$5:$J$2393<>'Local Detail'!$A$147)*(Projects!$M$5:$M$2393)))+(SUMPRODUCT((Projects!$A$5:$A$2393='Local Detail'!$M$3)*(Projects!$C$5:$C$2393<>'MDOT FTA Detail'!$C$4)*(Projects!$L$5:$L$2393='Local Detail'!$A59)*(Projects!$J$5:$J$2393<>'Local Detail'!$A$147)*(Projects!$O$5:$O$2393))))","v":0},0]
["NHI","National Highway Funds on I (Does not Qualify for I)","Local Other FHWA",{"$f":"SUMPRODUCT((Projects!$A$5:$A$2393='Local Detail'!$D$3)*(Projects!$C$5:$C$2393<>'MDOT FTA Detail'!$C$4)*(Projects!$L$5:$L$2393='Local Detail'!$A60)*(Projects!$K$5:$K$2393))","v":0},{"$f":"((SUMPRODUCT((Projects!$A$5:$A$2393='Local Detail'!$D$3)*(Projects!$C$5:$C$2393<>'MDOT FTA Detail'!$C$4)*(Projects!$L$5:$L$2393='Local Detail'!$A60)*(Projects!$J$5:$J$2393<>'Local Detail'!$A$147)*(Projects!$M$5:$M$2393)))+(SUMPRODUCT((Projects!$A$5:$A$2393='Local Detail'!$D$3)*(Projects!$C$5:$C$2393<>'MDOT FTA Detail'!$C$4)*(Projects!$L$5:$L$2393='Local Detail'!$A60)*(Projects!$J$5:$J$2393<>'Local Detail'!$A$147)*(Projects!$O$5:$O$2393))))","v":0},0,{"$f":"SUMPRODUCT((Projects!$A$5:$A$2393='Local Detail'!$G$3)*(Projects!$C$5:$C$2393<>'MDOT FTA Detail'!$C$4)*(Projects!$L$5:$L$2393='Local Detail'!$A60)*(Projects!$K$5:$K$2393))","v":0},{"$f":"((SUMPRODUCT((Projects!$A$5:$A$2393='Local Detail'!$G$3)*(Projects!$C$5:$C$2393<>'MDOT FTA Detail'!$C$4)*(Projects!$L$5:$L$2393='Local Detail'!$A60)*(Projects!$J$5:$J$2393<>'Local Detail'!$A$147)*(Projects!$M$5:$M$2393)))+(SUMPRODUCT((Projects!$A$5:$A$2393='Local Detail'!$G$3)*(Projects!$C$5:$C$2393<>'MDOT FTA Detail'!$C$4)*(Projects!$L$5:$L$2393='Local Detail'!$A60)*(Projects!$J$5:$J$2393<>'Local Detail'!$A$147)*(Projects!$O$5:$O$2393))))","v":0},0,{"$f":"SUMPRODUCT((Projects!$A$5:$A$2393='Local Detail'!$J$3)*(Projects!$C$5:$C$2393<>'MDOT FTA Detail'!$C$4)*(Projects!$L$5:$L$2393='Local Detail'!$A60)*(Projects!$K$5:$K$2393))","v":0},{"$f":"((SUMPRODUCT((Projects!$A$5:$A$2393='Local Detail'!$J$3)*(Projects!$C$5:$C$2393<>'MDOT FTA Detail'!$C$4)*(Projects!$L$5:$L$2393='Local Detail'!$A60)*(Projects!$J$5:$J$2393<>'Local Detail'!$A$147)*(Projects!$M$5:$M$2393)))+(SUMPRODUCT((Projects!$A$5:$A$2393='Local Detail'!$J$3)*(Projects!$C$5:$C$2393<>'MDOT FTA Detail'!$C$4)*(Projects!$L$5:$L$2393='Local Detail'!$A60)*(Projects!$J$5:$J$2393<>'Local Detail'!$A$147)*(Projects!$O$5:$O$2393))))","v":0},0,{"$f":"SUMPRODUCT((Projects!$A$5:$A$2393='Local Detail'!$M$3)*(Projects!$C$5:$C$2393<>'MDOT FTA Detail'!$C$4)*(Projects!$L$5:$L$2393='Local Detail'!$A60)*(Projects!$K$5:$K$2393))","v":0},{"$f":"((SUMPRODUCT((Projects!$A$5:$A$2393='Local Detail'!$M$3)*(Projects!$C$5:$C$2393<>'MDOT FTA Detail'!$C$4)*(Projects!$L$5:$L$2393='Local Detail'!$A60)*(Projects!$J$5:$J$2393<>'Local Detail'!$A$147)*(Projects!$M$5:$M$2393)))+(SUMPRODUCT((Projects!$A$5:$A$2393='Local Detail'!$M$3)*(Projects!$C$5:$C$2393<>'MDOT FTA Detail'!$C$4)*(Projects!$L$5:$L$2393='Local Detail'!$A60)*(Projects!$J$5:$J$2393<>'Local Detail'!$A$147)*(Projects!$O$5:$O$2393))))","v":0},0]
["NHIM","National Highway Funds on I (Qualifies for IM)","Local Other FHWA",{"$f":"SUMPRODUCT((Projects!$A$5:$A$2393='Local Detail'!$D$3)*(Projects!$C$5:$C$2393<>'MDOT FTA Detail'!$C$4)*(Projects!$L$5:$L$2393='Local Detail'!$A61)*(Projects!$K$5:$K$2393))","v":0},{"$f":"((SUMPRODUCT((Projects!$A$5:$A$2393='Local Detail'!$D$3)*(Projects!$C$5:$C$2393<>'MDOT FTA Detail'!$C$4)*(Projects!$L$5:$L$2393='Local Detail'!$A61)*(Projects!$J$5:$J$2393<>'Local Detail'!$A$147)*(Projects!$M$5:$M$2393)))+(SUMPRODUCT((Projects!$A$5:$A$2393='Local Detail'!$D$3)*(Projects!$C$5:$C$2393<>'MDOT FTA Detail'!$C$4)*(Projects!$L$5:$L$2393='Local Detail'!$A61)*(Projects!$J$5:$J$2393<>'Local Detail'!$A$147)*(Projects!$O$5:$O$2393))))","v":0},0,{"$f":"SUMPRODUCT((Projects!$A$5:$A$2393='Local Detail'!$G$3)*(Projects!$C$5:$C$2393<>'MDOT FTA Detail'!$C$4)*(Projects!$L$5:$L$2393='Local Detail'!$A61)*(Projects!$K$5:$K$2393))","v":0},{"$f":"((SUMPRODUCT((Projects!$A$5:$A$2393='Local Detail'!$G$3)*(Projects!$C$5:$C$2393<>'MDOT FTA Detail'!$C$4)*(Projects!$L$5:$L$2393='Local Detail'!$A61)*(Projects!$J$5:$J$2393<>'Local Detail'!$A$147)*(Projects!$M$5:$M$2393)))+(SUMPRODUCT((Projects!$A$5:$A$2393='Local Detail'!$G$3)*(Projects!$C$5:$C$2393<>'MDOT FTA Detail'!$C$4)*(Projects!$L$5:$L$2393='Local Detail'!$A61)*(Projects!$J$5:$J$2393<>'Local Detail'!$A$147)*(Projects!$O$5:$O$2393))))","v":0},0,{"$f":"SUMPRODUCT((Projects!$A$5:$A$2393='Local Detail'!$J$3)*(Projects!$C$5:$C$2393<>'MDOT FTA Detail'!$C$4)*(Projects!$L$5:$L$2393='Local Detail'!$A61)*(Projects!$K$5:$K$2393))","v":0},{"$f":"((SUMPRODUCT((Projects!$A$5:$A$2393='Local Detail'!$J$3)*(Projects!$C$5:$C$2393<>'MDOT FTA Detail'!$C$4)*(Projects!$L$5:$L$2393='Local Detail'!$A61)*(Projects!$J$5:$J$2393<>'Local Detail'!$A$147)*(Projects!$M$5:$M$2393)))+(SUMPRODUCT((Projects!$A$5:$A$2393='Local Detail'!$J$3)*(Projects!$C$5:$C$2393<>'MDOT FTA Detail'!$C$4)*(Projects!$L$5:$L$2393='Local Detail'!$A61)*(Projects!$J$5:$J$2393<>'Local Detail'!$A$147)*(Projects!$O$5:$O$2393))))","v":0},0,{"$f":"SUMPRODUCT((Projects!$A$5:$A$2393='Local Detail'!$M$3)*(Projects!$C$5:$C$2393<>'MDOT FTA Detail'!$C$4)*(Projects!$L$5:$L$2393='Local Detail'!$A61)*(Projects!$K$5:$K$2393))","v":0},{"$f":"((SUMPRODUCT((Projects!$A$5:$A$2393='Local Detail'!$M$3)*(Projects!$C$5:$C$2393<>'MDOT FTA Detail'!$C$4)*(Projects!$L$5:$L$2393='Local Detail'!$A61)*(Projects!$J$5:$J$2393<>'Local Detail'!$A$147)*(Projects!$M$5:$M$2393)))+(SUMPRODUCT((Projects!$A$5:$A$2393='Local Detail'!$M$3)*(Projects!$C$5:$C$2393<>'MDOT FTA Detail'!$C$4)*(Projects!$L$5:$L$2393='Local Detail'!$A61)*(Projects!$J$5:$J$2393<>'Local Detail'!$A$147)*(Projects!$O$5:$O$2393))))","v":0},0]
["NHS","National Highway System - MDOT Safety Program","Local Other FHWA",{"$f":"SUMPRODUCT((Projects!$A$5:$A$2393='Local Detail'!$D$3)*(Projects!$C$5:$C$2393<>'MDOT FTA Detail'!$C$4)*(Projects!$L$5:$L$2393='Local Detail'!$A62)*(Projects!$K$5:$K$2393))","v":0},{"$f":"((SUMPRODUCT((Projects!$A$5:$A$2393='Local Detail'!$D$3)*(Projects!$C$5:$C$2393<>'MDOT FTA Detail'!$C$4)*(Projects!$L$5:$L$2393='Local Detail'!$A62)*(Projects!$J$5:$J$2393<>'Local Detail'!$A$147)*(Projects!$M$5:$M$2393)))+(SUMPRODUCT((Projects!$A$5:$A$2393='Local Detail'!$D$3)*(Projects!$C$5:$C$2393<>'MDOT FTA Detail'!$C$4)*(Projects!$L$5:$L$2393='Local Detail'!$A62)*(Projects!$J$5:$J$2393<>'Local Detail'!$A$147)*(Projects!$O$5:$O$2393))))","v":0},0,{"$f":"SUMPRODUCT((Projects!$A$5:$A$2393='Local Detail'!$G$3)*(Projects!$C$5:$C$2393<>'MDOT FTA Detail'!$C$4)*(Projects!$L$5:$L$2393='Local Detail'!$A62)*(Projects!$K$5:$K$2393))","v":0},{"$f":"((SUMPRODUCT((Projects!$A$5:$A$2393='Local Detail'!$G$3)*(Projects!$C$5:$C$2393<>'MDOT FTA Detail'!$C$4)*(Projects!$L$5:$L$2393='Local Detail'!$A62)*(Projects!$J$5:$J$2393<>'Local Detail'!$A$147)*(Projects!$M$5:$M$2393)))+(SUMPRODUCT((Projects!$A$5:$A$2393='Local Detail'!$G$3)*(Projects!$C$5:$C$2393<>'MDOT FTA Detail'!$C$4)*(Projects!$L$5:$L$2393='Local Detail'!$A62)*(Projects!$J$5:$J$2393<>'Local Detail'!$A$147)*(Projects!$O$5:$O$2393))))","v":0},0,{"$f":"SUMPRODUCT((Projects!$A$5:$A$2393='Local Detail'!$J$3)*(Projects!$C$5:$C$2393<>'MDOT FTA Detail'!$C$4)*(Projects!$L$5:$L$2393='Local Detail'!$A62)*(Projects!$K$5:$K$2393))","v":0},{"$f":"((SUMPRODUCT((Projects!$A$5:$A$2393='Local Detail'!$J$3)*(Projects!$C$5:$C$2393<>'MDOT FTA Detail'!$C$4)*(Projects!$L$5:$L$2393='Local Detail'!$A62)*(Projects!$J$5:$J$2393<>'Local Detail'!$A$147)*(Projects!$M$5:$M$2393)))+(SUMPRODUCT((Projects!$A$5:$A$2393='Local Detail'!$J$3)*(Projects!$C$5:$C$2393<>'MDOT FTA Detail'!$C$4)*(Projects!$L$5:$L$2393='Local Detail'!$A62)*(Projects!$J$5:$J$2393<>'Local Detail'!$A$147)*(Projects!$O$5:$O$2393))))","v":0},0,{"$f":"SUMPRODUCT((Projects!$A$5:$A$2393='Local Detail'!$M$3)*(Projects!$C$5:$C$2393<>'MDOT FTA Detail'!$C$4)*(Projects!$L$5:$L$2393='Local Detail'!$A62)*(Projects!$K$5:$K$2393))","v":0},{"$f":"((SUMPRODUCT((Projects!$A$5:$A$2393='Local Detail'!$M$3)*(Projects!$C$5:$C$2393<>'MDOT FTA Detail'!$C$4)*(Projects!$L$5:$L$2393='Local Detail'!$A62)*(Projects!$J$5:$J$2393<>'Local Detail'!$A$147)*(Projects!$M$5:$M$2393)))+(SUMPRODUCT((Projects!$A$5:$A$2393='Local Detail'!$M$3)*(Projects!$C$5:$C$2393<>'MDOT FTA Detail'!$C$4)*(Projects!$L$5:$L$2393='Local Detail'!$A62)*(Projects!$J$5:$J$2393<>'Local Detail'!$A$147)*(Projects!$O$5:$O$2393))))","v":0},0]
["NRT","National Recreational Trails","Local Other FHWA",{"$f":"SUMPRODUCT((Projects!$A$5:$A$2393='Local Detail'!$D$3)*(Projects!$C$5:$C$2393<>'MDOT FTA Detail'!$C$4)*(Projects!$L$5:$L$2393='Local Detail'!$A63)*(Projects!$K$5:$K$2393))","v":0},{"$f":"((SUMPRODUCT((Projects!$A$5:$A$2393='Local Detail'!$D$3)*(Projects!$C$5:$C$2393<>'MDOT FTA Detail'!$C$4)*(Projects!$L$5:$L$2393='Local Detail'!$A63)*(Projects!$J$5:$J$2393<>'Local Detail'!$A$147)*(Projects!$M$5:$M$2393)))+(SUMPRODUCT((Projects!$A$5:$A$2393='Local Detail'!$D$3)*(Projects!$C$5:$C$2393<>'MDOT FTA Detail'!$C$4)*(Projects!$L$5:$L$2393='Local Detail'!$A63)*(Projects!$J$5:$J$2393<>'Local Detail'!$A$147)*(Projects!$O$5:$O$2393))))","v":0},0,{"$f":"SUMPRODUCT((Projects!$A$5:$A$2393='Local Detail'!$G$3)*(Projects!$C$5:$C$2393<>'MDOT FTA Detail'!$C$4)*(Projects!$L$5:$L$2393='Local Detail'!$A63)*(Projects!$K$5:$K$2393))","v":0},{"$f":"((SUMPRODUCT((Projects!$A$5:$A$2393='Local Detail'!$G$3)*(Projects!$C$5:$C$2393<>'MDOT FTA Detail'!$C$4)*(Projects!$L$5:$L$2393='Local Detail'!$A63)*(Projects!$J$5:$J$2393<>'Local Detail'!$A$147)*(Projects!$M$5:$M$2393)))+(SUMPRODUCT((Projects!$A$5:$A$2393='Local Detail'!$G$3)*(Projects!$C$5:$C$2393<>'MDOT FTA Detail'!$C$4)*(Projects!$L$5:$L$2393='Local Detail'!$A63)*(Projects!$J$5:$J$2393<>'Local Detail'!$A$147)*(Projects!$O$5:$O$2393))))","v":0},0,{"$f":"SUMPRODUCT((Projects!$A$5:$A$2393='Local Detail'!$J$3)*(Projects!$C$5:$C$2393<>'MDOT FTA Detail'!$C$4)*(Projects!$L$5:$L$2393='Local Detail'!$A63)*(Projects!$K$5:$K$2393))","v":0},{"$f":"((SUMPRODUCT((Projects!$A$5:$A$2393='Local Detail'!$J$3)*(Projects!$C$5:$C$2393<>'MDOT FTA Detail'!$C$4)*(Projects!$L$5:$L$2393='Local Detail'!$A63)*(Projects!$J$5:$J$2393<>'Local Detail'!$A$147)*(Projects!$M$5:$M$2393)))+(SUMPRODUCT((Projects!$A$5:$A$2393='Local Detail'!$J$3)*(Projects!$C$5:$C$2393<>'MDOT FTA Detail'!$C$4)*(Projects!$L$5:$L$2393='Local Detail'!$A63)*(Projects!$J$5:$J$2393<>'Local Detail'!$A$147)*(Projects!$O$5:$O$2393))))","v":0},0,{"$f":"SUMPRODUCT((Projects!$A$5:$A$2393='Local Detail'!$M$3)*(Projects!$C$5:$C$2393<>'MDOT FTA Detail'!$C$4)*(Projects!$L$5:$L$2393='Local Detail'!$A63)*(Projects!$K$5:$K$2393))","v":0},{"$f":"((SUMPRODUCT((Projects!$A$5:$A$2393='Local Detail'!$M$3)*(Projects!$C$5:$C$2393<>'MDOT FTA Detail'!$C$4)*(Projects!$L$5:$L$2393='Local Detail'!$A63)*(Projects!$J$5:$J$2393<>'Local Detail'!$A$147)*(Projects!$M$5:$M$2393)))+(SUMPRODUCT((Projects!$A$5:$A$2393='Local Detail'!$M$3)*(Projects!$C$5:$C$2393<>'MDOT FTA Detail'!$C$4)*(Projects!$L$5:$L$2393='Local Detail'!$A63)*(Projects!$J$5:$J$2393<>'Local Detail'!$A$147)*(Projects!$O$5:$O$2393))))","v":0},0]
["OFHWA","Other FHWA Funds (Specify source in Comments)","Local Other FHWA",{"$f":"SUMPRODUCT((Projects!$A$5:$A$2393='Local Detail'!$D$3)*(Projects!$C$5:$C$2393<>'MDOT FTA Detail'!$C$4)*(Projects!$L$5:$L$2393='Local Detail'!$A64)*(Projects!$K$5:$K$2393))","v":0},{"$f":"((SUMPRODUCT((Projects!$A$5:$A$2393='Local Detail'!$D$3)*(Projects!$C$5:$C$2393<>'MDOT FTA Detail'!$C$4)*(Projects!$L$5:$L$2393='Local Detail'!$A64)*(Projects!$J$5:$J$2393<>'Local Detail'!$A$147)*(Projects!$M$5:$M$2393)))+(SUMPRODUCT((Projects!$A$5:$A$2393='Local Detail'!$D$3)*(Projects!$C$5:$C$2393<>'MDOT FTA Detail'!$C$4)*(Projects!$L$5:$L$2393='Local Detail'!$A64)*(Projects!$J$5:$J$2393<>'Local Detail'!$A$147)*(Projects!$O$5:$O$2393))))","v":0},0,{"$f":"SUMPRODUCT((Projects!$A$5:$A$2393='Local Detail'!$G$3)*(Projects!$C$5:$C$2393<>'MDOT FTA Detail'!$C$4)*(Projects!$L$5:$L$2393='Local Detail'!$A64)*(Projects!$K$5:$K$2393))","v":0},{"$f":"((SUMPRODUCT((Projects!$A$5:$A$2393='Local Detail'!$G$3)*(Projects!$C$5:$C$2393<>'MDOT FTA Detail'!$C$4)*(Projects!$L$5:$L$2393='Local Detail'!$A64)*(Projects!$J$5:$J$2393<>'Local Detail'!$A$147)*(Projects!$M$5:$M$2393)))+(SUMPRODUCT((Projects!$A$5:$A$2393='Local Detail'!$G$3)*(Projects!$C$5:$C$2393<>'MDOT FTA Detail'!$C$4)*(Projects!$L$5:$L$2393='Local Detail'!$A64)*(Projects!$J$5:$J$2393<>'Local Detail'!$A$147)*(Projects!$O$5:$O$2393))))","v":0},0,{"$f":"SUMPRODUCT((Projects!$A$5:$A$2393='Local Detail'!$J$3)*(Projects!$C$5:$C$2393<>'MDOT FTA Detail'!$C$4)*(Projects!$L$5:$L$2393='Local Detail'!$A64)*(Projects!$K$5:$K$2393))","v":0},{"$f":"((SUMPRODUCT((Projects!$A$5:$A$2393='Local Detail'!$J$3)*(Projects!$C$5:$C$2393<>'MDOT FTA Detail'!$C$4)*(Projects!$L$5:$L$2393='Local Detail'!$A64)*(Projects!$J$5:$J$2393<>'Local Detail'!$A$147)*(Projects!$M$5:$M$2393)))+(SUMPRODUCT((Projects!$A$5:$A$2393='Local Detail'!$J$3)*(Projects!$C$5:$C$2393<>'MDOT FTA Detail'!$C$4)*(Projects!$L$5:$L$2393='Local Detail'!$A64)*(Projects!$J$5:$J$2393<>'Local Detail'!$A$147)*(Projects!$O$5:$O$2393))))","v":0},0,{"$f":"SUMPRODUCT((Projects!$A$5:$A$2393='Local Detail'!$M$3)*(Projects!$C$5:$C$2393<>'MDOT FTA Detail'!$C$4)*(Projects!$L$5:$L$2393='Local Detail'!$A64)*(Projects!$K$5:$K$2393))","v":0},{"$f":"((SUMPRODUCT((Projects!$A$5:$A$2393='Local Detail'!$M$3)*(Projects!$C$5:$C$2393<>'MDOT FTA Detail'!$C$4)*(Projects!$L$5:$L$2393='Local Detail'!$A64)*(Projects!$J$5:$J$2393<>'Local Detail'!$A$147)*(Projects!$M$5:$M$2393)))+(SUMPRODUCT((Projects!$A$5:$A$2393='Local Detail'!$M$3)*(Projects!$C$5:$C$2393<>'MDOT FTA Detail'!$C$4)*(Projects!$L$5:$L$2393='Local Detail'!$A64)*(Projects!$J$5:$J$2393<>'Local Detail'!$A$147)*(Projects!$O$5:$O$2393))))","v":0},0]
["PNRS","Projects of National and Regional Significance","Local Other FHWA",{"$f":"SUMPRODUCT((Projects!$A$5:$A$2393='Local Detail'!$D$3)*(Projects!$C$5:$C$2393<>'MDOT FTA Detail'!$C$4)*(Projects!$L$5:$L$2393='Local Detail'!$A65)*(Projects!$K$5:$K$2393))","v":0},{"$f":"((SUMPRODUCT((Projects!$A$5:$A$2393='Local Detail'!$D$3)*(Projects!$C$5:$C$2393<>'MDOT FTA Detail'!$C$4)*(Projects!$L$5:$L$2393='Local Detail'!$A65)*(Projects!$J$5:$J$2393<>'Local Detail'!$A$147)*(Projects!$M$5:$M$2393)))+(SUMPRODUCT((Projects!$A$5:$A$2393='Local Detail'!$D$3)*(Projects!$C$5:$C$2393<>'MDOT FTA Detail'!$C$4)*(Projects!$L$5:$L$2393='Local Detail'!$A65)*(Projects!$J$5:$J$2393<>'Local Detail'!$A$147)*(Projects!$O$5:$O$2393))))","v":0},{"$f":"D65+E65","v":0},{"$f":"SUMPRODUCT((Projects!$A$5:$A$2393='Local Detail'!$G$3)*(Projects!$C$5:$C$2393<>'MDOT FTA Detail'!$C$4)*(Projects!$L$5:$L$2393='Local Detail'!$A65)*(Projects!$K$5:$K$2393))","v":0},{"$f":"((SUMPRODUCT((Projects!$A$5:$A$2393='Local Detail'!$G$3)*(Projects!$C$5:$C$2393<>'MDOT FTA Detail'!$C$4)*(Projects!$L$5:$L$2393='Local Detail'!$A65)*(Projects!$J$5:$J$2393<>'Local Detail'!$A$147)*(Projects!$M$5:$M$2393)))+(SUMPRODUCT((Projects!$A$5:$A$2393='Local Detail'!$G$3)*(Projects!$C$5:$C$2393<>'MDOT FTA Detail'!$C$4)*(Projects!$L$5:$L$2393='Local Detail'!$A65)*(Projects!$J$5:$J$2393<>'Local Detail'!$A$147)*(Projects!$O$5:$O$2393))))","v":0},{"$f":"G65+H65","v":0},{"$f":"SUMPRODUCT((Projects!$A$5:$A$2393='Local Detail'!$J$3)*(Projects!$C$5:$C$2393<>'MDOT FTA Detail'!$C$4)*(Projects!$L$5:$L$2393='Local Detail'!$A65)*(Projects!$K$5:$K$2393))","v":0},{"$f":"((SUMPRODUCT((Projects!$A$5:$A$2393='Local Detail'!$J$3)*(Projects!$C$5:$C$2393<>'MDOT FTA Detail'!$C$4)*(Projects!$L$5:$L$2393='Local Detail'!$A65)*(Projects!$J$5:$J$2393<>'Local Detail'!$A$147)*(Projects!$M$5:$M$2393)))+(SUMPRODUCT((Projects!$A$5:$A$2393='Local Detail'!$J$3)*(Projects!$C$5:$C$2393<>'MDOT FTA Detail'!$C$4)*(Projects!$L$5:$L$2393='Local Detail'!$A65)*(Projects!$J$5:$J$2393<>'Local Detail'!$A$147)*(Projects!$O$5:$O$2393))))","v":0},{"$f":"J65+K65","v":0},{"$f":"SUMPRODUCT((Projects!$A$5:$A$2393='Local Detail'!$M$3)*(Projects!$C$5:$C$2393<>'MDOT FTA Detail'!$C$4)*(Projects!$L$5:$L$2393='Local Detail'!$A65)*(Projects!$K$5:$K$2393))","v":0},{"$f":"((SUMPRODUCT((Projects!$A$5:$A$2393='Local Detail'!$M$3)*(Projects!$C$5:$C$2393<>'MDOT FTA Detail'!$C$4)*(Projects!$L$5:$L$2393='Local Detail'!$A65)*(Projects!$J$5:$J$2393<>'Local Detail'!$A$147)*(Projects!$M$5:$M$2393)))+(SUMPRODUCT((Projects!$A$5:$A$2393='Local Detail'!$M$3)*(Projects!$C$5:$C$2393<>'MDOT FTA Detail'!$C$4)*(Projects!$L$5:$L$2393='Local Detail'!$A65)*(Projects!$J$5:$J$2393<>'Local Detail'!$A$147)*(Projects!$O$5:$O$2393))))","v":0},{"$f":"M65+N65","v":0}]
["PRIP","Priority Roads Investment Program","Local Other FHWA",{"$f":"SUMPRODUCT((Projects!$A$5:$A$2393='Local Detail'!$D$3)*(Projects!$C$5:$C$2393<>'MDOT FTA Detail'!$C$4)*(Projects!$L$5:$L$2393='Local Detail'!$A66)*(Projects!$K$5:$K$2393))","v":0},{"$f":"((SUMPRODUCT((Projects!$A$5:$A$2393='Local Detail'!$D$3)*(Projects!$C$5:$C$2393<>'MDOT FTA Detail'!$C$4)*(Projects!$L$5:$L$2393='Local Detail'!$A66)*(Projects!$J$5:$J$2393<>'Local Detail'!$A$147)*(Projects!$M$5:$M$2393)))+(SUMPRODUCT((Projects!$A$5:$A$2393='Local Detail'!$D$3)*(Projects!$C$5:$C$2393<>'MDOT FTA Detail'!$C$4)*(Projects!$L$5:$L$2393='Local Detail'!$A66)*(Projects!$J$5:$J$2393<>'Local Detail'!$A$147)*(Projects!$O$5:$O$2393))))","v":0},{"$f":"D66+E66","v":0},{"$f":"SUMPRODUCT((Projects!$A$5:$A$2393='Local Detail'!$G$3)*(Projects!$C$5:$C$2393<>'MDOT FTA Detail'!$C$4)*(Projects!$L$5:$L$2393='Local Detail'!$A66)*(Projects!$K$5:$K$2393))","v":0},{"$f":"((SUMPRODUCT((Projects!$A$5:$A$2393='Local Detail'!$G$3)*(Projects!$C$5:$C$2393<>'MDOT FTA Detail'!$C$4)*(Projects!$L$5:$L$2393='Local Detail'!$A66)*(Projects!$J$5:$J$2393<>'Local Detail'!$A$147)*(Projects!$M$5:$M$2393)))+(SUMPRODUCT((Projects!$A$5:$A$2393='Local Detail'!$G$3)*(Projects!$C$5:$C$2393<>'MDOT FTA Detail'!$C$4)*(Projects!$L$5:$L$2393='Local Detail'!$A66)*(Projects!$J$5:$J$2393<>'Local Detail'!$A$147)*(Projects!$O$5:$O$2393))))","v":0},{"$f":"G66+H66","v":0},{"$f":"SUMPRODUCT((Projects!$A$5:$A$2393='Local Detail'!$J$3)*(Projects!$C$5:$C$2393<>'MDOT FTA Detail'!$C$4)*(Projects!$L$5:$L$2393='Local Detail'!$A66)*(Projects!$K$5:$K$2393))","v":0},{"$f":"((SUMPRODUCT((Projects!$A$5:$A$2393='Local Detail'!$J$3)*(Projects!$C$5:$C$2393<>'MDOT FTA Detail'!$C$4)*(Projects!$L$5:$L$2393='Local Detail'!$A66)*(Projects!$J$5:$J$2393<>'Local Detail'!$A$147)*(Projects!$M$5:$M$2393)))+(SUMPRODUCT((Projects!$A$5:$A$2393='Local Detail'!$J$3)*(Projects!$C$5:$C$2393<>'MDOT FTA Detail'!$C$4)*(Projects!$L$5:$L$2393='Local Detail'!$A66)*(Projects!$J$5:$J$2393<>'Local Detail'!$A$147)*(Projects!$O$5:$O$2393))))","v":0},{"$f":"J66+K66","v":0},{"$f":"SUMPRODUCT((Projects!$A$5:$A$2393='Local Detail'!$M$3)*(Projects!$C$5:$C$2393<>'MDOT FTA Detail'!$C$4)*(Projects!$L$5:$L$2393='Local Detail'!$A66)*(Projects!$K$5:$K$2393))","v":0},{"$f":"((SUMPRODUCT((Projects!$A$5:$A$2393='Local Detail'!$M$3)*(Projects!$C$5:$C$2393<>'MDOT FTA Detail'!$C$4)*(Projects!$L$5:$L$2393='Local Detail'!$A66)*(Projects!$J$5:$J$2393<>'Local Detail'!$A$147)*(Projects!$M$5:$M$2393)))+(SUMPRODUCT((Projects!$A$5:$A$2393='Local Detail'!$M$3)*(Projects!$C$5:$C$2393<>'MDOT FTA Detail'!$C$4)*(Projects!$L$5:$L$2393='Local Detail'!$A66)*(Projects!$J$5:$J$2393<>'Local Detail'!$A$147)*(Projects!$O$5:$O$2393))))","v":0},{"$f":"M66+N66","v":0}]
["RP","Research Project","Local Other FHWA",{"$f":"SUMPRODUCT((Projects!$A$5:$A$2393='Local Detail'!$D$3)*(Projects!$C$5:$C$2393<>'MDOT FTA Detail'!$C$4)*(Projects!$L$5:$L$2393='Local Detail'!$A67)*(Projects!$K$5:$K$2393))","v":0},{"$f":"((SUMPRODUCT((Projects!$A$5:$A$2393='Local Detail'!$D$3)*(Projects!$C$5:$C$2393<>'MDOT FTA Detail'!$C$4)*(Projects!$L$5:$L$2393='Local Detail'!$A67)*(Projects!$J$5:$J$2393<>'Local Detail'!$A$147)*(Projects!$M$5:$M$2393)))+(SUMPRODUCT((Projects!$A$5:$A$2393='Local Detail'!$D$3)*(Projects!$C$5:$C$2393<>'MDOT FTA Detail'!$C$4)*(Projects!$L$5:$L$2393='Local Detail'!$A67)*(Projects!$J$5:$J$2393<>'Local Detail'!$A$147)*(Projects!$O$5:$O$2393))))","v":0},0,{"$f":"SUMPRODUCT((Projects!$A$5:$A$2393='Local Detail'!$G$3)*(Projects!$C$5:$C$2393<>'MDOT FTA Detail'!$C$4)*(Projects!$L$5:$L$2393='Local Detail'!$A67)*(Projects!$K$5:$K$2393))","v":0},{"$f":"((SUMPRODUCT((Projects!$A$5:$A$2393='Local Detail'!$G$3)*(Projects!$C$5:$C$2393<>'MDOT FTA Detail'!$C$4)*(Projects!$L$5:$L$2393='Local Detail'!$A67)*(Projects!$J$5:$J$2393<>'Local Detail'!$A$147)*(Projects!$M$5:$M$2393)))+(SUMPRODUCT((Projects!$A$5:$A$2393='Local Detail'!$G$3)*(Projects!$C$5:$C$2393<>'MDOT FTA Detail'!$C$4)*(Projects!$L$5:$L$2393='Local Detail'!$A67)*(Projects!$J$5:$J$2393<>'Local Detail'!$A$147)*(Projects!$O$5:$O$2393))))","v":0},0,{"$f":"SUMPRODUCT((Projects!$A$5:$A$2393='Local Detail'!$J$3)*(Projects!$C$5:$C$2393<>'MDOT FTA Detail'!$C$4)*(Projects!$L$5:$L$2393='Local Detail'!$A67)*(Projects!$K$5:$K$2393))","v":0},{"$f":"((SUMPRODUCT((Projects!$A$5:$A$2393='Local Detail'!$J$3)*(Projects!$C$5:$C$2393<>'MDOT FTA Detail'!$C$4)*(Projects!$L$5:$L$2393='Local Detail'!$A67)*(Projects!$J$5:$J$2393<>'Local Detail'!$A$147)*(Projects!$M$5:$M$2393)))+(SUMPRODUCT((Projects!$A$5:$A$2393='Local Detail'!$J$3)*(Projects!$C$5:$C$2393<>'MDOT FTA Detail'!$C$4)*(Projects!$L$5:$L$2393='Local Detail'!$A67)*(Projects!$J$5:$J$2393<>'Local Detail'!$A$147)*(Projects!$O$5:$O$2393))))","v":0},0,{"$f":"SUMPRODUCT((Projects!$A$5:$A$2393='Local Detail'!$M$3)*(Projects!$C$5:$C$2393<>'MDOT FTA Detail'!$C$4)*(Projects!$L$5:$L$2393='Local Detail'!$A67)*(Projects!$K$5:$K$2393))","v":0},{"$f":"((SUMPRODUCT((Projects!$A$5:$A$2393='Local Detail'!$M$3)*(Projects!$C$5:$C$2393<>'MDOT FTA Detail'!$C$4)*(Projects!$L$5:$L$2393='Local Detail'!$A67)*(Projects!$J$5:$J$2393<>'Local Detail'!$A$147)*(Projects!$M$5:$M$2393)))+(SUMPRODUCT((Projects!$A$5:$A$2393='Local Detail'!$M$3)*(Projects!$C$5:$C$2393<>'MDOT FTA Detail'!$C$4)*(Projects!$L$5:$L$2393='Local Detail'!$A67)*(Projects!$J$5:$J$2393<>'Local Detail'!$A$147)*(Projects!$O$5:$O$2393))))","v":0},0]
["RPH","American Recovery and Reinvestment Act","Local Other FHWA",{"$f":"SUMPRODUCT((Projects!$A$5:$A$2393='Local Detail'!$D$3)*(Projects!$C$5:$C$2393<>'MDOT FTA Detail'!$C$4)*(Projects!$L$5:$L$2393='Local Detail'!$A68)*(Projects!$K$5:$K$2393))","v":0},{"$f":"((SUMPRODUCT((Projects!$A$5:$A$2393='Local Detail'!$D$3)*(Projects!$C$5:$C$2393<>'MDOT FTA Detail'!$C$4)*(Projects!$L$5:$L$2393='Local Detail'!$A68)*(Projects!$J$5:$J$2393<>'Local Detail'!$A$147)*(Projects!$M$5:$M$2393)))+(SUMPRODUCT((Projects!$A$5:$A$2393='Local Detail'!$D$3)*(Projects!$C$5:$C$2393<>'MDOT FTA Detail'!$C$4)*(Projects!$L$5:$L$2393='Local Detail'!$A68)*(Projects!$J$5:$J$2393<>'Local Detail'!$A$147)*(Projects!$O$5:$O$2393))))","v":0},0,{"$f":"SUMPRODUCT((Projects!$A$5:$A$2393='Local Detail'!$G$3)*(Projects!$C$5:$C$2393<>'MDOT FTA Detail'!$C$4)*(Projects!$L$5:$L$2393='Local Detail'!$A68)*(Projects!$K$5:$K$2393))","v":0},{"$f":"((SUMPRODUCT((Projects!$A$5:$A$2393='Local Detail'!$G$3)*(Projects!$C$5:$C$2393<>'MDOT FTA Detail'!$C$4)*(Projects!$L$5:$L$2393='Local Detail'!$A68)*(Projects!$J$5:$J$2393<>'Local Detail'!$A$147)*(Projects!$M$5:$M$2393)))+(SUMPRODUCT((Projects!$A$5:$A$2393='Local Detail'!$G$3)*(Projects!$C$5:$C$2393<>'MDOT FTA Detail'!$C$4)*(Projects!$L$5:$L$2393='Local Detail'!$A68)*(Projects!$J$5:$J$2393<>'Local Detail'!$A$147)*(Projects!$O$5:$O$2393))))","v":0},0,{"$f":"SUMPRODUCT((Projects!$A$5:$A$2393='Local Detail'!$J$3)*(Projects!$C$5:$C$2393<>'MDOT FTA Detail'!$C$4)*(Projects!$L$5:$L$2393='Local Detail'!$A68)*(Projects!$K$5:$K$2393))","v":0},{"$f":"((SUMPRODUCT((Projects!$A$5:$A$2393='Local Detail'!$J$3)*(Projects!$C$5:$C$2393<>'MDOT FTA Detail'!$C$4)*(Projects!$L$5:$L$2393='Local Detail'!$A68)*(Projects!$J$5:$J$2393<>'Local Detail'!$A$147)*(Projects!$M$5:$M$2393)))+(SUMPRODUCT((Projects!$A$5:$A$2393='Local Detail'!$J$3)*(Projects!$C$5:$C$2393<>'MDOT FTA Detail'!$C$4)*(Projects!$L$5:$L$2393='Local Detail'!$A68)*(Projects!$J$5:$J$2393<>'Local Detail'!$A$147)*(Projects!$O$5:$O$2393))))","v":0},0,{"$f":"SUMPRODUCT((Projects!$A$5:$A$2393='Local Detail'!$M$3)*(Projects!$C$5:$C$2393<>'MDOT FTA Detail'!$C$4)*(Projects!$L$5:$L$2393='Local Detail'!$A68)*(Projects!$K$5:$K$2393))","v":0},{"$f":"((SUMPRODUCT((Projects!$A$5:$A$2393='Local Detail'!$M$3)*(Projects!$C$5:$C$2393<>'MDOT FTA Detail'!$C$4)*(Projects!$L$5:$L$2393='Local Detail'!$A68)*(Projects!$J$5:$J$2393<>'Local Detail'!$A$147)*(Projects!$M$5:$M$2393)))+(SUMPRODUCT((Projects!$A$5:$A$2393='Local Detail'!$M$3)*(Projects!$C$5:$C$2393<>'MDOT FTA Detail'!$C$4)*(Projects!$L$5:$L$2393='Local Detail'!$A68)*(Projects!$J$5:$J$2393<>'Local Detail'!$A$147)*(Projects!$O$5:$O$2393))))","v":0},0]
["SBD","Scenic Byways - Discretionary","Local Other FHWA",{"$f":"SUMPRODUCT((Projects!$A$5:$A$2393='Local Detail'!$D$3)*(Projects!$C$5:$C$2393<>'MDOT FTA Detail'!$C$4)*(Projects!$L$5:$L$2393='Local Detail'!$A69)*(Projects!$K$5:$K$2393))","v":0},{"$f":"((SUMPRODUCT((Projects!$A$5:$A$2393='Local Detail'!$D$3)*(Projects!$C$5:$C$2393<>'MDOT FTA Detail'!$C$4)*(Projects!$L$5:$L$2393='Local Detail'!$A69)*(Projects!$J$5:$J$2393<>'Local Detail'!$A$147)*(Projects!$M$5:$M$2393)))+(SUMPRODUCT((Projects!$A$5:$A$2393='Local Detail'!$D$3)*(Projects!$C$5:$C$2393<>'MDOT FTA Detail'!$C$4)*(Projects!$L$5:$L$2393='Local Detail'!$A69)*(Projects!$J$5:$J$2393<>'Local Detail'!$A$147)*(Projects!$O$5:$O$2393))))","v":0},0,{"$f":"SUMPRODUCT((Projects!$A$5:$A$2393='Local Detail'!$G$3)*(Projects!$C$5:$C$2393<>'MDOT FTA Detail'!$C$4)*(Projects!$L$5:$L$2393='Local Detail'!$A69)*(Projects!$K$5:$K$2393))","v":0},{"$f":"((SUMPRODUCT((Projects!$A$5:$A$2393='Local Detail'!$G$3)*(Projects!$C$5:$C$2393<>'MDOT FTA Detail'!$C$4)*(Projects!$L$5:$L$2393='Local Detail'!$A69)*(Projects!$J$5:$J$2393<>'Local Detail'!$A$147)*(Projects!$M$5:$M$2393)))+(SUMPRODUCT((Projects!$A$5:$A$2393='Local Detail'!$G$3)*(Projects!$C$5:$C$2393<>'MDOT FTA Detail'!$C$4)*(Projects!$L$5:$L$2393='Local Detail'!$A69)*(Projects!$J$5:$J$2393<>'Local Detail'!$A$147)*(Projects!$O$5:$O$2393))))","v":0},0,{"$f":"SUMPRODUCT((Projects!$A$5:$A$2393='Local Detail'!$J$3)*(Projects!$C$5:$C$2393<>'MDOT FTA Detail'!$C$4)*(Projects!$L$5:$L$2393='Local Detail'!$A69)*(Projects!$K$5:$K$2393))","v":0},{"$f":"((SUMPRODUCT((Projects!$A$5:$A$2393='Local Detail'!$J$3)*(Projects!$C$5:$C$2393<>'MDOT FTA Detail'!$C$4)*(Projects!$L$5:$L$2393='Local Detail'!$A69)*(Projects!$J$5:$J$2393<>'Local Detail'!$A$147)*(Projects!$M$5:$M$2393)))+(SUMPRODUCT((Projects!$A$5:$A$2393='Local Detail'!$J$3)*(Projects!$C$5:$C$2393<>'MDOT FTA Detail'!$C$4)*(Projects!$L$5:$L$2393='Local Detail'!$A69)*(Projects!$J$5:$J$2393<>'Local Detail'!$A$147)*(Projects!$O$5:$O$2393))))","v":0},0,{"$f":"SUMPRODUCT((Projects!$A$5:$A$2393='Local Detail'!$M$3)*(Projects!$C$5:$C$2393<>'MDOT FTA Detail'!$C$4)*(Projects!$L$5:$L$2393='Local Detail'!$A69)*(Projects!$K$5:$K$2393))","v":0},{"$f":"((SUMPRODUCT((Projects!$A$5:$A$2393='Local Detail'!$M$3)*(Projects!$C$5:$C$2393<>'MDOT FTA Detail'!$C$4)*(Projects!$L$5:$L$2393='Local Detail'!$A69)*(Projects!$J$5:$J$2393<>'Local Detail'!$A$147)*(Projects!$M$5:$M$2393)))+(SUMPRODUCT((Projects!$A$5:$A$2393='Local Detail'!$M$3)*(Projects!$C$5:$C$2393<>'MDOT FTA Detail'!$C$4)*(Projects!$L$5:$L$2393='Local Detail'!$A69)*(Projects!$J$5:$J$2393<>'Local Detail'!$A$147)*(Projects!$O$5:$O$2393))))","v":0},0]
["SIB","State Infrastructure Bank","Local Other FHWA",{"$f":"SUMPRODUCT((Projects!$A$5:$A$2393='Local Detail'!$D$3)*(Projects!$C$5:$C$2393<>'MDOT FTA Detail'!$C$4)*(Projects!$L$5:$L$2393='Local Detail'!$A70)*(Projects!$K$5:$K$2393))","v":0},{"$f":"((SUMPRODUCT((Projects!$A$5:$A$2393='Local Detail'!$D$3)*(Projects!$C$5:$C$2393<>'MDOT FTA Detail'!$C$4)*(Projects!$L$5:$L$2393='Local Detail'!$A70)*(Projects!$J$5:$J$2393<>'Local Detail'!$A$147)*(Projects!$M$5:$M$2393)))+(SUMPRODUCT((Projects!$A$5:$A$2393='Local Detail'!$D$3)*(Projects!$C$5:$C$2393<>'MDOT FTA Detail'!$C$4)*(Projects!$L$5:$L$2393='Local Detail'!$A70)*(Projects!$J$5:$J$2393<>'Local Detail'!$A$147)*(Projects!$O$5:$O$2393))))","v":0},0,{"$f":"SUMPRODUCT((Projects!$A$5:$A$2393='Local Detail'!$G$3)*(Projects!$C$5:$C$2393<>'MDOT FTA Detail'!$C$4)*(Projects!$L$5:$L$2393='Local Detail'!$A70)*(Projects!$K$5:$K$2393))","v":0},{"$f":"((SUMPRODUCT((Projects!$A$5:$A$2393='Local Detail'!$G$3)*(Projects!$C$5:$C$2393<>'MDOT FTA Detail'!$C$4)*(Projects!$L$5:$L$2393='Local Detail'!$A70)*(Projects!$J$5:$J$2393<>'Local Detail'!$A$147)*(Projects!$M$5:$M$2393)))+(SUMPRODUCT((Projects!$A$5:$A$2393='Local Detail'!$G$3)*(Projects!$C$5:$C$2393<>'MDOT FTA Detail'!$C$4)*(Projects!$L$5:$L$2393='Local Detail'!$A70)*(Projects!$J$5:$J$2393<>'Local Detail'!$A$147)*(Projects!$O$5:$O$2393))))","v":0},0,{"$f":"SUMPRODUCT((Projects!$A$5:$A$2393='Local Detail'!$J$3)*(Projects!$C$5:$C$2393<>'MDOT FTA Detail'!$C$4)*(Projects!$L$5:$L$2393='Local Detail'!$A70)*(Projects!$K$5:$K$2393))","v":0},{"$f":"((SUMPRODUCT((Projects!$A$5:$A$2393='Local Detail'!$J$3)*(Projects!$C$5:$C$2393<>'MDOT FTA Detail'!$C$4)*(Projects!$L$5:$L$2393='Local Detail'!$A70)*(Projects!$J$5:$J$2393<>'Local Detail'!$A$147)*(Projects!$M$5:$M$2393)))+(SUMPRODUCT((Projects!$A$5:$A$2393='Local Detail'!$J$3)*(Projects!$C$5:$C$2393<>'MDOT FTA Detail'!$C$4)*(Projects!$L$5:$L$2393='Local Detail'!$A70)*(Projects!$J$5:$J$2393<>'Local Detail'!$A$147)*(Projects!$O$5:$O$2393))))","v":0},0,{"$f":"SUMPRODUCT((Projects!$A$5:$A$2393='Local Detail'!$M$3)*(Projects!$C$5:$C$2393<>'MDOT FTA Detail'!$C$4)*(Projects!$L$5:$L$2393='Local Detail'!$A70)*(Projects!$K$5:$K$2393))","v":0},{"$f":"((SUMPRODUCT((Projects!$A$5:$A$2393='Local Detail'!$M$3)*(Projects!$C$5:$C$2393<>'MDOT FTA Detail'!$C$4)*(Projects!$L$5:$L$2393='Local Detail'!$A70)*(Projects!$J$5:$J$2393<>'Local Detail'!$A$147)*(Projects!$M$5:$M$2393)))+(SUMPRODUCT((Projects!$A$5:$A$2393='Local Detail'!$M$3)*(Projects!$C$5:$C$2393<>'MDOT FTA Detail'!$C$4)*(Projects!$L$5:$L$2393='Local Detail'!$A70)*(Projects!$J$5:$J$2393<>'Local Detail'!$A$147)*(Projects!$O$5:$O$2393))))","v":0},0]
["SLG","Surface Transportation Safety","Local Other FHWA",{"$f":"SUMPRODUCT((Projects!$A$5:$A$2393='Local Detail'!$D$3)*(Projects!$C$5:$C$2393<>'MDOT FTA Detail'!$C$4)*(Projects!$L$5:$L$2393='Local Detail'!$A71)*(Projects!$K$5:$K$2393))","v":0},{"$f":"((SUMPRODUCT((Projects!$A$5:$A$2393='Local Detail'!$D$3)*(Projects!$C$5:$C$2393<>'MDOT FTA Detail'!$C$4)*(Projects!$L$5:$L$2393='Local Detail'!$A71)*(Projects!$J$5:$J$2393<>'Local Detail'!$A$147)*(Projects!$M$5:$M$2393)))+(SUMPRODUCT((Projects!$A$5:$A$2393='Local Detail'!$D$3)*(Projects!$C$5:$C$2393<>'MDOT FTA Detail'!$C$4)*(Projects!$L$5:$L$2393='Local Detail'!$A71)*(Projects!$J$5:$J$2393<>'Local Detail'!$A$147)*(Projects!$O$5:$O$2393))))","v":0},0,{"$f":"SUMPRODUCT((Projects!$A$5:$A$2393='Local Detail'!$G$3)*(Projects!$C$5:$C$2393<>'MDOT FTA Detail'!$C$4)*(Projects!$L$5:$L$2393='Local Detail'!$A71)*(Projects!$K$5:$K$2393))","v":0},{"$f":"((SUMPRODUCT((Projects!$A$5:$A$2393='Local Detail'!$G$3)*(Projects!$C$5:$C$2393<>'MDOT FTA Detail'!$C$4)*(Projects!$L$5:$L$2393='Local Detail'!$A71)*(Projects!$J$5:$J$2393<>'Local Detail'!$A$147)*(Projects!$M$5:$M$2393)))+(SUMPRODUCT((Projects!$A$5:$A$2393='Local Detail'!$G$3)*(Projects!$C$5:$C$2393<>'MDOT FTA Detail'!$C$4)*(Projects!$L$5:$L$2393='Local Detail'!$A71)*(Projects!$J$5:$J$2393<>'Local Detail'!$A$147)*(Projects!$O$5:$O$2393))))","v":0},0,{"$f":"SUMPRODUCT((Projects!$A$5:$A$2393='Local Detail'!$J$3)*(Projects!$C$5:$C$2393<>'MDOT FTA Detail'!$C$4)*(Projects!$L$5:$L$2393='Local Detail'!$A71)*(Projects!$K$5:$K$2393))","v":0},{"$f":"((SUMPRODUCT((Projects!$A$5:$A$2393='Local Detail'!$J$3)*(Projects!$C$5:$C$2393<>'MDOT FTA Detail'!$C$4)*(Projects!$L$5:$L$2393='Local Detail'!$A71)*(Projects!$J$5:$J$2393<>'Local Detail'!$A$147)*(Projects!$M$5:$M$2393)))+(SUMPRODUCT((Projects!$A$5:$A$2393='Local Detail'!$J$3)*(Projects!$C$5:$C$2393<>'MDOT FTA Detail'!$C$4)*(Projects!$L$5:$L$2393='Local Detail'!$A71)*(Projects!$J$5:$J$2393<>'Local Detail'!$A$147)*(Projects!$O$5:$O$2393))))","v":0},0,{"$f":"SUMPRODUCT((Projects!$A$5:$A$2393='Local Detail'!$M$3)*(Projects!$C$5:$C$2393<>'MDOT FTA Detail'!$C$4)*(Projects!$L$5:$L$2393='Local Detail'!$A71)*(Projects!$K$5:$K$2393))","v":0},{"$f":"((SUMPRODUCT((Projects!$A$5:$A$2393='Local Detail'!$M$3)*(Projects!$C$5:$C$2393<>'MDOT FTA Detail'!$C$4)*(Projects!$L$5:$L$2393='Local Detail'!$A71)*(Projects!$J$5:$J$2393<>'Local Detail'!$A$147)*(Projects!$M$5:$M$2393)))+(SUMPRODUCT((Projects!$A$5:$A$2393='Local Detail'!$M$3)*(Projects!$C$5:$C$2393<>'MDOT FTA Detail'!$C$4)*(Projects!$L$5:$L$2393='Local Detail'!$A71)*(Projects!$J$5:$J$2393<>'Local Detail'!$A$147)*(Projects!$O$5:$O$2393))))","v":0},0]
["SRHG","Surface Transportation Safety Highway Crossing Hazard Elimination","Local STP",{"$f":"SUMPRODUCT((Projects!$A$5:$A$2393='Local Detail'!$D$3)*(Projects!$C$5:$C$2393<>'MDOT FTA Detail'!$C$4)*(Projects!$L$5:$L$2393='Local Detail'!$A72)*(Projects!$K$5:$K$2393))","v":0},{"$f":"((SUMPRODUCT((Projects!$A$5:$A$2393='Local Detail'!$D$3)*(Projects!$C$5:$C$2393<>'MDOT FTA Detail'!$C$4)*(Projects!$L$5:$L$2393='Local Detail'!$A72)*(Projects!$J$5:$J$2393<>'Local Detail'!$A$147)*(Projects!$M$5:$M$2393)))+(SUMPRODUCT((Projects!$A$5:$A$2393='Local Detail'!$D$3)*(Projects!$C$5:$C$2393<>'MDOT FTA Detail'!$C$4)*(Projects!$L$5:$L$2393='Local Detail'!$A72)*(Projects!$J$5:$J$2393<>'Local Detail'!$A$147)*(Projects!$O$5:$O$2393))))","v":0},{"$f":"D72+E72","v":0},{"$f":"SUMPRODUCT((Projects!$A$5:$A$2393='Local Detail'!$G$3)*(Projects!$C$5:$C$2393<>'MDOT FTA Detail'!$C$4)*(Projects!$L$5:$L$2393='Local Detail'!$A72)*(Projects!$K$5:$K$2393))","v":0},{"$f":"((SUMPRODUCT((Projects!$A$5:$A$2393='Local Detail'!$G$3)*(Projects!$C$5:$C$2393<>'MDOT FTA Detail'!$C$4)*(Projects!$L$5:$L$2393='Local Detail'!$A72)*(Projects!$J$5:$J$2393<>'Local Detail'!$A$147)*(Projects!$M$5:$M$2393)))+(SUMPRODUCT((Projects!$A$5:$A$2393='Local Detail'!$G$3)*(Projects!$C$5:$C$2393<>'MDOT FTA Detail'!$C$4)*(Projects!$L$5:$L$2393='Local Detail'!$A72)*(Projects!$J$5:$J$2393<>'Local Detail'!$A$147)*(Projects!$O$5:$O$2393))))","v":0},{"$f":"G72+H72","v":0},{"$f":"SUMPRODUCT((Projects!$A$5:$A$2393='Local Detail'!$J$3)*(Projects!$C$5:$C$2393<>'MDOT FTA Detail'!$C$4)*(Projects!$L$5:$L$2393='Local Detail'!$A72)*(Projects!$K$5:$K$2393))","v":0},{"$f":"((SUMPRODUCT((Projects!$A$5:$A$2393='Local Detail'!$J$3)*(Projects!$C$5:$C$2393<>'MDOT FTA Detail'!$C$4)*(Projects!$L$5:$L$2393='Local Detail'!$A72)*(Projects!$J$5:$J$2393<>'Local Detail'!$A$147)*(Projects!$M$5:$M$2393)))+(SUMPRODUCT((Projects!$A$5:$A$2393='Local Detail'!$J$3)*(Projects!$C$5:$C$2393<>'MDOT FTA Detail'!$C$4)*(Projects!$L$5:$L$2393='Local Detail'!$A72)*(Projects!$J$5:$J$2393<>'Local Detail'!$A$147)*(Projects!$O$5:$O$2393))))","v":0},{"$f":"J72+K72","v":0},{"$f":"SUMPRODUCT((Projects!$A$5:$A$2393='Local Detail'!$M$3)*(Projects!$C$5:$C$2393<>'MDOT FTA Detail'!$C$4)*(Projects!$L$5:$L$2393='Local Detail'!$A72)*(Projects!$K$5:$K$2393))","v":0},{"$f":"((SUMPRODUCT((Projects!$A$5:$A$2393='Local Detail'!$M$3)*(Projects!$C$5:$C$2393<>'MDOT FTA Detail'!$C$4)*(Projects!$L$5:$L$2393='Local Detail'!$A72)*(Projects!$J$5:$J$2393<>'Local Detail'!$A$147)*(Projects!$M$5:$M$2393)))+(SUMPRODUCT((Projects!$A$5:$A$2393='Local Detail'!$M$3)*(Projects!$C$5:$C$2393<>'MDOT FTA Detail'!$C$4)*(Projects!$L$5:$L$2393='Local Detail'!$A72)*(Projects!$J$5:$J$2393<>'Local Detail'!$A$147)*(Projects!$O$5:$O$2393))))","v":0},{"$f":"M72+N72","v":0}]
["SRPG","Surface Transportation Safety Highway Crossing Protection Devices 100%","Local STP",{"$f":"SUMPRODUCT((Projects!$A$5:$A$2393='Local Detail'!$D$3)*(Projects!$C$5:$C$2393<>'MDOT FTA Detail'!$C$4)*(Projects!$L$5:$L$2393='Local Detail'!$A73)*(Projects!$K$5:$K$2393))","v":0},{"$f":"((SUMPRODUCT((Projects!$A$5:$A$2393='Local Detail'!$D$3)*(Projects!$C$5:$C$2393<>'MDOT FTA Detail'!$C$4)*(Projects!$L$5:$L$2393='Local Detail'!$A73)*(Projects!$J$5:$J$2393<>'Local Detail'!$A$147)*(Projects!$M$5:$M$2393)))+(SUMPRODUCT((Projects!$A$5:$A$2393='Local Detail'!$D$3)*(Projects!$C$5:$C$2393<>'MDOT FTA Detail'!$C$4)*(Projects!$L$5:$L$2393='Local Detail'!$A73)*(Projects!$J$5:$J$2393<>'Local Detail'!$A$147)*(Projects!$O$5:$O$2393))))","v":0},{"$f":"D73+E73","v":0},{"$f":"SUMPRODUCT((Projects!$A$5:$A$2393='Local Detail'!$G$3)*(Projects!$C$5:$C$2393<>'MDOT FTA Detail'!$C$4)*(Projects!$L$5:$L$2393='Local Detail'!$A73)*(Projects!$K$5:$K$2393))","v":0},{"$f":"((SUMPRODUCT((Projects!$A$5:$A$2393='Local Detail'!$G$3)*(Projects!$C$5:$C$2393<>'MDOT FTA Detail'!$C$4)*(Projects!$L$5:$L$2393='Local Detail'!$A73)*(Projects!$J$5:$J$2393<>'Local Detail'!$A$147)*(Projects!$M$5:$M$2393)))+(SUMPRODUCT((Projects!$A$5:$A$2393='Local Detail'!$G$3)*(Projects!$C$5:$C$2393<>'MDOT FTA Detail'!$C$4)*(Projects!$L$5:$L$2393='Local Detail'!$A73)*(Projects!$J$5:$J$2393<>'Local Detail'!$A$147)*(Projects!$O$5:$O$2393))))","v":0},{"$f":"G73+H73","v":0},{"$f":"SUMPRODUCT((Projects!$A$5:$A$2393='Local Detail'!$J$3)*(Projects!$C$5:$C$2393<>'MDOT FTA Detail'!$C$4)*(Projects!$L$5:$L$2393='Local Detail'!$A73)*(Projects!$K$5:$K$2393))","v":0},{"$f":"((SUMPRODUCT((Projects!$A$5:$A$2393='Local Detail'!$J$3)*(Projects!$C$5:$C$2393<>'MDOT FTA Detail'!$C$4)*(Projects!$L$5:$L$2393='Local Detail'!$A73)*(Projects!$J$5:$J$2393<>'Local Detail'!$A$147)*(Projects!$M$5:$M$2393)))+(SUMPRODUCT((Projects!$A$5:$A$2393='Local Detail'!$J$3)*(Projects!$C$5:$C$2393<>'MDOT FTA Detail'!$C$4)*(Projects!$L$5:$L$2393='Local Detail'!$A73)*(Projects!$J$5:$J$2393<>'Local Detail'!$A$147)*(Projects!$O$5:$O$2393))))","v":0},{"$f":"J73+K73","v":0},{"$f":"SUMPRODUCT((Projects!$A$5:$A$2393='Local Detail'!$M$3)*(Projects!$C$5:$C$2393<>'MDOT FTA Detail'!$C$4)*(Projects!$L$5:$L$2393='Local Detail'!$A73)*(Projects!$K$5:$K$2393))","v":0},{"$f":"((SUMPRODUCT((Projects!$A$5:$A$2393='Local Detail'!$M$3)*(Projects!$C$5:$C$2393<>'MDOT FTA Detail'!$C$4)*(Projects!$L$5:$L$2393='Local Detail'!$A73)*(Projects!$J$5:$J$2393<>'Local Detail'!$A$147)*(Projects!$M$5:$M$2393)))+(SUMPRODUCT((Projects!$A$5:$A$2393='Local Detail'!$M$3)*(Projects!$C$5:$C$2393<>'MDOT FTA Detail'!$C$4)*(Projects!$L$5:$L$2393='Local Detail'!$A73)*(Projects!$J$5:$J$2393<>'Local Detail'!$A$147)*(Projects!$O$5:$O$2393))))","v":0},{"$f":"M73+N73","v":0}]
["SRSE","Safe Routes to School - Either - SAFETEA-LU","Local Other FHWA",{"$f":"SUMPRODUCT((Projects!$A$5:$A$2393='Local Detail'!$D$3)*(Projects!$C$5:$C$2393<>'MDOT FTA Detail'!$C$4)*(Projects!$L$5:$L$2393='Local Detail'!$A74)*(Projects!$K$5:$K$2393))","v":0},{"$f":"((SUMPRODUCT((Projects!$A$5:$A$2393='Local Detail'!$D$3)*(Projects!$C$5:$C$2393<>'MDOT FTA Detail'!$C$4)*(Projects!$L$5:$L$2393='Local Detail'!$A74)*(Projects!$J$5:$J$2393<>'Local Detail'!$A$147)*(Projects!$M$5:$M$2393)))+(SUMPRODUCT((Projects!$A$5:$A$2393='Local Detail'!$D$3)*(Projects!$C$5:$C$2393<>'MDOT FTA Detail'!$C$4)*(Projects!$L$5:$L$2393='Local Detail'!$A74)*(Projects!$J$5:$J$2393<>'Local Detail'!$A$147)*(Projects!$O$5:$O$2393))))","v":0},0,{"$f":"SUMPRODUCT((Projects!$A$5:$A$2393='Local Detail'!$G$3)*(Projects!$C$5:$C$2393<>'MDOT FTA Detail'!$C$4)*(Projects!$L$5:$L$2393='Local Detail'!$A74)*(Projects!$K$5:$K$2393))","v":0},{"$f":"((SUMPRODUCT((Projects!$A$5:$A$2393='Local Detail'!$G$3)*(Projects!$C$5:$C$2393<>'MDOT FTA Detail'!$C$4)*(Projects!$L$5:$L$2393='Local Detail'!$A74)*(Projects!$J$5:$J$2393<>'Local Detail'!$A$147)*(Projects!$M$5:$M$2393)))+(SUMPRODUCT((Projects!$A$5:$A$2393='Local Detail'!$G$3)*(Projects!$C$5:$C$2393<>'MDOT FTA Detail'!$C$4)*(Projects!$L$5:$L$2393='Local Detail'!$A74)*(Projects!$J$5:$J$2393<>'Local Detail'!$A$147)*(Projects!$O$5:$O$2393))))","v":0},0,{"$f":"SUMPRODUCT((Projects!$A$5:$A$2393='Local Detail'!$J$3)*(Projects!$C$5:$C$2393<>'MDOT FTA Detail'!$C$4)*(Projects!$L$5:$L$2393='Local Detail'!$A74)*(Projects!$K$5:$K$2393))","v":0},{"$f":"((SUMPRODUCT((Projects!$A$5:$A$2393='Local Detail'!$J$3)*(Projects!$C$5:$C$2393<>'MDOT FTA Detail'!$C$4)*(Projects!$L$5:$L$2393='Local Detail'!$A74)*(Projects!$J$5:$J$2393<>'Local Detail'!$A$147)*(Projects!$M$5:$M$2393)))+(SUMPRODUCT((Projects!$A$5:$A$2393='Local Detail'!$J$3)*(Projects!$C$5:$C$2393<>'MDOT FTA Detail'!$C$4)*(Projects!$L$5:$L$2393='Local Detail'!$A74)*(Projects!$J$5:$J$2393<>'Local Detail'!$A$147)*(Projects!$O$5:$O$2393))))","v":0},0,{"$f":"SUMPRODUCT((Projects!$A$5:$A$2393='Local Detail'!$M$3)*(Projects!$C$5:$C$2393<>'MDOT FTA Detail'!$C$4)*(Projects!$L$5:$L$2393='Local Detail'!$A74)*(Projects!$K$5:$K$2393))","v":0},{"$f":"((SUMPRODUCT((Projects!$A$5:$A$2393='Local Detail'!$M$3)*(Projects!$C$5:$C$2393<>'MDOT FTA Detail'!$C$4)*(Projects!$L$5:$L$2393='Local Detail'!$A74)*(Projects!$J$5:$J$2393<>'Local Detail'!$A$147)*(Projects!$M$5:$M$2393)))+(SUMPRODUCT((Projects!$A$5:$A$2393='Local Detail'!$M$3)*(Projects!$C$5:$C$2393<>'MDOT FTA Detail'!$C$4)*(Projects!$L$5:$L$2393='Local Detail'!$A74)*(Projects!$J$5:$J$2393<>'Local Detail'!$A$147)*(Projects!$O$5:$O$2393))))","v":0},0]
["SRSI","Safe Routes to School - Infrastructure - SAFETEA-LU","Local Other FHWA",{"$f":"SUMPRODUCT((Projects!$A$5:$A$2393='Local Detail'!$D$3)*(Projects!$C$5:$C$2393<>'MDOT FTA Detail'!$C$4)*(Projects!$L$5:$L$2393='Local Detail'!$A75)*(Projects!$K$5:$K$2393))","v":0},{"$f":"((SUMPRODUCT((Projects!$A$5:$A$2393='Local Detail'!$D$3)*(Projects!$C$5:$C$2393<>'MDOT FTA Detail'!$C$4)*(Projects!$L$5:$L$2393='Local Detail'!$A75)*(Projects!$J$5:$J$2393<>'Local Detail'!$A$147)*(Projects!$M$5:$M$2393)))+(SUMPRODUCT((Projects!$A$5:$A$2393='Local Detail'!$D$3)*(Projects!$C$5:$C$2393<>'MDOT FTA Detail'!$C$4)*(Projects!$L$5:$L$2393='Local Detail'!$A75)*(Projects!$J$5:$J$2393<>'Local Detail'!$A$147)*(Projects!$O$5:$O$2393))))","v":0},0,{"$f":"SUMPRODUCT((Projects!$A$5:$A$2393='Local Detail'!$G$3)*(Projects!$C$5:$C$2393<>'MDOT FTA Detail'!$C$4)*(Projects!$L$5:$L$2393='Local Detail'!$A75)*(Projects!$K$5:$K$2393))","v":0},{"$f":"((SUMPRODUCT((Projects!$A$5:$A$2393='Local Detail'!$G$3)*(Projects!$C$5:$C$2393<>'MDOT FTA Detail'!$C$4)*(Projects!$L$5:$L$2393='Local Detail'!$A75)*(Projects!$J$5:$J$2393<>'Local Detail'!$A$147)*(Projects!$M$5:$M$2393)))+(SUMPRODUCT((Projects!$A$5:$A$2393='Local Detail'!$G$3)*(Projects!$C$5:$C$2393<>'MDOT FTA Detail'!$C$4)*(Projects!$L$5:$L$2393='Local Detail'!$A75)*(Projects!$J$5:$J$2393<>'Local Detail'!$A$147)*(Projects!$O$5:$O$2393))))","v":0},0,{"$f":"SUMPRODUCT((Projects!$A$5:$A$2393='Local Detail'!$J$3)*(Projects!$C$5:$C$2393<>'MDOT FTA Detail'!$C$4)*(Projects!$L$5:$L$2393='Local Detail'!$A75)*(Projects!$K$5:$K$2393))","v":0},{"$f":"((SUMPRODUCT((Projects!$A$5:$A$2393='Local Detail'!$J$3)*(Projects!$C$5:$C$2393<>'MDOT FTA Detail'!$C$4)*(Projects!$L$5:$L$2393='Local Detail'!$A75)*(Projects!$J$5:$J$2393<>'Local Detail'!$A$147)*(Projects!$M$5:$M$2393)))+(SUMPRODUCT((Projects!$A$5:$A$2393='Local Detail'!$J$3)*(Projects!$C$5:$C$2393<>'MDOT FTA Detail'!$C$4)*(Projects!$L$5:$L$2393='Local Detail'!$A75)*(Projects!$J$5:$J$2393<>'Local Detail'!$A$147)*(Projects!$O$5:$O$2393))))","v":0},0,{"$f":"SUMPRODUCT((Projects!$A$5:$A$2393='Local Detail'!$M$3)*(Projects!$C$5:$C$2393<>'MDOT FTA Detail'!$C$4)*(Projects!$L$5:$L$2393='Local Detail'!$A75)*(Projects!$K$5:$K$2393))","v":0},{"$f":"((SUMPRODUCT((Projects!$A$5:$A$2393='Local Detail'!$M$3)*(Projects!$C$5:$C$2393<>'MDOT FTA Detail'!$C$4)*(Projects!$L$5:$L$2393='Local Detail'!$A75)*(Projects!$J$5:$J$2393<>'Local Detail'!$A$147)*(Projects!$M$5:$M$2393)))+(SUMPRODUCT((Projects!$A$5:$A$2393='Local Detail'!$M$3)*(Projects!$C$5:$C$2393<>'MDOT FTA Detail'!$C$4)*(Projects!$L$5:$L$2393='Local Detail'!$A75)*(Projects!$J$5:$J$2393<>'Local Detail'!$A$147)*(Projects!$O$5:$O$2393))))","v":0},0]
["SRSN","Safe Routes to School - Non-infrastructure - SAFETEA-LU","Local Other FHWA",{"$f":"SUMPRODUCT((Projects!$A$5:$A$2393='Local Detail'!$D$3)*(Projects!$C$5:$C$2393<>'MDOT FTA Detail'!$C$4)*(Projects!$L$5:$L$2393='Local Detail'!$A76)*(Projects!$K$5:$K$2393))","v":0},{"$f":"((SUMPRODUCT((Projects!$A$5:$A$2393='Local Detail'!$D$3)*(Projects!$C$5:$C$2393<>'MDOT FTA Detail'!$C$4)*(Projects!$L$5:$L$2393='Local Detail'!$A76)*(Projects!$J$5:$J$2393<>'Local Detail'!$A$147)*(Projects!$M$5:$M$2393)))+(SUMPRODUCT((Projects!$A$5:$A$2393='Local Detail'!$D$3)*(Projects!$C$5:$C$2393<>'MDOT FTA Detail'!$C$4)*(Projects!$L$5:$L$2393='Local Detail'!$A76)*(Projects!$J$5:$J$2393<>'Local Detail'!$A$147)*(Projects!$O$5:$O$2393))))","v":0},0,{"$f":"SUMPRODUCT((Projects!$A$5:$A$2393='Local Detail'!$G$3)*(Projects!$C$5:$C$2393<>'MDOT FTA Detail'!$C$4)*(Projects!$L$5:$L$2393='Local Detail'!$A76)*(Projects!$K$5:$K$2393))","v":0},{"$f":"((SUMPRODUCT((Projects!$A$5:$A$2393='Local Detail'!$G$3)*(Projects!$C$5:$C$2393<>'MDOT FTA Detail'!$C$4)*(Projects!$L$5:$L$2393='Local Detail'!$A76)*(Projects!$J$5:$J$2393<>'Local Detail'!$A$147)*(Projects!$M$5:$M$2393)))+(SUMPRODUCT((Projects!$A$5:$A$2393='Local Detail'!$G$3)*(Projects!$C$5:$C$2393<>'MDOT FTA Detail'!$C$4)*(Projects!$L$5:$L$2393='Local Detail'!$A76)*(Projects!$J$5:$J$2393<>'Local Detail'!$A$147)*(Projects!$O$5:$O$2393))))","v":0},0,{"$f":"SUMPRODUCT((Projects!$A$5:$A$2393='Local Detail'!$J$3)*(Projects!$C$5:$C$2393<>'MDOT FTA Detail'!$C$4)*(Projects!$L$5:$L$2393='Local Detail'!$A76)*(Projects!$K$5:$K$2393))","v":0},{"$f":"((SUMPRODUCT((Projects!$A$5:$A$2393='Local Detail'!$J$3)*(Projects!$C$5:$C$2393<>'MDOT FTA Detail'!$C$4)*(Projects!$L$5:$L$2393='Local Detail'!$A76)*(Projects!$J$5:$J$2393<>'Local Detail'!$A$147)*(Projects!$M$5:$M$2393)))+(SUMPRODUCT((Projects!$A$5:$A$2393='Local Detail'!$J$3)*(Projects!$C$5:$C$2393<>'MDOT FTA Detail'!$C$4)*(Projects!$L$5:$L$2393='Local Detail'!$A76)*(Projects!$J$5:$J$2393<>'Local Detail'!$A$147)*(Projects!$O$5:$O$2393))))","v":0},0,{"$f":"SUMPRODUCT((Projects!$A$5:$A$2393='Local Detail'!$M$3)*(Projects!$C$5:$C$2393<>'MDOT FTA Detail'!$C$4)*(Projects!$L$5:$L$2393='Local Detail'!$A76)*(Projects!$K$5:$K$2393))","v":0},{"$f":"((SUMPRODUCT((Projects!$A$5:$A$2393='Local Detail'!$M$3)*(Projects!$C$5:$C$2393<>'MDOT FTA Detail'!$C$4)*(Projects!$L$5:$L$2393='Local Detail'!$A76)*(Projects!$J$5:$J$2393<>'Local Detail'!$A$147)*(Projects!$M$5:$M$2393)))+(SUMPRODUCT((Projects!$A$5:$A$2393='Local Detail'!$M$3)*(Projects!$C$5:$C$2393<>'MDOT FTA Detail'!$C$4)*(Projects!$L$5:$L$2393='Local Detail'!$A76)*(Projects!$J$5:$J$2393<>'Local Detail'!$A$147)*(Projects!$O$5:$O$2393))))","v":0},0]
["SST","Supportive Services Training","Local Other FHWA",{"$f":"SUMPRODUCT((Projects!$A$5:$A$2393='Local Detail'!$D$3)*(Projects!$C$5:$C$2393<>'MDOT FTA Detail'!$C$4)*(Projects!$L$5:$L$2393='Local Detail'!$A77)*(Projects!$K$5:$K$2393))","v":0},{"$f":"((SUMPRODUCT((Projects!$A$5:$A$2393='Local Detail'!$D$3)*(Projects!$C$5:$C$2393<>'MDOT FTA Detail'!$C$4)*(Projects!$L$5:$L$2393='Local Detail'!$A77)*(Projects!$J$5:$J$2393<>'Local Detail'!$A$147)*(Projects!$M$5:$M$2393)))+(SUMPRODUCT((Projects!$A$5:$A$2393='Local Detail'!$D$3)*(Projects!$C$5:$C$2393<>'MDOT FTA Detail'!$C$4)*(Projects!$L$5:$L$2393='Local Detail'!$A77)*(Projects!$J$5:$J$2393<>'Local Detail'!$A$147)*(Projects!$O$5:$O$2393))))","v":0},0,{"$f":"SUMPRODUCT((Projects!$A$5:$A$2393='Local Detail'!$G$3)*(Projects!$C$5:$C$2393<>'MDOT FTA Detail'!$C$4)*(Projects!$L$5:$L$2393='Local Detail'!$A77)*(Projects!$K$5:$K$2393))","v":0},{"$f":"((SUMPRODUCT((Projects!$A$5:$A$2393='Local Detail'!$G$3)*(Projects!$C$5:$C$2393<>'MDOT FTA Detail'!$C$4)*(Projects!$L$5:$L$2393='Local Detail'!$A77)*(Projects!$J$5:$J$2393<>'Local Detail'!$A$147)*(Projects!$M$5:$M$2393)))+(SUMPRODUCT((Projects!$A$5:$A$2393='Local Detail'!$G$3)*(Projects!$C$5:$C$2393<>'MDOT FTA Detail'!$C$4)*(Projects!$L$5:$L$2393='Local Detail'!$A77)*(Projects!$J$5:$J$2393<>'Local Detail'!$A$147)*(Projects!$O$5:$O$2393))))","v":0},0,{"$f":"SUMPRODUCT((Projects!$A$5:$A$2393='Local Detail'!$J$3)*(Projects!$C$5:$C$2393<>'MDOT FTA Detail'!$C$4)*(Projects!$L$5:$L$2393='Local Detail'!$A77)*(Projects!$K$5:$K$2393))","v":0},{"$f":"((SUMPRODUCT((Projects!$A$5:$A$2393='Local Detail'!$J$3)*(Projects!$C$5:$C$2393<>'MDOT FTA Detail'!$C$4)*(Projects!$L$5:$L$2393='Local Detail'!$A77)*(Projects!$J$5:$J$2393<>'Local Detail'!$A$147)*(Projects!$M$5:$M$2393)))+(SUMPRODUCT((Projects!$A$5:$A$2393='Local Detail'!$J$3)*(Projects!$C$5:$C$2393<>'MDOT FTA Detail'!$C$4)*(Projects!$L$5:$L$2393='Local Detail'!$A77)*(Projects!$J$5:$J$2393<>'Local Detail'!$A$147)*(Projects!$O$5:$O$2393))))","v":0},0,{"$f":"SUMPRODUCT((Projects!$A$5:$A$2393='Local Detail'!$M$3)*(Projects!$C$5:$C$2393<>'MDOT FTA Detail'!$C$4)*(Projects!$L$5:$L$2393='Local Detail'!$A77)*(Projects!$K$5:$K$2393))","v":0},{"$f":"((SUMPRODUCT((Projects!$A$5:$A$2393='Local Detail'!$M$3)*(Projects!$C$5:$C$2393<>'MDOT FTA Detail'!$C$4)*(Projects!$L$5:$L$2393='Local Detail'!$A77)*(Projects!$J$5:$J$2393<>'Local Detail'!$A$147)*(Projects!$M$5:$M$2393)))+(SUMPRODUCT((Projects!$A$5:$A$2393='Local Detail'!$M$3)*(Projects!$C$5:$C$2393<>'MDOT FTA Detail'!$C$4)*(Projects!$L$5:$L$2393='Local Detail'!$A77)*(Projects!$J$5:$J$2393<>'Local Detail'!$A$147)*(Projects!$O$5:$O$2393))))","v":0},0]
["ST","Surface Transportation Program (STP) - Any Area","Local STP",{"$f":"SUMPRODUCT((Projects!$A$5:$A$2393='Local Detail'!$D$3)*(Projects!$C$5:$C$2393<>'MDOT FTA Detail'!$C$4)*(Projects!$L$5:$L$2393='Local Detail'!$A78)*(Projects!$K$5:$K$2393))","v":0},{"$f":"((SUMPRODUCT((Projects!$A$5:$A$2393='Local Detail'!$D$3)*(Projects!$C$5:$C$2393<>'MDOT FTA Detail'!$C$4)*(Projects!$L$5:$L$2393='Local Detail'!$A78)*(Projects!$J$5:$J$2393<>'Local Detail'!$A$147)*(Projects!$M$5:$M$2393)))+(SUMPRODUCT((Projects!$A$5:$A$2393='Local Detail'!$D$3)*(Projects!$C$5:$C$2393<>'MDOT FTA Detail'!$C$4)*(Projects!$L$5:$L$2393='Local Detail'!$A78)*(Projects!$J$5:$J$2393<>'Local Detail'!$A$147)*(Projects!$O$5:$O$2393))))","v":0},0,{"$f":"SUMPRODUCT((Projects!$A$5:$A$2393='Local Detail'!$G$3)*(Projects!$C$5:$C$2393<>'MDOT FTA Detail'!$C$4)*(Projects!$L$5:$L$2393='Local Detail'!$A78)*(Projects!$K$5:$K$2393))","v":0},{"$f":"((SUMPRODUCT((Projects!$A$5:$A$2393='Local Detail'!$G$3)*(Projects!$C$5:$C$2393<>'MDOT FTA Detail'!$C$4)*(Projects!$L$5:$L$2393='Local Detail'!$A78)*(Projects!$J$5:$J$2393<>'Local Detail'!$A$147)*(Projects!$M$5:$M$2393)))+(SUMPRODUCT((Projects!$A$5:$A$2393='Local Detail'!$G$3)*(Projects!$C$5:$C$2393<>'MDOT FTA Detail'!$C$4)*(Projects!$L$5:$L$2393='Local Detail'!$A78)*(Projects!$J$5:$J$2393<>'Local Detail'!$A$147)*(Projects!$O$5:$O$2393))))","v":0},0,{"$f":"SUMPRODUCT((Projects!$A$5:$A$2393='Local Detail'!$J$3)*(Projects!$C$5:$C$2393<>'MDOT FTA Detail'!$C$4)*(Projects!$L$5:$L$2393='Local Detail'!$A78)*(Projects!$K$5:$K$2393))","v":0},{"$f":"((SUMPRODUCT((Projects!$A$5:$A$2393='Local Detail'!$J$3)*(Projects!$C$5:$C$2393<>'MDOT FTA Detail'!$C$4)*(Projects!$L$5:$L$2393='Local Detail'!$A78)*(Projects!$J$5:$J$2393<>'Local Detail'!$A$147)*(Projects!$M$5:$M$2393)))+(SUMPRODUCT((Projects!$A$5:$A$2393='Local Detail'!$J$3)*(Projects!$C$5:$C$2393<>'MDOT FTA Detail'!$C$4)*(Projects!$L$5:$L$2393='Local Detail'!$A78)*(Projects!$J$5:$J$2393<>'Local Detail'!$A$147)*(Projects!$O$5:$O$2393))))","v":0},0,{"$f":"SUMPRODUCT((Projects!$A$5:$A$2393='Local Detail'!$M$3)*(Projects!$C$5:$C$2393<>'MDOT FTA Detail'!$C$4)*(Projects!$L$5:$L$2393='Local Detail'!$A78)*(Projects!$K$5:$K$2393))","v":0},{"$f":"((SUMPRODUCT((Projects!$A$5:$A$2393='Local Detail'!$M$3)*(Projects!$C$5:$C$2393<>'MDOT FTA Detail'!$C$4)*(Projects!$L$5:$L$2393='Local Detail'!$A78)*(Projects!$J$5:$J$2393<>'Local Detail'!$A$147)*(Projects!$M$5:$M$2393)))+(SUMPRODUCT((Projects!$A$5:$A$2393='Local Detail'!$M$3)*(Projects!$C$5:$C$2393<>'MDOT FTA Detail'!$C$4)*(Projects!$L$5:$L$2393='Local Detail'!$A78)*(Projects!$J$5:$J$2393<>'Local Detail'!$A$147)*(Projects!$O$5:$O$2393))))","v":0},0]
["STE","STP - Enhancement","Local STP",{"$f":"SUMPRODUCT((Projects!$A$5:$A$2393='Local Detail'!$D$3)*(Projects!$C$5:$C$2393<>'MDOT FTA Detail'!$C$4)*(Projects!$L$5:$L$2393='Local Detail'!$A79)*(Projects!$K$5:$K$2393))","v":0},{"$f":"((SUMPRODUCT((Projects!$A$5:$A$2393='Local Detail'!$D$3)*(Projects!$C$5:$C$2393<>'MDOT FTA Detail'!$C$4)*(Projects!$L$5:$L$2393='Local Detail'!$A79)*(Projects!$J$5:$J$2393<>'Local Detail'!$A$147)*(Projects!$M$5:$M$2393)))+(SUMPRODUCT((Projects!$A$5:$A$2393='Local Detail'!$D$3)*(Projects!$C$5:$C$2393<>'MDOT FTA Detail'!$C$4)*(Projects!$L$5:$L$2393='Local Detail'!$A79)*(Projects!$J$5:$J$2393<>'Local Detail'!$A$147)*(Projects!$O$5:$O$2393))))","v":0},0,{"$f":"SUMPRODUCT((Projects!$A$5:$A$2393='Local Detail'!$G$3)*(Projects!$C$5:$C$2393<>'MDOT FTA Detail'!$C$4)*(Projects!$L$5:$L$2393='Local Detail'!$A79)*(Projects!$K$5:$K$2393))","v":0},{"$f":"((SUMPRODUCT((Projects!$A$5:$A$2393='Local Detail'!$G$3)*(Projects!$C$5:$C$2393<>'MDOT FTA Detail'!$C$4)*(Projects!$L$5:$L$2393='Local Detail'!$A79)*(Projects!$J$5:$J$2393<>'Local Detail'!$A$147)*(Projects!$M$5:$M$2393)))+(SUMPRODUCT((Projects!$A$5:$A$2393='Local Detail'!$G$3)*(Projects!$C$5:$C$2393<>'MDOT FTA Detail'!$C$4)*(Projects!$L$5:$L$2393='Local Detail'!$A79)*(Projects!$J$5:$J$2393<>'Local Detail'!$A$147)*(Projects!$O$5:$O$2393))))","v":0},0,{"$f":"SUMPRODUCT((Projects!$A$5:$A$2393='Local Detail'!$J$3)*(Projects!$C$5:$C$2393<>'MDOT FTA Detail'!$C$4)*(Projects!$L$5:$L$2393='Local Detail'!$A79)*(Projects!$K$5:$K$2393))","v":0},{"$f":"((SUMPRODUCT((Projects!$A$5:$A$2393='Local Detail'!$J$3)*(Projects!$C$5:$C$2393<>'MDOT FTA Detail'!$C$4)*(Projects!$L$5:$L$2393='Local Detail'!$A79)*(Projects!$J$5:$J$2393<>'Local Detail'!$A$147)*(Projects!$M$5:$M$2393)))+(SUMPRODUCT((Projects!$A$5:$A$2393='Local Detail'!$J$3)*(Projects!$C$5:$C$2393<>'MDOT FTA Detail'!$C$4)*(Projects!$L$5:$L$2393='Local Detail'!$A79)*(Projects!$J$5:$J$2393<>'Local Detail'!$A$147)*(Projects!$O$5:$O$2393))))","v":0},0,{"$f":"SUMPRODUCT((Projects!$A$5:$A$2393='Local Detail'!$M$3)*(Projects!$C$5:$C$2393<>'MDOT FTA Detail'!$C$4)*(Projects!$L$5:$L$2393='Local Detail'!$A79)*(Projects!$K$5:$K$2393))","v":0},{"$f":"((SUMPRODUCT((Projects!$A$5:$A$2393='Local Detail'!$M$3)*(Projects!$C$5:$C$2393<>'MDOT FTA Detail'!$C$4)*(Projects!$L$5:$L$2393='Local Detail'!$A79)*(Projects!$J$5:$J$2393<>'Local Detail'!$A$147)*(Projects!$M$5:$M$2393)))+(SUMPRODUCT((Projects!$A$5:$A$2393='Local Detail'!$M$3)*(Projects!$C$5:$C$2393<>'MDOT FTA Detail'!$C$4)*(Projects!$L$5:$L$2393='Local Detail'!$A79)*(Projects!$J$5:$J$2393<>'Local Detail'!$A$147)*(Projects!$O$5:$O$2393))))","v":0},0]
["STG","STP - Safety - 100% Federal for ST","Local Safety",{"$f":"SUMPRODUCT((Projects!$A$5:$A$2393='Local Detail'!$D$3)*(Projects!$C$5:$C$2393<>'MDOT FTA Detail'!$C$4)*(Projects!$L$5:$L$2393='Local Detail'!$A80)*(Projects!$K$5:$K$2393))","v":0},{"$f":"((SUMPRODUCT((Projects!$A$5:$A$2393='Local Detail'!$D$3)*(Projects!$C$5:$C$2393<>'MDOT FTA Detail'!$C$4)*(Projects!$L$5:$L$2393='Local Detail'!$A80)*(Projects!$J$5:$J$2393<>'Local Detail'!$A$147)*(Projects!$M$5:$M$2393)))+(SUMPRODUCT((Projects!$A$5:$A$2393='Local Detail'!$D$3)*(Projects!$C$5:$C$2393<>'MDOT FTA Detail'!$C$4)*(Projects!$L$5:$L$2393='Local Detail'!$A80)*(Projects!$J$5:$J$2393<>'Local Detail'!$A$147)*(Projects!$O$5:$O$2393))))","v":0},0,{"$f":"SUMPRODUCT((Projects!$A$5:$A$2393='Local Detail'!$G$3)*(Projects!$C$5:$C$2393<>'MDOT FTA Detail'!$C$4)*(Projects!$L$5:$L$2393='Local Detail'!$A80)*(Projects!$K$5:$K$2393))","v":0},{"$f":"((SUMPRODUCT((Projects!$A$5:$A$2393='Local Detail'!$G$3)*(Projects!$C$5:$C$2393<>'MDOT FTA Detail'!$C$4)*(Projects!$L$5:$L$2393='Local Detail'!$A80)*(Projects!$J$5:$J$2393<>'Local Detail'!$A$147)*(Projects!$M$5:$M$2393)))+(SUMPRODUCT((Projects!$A$5:$A$2393='Local Detail'!$G$3)*(Projects!$C$5:$C$2393<>'MDOT FTA Detail'!$C$4)*(Projects!$L$5:$L$2393='Local Detail'!$A80)*(Projects!$J$5:$J$2393<>'Local Detail'!$A$147)*(Projects!$O$5:$O$2393))))","v":0},0,{"$f":"SUMPRODUCT((Projects!$A$5:$A$2393='Local Detail'!$J$3)*(Projects!$C$5:$C$2393<>'MDOT FTA Detail'!$C$4)*(Projects!$L$5:$L$2393='Local Detail'!$A80)*(Projects!$K$5:$K$2393))","v":0},{"$f":"((SUMPRODUCT((Projects!$A$5:$A$2393='Local Detail'!$J$3)*(Projects!$C$5:$C$2393<>'MDOT FTA Detail'!$C$4)*(Projects!$L$5:$L$2393='Local Detail'!$A80)*(Projects!$J$5:$J$2393<>'Local Detail'!$A$147)*(Projects!$M$5:$M$2393)))+(SUMPRODUCT((Projects!$A$5:$A$2393='Local Detail'!$J$3)*(Projects!$C$5:$C$2393<>'MDOT FTA Detail'!$C$4)*(Projects!$L$5:$L$2393='Local Detail'!$A80)*(Projects!$J$5:$J$2393<>'Local Detail'!$A$147)*(Projects!$O$5:$O$2393))))","v":0},0,{"$f":"SUMPRODUCT((Projects!$A$5:$A$2393='Local Detail'!$M$3)*(Projects!$C$5:$C$2393<>'MDOT FTA Detail'!$C$4)*(Projects!$L$5:$L$2393='Local Detail'!$A80)*(Projects!$K$5:$K$2393))","v":0},{"$f":"((SUMPRODUCT((Projects!$A$5:$A$2393='Local Detail'!$M$3)*(Projects!$C$5:$C$2393<>'MDOT FTA Detail'!$C$4)*(Projects!$L$5:$L$2393='Local Detail'!$A80)*(Projects!$J$5:$J$2393<>'Local Detail'!$A$147)*(Projects!$M$5:$M$2393)))+(SUMPRODUCT((Projects!$A$5:$A$2393='Local Detail'!$M$3)*(Projects!$C$5:$C$2393<>'MDOT FTA Detail'!$C$4)*(Projects!$L$5:$L$2393='Local Detail'!$A80)*(Projects!$J$5:$J$2393<>'Local Detail'!$A$147)*(Projects!$O$5:$O$2393))))","v":0},0]
["STH","STP - Safety - Hazard Elimination","Local Safety",{"$f":"SUMPRODUCT((Projects!$A$5:$A$2393='Local Detail'!$D$3)*(Projects!$C$5:$C$2393<>'MDOT FTA Detail'!$C$4)*(Projects!$L$5:$L$2393='Local Detail'!$A81)*(Projects!$K$5:$K$2393))","v":0},{"$f":"((SUMPRODUCT((Projects!$A$5:$A$2393='Local Detail'!$D$3)*(Projects!$C$5:$C$2393<>'MDOT FTA Detail'!$C$4)*(Projects!$L$5:$L$2393='Local Detail'!$A81)*(Projects!$J$5:$J$2393<>'Local Detail'!$A$147)*(Projects!$M$5:$M$2393)))+(SUMPRODUCT((Projects!$A$5:$A$2393='Local Detail'!$D$3)*(Projects!$C$5:$C$2393<>'MDOT FTA Detail'!$C$4)*(Projects!$L$5:$L$2393='Local Detail'!$A81)*(Projects!$J$5:$J$2393<>'Local Detail'!$A$147)*(Projects!$O$5:$O$2393))))","v":0},0,{"$f":"SUMPRODUCT((Projects!$A$5:$A$2393='Local Detail'!$G$3)*(Projects!$C$5:$C$2393<>'MDOT FTA Detail'!$C$4)*(Projects!$L$5:$L$2393='Local Detail'!$A81)*(Projects!$K$5:$K$2393))","v":0},{"$f":"((SUMPRODUCT((Projects!$A$5:$A$2393='Local Detail'!$G$3)*(Projects!$C$5:$C$2393<>'MDOT FTA Detail'!$C$4)*(Projects!$L$5:$L$2393='Local Detail'!$A81)*(Projects!$J$5:$J$2393<>'Local Detail'!$A$147)*(Projects!$M$5:$M$2393)))+(SUMPRODUCT((Projects!$A$5:$A$2393='Local Detail'!$G$3)*(Projects!$C$5:$C$2393<>'MDOT FTA Detail'!$C$4)*(Projects!$L$5:$L$2393='Local Detail'!$A81)*(Projects!$J$5:$J$2393<>'Local Detail'!$A$147)*(Projects!$O$5:$O$2393))))","v":0},0,{"$f":"SUMPRODUCT((Projects!$A$5:$A$2393='Local Detail'!$J$3)*(Projects!$C$5:$C$2393<>'MDOT FTA Detail'!$C$4)*(Projects!$L$5:$L$2393='Local Detail'!$A81)*(Projects!$K$5:$K$2393))","v":0},{"$f":"((SUMPRODUCT((Projects!$A$5:$A$2393='Local Detail'!$J$3)*(Projects!$C$5:$C$2393<>'MDOT FTA Detail'!$C$4)*(Projects!$L$5:$L$2393='Local Detail'!$A81)*(Projects!$J$5:$J$2393<>'Local Detail'!$A$147)*(Projects!$M$5:$M$2393)))+(SUMPRODUCT((Projects!$A$5:$A$2393='Local Detail'!$J$3)*(Projects!$C$5:$C$2393<>'MDOT FTA Detail'!$C$4)*(Projects!$L$5:$L$2393='Local Detail'!$A81)*(Projects!$J$5:$J$2393<>'Local Detail'!$A$147)*(Projects!$O$5:$O$2393))))","v":0},0,{"$f":"SUMPRODUCT((Projects!$A$5:$A$2393='Local Detail'!$M$3)*(Projects!$C$5:$C$2393<>'MDOT FTA Detail'!$C$4)*(Projects!$L$5:$L$2393='Local Detail'!$A81)*(Projects!$K$5:$K$2393))","v":0},{"$f":"((SUMPRODUCT((Projects!$A$5:$A$2393='Local Detail'!$M$3)*(Projects!$C$5:$C$2393<>'MDOT FTA Detail'!$C$4)*(Projects!$L$5:$L$2393='Local Detail'!$A81)*(Projects!$J$5:$J$2393<>'Local Detail'!$A$147)*(Projects!$M$5:$M$2393)))+(SUMPRODUCT((Projects!$A$5:$A$2393='Local Detail'!$M$3)*(Projects!$C$5:$C$2393<>'MDOT FTA Detail'!$C$4)*(Projects!$L$5:$L$2393='Local Detail'!$A81)*(Projects!$J$5:$J$2393<>'Local Detail'!$A$147)*(Projects!$O$5:$O$2393))))","v":0},0]
["STI","STP - Interstate (90%)","Local STP",{"$f":"SUMPRODUCT((Projects!$A$5:$A$2393='Local Detail'!$D$3)*(Projects!$C$5:$C$2393<>'MDOT FTA Detail'!$C$4)*(Projects!$L$5:$L$2393='Local Detail'!$A82)*(Projects!$K$5:$K$2393))","v":0},{"$f":"((SUMPRODUCT((Projects!$A$5:$A$2393='Local Detail'!$D$3)*(Projects!$C$5:$C$2393<>'MDOT FTA Detail'!$C$4)*(Projects!$L$5:$L$2393='Local Detail'!$A82)*(Projects!$J$5:$J$2393<>'Local Detail'!$A$147)*(Projects!$M$5:$M$2393)))+(SUMPRODUCT((Projects!$A$5:$A$2393='Local Detail'!$D$3)*(Projects!$C$5:$C$2393<>'MDOT FTA Detail'!$C$4)*(Projects!$L$5:$L$2393='Local Detail'!$A82)*(Projects!$J$5:$J$2393<>'Local Detail'!$A$147)*(Projects!$O$5:$O$2393))))","v":0},0,{"$f":"SUMPRODUCT((Projects!$A$5:$A$2393='Local Detail'!$G$3)*(Projects!$C$5:$C$2393<>'MDOT FTA Detail'!$C$4)*(Projects!$L$5:$L$2393='Local Detail'!$A82)*(Projects!$K$5:$K$2393))","v":0},{"$f":"((SUMPRODUCT((Projects!$A$5:$A$2393='Local Detail'!$G$3)*(Projects!$C$5:$C$2393<>'MDOT FTA Detail'!$C$4)*(Projects!$L$5:$L$2393='Local Detail'!$A82)*(Projects!$J$5:$J$2393<>'Local Detail'!$A$147)*(Projects!$M$5:$M$2393)))+(SUMPRODUCT((Projects!$A$5:$A$2393='Local Detail'!$G$3)*(Projects!$C$5:$C$2393<>'MDOT FTA Detail'!$C$4)*(Projects!$L$5:$L$2393='Local Detail'!$A82)*(Projects!$J$5:$J$2393<>'Local Detail'!$A$147)*(Projects!$O$5:$O$2393))))","v":0},0,{"$f":"SUMPRODUCT((Projects!$A$5:$A$2393='Local Detail'!$J$3)*(Projects!$C$5:$C$2393<>'MDOT FTA Detail'!$C$4)*(Projects!$L$5:$L$2393='Local Detail'!$A82)*(Projects!$K$5:$K$2393))","v":0},{"$f":"((SUMPRODUCT((Projects!$A$5:$A$2393='Local Detail'!$J$3)*(Projects!$C$5:$C$2393<>'MDOT FTA Detail'!$C$4)*(Projects!$L$5:$L$2393='Local Detail'!$A82)*(Projects!$J$5:$J$2393<>'Local Detail'!$A$147)*(Projects!$M$5:$M$2393)))+(SUMPRODUCT((Projects!$A$5:$A$2393='Local Detail'!$J$3)*(Projects!$C$5:$C$2393<>'MDOT FTA Detail'!$C$4)*(Projects!$L$5:$L$2393='Local Detail'!$A82)*(Projects!$J$5:$J$2393<>'Local Detail'!$A$147)*(Projects!$O$5:$O$2393))))","v":0},0,{"$f":"SUMPRODUCT((Projects!$A$5:$A$2393='Local Detail'!$M$3)*(Projects!$C$5:$C$2393<>'MDOT FTA Detail'!$C$4)*(Projects!$L$5:$L$2393='Local Detail'!$A82)*(Projects!$K$5:$K$2393))","v":0},{"$f":"((SUMPRODUCT((Projects!$A$5:$A$2393='Local Detail'!$M$3)*(Projects!$C$5:$C$2393<>'MDOT FTA Detail'!$C$4)*(Projects!$L$5:$L$2393='Local Detail'!$A82)*(Projects!$J$5:$J$2393<>'Local Detail'!$A$147)*(Projects!$M$5:$M$2393)))+(SUMPRODUCT((Projects!$A$5:$A$2393='Local Detail'!$M$3)*(Projects!$C$5:$C$2393<>'MDOT FTA Detail'!$C$4)*(Projects!$L$5:$L$2393='Local Detail'!$A82)*(Projects!$J$5:$J$2393<>'Local Detail'!$A$147)*(Projects!$O$5:$O$2393))))","v":0},0]
["STL","STP - Local","Local STP",{"$f":"SUMPRODUCT((Projects!$A$5:$A$2393='Local Detail'!$D$3)*(Projects!$C$5:$C$2393<>'MDOT FTA Detail'!$C$4)*(Projects!$L$5:$L$2393='Local Detail'!$A83)*(Projects!$K$5:$K$2393))","v":600151},{"$f":"((SUMPRODUCT((Projects!$A$5:$A$2393='Local Detail'!$D$3)*(Projects!$C$5:$C$2393<>'MDOT FTA Detail'!$C$4)*(Projects!$L$5:$L$2393='Local Detail'!$A83)*(Projects!$J$5:$J$2393<>'Local Detail'!$A$147)*(Projects!$M$5:$M$2393)))+(SUMPRODUCT((Projects!$A$5:$A$2393='Local Detail'!$D$3)*(Projects!$C$5:$C$2393<>'MDOT FTA Detail'!$C$4)*(Projects!$L$5:$L$2393='Local Detail'!$A83)*(Projects!$J$5:$J$2393<>'Local Detail'!$A$147)*(Projects!$O$5:$O$2393))))","v":229849},830000,{"$f":"SUMPRODUCT((Projects!$A$5:$A$2393='Local Detail'!$G$3)*(Projects!$C$5:$C$2393<>'MDOT FTA Detail'!$C$4)*(Projects!$L$5:$L$2393='Local Detail'!$A83)*(Projects!$K$5:$K$2393))","v":438090},{"$f":"((SUMPRODUCT((Projects!$A$5:$A$2393='Local Detail'!$G$3)*(Projects!$C$5:$C$2393<>'MDOT FTA Detail'!$C$4)*(Projects!$L$5:$L$2393='Local Detail'!$A83)*(Projects!$J$5:$J$2393<>'Local Detail'!$A$147)*(Projects!$M$5:$M$2393)))+(SUMPRODUCT((Projects!$A$5:$A$2393='Local Detail'!$G$3)*(Projects!$C$5:$C$2393<>'MDOT FTA Detail'!$C$4)*(Projects!$L$5:$L$2393='Local Detail'!$A83)*(Projects!$J$5:$J$2393<>'Local Detail'!$A$147)*(Projects!$O$5:$O$2393))))","v":172348},610438,{"$f":"SUMPRODUCT((Projects!$A$5:$A$2393='Local Detail'!$J$3)*(Projects!$C$5:$C$2393<>'MDOT FTA Detail'!$C$4)*(Projects!$L$5:$L$2393='Local Detail'!$A83)*(Projects!$K$5:$K$2393))","v":438090},{"$f":"((SUMPRODUCT((Projects!$A$5:$A$2393='Local Detail'!$J$3)*(Projects!$C$5:$C$2393<>'MDOT FTA Detail'!$C$4)*(Projects!$L$5:$L$2393='Local Detail'!$A83)*(Projects!$J$5:$J$2393<>'Local Detail'!$A$147)*(Projects!$M$5:$M$2393)))+(SUMPRODUCT((Projects!$A$5:$A$2393='Local Detail'!$J$3)*(Projects!$C$5:$C$2393<>'MDOT FTA Detail'!$C$4)*(Projects!$L$5:$L$2393='Local Detail'!$A83)*(Projects!$J$5:$J$2393<>'Local Detail'!$A$147)*(Projects!$O$5:$O$2393))))","v":202393},640483,{"$f":"SUMPRODUCT((Projects!$A$5:$A$2393='Local Detail'!$M$3)*(Projects!$C$5:$C$2393<>'MDOT FTA Detail'!$C$4)*(Projects!$L$5:$L$2393='Local Detail'!$A83)*(Projects!$K$5:$K$2393))","v":438090},{"$f":"((SUMPRODUCT((Projects!$A$5:$A$2393='Local Detail'!$M$3)*(Projects!$C$5:$C$2393<>'MDOT FTA Detail'!$C$4)*(Projects!$L$5:$L$2393='Local Detail'!$A83)*(Projects!$J$5:$J$2393<>'Local Detail'!$A$147)*(Projects!$M$5:$M$2393)))+(SUMPRODUCT((Projects!$A$5:$A$2393='Local Detail'!$M$3)*(Projects!$C$5:$C$2393<>'MDOT FTA Detail'!$C$4)*(Projects!$L$5:$L$2393='Local Detail'!$A83)*(Projects!$J$5:$J$2393<>'Local Detail'!$A$147)*(Projects!$O$5:$O$2393))))","v":202393},640483]
["STLG","Surface Transportation Safety 100% Federal for STL Items","Local STP",{"$f":"SUMPRODUCT((Projects!$A$5:$A$2393='Local Detail'!$D$3)*(Projects!$C$5:$C$2393<>'MDOT FTA Detail'!$C$4)*(Projects!$L$5:$L$2393='Local Detail'!$A84)*(Projects!$K$5:$K$2393))","v":0},{"$f":"((SUMPRODUCT((Projects!$A$5:$A$2393='Local Detail'!$D$3)*(Projects!$C$5:$C$2393<>'MDOT FTA Detail'!$C$4)*(Projects!$L$5:$L$2393='Local Detail'!$A84)*(Projects!$J$5:$J$2393<>'Local Detail'!$A$147)*(Projects!$M$5:$M$2393)))+(SUMPRODUCT((Projects!$A$5:$A$2393='Local Detail'!$D$3)*(Projects!$C$5:$C$2393<>'MDOT FTA Detail'!$C$4)*(Projects!$L$5:$L$2393='Local Detail'!$A84)*(Projects!$J$5:$J$2393<>'Local Detail'!$A$147)*(Projects!$O$5:$O$2393))))","v":0},{"$f":"D84+E84","v":0},{"$f":"SUMPRODUCT((Projects!$A$5:$A$2393='Local Detail'!$G$3)*(Projects!$C$5:$C$2393<>'MDOT FTA Detail'!$C$4)*(Projects!$L$5:$L$2393='Local Detail'!$A84)*(Projects!$K$5:$K$2393))","v":0},{"$f":"((SUMPRODUCT((Projects!$A$5:$A$2393='Local Detail'!$G$3)*(Projects!$C$5:$C$2393<>'MDOT FTA Detail'!$C$4)*(Projects!$L$5:$L$2393='Local Detail'!$A84)*(Projects!$J$5:$J$2393<>'Local Detail'!$A$147)*(Projects!$M$5:$M$2393)))+(SUMPRODUCT((Projects!$A$5:$A$2393='Local Detail'!$G$3)*(Projects!$C$5:$C$2393<>'MDOT FTA Detail'!$C$4)*(Projects!$L$5:$L$2393='Local Detail'!$A84)*(Projects!$J$5:$J$2393<>'Local Detail'!$A$147)*(Projects!$O$5:$O$2393))))","v":0},{"$f":"G84+H84","v":0},{"$f":"SUMPRODUCT((Projects!$A$5:$A$2393='Local Detail'!$J$3)*(Projects!$C$5:$C$2393<>'MDOT FTA Detail'!$C$4)*(Projects!$L$5:$L$2393='Local Detail'!$A84)*(Projects!$K$5:$K$2393))","v":0},{"$f":"((SUMPRODUCT((Projects!$A$5:$A$2393='Local Detail'!$J$3)*(Projects!$C$5:$C$2393<>'MDOT FTA Detail'!$C$4)*(Projects!$L$5:$L$2393='Local Detail'!$A84)*(Projects!$J$5:$J$2393<>'Local Detail'!$A$147)*(Projects!$M$5:$M$2393)))+(SUMPRODUCT((Projects!$A$5:$A$2393='Local Detail'!$J$3)*(Projects!$C$5:$C$2393<>'MDOT FTA Detail'!$C$4)*(Projects!$L$5:$L$2393='Local Detail'!$A84)*(Projects!$J$5:$J$2393<>'Local Detail'!$A$147)*(Projects!$O$5:$O$2393))))","v":0},{"$f":"J84+K84","v":0},{"$f":"SUMPRODUCT((Projects!$A$5:$A$2393='Local Detail'!$M$3)*(Projects!$C$5:$C$2393<>'MDOT FTA Detail'!$C$4)*(Projects!$L$5:$L$2393='Local Detail'!$A84)*(Projects!$K$5:$K$2393))","v":0},{"$f":"((SUMPRODUCT((Projects!$A$5:$A$2393='Local Detail'!$M$3)*(Projects!$C$5:$C$2393<>'MDOT FTA Detail'!$C$4)*(Projects!$L$5:$L$2393='Local Detail'!$A84)*(Projects!$J$5:$J$2393<>'Local Detail'!$A$147)*(Projects!$M$5:$M$2393)))+(SUMPRODUCT((Projects!$A$5:$A$2393='Local Detail'!$M$3)*(Projects!$C$5:$C$2393<>'MDOT FTA Detail'!$C$4)*(Projects!$L$5:$L$2393='Local Detail'!$A84)*(Projects!$J$5:$J$2393<>'Local Detail'!$A$147)*(Projects!$O$5:$O$2393))))","v":0},{"$f":"M84+N84","v":0}]
["STR","STP - Safety - Rail-Highway Crossing Protection","Local STP",{"$f":"SUMPRODUCT((Projects!$A$5:$A$2393='Local Detail'!$D$3)*(Projects!$C$5:$C$2393<>'MDOT FTA Detail'!$C$4)*(Projects!$L$5:$L$2393='Local Detail'!$A85)*(Projects!$K$5:$K$2393))","v":0},{"$f":"((SUMPRODUCT((Projects!$A$5:$A$2393='Local Detail'!$D$3)*(Projects!$C$5:$C$2393<>'MDOT FTA Detail'!$C$4)*(Projects!$L$5:$L$2393='Local Detail'!$A85)*(Projects!$J$5:$J$2393<>'Local Detail'!$A$147)*(Projects!$M$5:$M$2393)))+(SUMPRODUCT((Projects!$A$5:$A$2393='Local Detail'!$D$3)*(Projects!$C$5:$C$2393<>'MDOT FTA Detail'!$C$4)*(Projects!$L$5:$L$2393='Local Detail'!$A85)*(Projects!$J$5:$J$2393<>'Local Detail'!$A$147)*(Projects!$O$5:$O$2393))))","v":0},0,{"$f":"SUMPRODUCT((Projects!$A$5:$A$2393='Local Detail'!$G$3)*(Projects!$C$5:$C$2393<>'MDOT FTA Detail'!$C$4)*(Projects!$L$5:$L$2393='Local Detail'!$A85)*(Projects!$K$5:$K$2393))","v":0},{"$f":"((SUMPRODUCT((Projects!$A$5:$A$2393='Local Detail'!$G$3)*(Projects!$C$5:$C$2393<>'MDOT FTA Detail'!$C$4)*(Projects!$L$5:$L$2393='Local Detail'!$A85)*(Projects!$J$5:$J$2393<>'Local Detail'!$A$147)*(Projects!$M$5:$M$2393)))+(SUMPRODUCT((Projects!$A$5:$A$2393='Local Detail'!$G$3)*(Projects!$C$5:$C$2393<>'MDOT FTA Detail'!$C$4)*(Projects!$L$5:$L$2393='Local Detail'!$A85)*(Projects!$J$5:$J$2393<>'Local Detail'!$A$147)*(Projects!$O$5:$O$2393))))","v":0},0,{"$f":"SUMPRODUCT((Projects!$A$5:$A$2393='Local Detail'!$J$3)*(Projects!$C$5:$C$2393<>'MDOT FTA Detail'!$C$4)*(Projects!$L$5:$L$2393='Local Detail'!$A85)*(Projects!$K$5:$K$2393))","v":0},{"$f":"((SUMPRODUCT((Projects!$A$5:$A$2393='Local Detail'!$J$3)*(Projects!$C$5:$C$2393<>'MDOT FTA Detail'!$C$4)*(Projects!$L$5:$L$2393='Local Detail'!$A85)*(Projects!$J$5:$J$2393<>'Local Detail'!$A$147)*(Projects!$M$5:$M$2393)))+(SUMPRODUCT((Projects!$A$5:$A$2393='Local Detail'!$J$3)*(Projects!$C$5:$C$2393<>'MDOT FTA Detail'!$C$4)*(Projects!$L$5:$L$2393='Local Detail'!$A85)*(Projects!$J$5:$J$2393<>'Local Detail'!$A$147)*(Projects!$O$5:$O$2393))))","v":0},0,{"$f":"SUMPRODUCT((Projects!$A$5:$A$2393='Local Detail'!$M$3)*(Projects!$C$5:$C$2393<>'MDOT FTA Detail'!$C$4)*(Projects!$L$5:$L$2393='Local Detail'!$A85)*(Projects!$K$5:$K$2393))","v":0},{"$f":"((SUMPRODUCT((Projects!$A$5:$A$2393='Local Detail'!$M$3)*(Projects!$C$5:$C$2393<>'MDOT FTA Detail'!$C$4)*(Projects!$L$5:$L$2393='Local Detail'!$A85)*(Projects!$J$5:$J$2393<>'Local Detail'!$A$147)*(Projects!$M$5:$M$2393)))+(SUMPRODUCT((Projects!$A$5:$A$2393='Local Detail'!$M$3)*(Projects!$C$5:$C$2393<>'MDOT FTA Detail'!$C$4)*(Projects!$L$5:$L$2393='Local Detail'!$A85)*(Projects!$J$5:$J$2393<>'Local Detail'!$A$147)*(Projects!$O$5:$O$2393))))","v":0},0]
["STRG","STP - Safety Rail-Highway & Incentive Payment - 100% Federal","Local STP",{"$f":"SUMPRODUCT((Projects!$A$5:$A$2393='Local Detail'!$D$3)*(Projects!$C$5:$C$2393<>'MDOT FTA Detail'!$C$4)*(Projects!$L$5:$L$2393='Local Detail'!$A86)*(Projects!$K$5:$K$2393))","v":0},{"$f":"((SUMPRODUCT((Projects!$A$5:$A$2393='Local Detail'!$D$3)*(Projects!$C$5:$C$2393<>'MDOT FTA Detail'!$C$4)*(Projects!$L$5:$L$2393='Local Detail'!$A86)*(Projects!$J$5:$J$2393<>'Local Detail'!$A$147)*(Projects!$M$5:$M$2393)))+(SUMPRODUCT((Projects!$A$5:$A$2393='Local Detail'!$D$3)*(Projects!$C$5:$C$2393<>'MDOT FTA Detail'!$C$4)*(Projects!$L$5:$L$2393='Local Detail'!$A86)*(Projects!$J$5:$J$2393<>'Local Detail'!$A$147)*(Projects!$O$5:$O$2393))))","v":0},0,{"$f":"SUMPRODUCT((Projects!$A$5:$A$2393='Local Detail'!$G$3)*(Projects!$C$5:$C$2393<>'MDOT FTA Detail'!$C$4)*(Projects!$L$5:$L$2393='Local Detail'!$A86)*(Projects!$K$5:$K$2393))","v":0},{"$f":"((SUMPRODUCT((Projects!$A$5:$A$2393='Local Detail'!$G$3)*(Projects!$C$5:$C$2393<>'MDOT FTA Detail'!$C$4)*(Projects!$L$5:$L$2393='Local Detail'!$A86)*(Projects!$J$5:$J$2393<>'Local Detail'!$A$147)*(Projects!$M$5:$M$2393)))+(SUMPRODUCT((Projects!$A$5:$A$2393='Local Detail'!$G$3)*(Projects!$C$5:$C$2393<>'MDOT FTA Detail'!$C$4)*(Projects!$L$5:$L$2393='Local Detail'!$A86)*(Projects!$J$5:$J$2393<>'Local Detail'!$A$147)*(Projects!$O$5:$O$2393))))","v":0},0,{"$f":"SUMPRODUCT((Projects!$A$5:$A$2393='Local Detail'!$J$3)*(Projects!$C$5:$C$2393<>'MDOT FTA Detail'!$C$4)*(Projects!$L$5:$L$2393='Local Detail'!$A86)*(Projects!$K$5:$K$2393))","v":0},{"$f":"((SUMPRODUCT((Projects!$A$5:$A$2393='Local Detail'!$J$3)*(Projects!$C$5:$C$2393<>'MDOT FTA Detail'!$C$4)*(Projects!$L$5:$L$2393='Local Detail'!$A86)*(Projects!$J$5:$J$2393<>'Local Detail'!$A$147)*(Projects!$M$5:$M$2393)))+(SUMPRODUCT((Projects!$A$5:$A$2393='Local Detail'!$J$3)*(Projects!$C$5:$C$2393<>'MDOT FTA Detail'!$C$4)*(Projects!$L$5:$L$2393='Local Detail'!$A86)*(Projects!$J$5:$J$2393<>'Local Detail'!$A$147)*(Projects!$O$5:$O$2393))))","v":0},0,{"$f":"SUMPRODUCT((Projects!$A$5:$A$2393='Local Detail'!$M$3)*(Projects!$C$5:$C$2393<>'MDOT FTA Detail'!$C$4)*(Projects!$L$5:$L$2393='Local Detail'!$A86)*(Projects!$K$5:$K$2393))","v":0},{"$f":"((SUMPRODUCT((Projects!$A$5:$A$2393='Local Detail'!$M$3)*(Projects!$C$5:$C$2393<>'MDOT FTA Detail'!$C$4)*(Projects!$L$5:$L$2393='Local Detail'!$A86)*(Projects!$J$5:$J$2393<>'Local Detail'!$A$147)*(Projects!$M$5:$M$2393)))+(SUMPRODUCT((Projects!$A$5:$A$2393='Local Detail'!$M$3)*(Projects!$C$5:$C$2393<>'MDOT FTA Detail'!$C$4)*(Projects!$L$5:$L$2393='Local Detail'!$A86)*(Projects!$J$5:$J$2393<>'Local Detail'!$A$147)*(Projects!$O$5:$O$2393))))","v":0},0]
["STRH","Surface Transportation Safety Highway Crossing Hazard Elimination","Local STP",{"$f":"SUMPRODUCT((Projects!$A$5:$A$2393='Local Detail'!$D$3)*(Projects!$C$5:$C$2393<>'MDOT FTA Detail'!$C$4)*(Projects!$L$5:$L$2393='Local Detail'!$A87)*(Projects!$K$5:$K$2393))","v":0},{"$f":"((SUMPRODUCT((Projects!$A$5:$A$2393='Local Detail'!$D$3)*(Projects!$C$5:$C$2393<>'MDOT FTA Detail'!$C$4)*(Projects!$L$5:$L$2393='Local Detail'!$A87)*(Projects!$J$5:$J$2393<>'Local Detail'!$A$147)*(Projects!$M$5:$M$2393)))+(SUMPRODUCT((Projects!$A$5:$A$2393='Local Detail'!$D$3)*(Projects!$C$5:$C$2393<>'MDOT FTA Detail'!$C$4)*(Projects!$L$5:$L$2393='Local Detail'!$A87)*(Projects!$J$5:$J$2393<>'Local Detail'!$A$147)*(Projects!$O$5:$O$2393))))","v":0},{"$f":"D87+E87","v":0},{"$f":"SUMPRODUCT((Projects!$A$5:$A$2393='Local Detail'!$G$3)*(Projects!$C$5:$C$2393<>'MDOT FTA Detail'!$C$4)*(Projects!$L$5:$L$2393='Local Detail'!$A87)*(Projects!$K$5:$K$2393))","v":0},{"$f":"((SUMPRODUCT((Projects!$A$5:$A$2393='Local Detail'!$G$3)*(Projects!$C$5:$C$2393<>'MDOT FTA Detail'!$C$4)*(Projects!$L$5:$L$2393='Local Detail'!$A87)*(Projects!$J$5:$J$2393<>'Local Detail'!$A$147)*(Projects!$M$5:$M$2393)))+(SUMPRODUCT((Projects!$A$5:$A$2393='Local Detail'!$G$3)*(Projects!$C$5:$C$2393<>'MDOT FTA Detail'!$C$4)*(Projects!$L$5:$L$2393='Local Detail'!$A87)*(Projects!$J$5:$J$2393<>'Local Detail'!$A$147)*(Projects!$O$5:$O$2393))))","v":0},{"$f":"G87+H87","v":0},{"$f":"SUMPRODUCT((Projects!$A$5:$A$2393='Local Detail'!$J$3)*(Projects!$C$5:$C$2393<>'MDOT FTA Detail'!$C$4)*(Projects!$L$5:$L$2393='Local Detail'!$A87)*(Projects!$K$5:$K$2393))","v":0},{"$f":"((SUMPRODUCT((Projects!$A$5:$A$2393='Local Detail'!$J$3)*(Projects!$C$5:$C$2393<>'MDOT FTA Detail'!$C$4)*(Projects!$L$5:$L$2393='Local Detail'!$A87)*(Projects!$J$5:$J$2393<>'Local Detail'!$A$147)*(Projects!$M$5:$M$2393)))+(SUMPRODUCT((Projects!$A$5:$A$2393='Local Detail'!$J$3)*(Projects!$C$5:$C$2393<>'MDOT FTA Detail'!$C$4)*(Projects!$L$5:$L$2393='Local Detail'!$A87)*(Projects!$J$5:$J$2393<>'Local Detail'!$A$147)*(Projects!$O$5:$O$2393))))","v":0},{"$f":"J87+K87","v":0},{"$f":"SUMPRODUCT((Projects!$A$5:$A$2393='Local Detail'!$M$3)*(Projects!$C$5:$C$2393<>'MDOT FTA Detail'!$C$4)*(Projects!$L$5:$L$2393='Local Detail'!$A87)*(Projects!$K$5:$K$2393))","v":0},{"$f":"((SUMPRODUCT((Projects!$A$5:$A$2393='Local Detail'!$M$3)*(Projects!$C$5:$C$2393<>'MDOT FTA Detail'!$C$4)*(Projects!$L$5:$L$2393='Local Detail'!$A87)*(Projects!$J$5:$J$2393<>'Local Detail'!$A$147)*(Projects!$M$5:$M$2393)))+(SUMPRODUCT((Projects!$A$5:$A$2393='Local Detail'!$M$3)*(Projects!$C$5:$C$2393<>'MDOT FTA Detail'!$C$4)*(Projects!$L$5:$L$2393='Local Detail'!$A87)*(Projects!$J$5:$J$2393<>'Local Detail'!$A$147)*(Projects!$O$5:$O$2393))))","v":0},{"$f":"M87+N87","v":0}]
["STRP","Surface Transportation Safety Highway Crossing Protection Devices","Local STP",{"$f":"SUMPRODUCT((Projects!$A$5:$A$2393='Local Detail'!$D$3)*(Projects!$C$5:$C$2393<>'MDOT FTA Detail'!$C$4)*(Projects!$L$5:$L$2393='Local Detail'!$A88)*(Projects!$K$5:$K$2393))","v":0},{"$f":"((SUMPRODUCT((Projects!$A$5:$A$2393='Local Detail'!$D$3)*(Projects!$C$5:$C$2393<>'MDOT FTA Detail'!$C$4)*(Projects!$L$5:$L$2393='Local Detail'!$A88)*(Projects!$J$5:$J$2393<>'Local Detail'!$A$147)*(Projects!$M$5:$M$2393)))+(SUMPRODUCT((Projects!$A$5:$A$2393='Local Detail'!$D$3)*(Projects!$C$5:$C$2393<>'MDOT FTA Detail'!$C$4)*(Projects!$L$5:$L$2393='Local Detail'!$A88)*(Projects!$J$5:$J$2393<>'Local Detail'!$A$147)*(Projects!$O$5:$O$2393))))","v":0},{"$f":"D88+E88","v":0},{"$f":"SUMPRODUCT((Projects!$A$5:$A$2393='Local Detail'!$G$3)*(Projects!$C$5:$C$2393<>'MDOT FTA Detail'!$C$4)*(Projects!$L$5:$L$2393='Local Detail'!$A88)*(Projects!$K$5:$K$2393))","v":0},{"$f":"((SUMPRODUCT((Projects!$A$5:$A$2393='Local Detail'!$G$3)*(Projects!$C$5:$C$2393<>'MDOT FTA Detail'!$C$4)*(Projects!$L$5:$L$2393='Local Detail'!$A88)*(Projects!$J$5:$J$2393<>'Local Detail'!$A$147)*(Projects!$M$5:$M$2393)))+(SUMPRODUCT((Projects!$A$5:$A$2393='Local Detail'!$G$3)*(Projects!$C$5:$C$2393<>'MDOT FTA Detail'!$C$4)*(Projects!$L$5:$L$2393='Local Detail'!$A88)*(Projects!$J$5:$J$2393<>'Local Detail'!$A$147)*(Projects!$O$5:$O$2393))))","v":0},{"$f":"G88+H88","v":0},{"$f":"SUMPRODUCT((Projects!$A$5:$A$2393='Local Detail'!$J$3)*(Projects!$C$5:$C$2393<>'MDOT FTA Detail'!$C$4)*(Projects!$L$5:$L$2393='Local Detail'!$A88)*(Projects!$K$5:$K$2393))","v":0},{"$f":"((SUMPRODUCT((Projects!$A$5:$A$2393='Local Detail'!$J$3)*(Projects!$C$5:$C$2393<>'MDOT FTA Detail'!$C$4)*(Projects!$L$5:$L$2393='Local Detail'!$A88)*(Projects!$J$5:$J$2393<>'Local Detail'!$A$147)*(Projects!$M$5:$M$2393)))+(SUMPRODUCT((Projects!$A$5:$A$2393='Local Detail'!$J$3)*(Projects!$C$5:$C$2393<>'MDOT FTA Detail'!$C$4)*(Projects!$L$5:$L$2393='Local Detail'!$A88)*(Projects!$J$5:$J$2393<>'Local Detail'!$A$147)*(Projects!$O$5:$O$2393))))","v":0},{"$f":"J88+K88","v":0},{"$f":"SUMPRODUCT((Projects!$A$5:$A$2393='Local Detail'!$M$3)*(Projects!$C$5:$C$2393<>'MDOT FTA Detail'!$C$4)*(Projects!$L$5:$L$2393='Local Detail'!$A88)*(Projects!$K$5:$K$2393))","v":0},{"$f":"((SUMPRODUCT((Projects!$A$5:$A$2393='Local Detail'!$M$3)*(Projects!$C$5:$C$2393<>'MDOT FTA Detail'!$C$4)*(Projects!$L$5:$L$2393='Local Detail'!$A88)*(Projects!$J$5:$J$2393<>'Local Detail'!$A$147)*(Projects!$M$5:$M$2393)))+(SUMPRODUCT((Projects!$A$5:$A$2393='Local Detail'!$M$3)*(Projects!$C$5:$C$2393<>'MDOT FTA Detail'!$C$4)*(Projects!$L$5:$L$2393='Local Detail'!$A88)*(Projects!$J$5:$J$2393<>'Local Detail'!$A$147)*(Projects!$O$5:$O$2393))))","v":0},{"$f":"M88+N88","v":0}]
["STS","STP - Any Area- MDOT Safety Program","Local STP",{"$f":"SUMPRODUCT((Projects!$A$5:$A$2393='Local Detail'!$D$3)*(Projects!$C$5:$C$2393<>'MDOT FTA Detail'!$C$4)*(Projects!$L$5:$L$2393='Local Detail'!$A89)*(Projects!$K$5:$K$2393))","v":0},{"$f":"((SUMPRODUCT((Projects!$A$5:$A$2393='Local Detail'!$D$3)*(Projects!$C$5:$C$2393<>'MDOT FTA Detail'!$C$4)*(Projects!$L$5:$L$2393='Local Detail'!$A89)*(Projects!$J$5:$J$2393<>'Local Detail'!$A$147)*(Projects!$M$5:$M$2393)))+(SUMPRODUCT((Projects!$A$5:$A$2393='Local Detail'!$D$3)*(Projects!$C$5:$C$2393<>'MDOT FTA Detail'!$C$4)*(Projects!$L$5:$L$2393='Local Detail'!$A89)*(Projects!$J$5:$J$2393<>'Local Detail'!$A$147)*(Projects!$O$5:$O$2393))))","v":0},0,{"$f":"SUMPRODUCT((Projects!$A$5:$A$2393='Local Detail'!$G$3)*(Projects!$C$5:$C$2393<>'MDOT FTA Detail'!$C$4)*(Projects!$L$5:$L$2393='Local Detail'!$A89)*(Projects!$K$5:$K$2393))","v":0},{"$f":"((SUMPRODUCT((Projects!$A$5:$A$2393='Local Detail'!$G$3)*(Projects!$C$5:$C$2393<>'MDOT FTA Detail'!$C$4)*(Projects!$L$5:$L$2393='Local Detail'!$A89)*(Projects!$J$5:$J$2393<>'Local Detail'!$A$147)*(Projects!$M$5:$M$2393)))+(SUMPRODUCT((Projects!$A$5:$A$2393='Local Detail'!$G$3)*(Projects!$C$5:$C$2393<>'MDOT FTA Detail'!$C$4)*(Projects!$L$5:$L$2393='Local Detail'!$A89)*(Projects!$J$5:$J$2393<>'Local Detail'!$A$147)*(Projects!$O$5:$O$2393))))","v":0},0,{"$f":"SUMPRODUCT((Projects!$A$5:$A$2393='Local Detail'!$J$3)*(Projects!$C$5:$C$2393<>'MDOT FTA Detail'!$C$4)*(Projects!$L$5:$L$2393='Local Detail'!$A89)*(Projects!$K$5:$K$2393))","v":0},{"$f":"((SUMPRODUCT((Projects!$A$5:$A$2393='Local Detail'!$J$3)*(Projects!$C$5:$C$2393<>'MDOT FTA Detail'!$C$4)*(Projects!$L$5:$L$2393='Local Detail'!$A89)*(Projects!$J$5:$J$2393<>'Local Detail'!$A$147)*(Projects!$M$5:$M$2393)))+(SUMPRODUCT((Projects!$A$5:$A$2393='Local Detail'!$J$3)*(Projects!$C$5:$C$2393<>'MDOT FTA Detail'!$C$4)*(Projects!$L$5:$L$2393='Local Detail'!$A89)*(Projects!$J$5:$J$2393<>'Local Detail'!$A$147)*(Projects!$O$5:$O$2393))))","v":0},0,{"$f":"SUMPRODUCT((Projects!$A$5:$A$2393='Local Detail'!$M$3)*(Projects!$C$5:$C$2393<>'MDOT FTA Detail'!$C$4)*(Projects!$L$5:$L$2393='Local Detail'!$A89)*(Projects!$K$5:$K$2393))","v":0},{"$f":"((SUMPRODUCT((Projects!$A$5:$A$2393='Local Detail'!$M$3)*(Projects!$C$5:$C$2393<>'MDOT FTA Detail'!$C$4)*(Projects!$L$5:$L$2393='Local Detail'!$A89)*(Projects!$J$5:$J$2393<>'Local Detail'!$A$147)*(Projects!$M$5:$M$2393)))+(SUMPRODUCT((Projects!$A$5:$A$2393='Local Detail'!$M$3)*(Projects!$C$5:$C$2393<>'MDOT FTA Detail'!$C$4)*(Projects!$L$5:$L$2393='Local Detail'!$A89)*(Projects!$J$5:$J$2393<>'Local Detail'!$A$147)*(Projects!$O$5:$O$2393))))","v":0},0]
["STT","STP - Trunkline","Local STP",{"$f":"SUMPRODUCT((Projects!$A$5:$A$2393='Local Detail'!$D$3)*(Projects!$C$5:$C$2393<>'MDOT FTA Detail'!$C$4)*(Projects!$L$5:$L$2393='Local Detail'!$A90)*(Projects!$K$5:$K$2393))","v":0},{"$f":"((SUMPRODUCT((Projects!$A$5:$A$2393='Local Detail'!$D$3)*(Projects!$C$5:$C$2393<>'MDOT FTA Detail'!$C$4)*(Projects!$L$5:$L$2393='Local Detail'!$A90)*(Projects!$J$5:$J$2393<>'Local Detail'!$A$147)*(Projects!$M$5:$M$2393)))+(SUMPRODUCT((Projects!$A$5:$A$2393='Local Detail'!$D$3)*(Projects!$C$5:$C$2393<>'MDOT FTA Detail'!$C$4)*(Projects!$L$5:$L$2393='Local Detail'!$A90)*(Projects!$J$5:$J$2393<>'Local Detail'!$A$147)*(Projects!$O$5:$O$2393))))","v":0},0,{"$f":"SUMPRODUCT((Projects!$A$5:$A$2393='Local Detail'!$G$3)*(Projects!$C$5:$C$2393<>'MDOT FTA Detail'!$C$4)*(Projects!$L$5:$L$2393='Local Detail'!$A90)*(Projects!$K$5:$K$2393))","v":0},{"$f":"((SUMPRODUCT((Projects!$A$5:$A$2393='Local Detail'!$G$3)*(Projects!$C$5:$C$2393<>'MDOT FTA Detail'!$C$4)*(Projects!$L$5:$L$2393='Local Detail'!$A90)*(Projects!$J$5:$J$2393<>'Local Detail'!$A$147)*(Projects!$M$5:$M$2393)))+(SUMPRODUCT((Projects!$A$5:$A$2393='Local Detail'!$G$3)*(Projects!$C$5:$C$2393<>'MDOT FTA Detail'!$C$4)*(Projects!$L$5:$L$2393='Local Detail'!$A90)*(Projects!$J$5:$J$2393<>'Local Detail'!$A$147)*(Projects!$O$5:$O$2393))))","v":0},0,{"$f":"SUMPRODUCT((Projects!$A$5:$A$2393='Local Detail'!$J$3)*(Projects!$C$5:$C$2393<>'MDOT FTA Detail'!$C$4)*(Projects!$L$5:$L$2393='Local Detail'!$A90)*(Projects!$K$5:$K$2393))","v":0},{"$f":"((SUMPRODUCT((Projects!$A$5:$A$2393='Local Detail'!$J$3)*(Projects!$C$5:$C$2393<>'MDOT FTA Detail'!$C$4)*(Projects!$L$5:$L$2393='Local Detail'!$A90)*(Projects!$J$5:$J$2393<>'Local Detail'!$A$147)*(Projects!$M$5:$M$2393)))+(SUMPRODUCT((Projects!$A$5:$A$2393='Local Detail'!$J$3)*(Projects!$C$5:$C$2393<>'MDOT FTA Detail'!$C$4)*(Projects!$L$5:$L$2393='Local Detail'!$A90)*(Projects!$J$5:$J$2393<>'Local Detail'!$A$147)*(Projects!$O$5:$O$2393))))","v":0},0,{"$f":"SUMPRODUCT((Projects!$A$5:$A$2393='Local Detail'!$M$3)*(Projects!$C$5:$C$2393<>'MDOT FTA Detail'!$C$4)*(Projects!$L$5:$L$2393='Local Detail'!$A90)*(Projects!$K$5:$K$2393))","v":0},{"$f":"((SUMPRODUCT((Projects!$A$5:$A$2393='Local Detail'!$M$3)*(Projects!$C$5:$C$2393<>'MDOT FTA Detail'!$C$4)*(Projects!$L$5:$L$2393='Local Detail'!$A90)*(Projects!$J$5:$J$2393<>'Local Detail'!$A$147)*(Projects!$M$5:$M$2393)))+(SUMPRODUCT((Projects!$A$5:$A$2393='Local Detail'!$M$3)*(Projects!$C$5:$C$2393<>'MDOT FTA Detail'!$C$4)*(Projects!$L$5:$L$2393='Local Detail'!$A90)*(Projects!$J$5:$J$2393<>'Local Detail'!$A$147)*(Projects!$O$5:$O$2393))))","v":0},0]
["STU","STP - Urban Areas > 200,000 Population","Local STP",{"$f":"SUMPRODUCT((Projects!$A$5:$A$2393='Local Detail'!$D$3)*(Projects!$C$5:$C$2393<>'MDOT FTA Detail'!$C$4)*(Projects!$L$5:$L$2393='Local Detail'!$A91)*(Projects!$K$5:$K$2393))","v":0},{"$f":"((SUMPRODUCT((Projects!$A$5:$A$2393='Local Detail'!$D$3)*(Projects!$C$5:$C$2393<>'MDOT FTA Detail'!$C$4)*(Projects!$L$5:$L$2393='Local Detail'!$A91)*(Projects!$J$5:$J$2393<>'Local Detail'!$A$147)*(Projects!$M$5:$M$2393)))+(SUMPRODUCT((Projects!$A$5:$A$2393='Local Detail'!$D$3)*(Projects!$C$5:$C$2393<>'MDOT FTA Detail'!$C$4)*(Projects!$L$5:$L$2393='Local Detail'!$A91)*(Projects!$J$5:$J$2393<>'Local Detail'!$A$147)*(Projects!$O$5:$O$2393))))","v":0},0,{"$f":"SUMPRODUCT((Projects!$A$5:$A$2393='Local Detail'!$G$3)*(Projects!$C$5:$C$2393<>'MDOT FTA Detail'!$C$4)*(Projects!$L$5:$L$2393='Local Detail'!$A91)*(Projects!$K$5:$K$2393))","v":825000},{"$f":"((SUMPRODUCT((Projects!$A$5:$A$2393='Local Detail'!$G$3)*(Projects!$C$5:$C$2393<>'MDOT FTA Detail'!$C$4)*(Projects!$L$5:$L$2393='Local Detail'!$A91)*(Projects!$J$5:$J$2393<>'Local Detail'!$A$147)*(Projects!$M$5:$M$2393)))+(SUMPRODUCT((Projects!$A$5:$A$2393='Local Detail'!$G$3)*(Projects!$C$5:$C$2393<>'MDOT FTA Detail'!$C$4)*(Projects!$L$5:$L$2393='Local Detail'!$A91)*(Projects!$J$5:$J$2393<>'Local Detail'!$A$147)*(Projects!$O$5:$O$2393))))","v":350000},1175000,{"$f":"SUMPRODUCT((Projects!$A$5:$A$2393='Local Detail'!$J$3)*(Projects!$C$5:$C$2393<>'MDOT FTA Detail'!$C$4)*(Projects!$L$5:$L$2393='Local Detail'!$A91)*(Projects!$K$5:$K$2393))","v":136639},{"$f":"((SUMPRODUCT((Projects!$A$5:$A$2393='Local Detail'!$J$3)*(Projects!$C$5:$C$2393<>'MDOT FTA Detail'!$C$4)*(Projects!$L$5:$L$2393='Local Detail'!$A91)*(Projects!$J$5:$J$2393<>'Local Detail'!$A$147)*(Projects!$M$5:$M$2393)))+(SUMPRODUCT((Projects!$A$5:$A$2393='Local Detail'!$J$3)*(Projects!$C$5:$C$2393<>'MDOT FTA Detail'!$C$4)*(Projects!$L$5:$L$2393='Local Detail'!$A91)*(Projects!$J$5:$J$2393<>'Local Detail'!$A$147)*(Projects!$O$5:$O$2393))))","v":31160},167799,{"$f":"SUMPRODUCT((Projects!$A$5:$A$2393='Local Detail'!$M$3)*(Projects!$C$5:$C$2393<>'MDOT FTA Detail'!$C$4)*(Projects!$L$5:$L$2393='Local Detail'!$A91)*(Projects!$K$5:$K$2393))","v":705000},{"$f":"((SUMPRODUCT((Projects!$A$5:$A$2393='Local Detail'!$M$3)*(Projects!$C$5:$C$2393<>'MDOT FTA Detail'!$C$4)*(Projects!$L$5:$L$2393='Local Detail'!$A91)*(Projects!$J$5:$J$2393<>'Local Detail'!$A$147)*(Projects!$M$5:$M$2393)))+(SUMPRODUCT((Projects!$A$5:$A$2393='Local Detail'!$M$3)*(Projects!$C$5:$C$2393<>'MDOT FTA Detail'!$C$4)*(Projects!$L$5:$L$2393='Local Detail'!$A91)*(Projects!$J$5:$J$2393<>'Local Detail'!$A$147)*(Projects!$O$5:$O$2393))))","v":205500},910500]
["STUG","STP - Urban Areas < 200,000 Population 100%","Local STP",{"$f":"SUMPRODUCT((Projects!$A$5:$A$2393='Local Detail'!$D$3)*(Projects!$C$5:$C$2393<>'MDOT FTA Detail'!$C$4)*(Projects!$L$5:$L$2393='Local Detail'!$A92)*(Projects!$K$5:$K$2393))","v":0},{"$f":"((SUMPRODUCT((Projects!$A$5:$A$2393='Local Detail'!$D$3)*(Projects!$C$5:$C$2393<>'MDOT FTA Detail'!$C$4)*(Projects!$L$5:$L$2393='Local Detail'!$A92)*(Projects!$J$5:$J$2393<>'Local Detail'!$A$147)*(Projects!$M$5:$M$2393)))+(SUMPRODUCT((Projects!$A$5:$A$2393='Local Detail'!$D$3)*(Projects!$C$5:$C$2393<>'MDOT FTA Detail'!$C$4)*(Projects!$L$5:$L$2393='Local Detail'!$A92)*(Projects!$J$5:$J$2393<>'Local Detail'!$A$147)*(Projects!$O$5:$O$2393))))","v":0},{"$f":"D92+E92","v":0},{"$f":"SUMPRODUCT((Projects!$A$5:$A$2393='Local Detail'!$G$3)*(Projects!$C$5:$C$2393<>'MDOT FTA Detail'!$C$4)*(Projects!$L$5:$L$2393='Local Detail'!$A92)*(Projects!$K$5:$K$2393))","v":0},{"$f":"((SUMPRODUCT((Projects!$A$5:$A$2393='Local Detail'!$G$3)*(Projects!$C$5:$C$2393<>'MDOT FTA Detail'!$C$4)*(Projects!$L$5:$L$2393='Local Detail'!$A92)*(Projects!$J$5:$J$2393<>'Local Detail'!$A$147)*(Projects!$M$5:$M$2393)))+(SUMPRODUCT((Projects!$A$5:$A$2393='Local Detail'!$G$3)*(Projects!$C$5:$C$2393<>'MDOT FTA Detail'!$C$4)*(Projects!$L$5:$L$2393='Local Detail'!$A92)*(Projects!$J$5:$J$2393<>'Local Detail'!$A$147)*(Projects!$O$5:$O$2393))))","v":0},{"$f":"G92+H92","v":0},{"$f":"SUMPRODUCT((Projects!$A$5:$A$2393='Local Detail'!$J$3)*(Projects!$C$5:$C$2393<>'MDOT FTA Detail'!$C$4)*(Projects!$L$5:$L$2393='Local Detail'!$A92)*(Projects!$K$5:$K$2393))","v":0},{"$f":"((SUMPRODUCT((Projects!$A$5:$A$2393='Local Detail'!$J$3)*(Projects!$C$5:$C$2393<>'MDOT FTA Detail'!$C$4)*(Projects!$L$5:$L$2393='Local Detail'!$A92)*(Projects!$J$5:$J$2393<>'Local Detail'!$A$147)*(Projects!$M$5:$M$2393)))+(SUMPRODUCT((Projects!$A$5:$A$2393='Local Detail'!$J$3)*(Projects!$C$5:$C$2393<>'MDOT FTA Detail'!$C$4)*(Projects!$L$5:$L$2393='Local Detail'!$A92)*(Projects!$J$5:$J$2393<>'Local Detail'!$A$147)*(Projects!$O$5:$O$2393))))","v":0},{"$f":"J92+K92","v":0},{"$f":"SUMPRODUCT((Projects!$A$5:$A$2393='Local Detail'!$M$3)*(Projects!$C$5:$C$2393<>'MDOT FTA Detail'!$C$4)*(Projects!$L$5:$L$2393='Local Detail'!$A92)*(Projects!$K$5:$K$2393))","v":0},{"$f":"((SUMPRODUCT((Projects!$A$5:$A$2393='Local Detail'!$M$3)*(Projects!$C$5:$C$2393<>'MDOT FTA Detail'!$C$4)*(Projects!$L$5:$L$2393='Local Detail'!$A92)*(Projects!$J$5:$J$2393<>'Local Detail'!$A$147)*(Projects!$M$5:$M$2393)))+(SUMPRODUCT((Projects!$A$5:$A$2393='Local Detail'!$M$3)*(Projects!$C$5:$C$2393<>'MDOT FTA Detail'!$C$4)*(Projects!$L$5:$L$2393='Local Detail'!$A92)*(Projects!$J$5:$J$2393<>'Local Detail'!$A$147)*(Projects!$O$5:$O$2393))))","v":0},{"$f":"M92+N92","v":0}]
["STUL","STP - Urban Areas < 200,000 Population","Local STP",{"$f":"SUMPRODUCT((Projects!$A$5:$A$2393='Local Detail'!$D$3)*(Projects!$C$5:$C$2393<>'MDOT FTA Detail'!$C$4)*(Projects!$L$5:$L$2393='Local Detail'!$A93)*(Projects!$K$5:$K$2393))","v":3077828},{"$f":"((SUMPRODUCT((Projects!$A$5:$A$2393='Local Detail'!$D$3)*(Projects!$C$5:$C$2393<>'MDOT FTA Detail'!$C$4)*(Projects!$L$5:$L$2393='Local Detail'!$A93)*(Projects!$J$5:$J$2393<>'Local Detail'!$A$147)*(Projects!$M$5:$M$2393)))+(SUMPRODUCT((Projects!$A$5:$A$2393='Local Detail'!$D$3)*(Projects!$C$5:$C$2393<>'MDOT FTA Detail'!$C$4)*(Projects!$L$5:$L$2393='Local Detail'!$A93)*(Projects!$J$5:$J$2393<>'Local Detail'!$A$147)*(Projects!$O$5:$O$2393))))","v":1919511},4997339,{"$f":"SUMPRODUCT((Projects!$A$5:$A$2393='Local Detail'!$G$3)*(Projects!$C$5:$C$2393<>'MDOT FTA Detail'!$C$4)*(Projects!$L$5:$L$2393='Local Detail'!$A93)*(Projects!$K$5:$K$2393))","v":1302500},{"$f":"((SUMPRODUCT((Projects!$A$5:$A$2393='Local Detail'!$G$3)*(Projects!$C$5:$C$2393<>'MDOT FTA Detail'!$C$4)*(Projects!$L$5:$L$2393='Local Detail'!$A93)*(Projects!$J$5:$J$2393<>'Local Detail'!$A$147)*(Projects!$M$5:$M$2393)))+(SUMPRODUCT((Projects!$A$5:$A$2393='Local Detail'!$G$3)*(Projects!$C$5:$C$2393<>'MDOT FTA Detail'!$C$4)*(Projects!$L$5:$L$2393='Local Detail'!$A93)*(Projects!$J$5:$J$2393<>'Local Detail'!$A$147)*(Projects!$O$5:$O$2393))))","v":425000},1727500,{"$f":"SUMPRODUCT((Projects!$A$5:$A$2393='Local Detail'!$J$3)*(Projects!$C$5:$C$2393<>'MDOT FTA Detail'!$C$4)*(Projects!$L$5:$L$2393='Local Detail'!$A93)*(Projects!$K$5:$K$2393))","v":2039361},{"$f":"((SUMPRODUCT((Projects!$A$5:$A$2393='Local Detail'!$J$3)*(Projects!$C$5:$C$2393<>'MDOT FTA Detail'!$C$4)*(Projects!$L$5:$L$2393='Local Detail'!$A93)*(Projects!$J$5:$J$2393<>'Local Detail'!$A$147)*(Projects!$M$5:$M$2393)))+(SUMPRODUCT((Projects!$A$5:$A$2393='Local Detail'!$J$3)*(Projects!$C$5:$C$2393<>'MDOT FTA Detail'!$C$4)*(Projects!$L$5:$L$2393='Local Detail'!$A93)*(Projects!$J$5:$J$2393<>'Local Detail'!$A$147)*(Projects!$O$5:$O$2393))))","v":2012975},4052336,{"$f":"SUMPRODUCT((Projects!$A$5:$A$2393='Local Detail'!$M$3)*(Projects!$C$5:$C$2393<>'MDOT FTA Detail'!$C$4)*(Projects!$L$5:$L$2393='Local Detail'!$A93)*(Projects!$K$5:$K$2393))","v":2126000},{"$f":"((SUMPRODUCT((Projects!$A$5:$A$2393='Local Detail'!$M$3)*(Projects!$C$5:$C$2393<>'MDOT FTA Detail'!$C$4)*(Projects!$L$5:$L$2393='Local Detail'!$A93)*(Projects!$J$5:$J$2393<>'Local Detail'!$A$147)*(Projects!$M$5:$M$2393)))+(SUMPRODUCT((Projects!$A$5:$A$2393='Local Detail'!$M$3)*(Projects!$C$5:$C$2393<>'MDOT FTA Detail'!$C$4)*(Projects!$L$5:$L$2393='Local Detail'!$A93)*(Projects!$J$5:$J$2393<>'Local Detail'!$A$147)*(Projects!$O$5:$O$2393))))","v":2135965},4261965]
["STUT","STP - Urban Areas < 200,000 Population - Trunkline","Local STP",{"$f":"SUMPRODUCT((Projects!$A$5:$A$2393='Local Detail'!$D$3)*(Projects!$C$5:$C$2393<>'MDOT FTA Detail'!$C$4)*(Projects!$L$5:$L$2393='Local Detail'!$A94)*(Projects!$K$5:$K$2393))","v":0},{"$f":"((SUMPRODUCT((Projects!$A$5:$A$2393='Local Detail'!$D$3)*(Projects!$C$5:$C$2393<>'MDOT FTA Detail'!$C$4)*(Projects!$L$5:$L$2393='Local Detail'!$A94)*(Projects!$J$5:$J$2393<>'Local Detail'!$A$147)*(Projects!$M$5:$M$2393)))+(SUMPRODUCT((Projects!$A$5:$A$2393='Local Detail'!$D$3)*(Projects!$C$5:$C$2393<>'MDOT FTA Detail'!$C$4)*(Projects!$L$5:$L$2393='Local Detail'!$A94)*(Projects!$J$5:$J$2393<>'Local Detail'!$A$147)*(Projects!$O$5:$O$2393))))","v":0},0,{"$f":"SUMPRODUCT((Projects!$A$5:$A$2393='Local Detail'!$G$3)*(Projects!$C$5:$C$2393<>'MDOT FTA Detail'!$C$4)*(Projects!$L$5:$L$2393='Local Detail'!$A94)*(Projects!$K$5:$K$2393))","v":0},{"$f":"((SUMPRODUCT((Projects!$A$5:$A$2393='Local Detail'!$G$3)*(Projects!$C$5:$C$2393<>'MDOT FTA Detail'!$C$4)*(Projects!$L$5:$L$2393='Local Detail'!$A94)*(Projects!$J$5:$J$2393<>'Local Detail'!$A$147)*(Projects!$M$5:$M$2393)))+(SUMPRODUCT((Projects!$A$5:$A$2393='Local Detail'!$G$3)*(Projects!$C$5:$C$2393<>'MDOT FTA Detail'!$C$4)*(Projects!$L$5:$L$2393='Local Detail'!$A94)*(Projects!$J$5:$J$2393<>'Local Detail'!$A$147)*(Projects!$O$5:$O$2393))))","v":0},0,{"$f":"SUMPRODUCT((Projects!$A$5:$A$2393='Local Detail'!$J$3)*(Projects!$C$5:$C$2393<>'MDOT FTA Detail'!$C$4)*(Projects!$L$5:$L$2393='Local Detail'!$A94)*(Projects!$K$5:$K$2393))","v":0},{"$f":"((SUMPRODUCT((Projects!$A$5:$A$2393='Local Detail'!$J$3)*(Projects!$C$5:$C$2393<>'MDOT FTA Detail'!$C$4)*(Projects!$L$5:$L$2393='Local Detail'!$A94)*(Projects!$J$5:$J$2393<>'Local Detail'!$A$147)*(Projects!$M$5:$M$2393)))+(SUMPRODUCT((Projects!$A$5:$A$2393='Local Detail'!$J$3)*(Projects!$C$5:$C$2393<>'MDOT FTA Detail'!$C$4)*(Projects!$L$5:$L$2393='Local Detail'!$A94)*(Projects!$J$5:$J$2393<>'Local Detail'!$A$147)*(Projects!$O$5:$O$2393))))","v":0},0,{"$f":"SUMPRODUCT((Projects!$A$5:$A$2393='Local Detail'!$M$3)*(Projects!$C$5:$C$2393<>'MDOT FTA Detail'!$C$4)*(Projects!$L$5:$L$2393='Local Detail'!$A94)*(Projects!$K$5:$K$2393))","v":0},{"$f":"((SUMPRODUCT((Projects!$A$5:$A$2393='Local Detail'!$M$3)*(Projects!$C$5:$C$2393<>'MDOT FTA Detail'!$C$4)*(Projects!$L$5:$L$2393='Local Detail'!$A94)*(Projects!$J$5:$J$2393<>'Local Detail'!$A$147)*(Projects!$M$5:$M$2393)))+(SUMPRODUCT((Projects!$A$5:$A$2393='Local Detail'!$M$3)*(Projects!$C$5:$C$2393<>'MDOT FTA Detail'!$C$4)*(Projects!$L$5:$L$2393='Local Detail'!$A94)*(Projects!$J$5:$J$2393<>'Local Detail'!$A$147)*(Projects!$O$5:$O$2393))))","v":0},0]
["SUG","STP - Safety - 100% Federal for STU","Local STP",{"$f":"SUMPRODUCT((Projects!$A$5:$A$2393='Local Detail'!$D$3)*(Projects!$C$5:$C$2393<>'MDOT FTA Detail'!$C$4)*(Projects!$L$5:$L$2393='Local Detail'!$A95)*(Projects!$K$5:$K$2393))","v":0},{"$f":"((SUMPRODUCT((Projects!$A$5:$A$2393='Local Detail'!$D$3)*(Projects!$C$5:$C$2393<>'MDOT FTA Detail'!$C$4)*(Projects!$L$5:$L$2393='Local Detail'!$A95)*(Projects!$J$5:$J$2393<>'Local Detail'!$A$147)*(Projects!$M$5:$M$2393)))+(SUMPRODUCT((Projects!$A$5:$A$2393='Local Detail'!$D$3)*(Projects!$C$5:$C$2393<>'MDOT FTA Detail'!$C$4)*(Projects!$L$5:$L$2393='Local Detail'!$A95)*(Projects!$J$5:$J$2393<>'Local Detail'!$A$147)*(Projects!$O$5:$O$2393))))","v":0},0,{"$f":"SUMPRODUCT((Projects!$A$5:$A$2393='Local Detail'!$G$3)*(Projects!$C$5:$C$2393<>'MDOT FTA Detail'!$C$4)*(Projects!$L$5:$L$2393='Local Detail'!$A95)*(Projects!$K$5:$K$2393))","v":0},{"$f":"((SUMPRODUCT((Projects!$A$5:$A$2393='Local Detail'!$G$3)*(Projects!$C$5:$C$2393<>'MDOT FTA Detail'!$C$4)*(Projects!$L$5:$L$2393='Local Detail'!$A95)*(Projects!$J$5:$J$2393<>'Local Detail'!$A$147)*(Projects!$M$5:$M$2393)))+(SUMPRODUCT((Projects!$A$5:$A$2393='Local Detail'!$G$3)*(Projects!$C$5:$C$2393<>'MDOT FTA Detail'!$C$4)*(Projects!$L$5:$L$2393='Local Detail'!$A95)*(Projects!$J$5:$J$2393<>'Local Detail'!$A$147)*(Projects!$O$5:$O$2393))))","v":0},0,{"$f":"SUMPRODUCT((Projects!$A$5:$A$2393='Local Detail'!$J$3)*(Projects!$C$5:$C$2393<>'MDOT FTA Detail'!$C$4)*(Projects!$L$5:$L$2393='Local Detail'!$A95)*(Projects!$K$5:$K$2393))","v":0},{"$f":"((SUMPRODUCT((Projects!$A$5:$A$2393='Local Detail'!$J$3)*(Projects!$C$5:$C$2393<>'MDOT FTA Detail'!$C$4)*(Projects!$L$5:$L$2393='Local Detail'!$A95)*(Projects!$J$5:$J$2393<>'Local Detail'!$A$147)*(Projects!$M$5:$M$2393)))+(SUMPRODUCT((Projects!$A$5:$A$2393='Local Detail'!$J$3)*(Projects!$C$5:$C$2393<>'MDOT FTA Detail'!$C$4)*(Projects!$L$5:$L$2393='Local Detail'!$A95)*(Projects!$J$5:$J$2393<>'Local Detail'!$A$147)*(Projects!$O$5:$O$2393))))","v":0},0,{"$f":"SUMPRODUCT((Projects!$A$5:$A$2393='Local Detail'!$M$3)*(Projects!$C$5:$C$2393<>'MDOT FTA Detail'!$C$4)*(Projects!$L$5:$L$2393='Local Detail'!$A95)*(Projects!$K$5:$K$2393))","v":0},{"$f":"((SUMPRODUCT((Projects!$A$5:$A$2393='Local Detail'!$M$3)*(Projects!$C$5:$C$2393<>'MDOT FTA Detail'!$C$4)*(Projects!$L$5:$L$2393='Local Detail'!$A95)*(Projects!$J$5:$J$2393<>'Local Detail'!$A$147)*(Projects!$M$5:$M$2393)))+(SUMPRODUCT((Projects!$A$5:$A$2393='Local Detail'!$M$3)*(Projects!$C$5:$C$2393<>'MDOT FTA Detail'!$C$4)*(Projects!$L$5:$L$2393='Local Detail'!$A95)*(Projects!$J$5:$J$2393<>'Local Detail'!$A$147)*(Projects!$O$5:$O$2393))))","v":0},0]
["SUL","Surface Transportation Urban Areas  <200,000 Population","Local STP",{"$f":"SUMPRODUCT((Projects!$A$5:$A$2393='Local Detail'!$D$3)*(Projects!$C$5:$C$2393<>'MDOT FTA Detail'!$C$4)*(Projects!$L$5:$L$2393='Local Detail'!$A96)*(Projects!$K$5:$K$2393))","v":0},{"$f":"((SUMPRODUCT((Projects!$A$5:$A$2393='Local Detail'!$D$3)*(Projects!$C$5:$C$2393<>'MDOT FTA Detail'!$C$4)*(Projects!$L$5:$L$2393='Local Detail'!$A96)*(Projects!$J$5:$J$2393<>'Local Detail'!$A$147)*(Projects!$M$5:$M$2393)))+(SUMPRODUCT((Projects!$A$5:$A$2393='Local Detail'!$D$3)*(Projects!$C$5:$C$2393<>'MDOT FTA Detail'!$C$4)*(Projects!$L$5:$L$2393='Local Detail'!$A96)*(Projects!$J$5:$J$2393<>'Local Detail'!$A$147)*(Projects!$O$5:$O$2393))))","v":0},{"$f":"D96+E96","v":0},{"$f":"SUMPRODUCT((Projects!$A$5:$A$2393='Local Detail'!$G$3)*(Projects!$C$5:$C$2393<>'MDOT FTA Detail'!$C$4)*(Projects!$L$5:$L$2393='Local Detail'!$A96)*(Projects!$K$5:$K$2393))","v":0},{"$f":"((SUMPRODUCT((Projects!$A$5:$A$2393='Local Detail'!$G$3)*(Projects!$C$5:$C$2393<>'MDOT FTA Detail'!$C$4)*(Projects!$L$5:$L$2393='Local Detail'!$A96)*(Projects!$J$5:$J$2393<>'Local Detail'!$A$147)*(Projects!$M$5:$M$2393)))+(SUMPRODUCT((Projects!$A$5:$A$2393='Local Detail'!$G$3)*(Projects!$C$5:$C$2393<>'MDOT FTA Detail'!$C$4)*(Projects!$L$5:$L$2393='Local Detail'!$A96)*(Projects!$J$5:$J$2393<>'Local Detail'!$A$147)*(Projects!$O$5:$O$2393))))","v":0},{"$f":"G96+H96","v":0},{"$f":"SUMPRODUCT((Projects!$A$5:$A$2393='Local Detail'!$J$3)*(Projects!$C$5:$C$2393<>'MDOT FTA Detail'!$C$4)*(Projects!$L$5:$L$2393='Local Detail'!$A96)*(Projects!$K$5:$K$2393))","v":0},{"$f":"((SUMPRODUCT((Projects!$A$5:$A$2393='Local Detail'!$J$3)*(Projects!$C$5:$C$2393<>'MDOT FTA Detail'!$C$4)*(Projects!$L$5:$L$2393='Local Detail'!$A96)*(Projects!$J$5:$J$2393<>'Local Detail'!$A$147)*(Projects!$M$5:$M$2393)))+(SUMPRODUCT((Projects!$A$5:$A$2393='Local Detail'!$J$3)*(Projects!$C$5:$C$2393<>'MDOT FTA Detail'!$C$4)*(Projects!$L$5:$L$2393='Local Detail'!$A96)*(Projects!$J$5:$J$2393<>'Local Detail'!$A$147)*(Projects!$O$5:$O$2393))))","v":0},{"$f":"J96+K96","v":0},{"$f":"SUMPRODUCT((Projects!$A$5:$A$2393='Local Detail'!$M$3)*(Projects!$C$5:$C$2393<>'MDOT FTA Detail'!$C$4)*(Projects!$L$5:$L$2393='Local Detail'!$A96)*(Projects!$K$5:$K$2393))","v":0},{"$f":"((SUMPRODUCT((Projects!$A$5:$A$2393='Local Detail'!$M$3)*(Projects!$C$5:$C$2393<>'MDOT FTA Detail'!$C$4)*(Projects!$L$5:$L$2393='Local Detail'!$A96)*(Projects!$J$5:$J$2393<>'Local Detail'!$A$147)*(Projects!$M$5:$M$2393)))+(SUMPRODUCT((Projects!$A$5:$A$2393='Local Detail'!$M$3)*(Projects!$C$5:$C$2393<>'MDOT FTA Detail'!$C$4)*(Projects!$L$5:$L$2393='Local Detail'!$A96)*(Projects!$J$5:$J$2393<>'Local Detail'!$A$147)*(Projects!$O$5:$O$2393))))","v":0},{"$f":"M96+N96","v":0}]
["SULG","Surfcace Transportation Urban Areas <200,000 Population 100%","Local STP",{"$f":"SUMPRODUCT((Projects!$A$5:$A$2393='Local Detail'!$D$3)*(Projects!$C$5:$C$2393<>'MDOT FTA Detail'!$C$4)*(Projects!$L$5:$L$2393='Local Detail'!$A97)*(Projects!$K$5:$K$2393))","v":0},{"$f":"((SUMPRODUCT((Projects!$A$5:$A$2393='Local Detail'!$D$3)*(Projects!$C$5:$C$2393<>'MDOT FTA Detail'!$C$4)*(Projects!$L$5:$L$2393='Local Detail'!$A97)*(Projects!$J$5:$J$2393<>'Local Detail'!$A$147)*(Projects!$M$5:$M$2393)))+(SUMPRODUCT((Projects!$A$5:$A$2393='Local Detail'!$D$3)*(Projects!$C$5:$C$2393<>'MDOT FTA Detail'!$C$4)*(Projects!$L$5:$L$2393='Local Detail'!$A97)*(Projects!$J$5:$J$2393<>'Local Detail'!$A$147)*(Projects!$O$5:$O$2393))))","v":0},0,{"$f":"SUMPRODUCT((Projects!$A$5:$A$2393='Local Detail'!$G$3)*(Projects!$C$5:$C$2393<>'MDOT FTA Detail'!$C$4)*(Projects!$L$5:$L$2393='Local Detail'!$A97)*(Projects!$K$5:$K$2393))","v":0},{"$f":"((SUMPRODUCT((Projects!$A$5:$A$2393='Local Detail'!$G$3)*(Projects!$C$5:$C$2393<>'MDOT FTA Detail'!$C$4)*(Projects!$L$5:$L$2393='Local Detail'!$A97)*(Projects!$J$5:$J$2393<>'Local Detail'!$A$147)*(Projects!$M$5:$M$2393)))+(SUMPRODUCT((Projects!$A$5:$A$2393='Local Detail'!$G$3)*(Projects!$C$5:$C$2393<>'MDOT FTA Detail'!$C$4)*(Projects!$L$5:$L$2393='Local Detail'!$A97)*(Projects!$J$5:$J$2393<>'Local Detail'!$A$147)*(Projects!$O$5:$O$2393))))","v":0},0,{"$f":"SUMPRODUCT((Projects!$A$5:$A$2393='Local Detail'!$J$3)*(Projects!$C$5:$C$2393<>'MDOT FTA Detail'!$C$4)*(Projects!$L$5:$L$2393='Local Detail'!$A97)*(Projects!$K$5:$K$2393))","v":0},{"$f":"((SUMPRODUCT((Projects!$A$5:$A$2393='Local Detail'!$J$3)*(Projects!$C$5:$C$2393<>'MDOT FTA Detail'!$C$4)*(Projects!$L$5:$L$2393='Local Detail'!$A97)*(Projects!$J$5:$J$2393<>'Local Detail'!$A$147)*(Projects!$M$5:$M$2393)))+(SUMPRODUCT((Projects!$A$5:$A$2393='Local Detail'!$J$3)*(Projects!$C$5:$C$2393<>'MDOT FTA Detail'!$C$4)*(Projects!$L$5:$L$2393='Local Detail'!$A97)*(Projects!$J$5:$J$2393<>'Local Detail'!$A$147)*(Projects!$O$5:$O$2393))))","v":0},0,{"$f":"SUMPRODUCT((Projects!$A$5:$A$2393='Local Detail'!$M$3)*(Projects!$C$5:$C$2393<>'MDOT FTA Detail'!$C$4)*(Projects!$L$5:$L$2393='Local Detail'!$A97)*(Projects!$K$5:$K$2393))","v":0},{"$f":"((SUMPRODUCT((Projects!$A$5:$A$2393='Local Detail'!$M$3)*(Projects!$C$5:$C$2393<>'MDOT FTA Detail'!$C$4)*(Projects!$L$5:$L$2393='Local Detail'!$A97)*(Projects!$J$5:$J$2393<>'Local Detail'!$A$147)*(Projects!$M$5:$M$2393)))+(SUMPRODUCT((Projects!$A$5:$A$2393='Local Detail'!$M$3)*(Projects!$C$5:$C$2393<>'MDOT FTA Detail'!$C$4)*(Projects!$L$5:$L$2393='Local Detail'!$A97)*(Projects!$J$5:$J$2393<>'Local Detail'!$A$147)*(Projects!$O$5:$O$2393))))","v":0},0]
["TA","Transportation Alternatives Program Flex","Local Other FHWA",{"$f":"SUMPRODUCT((Projects!$A$5:$A$2393='Local Detail'!$D$3)*(Projects!$C$5:$C$2393<>'MDOT FTA Detail'!$C$4)*(Projects!$L$5:$L$2393='Local Detail'!$A98)*(Projects!$K$5:$K$2393))","v":0},{"$f":"((SUMPRODUCT((Projects!$A$5:$A$2393='Local Detail'!$D$3)*(Projects!$C$5:$C$2393<>'MDOT FTA Detail'!$C$4)*(Projects!$L$5:$L$2393='Local Detail'!$A98)*(Projects!$J$5:$J$2393<>'Local Detail'!$A$147)*(Projects!$M$5:$M$2393)))+(SUMPRODUCT((Projects!$A$5:$A$2393='Local Detail'!$D$3)*(Projects!$C$5:$C$2393<>'MDOT FTA Detail'!$C$4)*(Projects!$L$5:$L$2393='Local Detail'!$A98)*(Projects!$J$5:$J$2393<>'Local Detail'!$A$147)*(Projects!$O$5:$O$2393))))","v":0},0,{"$f":"SUMPRODUCT((Projects!$A$5:$A$2393='Local Detail'!$G$3)*(Projects!$C$5:$C$2393<>'MDOT FTA Detail'!$C$4)*(Projects!$L$5:$L$2393='Local Detail'!$A98)*(Projects!$K$5:$K$2393))","v":0},{"$f":"((SUMPRODUCT((Projects!$A$5:$A$2393='Local Detail'!$G$3)*(Projects!$C$5:$C$2393<>'MDOT FTA Detail'!$C$4)*(Projects!$L$5:$L$2393='Local Detail'!$A98)*(Projects!$J$5:$J$2393<>'Local Detail'!$A$147)*(Projects!$M$5:$M$2393)))+(SUMPRODUCT((Projects!$A$5:$A$2393='Local Detail'!$G$3)*(Projects!$C$5:$C$2393<>'MDOT FTA Detail'!$C$4)*(Projects!$L$5:$L$2393='Local Detail'!$A98)*(Projects!$J$5:$J$2393<>'Local Detail'!$A$147)*(Projects!$O$5:$O$2393))))","v":0},0,{"$f":"SUMPRODUCT((Projects!$A$5:$A$2393='Local Detail'!$J$3)*(Projects!$C$5:$C$2393<>'MDOT FTA Detail'!$C$4)*(Projects!$L$5:$L$2393='Local Detail'!$A98)*(Projects!$K$5:$K$2393))","v":0},{"$f":"((SUMPRODUCT((Projects!$A$5:$A$2393='Local Detail'!$J$3)*(Projects!$C$5:$C$2393<>'MDOT FTA Detail'!$C$4)*(Projects!$L$5:$L$2393='Local Detail'!$A98)*(Projects!$J$5:$J$2393<>'Local Detail'!$A$147)*(Projects!$M$5:$M$2393)))+(SUMPRODUCT((Projects!$A$5:$A$2393='Local Detail'!$J$3)*(Projects!$C$5:$C$2393<>'MDOT FTA Detail'!$C$4)*(Projects!$L$5:$L$2393='Local Detail'!$A98)*(Projects!$J$5:$J$2393<>'Local Detail'!$A$147)*(Projects!$O$5:$O$2393))))","v":0},0,{"$f":"SUMPRODUCT((Projects!$A$5:$A$2393='Local Detail'!$M$3)*(Projects!$C$5:$C$2393<>'MDOT FTA Detail'!$C$4)*(Projects!$L$5:$L$2393='Local Detail'!$A98)*(Projects!$K$5:$K$2393))","v":0},{"$f":"((SUMPRODUCT((Projects!$A$5:$A$2393='Local Detail'!$M$3)*(Projects!$C$5:$C$2393<>'MDOT FTA Detail'!$C$4)*(Projects!$L$5:$L$2393='Local Detail'!$A98)*(Projects!$J$5:$J$2393<>'Local Detail'!$A$147)*(Projects!$M$5:$M$2393)))+(SUMPRODUCT((Projects!$A$5:$A$2393='Local Detail'!$M$3)*(Projects!$C$5:$C$2393<>'MDOT FTA Detail'!$C$4)*(Projects!$L$5:$L$2393='Local Detail'!$A98)*(Projects!$J$5:$J$2393<>'Local Detail'!$A$147)*(Projects!$O$5:$O$2393))))","v":0},0]
["TAL","Transportation Alternatives Rural","Local Other FHWA",{"$f":"SUMPRODUCT((Projects!$A$5:$A$2393='Local Detail'!$D$3)*(Projects!$C$5:$C$2393<>'MDOT FTA Detail'!$C$4)*(Projects!$L$5:$L$2393='Local Detail'!$A99)*(Projects!$K$5:$K$2393))","v":0},{"$f":"((SUMPRODUCT((Projects!$A$5:$A$2393='Local Detail'!$D$3)*(Projects!$C$5:$C$2393<>'MDOT FTA Detail'!$C$4)*(Projects!$L$5:$L$2393='Local Detail'!$A99)*(Projects!$J$5:$J$2393<>'Local Detail'!$A$147)*(Projects!$M$5:$M$2393)))+(SUMPRODUCT((Projects!$A$5:$A$2393='Local Detail'!$D$3)*(Projects!$C$5:$C$2393<>'MDOT FTA Detail'!$C$4)*(Projects!$L$5:$L$2393='Local Detail'!$A99)*(Projects!$J$5:$J$2393<>'Local Detail'!$A$147)*(Projects!$O$5:$O$2393))))","v":0},0,{"$f":"SUMPRODUCT((Projects!$A$5:$A$2393='Local Detail'!$G$3)*(Projects!$C$5:$C$2393<>'MDOT FTA Detail'!$C$4)*(Projects!$L$5:$L$2393='Local Detail'!$A99)*(Projects!$K$5:$K$2393))","v":0},{"$f":"((SUMPRODUCT((Projects!$A$5:$A$2393='Local Detail'!$G$3)*(Projects!$C$5:$C$2393<>'MDOT FTA Detail'!$C$4)*(Projects!$L$5:$L$2393='Local Detail'!$A99)*(Projects!$J$5:$J$2393<>'Local Detail'!$A$147)*(Projects!$M$5:$M$2393)))+(SUMPRODUCT((Projects!$A$5:$A$2393='Local Detail'!$G$3)*(Projects!$C$5:$C$2393<>'MDOT FTA Detail'!$C$4)*(Projects!$L$5:$L$2393='Local Detail'!$A99)*(Projects!$J$5:$J$2393<>'Local Detail'!$A$147)*(Projects!$O$5:$O$2393))))","v":0},0,{"$f":"SUMPRODUCT((Projects!$A$5:$A$2393='Local Detail'!$J$3)*(Projects!$C$5:$C$2393<>'MDOT FTA Detail'!$C$4)*(Projects!$L$5:$L$2393='Local Detail'!$A99)*(Projects!$K$5:$K$2393))","v":0},{"$f":"((SUMPRODUCT((Projects!$A$5:$A$2393='Local Detail'!$J$3)*(Projects!$C$5:$C$2393<>'MDOT FTA Detail'!$C$4)*(Projects!$L$5:$L$2393='Local Detail'!$A99)*(Projects!$J$5:$J$2393<>'Local Detail'!$A$147)*(Projects!$M$5:$M$2393)))+(SUMPRODUCT((Projects!$A$5:$A$2393='Local Detail'!$J$3)*(Projects!$C$5:$C$2393<>'MDOT FTA Detail'!$C$4)*(Projects!$L$5:$L$2393='Local Detail'!$A99)*(Projects!$J$5:$J$2393<>'Local Detail'!$A$147)*(Projects!$O$5:$O$2393))))","v":0},0,{"$f":"SUMPRODUCT((Projects!$A$5:$A$2393='Local Detail'!$M$3)*(Projects!$C$5:$C$2393<>'MDOT FTA Detail'!$C$4)*(Projects!$L$5:$L$2393='Local Detail'!$A99)*(Projects!$K$5:$K$2393))","v":0},{"$f":"((SUMPRODUCT((Projects!$A$5:$A$2393='Local Detail'!$M$3)*(Projects!$C$5:$C$2393<>'MDOT FTA Detail'!$C$4)*(Projects!$L$5:$L$2393='Local Detail'!$A99)*(Projects!$J$5:$J$2393<>'Local Detail'!$A$147)*(Projects!$M$5:$M$2393)))+(SUMPRODUCT((Projects!$A$5:$A$2393='Local Detail'!$M$3)*(Projects!$C$5:$C$2393<>'MDOT FTA Detail'!$C$4)*(Projects!$L$5:$L$2393='Local Detail'!$A99)*(Projects!$J$5:$J$2393<>'Local Detail'!$A$147)*(Projects!$O$5:$O$2393))))","v":0},0]
["TAU","Transportation Alternatives Urban Areas > 200,000 Population","Local Other FHWA",{"$f":"SUMPRODUCT((Projects!$A$5:$A$2393='Local Detail'!$D$3)*(Projects!$C$5:$C$2393<>'MDOT FTA Detail'!$C$4)*(Projects!$L$5:$L$2393='Local Detail'!$A100)*(Projects!$K$5:$K$2393))","v":0},{"$f":"((SUMPRODUCT((Projects!$A$5:$A$2393='Local Detail'!$D$3)*(Projects!$C$5:$C$2393<>'MDOT FTA Detail'!$C$4)*(Projects!$L$5:$L$2393='Local Detail'!$A100)*(Projects!$J$5:$J$2393<>'Local Detail'!$A$147)*(Projects!$M$5:$M$2393)))+(SUMPRODUCT((Projects!$A$5:$A$2393='Local Detail'!$D$3)*(Projects!$C$5:$C$2393<>'MDOT FTA Detail'!$C$4)*(Projects!$L$5:$L$2393='Local Detail'!$A100)*(Projects!$J$5:$J$2393<>'Local Detail'!$A$147)*(Projects!$O$5:$O$2393))))","v":0},0,{"$f":"SUMPRODUCT((Projects!$A$5:$A$2393='Local Detail'!$G$3)*(Projects!$C$5:$C$2393<>'MDOT FTA Detail'!$C$4)*(Projects!$L$5:$L$2393='Local Detail'!$A100)*(Projects!$K$5:$K$2393))","v":0},{"$f":"((SUMPRODUCT((Projects!$A$5:$A$2393='Local Detail'!$G$3)*(Projects!$C$5:$C$2393<>'MDOT FTA Detail'!$C$4)*(Projects!$L$5:$L$2393='Local Detail'!$A100)*(Projects!$J$5:$J$2393<>'Local Detail'!$A$147)*(Projects!$M$5:$M$2393)))+(SUMPRODUCT((Projects!$A$5:$A$2393='Local Detail'!$G$3)*(Projects!$C$5:$C$2393<>'MDOT FTA Detail'!$C$4)*(Projects!$L$5:$L$2393='Local Detail'!$A100)*(Projects!$J$5:$J$2393<>'Local Detail'!$A$147)*(Projects!$O$5:$O$2393))))","v":0},0,{"$f":"SUMPRODUCT((Projects!$A$5:$A$2393='Local Detail'!$J$3)*(Projects!$C$5:$C$2393<>'MDOT FTA Detail'!$C$4)*(Projects!$L$5:$L$2393='Local Detail'!$A100)*(Projects!$K$5:$K$2393))","v":0},{"$f":"((SUMPRODUCT((Projects!$A$5:$A$2393='Local Detail'!$J$3)*(Projects!$C$5:$C$2393<>'MDOT FTA Detail'!$C$4)*(Projects!$L$5:$L$2393='Local Detail'!$A100)*(Projects!$J$5:$J$2393<>'Local Detail'!$A$147)*(Projects!$M$5:$M$2393)))+(SUMPRODUCT((Projects!$A$5:$A$2393='Local Detail'!$J$3)*(Projects!$C$5:$C$2393<>'MDOT FTA Detail'!$C$4)*(Projects!$L$5:$L$2393='Local Detail'!$A100)*(Projects!$J$5:$J$2393<>'Local Detail'!$A$147)*(Projects!$O$5:$O$2393))))","v":0},0,{"$f":"SUMPRODUCT((Projects!$A$5:$A$2393='Local Detail'!$M$3)*(Projects!$C$5:$C$2393<>'MDOT FTA Detail'!$C$4)*(Projects!$L$5:$L$2393='Local Detail'!$A100)*(Projects!$K$5:$K$2393))","v":0},{"$f":"((SUMPRODUCT((Projects!$A$5:$A$2393='Local Detail'!$M$3)*(Projects!$C$5:$C$2393<>'MDOT FTA Detail'!$C$4)*(Projects!$L$5:$L$2393='Local Detail'!$A100)*(Projects!$J$5:$J$2393<>'Local Detail'!$A$147)*(Projects!$M$5:$M$2393)))+(SUMPRODUCT((Projects!$A$5:$A$2393='Local Detail'!$M$3)*(Projects!$C$5:$C$2393<>'MDOT FTA Detail'!$C$4)*(Projects!$L$5:$L$2393='Local Detail'!$A100)*(Projects!$J$5:$J$2393<>'Local Detail'!$A$147)*(Projects!$O$5:$O$2393))))","v":0},0]
["TAUL","Transporation Alternatives Urban Areas < 200,000 Population","Local Other FHWA",{"$f":"SUMPRODUCT((Projects!$A$5:$A$2393='Local Detail'!$D$3)*(Projects!$C$5:$C$2393<>'MDOT FTA Detail'!$C$4)*(Projects!$L$5:$L$2393='Local Detail'!$A101)*(Projects!$K$5:$K$2393))","v":0},{"$f":"((SUMPRODUCT((Projects!$A$5:$A$2393='Local Detail'!$D$3)*(Projects!$C$5:$C$2393<>'MDOT FTA Detail'!$C$4)*(Projects!$L$5:$L$2393='Local Detail'!$A101)*(Projects!$J$5:$J$2393<>'Local Detail'!$A$147)*(Projects!$M$5:$M$2393)))+(SUMPRODUCT((Projects!$A$5:$A$2393='Local Detail'!$D$3)*(Projects!$C$5:$C$2393<>'MDOT FTA Detail'!$C$4)*(Projects!$L$5:$L$2393='Local Detail'!$A101)*(Projects!$J$5:$J$2393<>'Local Detail'!$A$147)*(Projects!$O$5:$O$2393))))","v":0},0,{"$f":"SUMPRODUCT((Projects!$A$5:$A$2393='Local Detail'!$G$3)*(Projects!$C$5:$C$2393<>'MDOT FTA Detail'!$C$4)*(Projects!$L$5:$L$2393='Local Detail'!$A101)*(Projects!$K$5:$K$2393))","v":0},{"$f":"((SUMPRODUCT((Projects!$A$5:$A$2393='Local Detail'!$G$3)*(Projects!$C$5:$C$2393<>'MDOT FTA Detail'!$C$4)*(Projects!$L$5:$L$2393='Local Detail'!$A101)*(Projects!$J$5:$J$2393<>'Local Detail'!$A$147)*(Projects!$M$5:$M$2393)))+(SUMPRODUCT((Projects!$A$5:$A$2393='Local Detail'!$G$3)*(Projects!$C$5:$C$2393<>'MDOT FTA Detail'!$C$4)*(Projects!$L$5:$L$2393='Local Detail'!$A101)*(Projects!$J$5:$J$2393<>'Local Detail'!$A$147)*(Projects!$O$5:$O$2393))))","v":0},0,{"$f":"SUMPRODUCT((Projects!$A$5:$A$2393='Local Detail'!$J$3)*(Projects!$C$5:$C$2393<>'MDOT FTA Detail'!$C$4)*(Projects!$L$5:$L$2393='Local Detail'!$A101)*(Projects!$K$5:$K$2393))","v":0},{"$f":"((SUMPRODUCT((Projects!$A$5:$A$2393='Local Detail'!$J$3)*(Projects!$C$5:$C$2393<>'MDOT FTA Detail'!$C$4)*(Projects!$L$5:$L$2393='Local Detail'!$A101)*(Projects!$J$5:$J$2393<>'Local Detail'!$A$147)*(Projects!$M$5:$M$2393)))+(SUMPRODUCT((Projects!$A$5:$A$2393='Local Detail'!$J$3)*(Projects!$C$5:$C$2393<>'MDOT FTA Detail'!$C$4)*(Projects!$L$5:$L$2393='Local Detail'!$A101)*(Projects!$J$5:$J$2393<>'Local Detail'!$A$147)*(Projects!$O$5:$O$2393))))","v":0},0,{"$f":"SUMPRODUCT((Projects!$A$5:$A$2393='Local Detail'!$M$3)*(Projects!$C$5:$C$2393<>'MDOT FTA Detail'!$C$4)*(Projects!$L$5:$L$2393='Local Detail'!$A101)*(Projects!$K$5:$K$2393))","v":0},{"$f":"((SUMPRODUCT((Projects!$A$5:$A$2393='Local Detail'!$M$3)*(Projects!$C$5:$C$2393<>'MDOT FTA Detail'!$C$4)*(Projects!$L$5:$L$2393='Local Detail'!$A101)*(Projects!$J$5:$J$2393<>'Local Detail'!$A$147)*(Projects!$M$5:$M$2393)))+(SUMPRODUCT((Projects!$A$5:$A$2393='Local Detail'!$M$3)*(Projects!$C$5:$C$2393<>'MDOT FTA Detail'!$C$4)*(Projects!$L$5:$L$2393='Local Detail'!$A101)*(Projects!$J$5:$J$2393<>'Local Detail'!$A$147)*(Projects!$O$5:$O$2393))))","v":0},0]
["TBR","Timber Bridge Fund","Local Bridge",{"$f":"SUMPRODUCT((Projects!$A$5:$A$2393='Local Detail'!$D$3)*(Projects!$C$5:$C$2393<>'MDOT FTA Detail'!$C$4)*(Projects!$L$5:$L$2393='Local Detail'!$A102)*(Projects!$K$5:$K$2393))","v":0},{"$f":"((SUMPRODUCT((Projects!$A$5:$A$2393='Local Detail'!$D$3)*(Projects!$C$5:$C$2393<>'MDOT FTA Detail'!$C$4)*(Projects!$L$5:$L$2393='Local Detail'!$A102)*(Projects!$J$5:$J$2393<>'Local Detail'!$A$147)*(Projects!$M$5:$M$2393)))+(SUMPRODUCT((Projects!$A$5:$A$2393='Local Detail'!$D$3)*(Projects!$C$5:$C$2393<>'MDOT FTA Detail'!$C$4)*(Projects!$L$5:$L$2393='Local Detail'!$A102)*(Projects!$J$5:$J$2393<>'Local Detail'!$A$147)*(Projects!$O$5:$O$2393))))","v":0},0,{"$f":"SUMPRODUCT((Projects!$A$5:$A$2393='Local Detail'!$G$3)*(Projects!$C$5:$C$2393<>'MDOT FTA Detail'!$C$4)*(Projects!$L$5:$L$2393='Local Detail'!$A102)*(Projects!$K$5:$K$2393))","v":0},{"$f":"((SUMPRODUCT((Projects!$A$5:$A$2393='Local Detail'!$G$3)*(Projects!$C$5:$C$2393<>'MDOT FTA Detail'!$C$4)*(Projects!$L$5:$L$2393='Local Detail'!$A102)*(Projects!$J$5:$J$2393<>'Local Detail'!$A$147)*(Projects!$M$5:$M$2393)))+(SUMPRODUCT((Projects!$A$5:$A$2393='Local Detail'!$G$3)*(Projects!$C$5:$C$2393<>'MDOT FTA Detail'!$C$4)*(Projects!$L$5:$L$2393='Local Detail'!$A102)*(Projects!$J$5:$J$2393<>'Local Detail'!$A$147)*(Projects!$O$5:$O$2393))))","v":0},0,{"$f":"SUMPRODUCT((Projects!$A$5:$A$2393='Local Detail'!$J$3)*(Projects!$C$5:$C$2393<>'MDOT FTA Detail'!$C$4)*(Projects!$L$5:$L$2393='Local Detail'!$A102)*(Projects!$K$5:$K$2393))","v":0},{"$f":"((SUMPRODUCT((Projects!$A$5:$A$2393='Local Detail'!$J$3)*(Projects!$C$5:$C$2393<>'MDOT FTA Detail'!$C$4)*(Projects!$L$5:$L$2393='Local Detail'!$A102)*(Projects!$J$5:$J$2393<>'Local Detail'!$A$147)*(Projects!$M$5:$M$2393)))+(SUMPRODUCT((Projects!$A$5:$A$2393='Local Detail'!$J$3)*(Projects!$C$5:$C$2393<>'MDOT FTA Detail'!$C$4)*(Projects!$L$5:$L$2393='Local Detail'!$A102)*(Projects!$J$5:$J$2393<>'Local Detail'!$A$147)*(Projects!$O$5:$O$2393))))","v":0},0,{"$f":"SUMPRODUCT((Projects!$A$5:$A$2393='Local Detail'!$M$3)*(Projects!$C$5:$C$2393<>'MDOT FTA Detail'!$C$4)*(Projects!$L$5:$L$2393='Local Detail'!$A102)*(Projects!$K$5:$K$2393))","v":0},{"$f":"((SUMPRODUCT((Projects!$A$5:$A$2393='Local Detail'!$M$3)*(Projects!$C$5:$C$2393<>'MDOT FTA Detail'!$C$4)*(Projects!$L$5:$L$2393='Local Detail'!$A102)*(Projects!$J$5:$J$2393<>'Local Detail'!$A$147)*(Projects!$M$5:$M$2393)))+(SUMPRODUCT((Projects!$A$5:$A$2393='Local Detail'!$M$3)*(Projects!$C$5:$C$2393<>'MDOT FTA Detail'!$C$4)*(Projects!$L$5:$L$2393='Local Detail'!$A102)*(Projects!$J$5:$J$2393<>'Local Detail'!$A$147)*(Projects!$O$5:$O$2393))))","v":0},0]
["TCP","Tax Compliance Program","Local Other FHWA",{"$f":"SUMPRODUCT((Projects!$A$5:$A$2393='Local Detail'!$D$3)*(Projects!$C$5:$C$2393<>'MDOT FTA Detail'!$C$4)*(Projects!$L$5:$L$2393='Local Detail'!$A103)*(Projects!$K$5:$K$2393))","v":0},{"$f":"((SUMPRODUCT((Projects!$A$5:$A$2393='Local Detail'!$D$3)*(Projects!$C$5:$C$2393<>'MDOT FTA Detail'!$C$4)*(Projects!$L$5:$L$2393='Local Detail'!$A103)*(Projects!$J$5:$J$2393<>'Local Detail'!$A$147)*(Projects!$M$5:$M$2393)))+(SUMPRODUCT((Projects!$A$5:$A$2393='Local Detail'!$D$3)*(Projects!$C$5:$C$2393<>'MDOT FTA Detail'!$C$4)*(Projects!$L$5:$L$2393='Local Detail'!$A103)*(Projects!$J$5:$J$2393<>'Local Detail'!$A$147)*(Projects!$O$5:$O$2393))))","v":0},0,{"$f":"SUMPRODUCT((Projects!$A$5:$A$2393='Local Detail'!$G$3)*(Projects!$C$5:$C$2393<>'MDOT FTA Detail'!$C$4)*(Projects!$L$5:$L$2393='Local Detail'!$A103)*(Projects!$K$5:$K$2393))","v":0},{"$f":"((SUMPRODUCT((Projects!$A$5:$A$2393='Local Detail'!$G$3)*(Projects!$C$5:$C$2393<>'MDOT FTA Detail'!$C$4)*(Projects!$L$5:$L$2393='Local Detail'!$A103)*(Projects!$J$5:$J$2393<>'Local Detail'!$A$147)*(Projects!$M$5:$M$2393)))+(SUMPRODUCT((Projects!$A$5:$A$2393='Local Detail'!$G$3)*(Projects!$C$5:$C$2393<>'MDOT FTA Detail'!$C$4)*(Projects!$L$5:$L$2393='Local Detail'!$A103)*(Projects!$J$5:$J$2393<>'Local Detail'!$A$147)*(Projects!$O$5:$O$2393))))","v":0},0,{"$f":"SUMPRODUCT((Projects!$A$5:$A$2393='Local Detail'!$J$3)*(Projects!$C$5:$C$2393<>'MDOT FTA Detail'!$C$4)*(Projects!$L$5:$L$2393='Local Detail'!$A103)*(Projects!$K$5:$K$2393))","v":0},{"$f":"((SUMPRODUCT((Projects!$A$5:$A$2393='Local Detail'!$J$3)*(Projects!$C$5:$C$2393<>'MDOT FTA Detail'!$C$4)*(Projects!$L$5:$L$2393='Local Detail'!$A103)*(Projects!$J$5:$J$2393<>'Local Detail'!$A$147)*(Projects!$M$5:$M$2393)))+(SUMPRODUCT((Projects!$A$5:$A$2393='Local Detail'!$J$3)*(Projects!$C$5:$C$2393<>'MDOT FTA Detail'!$C$4)*(Projects!$L$5:$L$2393='Local Detail'!$A103)*(Projects!$J$5:$J$2393<>'Local Detail'!$A$147)*(Projects!$O$5:$O$2393))))","v":0},0,{"$f":"SUMPRODUCT((Projects!$A$5:$A$2393='Local Detail'!$M$3)*(Projects!$C$5:$C$2393<>'MDOT FTA Detail'!$C$4)*(Projects!$L$5:$L$2393='Local Detail'!$A103)*(Projects!$K$5:$K$2393))","v":0},{"$f":"((SUMPRODUCT((Projects!$A$5:$A$2393='Local Detail'!$M$3)*(Projects!$C$5:$C$2393<>'MDOT FTA Detail'!$C$4)*(Projects!$L$5:$L$2393='Local Detail'!$A103)*(Projects!$J$5:$J$2393<>'Local Detail'!$A$147)*(Projects!$M$5:$M$2393)))+(SUMPRODUCT((Projects!$A$5:$A$2393='Local Detail'!$M$3)*(Projects!$C$5:$C$2393<>'MDOT FTA Detail'!$C$4)*(Projects!$L$5:$L$2393='Local Detail'!$A103)*(Projects!$J$5:$J$2393<>'Local Detail'!$A$147)*(Projects!$O$5:$O$2393))))","v":0},0]
["TCSP","Transportation, Community and System Preservation","Local Other FHWA",{"$f":"SUMPRODUCT((Projects!$A$5:$A$2393='Local Detail'!$D$3)*(Projects!$C$5:$C$2393<>'MDOT FTA Detail'!$C$4)*(Projects!$L$5:$L$2393='Local Detail'!$A104)*(Projects!$K$5:$K$2393))","v":0},{"$f":"((SUMPRODUCT((Projects!$A$5:$A$2393='Local Detail'!$D$3)*(Projects!$C$5:$C$2393<>'MDOT FTA Detail'!$C$4)*(Projects!$L$5:$L$2393='Local Detail'!$A104)*(Projects!$J$5:$J$2393<>'Local Detail'!$A$147)*(Projects!$M$5:$M$2393)))+(SUMPRODUCT((Projects!$A$5:$A$2393='Local Detail'!$D$3)*(Projects!$C$5:$C$2393<>'MDOT FTA Detail'!$C$4)*(Projects!$L$5:$L$2393='Local Detail'!$A104)*(Projects!$J$5:$J$2393<>'Local Detail'!$A$147)*(Projects!$O$5:$O$2393))))","v":0},0,{"$f":"SUMPRODUCT((Projects!$A$5:$A$2393='Local Detail'!$G$3)*(Projects!$C$5:$C$2393<>'MDOT FTA Detail'!$C$4)*(Projects!$L$5:$L$2393='Local Detail'!$A104)*(Projects!$K$5:$K$2393))","v":0},{"$f":"((SUMPRODUCT((Projects!$A$5:$A$2393='Local Detail'!$G$3)*(Projects!$C$5:$C$2393<>'MDOT FTA Detail'!$C$4)*(Projects!$L$5:$L$2393='Local Detail'!$A104)*(Projects!$J$5:$J$2393<>'Local Detail'!$A$147)*(Projects!$M$5:$M$2393)))+(SUMPRODUCT((Projects!$A$5:$A$2393='Local Detail'!$G$3)*(Projects!$C$5:$C$2393<>'MDOT FTA Detail'!$C$4)*(Projects!$L$5:$L$2393='Local Detail'!$A104)*(Projects!$J$5:$J$2393<>'Local Detail'!$A$147)*(Projects!$O$5:$O$2393))))","v":0},0,{"$f":"SUMPRODUCT((Projects!$A$5:$A$2393='Local Detail'!$J$3)*(Projects!$C$5:$C$2393<>'MDOT FTA Detail'!$C$4)*(Projects!$L$5:$L$2393='Local Detail'!$A104)*(Projects!$K$5:$K$2393))","v":0},{"$f":"((SUMPRODUCT((Projects!$A$5:$A$2393='Local Detail'!$J$3)*(Projects!$C$5:$C$2393<>'MDOT FTA Detail'!$C$4)*(Projects!$L$5:$L$2393='Local Detail'!$A104)*(Projects!$J$5:$J$2393<>'Local Detail'!$A$147)*(Projects!$M$5:$M$2393)))+(SUMPRODUCT((Projects!$A$5:$A$2393='Local Detail'!$J$3)*(Projects!$C$5:$C$2393<>'MDOT FTA Detail'!$C$4)*(Projects!$L$5:$L$2393='Local Detail'!$A104)*(Projects!$J$5:$J$2393<>'Local Detail'!$A$147)*(Projects!$O$5:$O$2393))))","v":0},0,{"$f":"SUMPRODUCT((Projects!$A$5:$A$2393='Local Detail'!$M$3)*(Projects!$C$5:$C$2393<>'MDOT FTA Detail'!$C$4)*(Projects!$L$5:$L$2393='Local Detail'!$A104)*(Projects!$K$5:$K$2393))","v":0},{"$f":"((SUMPRODUCT((Projects!$A$5:$A$2393='Local Detail'!$M$3)*(Projects!$C$5:$C$2393<>'MDOT FTA Detail'!$C$4)*(Projects!$L$5:$L$2393='Local Detail'!$A104)*(Projects!$J$5:$J$2393<>'Local Detail'!$A$147)*(Projects!$M$5:$M$2393)))+(SUMPRODUCT((Projects!$A$5:$A$2393='Local Detail'!$M$3)*(Projects!$C$5:$C$2393<>'MDOT FTA Detail'!$C$4)*(Projects!$L$5:$L$2393='Local Detail'!$A104)*(Projects!$J$5:$J$2393<>'Local Detail'!$A$147)*(Projects!$O$5:$O$2393))))","v":0},0]
["TG","Transportation  Grant (100% Fed)","Local Other FHWA",{"$f":"SUMPRODUCT((Projects!$A$5:$A$2393='Local Detail'!$D$3)*(Projects!$C$5:$C$2393<>'MDOT FTA Detail'!$C$4)*(Projects!$L$5:$L$2393='Local Detail'!$A105)*(Projects!$K$5:$K$2393))","v":0},{"$f":"((SUMPRODUCT((Projects!$A$5:$A$2393='Local Detail'!$D$3)*(Projects!$C$5:$C$2393<>'MDOT FTA Detail'!$C$4)*(Projects!$L$5:$L$2393='Local Detail'!$A105)*(Projects!$J$5:$J$2393<>'Local Detail'!$A$147)*(Projects!$M$5:$M$2393)))+(SUMPRODUCT((Projects!$A$5:$A$2393='Local Detail'!$D$3)*(Projects!$C$5:$C$2393<>'MDOT FTA Detail'!$C$4)*(Projects!$L$5:$L$2393='Local Detail'!$A105)*(Projects!$J$5:$J$2393<>'Local Detail'!$A$147)*(Projects!$O$5:$O$2393))))","v":0},0,{"$f":"SUMPRODUCT((Projects!$A$5:$A$2393='Local Detail'!$G$3)*(Projects!$C$5:$C$2393<>'MDOT FTA Detail'!$C$4)*(Projects!$L$5:$L$2393='Local Detail'!$A105)*(Projects!$K$5:$K$2393))","v":0},{"$f":"((SUMPRODUCT((Projects!$A$5:$A$2393='Local Detail'!$G$3)*(Projects!$C$5:$C$2393<>'MDOT FTA Detail'!$C$4)*(Projects!$L$5:$L$2393='Local Detail'!$A105)*(Projects!$J$5:$J$2393<>'Local Detail'!$A$147)*(Projects!$M$5:$M$2393)))+(SUMPRODUCT((Projects!$A$5:$A$2393='Local Detail'!$G$3)*(Projects!$C$5:$C$2393<>'MDOT FTA Detail'!$C$4)*(Projects!$L$5:$L$2393='Local Detail'!$A105)*(Projects!$J$5:$J$2393<>'Local Detail'!$A$147)*(Projects!$O$5:$O$2393))))","v":0},0,{"$f":"SUMPRODUCT((Projects!$A$5:$A$2393='Local Detail'!$J$3)*(Projects!$C$5:$C$2393<>'MDOT FTA Detail'!$C$4)*(Projects!$L$5:$L$2393='Local Detail'!$A105)*(Projects!$K$5:$K$2393))","v":0},{"$f":"((SUMPRODUCT((Projects!$A$5:$A$2393='Local Detail'!$J$3)*(Projects!$C$5:$C$2393<>'MDOT FTA Detail'!$C$4)*(Projects!$L$5:$L$2393='Local Detail'!$A105)*(Projects!$J$5:$J$2393<>'Local Detail'!$A$147)*(Projects!$M$5:$M$2393)))+(SUMPRODUCT((Projects!$A$5:$A$2393='Local Detail'!$J$3)*(Projects!$C$5:$C$2393<>'MDOT FTA Detail'!$C$4)*(Projects!$L$5:$L$2393='Local Detail'!$A105)*(Projects!$J$5:$J$2393<>'Local Detail'!$A$147)*(Projects!$O$5:$O$2393))))","v":0},0,{"$f":"SUMPRODUCT((Projects!$A$5:$A$2393='Local Detail'!$M$3)*(Projects!$C$5:$C$2393<>'MDOT FTA Detail'!$C$4)*(Projects!$L$5:$L$2393='Local Detail'!$A105)*(Projects!$K$5:$K$2393))","v":0},{"$f":"((SUMPRODUCT((Projects!$A$5:$A$2393='Local Detail'!$M$3)*(Projects!$C$5:$C$2393<>'MDOT FTA Detail'!$C$4)*(Projects!$L$5:$L$2393='Local Detail'!$A105)*(Projects!$J$5:$J$2393<>'Local Detail'!$A$147)*(Projects!$M$5:$M$2393)))+(SUMPRODUCT((Projects!$A$5:$A$2393='Local Detail'!$M$3)*(Projects!$C$5:$C$2393<>'MDOT FTA Detail'!$C$4)*(Projects!$L$5:$L$2393='Local Detail'!$A105)*(Projects!$J$5:$J$2393<>'Local Detail'!$A$147)*(Projects!$O$5:$O$2393))))","v":0},0]
["TGR2","TIGER II Discretionary Grant","Local Other FHWA",{"$f":"SUMPRODUCT((Projects!$A$5:$A$2393='Local Detail'!$D$3)*(Projects!$C$5:$C$2393<>'MDOT FTA Detail'!$C$4)*(Projects!$L$5:$L$2393='Local Detail'!$A106)*(Projects!$K$5:$K$2393))","v":0},{"$f":"((SUMPRODUCT((Projects!$A$5:$A$2393='Local Detail'!$D$3)*(Projects!$C$5:$C$2393<>'MDOT FTA Detail'!$C$4)*(Projects!$L$5:$L$2393='Local Detail'!$A106)*(Projects!$J$5:$J$2393<>'Local Detail'!$A$147)*(Projects!$M$5:$M$2393)))+(SUMPRODUCT((Projects!$A$5:$A$2393='Local Detail'!$D$3)*(Projects!$C$5:$C$2393<>'MDOT FTA Detail'!$C$4)*(Projects!$L$5:$L$2393='Local Detail'!$A106)*(Projects!$J$5:$J$2393<>'Local Detail'!$A$147)*(Projects!$O$5:$O$2393))))","v":0},{"$f":"D106+E106","v":0},{"$f":"SUMPRODUCT((Projects!$A$5:$A$2393='Local Detail'!$G$3)*(Projects!$C$5:$C$2393<>'MDOT FTA Detail'!$C$4)*(Projects!$L$5:$L$2393='Local Detail'!$A106)*(Projects!$K$5:$K$2393))","v":0},{"$f":"((SUMPRODUCT((Projects!$A$5:$A$2393='Local Detail'!$G$3)*(Projects!$C$5:$C$2393<>'MDOT FTA Detail'!$C$4)*(Projects!$L$5:$L$2393='Local Detail'!$A106)*(Projects!$J$5:$J$2393<>'Local Detail'!$A$147)*(Projects!$M$5:$M$2393)))+(SUMPRODUCT((Projects!$A$5:$A$2393='Local Detail'!$G$3)*(Projects!$C$5:$C$2393<>'MDOT FTA Detail'!$C$4)*(Projects!$L$5:$L$2393='Local Detail'!$A106)*(Projects!$J$5:$J$2393<>'Local Detail'!$A$147)*(Projects!$O$5:$O$2393))))","v":0},{"$f":"G106+H106","v":0},{"$f":"SUMPRODUCT((Projects!$A$5:$A$2393='Local Detail'!$J$3)*(Projects!$C$5:$C$2393<>'MDOT FTA Detail'!$C$4)*(Projects!$L$5:$L$2393='Local Detail'!$A106)*(Projects!$K$5:$K$2393))","v":0},{"$f":"((SUMPRODUCT((Projects!$A$5:$A$2393='Local Detail'!$J$3)*(Projects!$C$5:$C$2393<>'MDOT FTA Detail'!$C$4)*(Projects!$L$5:$L$2393='Local Detail'!$A106)*(Projects!$J$5:$J$2393<>'Local Detail'!$A$147)*(Projects!$M$5:$M$2393)))+(SUMPRODUCT((Projects!$A$5:$A$2393='Local Detail'!$J$3)*(Projects!$C$5:$C$2393<>'MDOT FTA Detail'!$C$4)*(Projects!$L$5:$L$2393='Local Detail'!$A106)*(Projects!$J$5:$J$2393<>'Local Detail'!$A$147)*(Projects!$O$5:$O$2393))))","v":0},{"$f":"J106+K106","v":0},{"$f":"SUMPRODUCT((Projects!$A$5:$A$2393='Local Detail'!$M$3)*(Projects!$C$5:$C$2393<>'MDOT FTA Detail'!$C$4)*(Projects!$L$5:$L$2393='Local Detail'!$A106)*(Projects!$K$5:$K$2393))","v":0},{"$f":"((SUMPRODUCT((Projects!$A$5:$A$2393='Local Detail'!$M$3)*(Projects!$C$5:$C$2393<>'MDOT FTA Detail'!$C$4)*(Projects!$L$5:$L$2393='Local Detail'!$A106)*(Projects!$J$5:$J$2393<>'Local Detail'!$A$147)*(Projects!$M$5:$M$2393)))+(SUMPRODUCT((Projects!$A$5:$A$2393='Local Detail'!$M$3)*(Projects!$C$5:$C$2393<>'MDOT FTA Detail'!$C$4)*(Projects!$L$5:$L$2393='Local Detail'!$A106)*(Projects!$J$5:$J$2393<>'Local Detail'!$A$147)*(Projects!$O$5:$O$2393))))","v":0},{"$f":"M106+N106","v":0}]
["TGR3","TIGER III Discretionary Grant","Local Other FHWA",{"$f":"SUMPRODUCT((Projects!$A$5:$A$2393='Local Detail'!$D$3)*(Projects!$C$5:$C$2393<>'MDOT FTA Detail'!$C$4)*(Projects!$L$5:$L$2393='Local Detail'!$A107)*(Projects!$K$5:$K$2393))","v":0},{"$f":"((SUMPRODUCT((Projects!$A$5:$A$2393='Local Detail'!$D$3)*(Projects!$C$5:$C$2393<>'MDOT FTA Detail'!$C$4)*(Projects!$L$5:$L$2393='Local Detail'!$A107)*(Projects!$J$5:$J$2393<>'Local Detail'!$A$147)*(Projects!$M$5:$M$2393)))+(SUMPRODUCT((Projects!$A$5:$A$2393='Local Detail'!$D$3)*(Projects!$C$5:$C$2393<>'MDOT FTA Detail'!$C$4)*(Projects!$L$5:$L$2393='Local Detail'!$A107)*(Projects!$J$5:$J$2393<>'Local Detail'!$A$147)*(Projects!$O$5:$O$2393))))","v":0},{"$f":"D107+E107","v":0},{"$f":"SUMPRODUCT((Projects!$A$5:$A$2393='Local Detail'!$G$3)*(Projects!$C$5:$C$2393<>'MDOT FTA Detail'!$C$4)*(Projects!$L$5:$L$2393='Local Detail'!$A107)*(Projects!$K$5:$K$2393))","v":0},{"$f":"((SUMPRODUCT((Projects!$A$5:$A$2393='Local Detail'!$G$3)*(Projects!$C$5:$C$2393<>'MDOT FTA Detail'!$C$4)*(Projects!$L$5:$L$2393='Local Detail'!$A107)*(Projects!$J$5:$J$2393<>'Local Detail'!$A$147)*(Projects!$M$5:$M$2393)))+(SUMPRODUCT((Projects!$A$5:$A$2393='Local Detail'!$G$3)*(Projects!$C$5:$C$2393<>'MDOT FTA Detail'!$C$4)*(Projects!$L$5:$L$2393='Local Detail'!$A107)*(Projects!$J$5:$J$2393<>'Local Detail'!$A$147)*(Projects!$O$5:$O$2393))))","v":0},{"$f":"G107+H107","v":0},{"$f":"SUMPRODUCT((Projects!$A$5:$A$2393='Local Detail'!$J$3)*(Projects!$C$5:$C$2393<>'MDOT FTA Detail'!$C$4)*(Projects!$L$5:$L$2393='Local Detail'!$A107)*(Projects!$K$5:$K$2393))","v":0},{"$f":"((SUMPRODUCT((Projects!$A$5:$A$2393='Local Detail'!$J$3)*(Projects!$C$5:$C$2393<>'MDOT FTA Detail'!$C$4)*(Projects!$L$5:$L$2393='Local Detail'!$A107)*(Projects!$J$5:$J$2393<>'Local Detail'!$A$147)*(Projects!$M$5:$M$2393)))+(SUMPRODUCT((Projects!$A$5:$A$2393='Local Detail'!$J$3)*(Projects!$C$5:$C$2393<>'MDOT FTA Detail'!$C$4)*(Projects!$L$5:$L$2393='Local Detail'!$A107)*(Projects!$J$5:$J$2393<>'Local Detail'!$A$147)*(Projects!$O$5:$O$2393))))","v":0},{"$f":"J107+K107","v":0},{"$f":"SUMPRODUCT((Projects!$A$5:$A$2393='Local Detail'!$M$3)*(Projects!$C$5:$C$2393<>'MDOT FTA Detail'!$C$4)*(Projects!$L$5:$L$2393='Local Detail'!$A107)*(Projects!$K$5:$K$2393))","v":0},{"$f":"((SUMPRODUCT((Projects!$A$5:$A$2393='Local Detail'!$M$3)*(Projects!$C$5:$C$2393<>'MDOT FTA Detail'!$C$4)*(Projects!$L$5:$L$2393='Local Detail'!$A107)*(Projects!$J$5:$J$2393<>'Local Detail'!$A$147)*(Projects!$M$5:$M$2393)))+(SUMPRODUCT((Projects!$A$5:$A$2393='Local Detail'!$M$3)*(Projects!$C$5:$C$2393<>'MDOT FTA Detail'!$C$4)*(Projects!$L$5:$L$2393='Local Detail'!$A107)*(Projects!$J$5:$J$2393<>'Local Detail'!$A$147)*(Projects!$O$5:$O$2393))))","v":0},{"$f":"M107+N107","v":0}]
["TIP","Transportation Improvements Projects SAFETEA-LU","Local Other FHWA",{"$f":"SUMPRODUCT((Projects!$A$5:$A$2393='Local Detail'!$D$3)*(Projects!$C$5:$C$2393<>'MDOT FTA Detail'!$C$4)*(Projects!$L$5:$L$2393='Local Detail'!$A108)*(Projects!$K$5:$K$2393))","v":0},{"$f":"((SUMPRODUCT((Projects!$A$5:$A$2393='Local Detail'!$D$3)*(Projects!$C$5:$C$2393<>'MDOT FTA Detail'!$C$4)*(Projects!$L$5:$L$2393='Local Detail'!$A108)*(Projects!$J$5:$J$2393<>'Local Detail'!$A$147)*(Projects!$M$5:$M$2393)))+(SUMPRODUCT((Projects!$A$5:$A$2393='Local Detail'!$D$3)*(Projects!$C$5:$C$2393<>'MDOT FTA Detail'!$C$4)*(Projects!$L$5:$L$2393='Local Detail'!$A108)*(Projects!$J$5:$J$2393<>'Local Detail'!$A$147)*(Projects!$O$5:$O$2393))))","v":0},{"$f":"D108+E108","v":0},{"$f":"SUMPRODUCT((Projects!$A$5:$A$2393='Local Detail'!$G$3)*(Projects!$C$5:$C$2393<>'MDOT FTA Detail'!$C$4)*(Projects!$L$5:$L$2393='Local Detail'!$A108)*(Projects!$K$5:$K$2393))","v":0},{"$f":"((SUMPRODUCT((Projects!$A$5:$A$2393='Local Detail'!$G$3)*(Projects!$C$5:$C$2393<>'MDOT FTA Detail'!$C$4)*(Projects!$L$5:$L$2393='Local Detail'!$A108)*(Projects!$J$5:$J$2393<>'Local Detail'!$A$147)*(Projects!$M$5:$M$2393)))+(SUMPRODUCT((Projects!$A$5:$A$2393='Local Detail'!$G$3)*(Projects!$C$5:$C$2393<>'MDOT FTA Detail'!$C$4)*(Projects!$L$5:$L$2393='Local Detail'!$A108)*(Projects!$J$5:$J$2393<>'Local Detail'!$A$147)*(Projects!$O$5:$O$2393))))","v":0},{"$f":"G108+H108","v":0},{"$f":"SUMPRODUCT((Projects!$A$5:$A$2393='Local Detail'!$J$3)*(Projects!$C$5:$C$2393<>'MDOT FTA Detail'!$C$4)*(Projects!$L$5:$L$2393='Local Detail'!$A108)*(Projects!$K$5:$K$2393))","v":0},{"$f":"((SUMPRODUCT((Projects!$A$5:$A$2393='Local Detail'!$J$3)*(Projects!$C$5:$C$2393<>'MDOT FTA Detail'!$C$4)*(Projects!$L$5:$L$2393='Local Detail'!$A108)*(Projects!$J$5:$J$2393<>'Local Detail'!$A$147)*(Projects!$M$5:$M$2393)))+(SUMPRODUCT((Projects!$A$5:$A$2393='Local Detail'!$J$3)*(Projects!$C$5:$C$2393<>'MDOT FTA Detail'!$C$4)*(Projects!$L$5:$L$2393='Local Detail'!$A108)*(Projects!$J$5:$J$2393<>'Local Detail'!$A$147)*(Projects!$O$5:$O$2393))))","v":0},{"$f":"J108+K108","v":0},{"$f":"SUMPRODUCT((Projects!$A$5:$A$2393='Local Detail'!$M$3)*(Projects!$C$5:$C$2393<>'MDOT FTA Detail'!$C$4)*(Projects!$L$5:$L$2393='Local Detail'!$A108)*(Projects!$K$5:$K$2393))","v":0},{"$f":"((SUMPRODUCT((Projects!$A$5:$A$2393='Local Detail'!$M$3)*(Projects!$C$5:$C$2393<>'MDOT FTA Detail'!$C$4)*(Projects!$L$5:$L$2393='Local Detail'!$A108)*(Projects!$J$5:$J$2393<>'Local Detail'!$A$147)*(Projects!$M$5:$M$2393)))+(SUMPRODUCT((Projects!$A$5:$A$2393='Local Detail'!$M$3)*(Projects!$C$5:$C$2393<>'MDOT FTA Detail'!$C$4)*(Projects!$L$5:$L$2393='Local Detail'!$A108)*(Projects!$J$5:$J$2393<>'Local Detail'!$A$147)*(Projects!$O$5:$O$2393))))","v":0},{"$f":"M108+N108","v":0}]
["TPFD","Truck Parking Faciilities Discretionary","Local Other FHWA",{"$f":"SUMPRODUCT((Projects!$A$5:$A$2393='Local Detail'!$D$3)*(Projects!$C$5:$C$2393<>'MDOT FTA Detail'!$C$4)*(Projects!$L$5:$L$2393='Local Detail'!$A109)*(Projects!$K$5:$K$2393))","v":0},{"$f":"((SUMPRODUCT((Projects!$A$5:$A$2393='Local Detail'!$D$3)*(Projects!$C$5:$C$2393<>'MDOT FTA Detail'!$C$4)*(Projects!$L$5:$L$2393='Local Detail'!$A109)*(Projects!$J$5:$J$2393<>'Local Detail'!$A$147)*(Projects!$M$5:$M$2393)))+(SUMPRODUCT((Projects!$A$5:$A$2393='Local Detail'!$D$3)*(Projects!$C$5:$C$2393<>'MDOT FTA Detail'!$C$4)*(Projects!$L$5:$L$2393='Local Detail'!$A109)*(Projects!$J$5:$J$2393<>'Local Detail'!$A$147)*(Projects!$O$5:$O$2393))))","v":0},0,{"$f":"SUMPRODUCT((Projects!$A$5:$A$2393='Local Detail'!$G$3)*(Projects!$C$5:$C$2393<>'MDOT FTA Detail'!$C$4)*(Projects!$L$5:$L$2393='Local Detail'!$A109)*(Projects!$K$5:$K$2393))","v":0},{"$f":"((SUMPRODUCT((Projects!$A$5:$A$2393='Local Detail'!$G$3)*(Projects!$C$5:$C$2393<>'MDOT FTA Detail'!$C$4)*(Projects!$L$5:$L$2393='Local Detail'!$A109)*(Projects!$J$5:$J$2393<>'Local Detail'!$A$147)*(Projects!$M$5:$M$2393)))+(SUMPRODUCT((Projects!$A$5:$A$2393='Local Detail'!$G$3)*(Projects!$C$5:$C$2393<>'MDOT FTA Detail'!$C$4)*(Projects!$L$5:$L$2393='Local Detail'!$A109)*(Projects!$J$5:$J$2393<>'Local Detail'!$A$147)*(Projects!$O$5:$O$2393))))","v":0},0,{"$f":"SUMPRODUCT((Projects!$A$5:$A$2393='Local Detail'!$J$3)*(Projects!$C$5:$C$2393<>'MDOT FTA Detail'!$C$4)*(Projects!$L$5:$L$2393='Local Detail'!$A109)*(Projects!$K$5:$K$2393))","v":0},{"$f":"((SUMPRODUCT((Projects!$A$5:$A$2393='Local Detail'!$J$3)*(Projects!$C$5:$C$2393<>'MDOT FTA Detail'!$C$4)*(Projects!$L$5:$L$2393='Local Detail'!$A109)*(Projects!$J$5:$J$2393<>'Local Detail'!$A$147)*(Projects!$M$5:$M$2393)))+(SUMPRODUCT((Projects!$A$5:$A$2393='Local Detail'!$J$3)*(Projects!$C$5:$C$2393<>'MDOT FTA Detail'!$C$4)*(Projects!$L$5:$L$2393='Local Detail'!$A109)*(Projects!$J$5:$J$2393<>'Local Detail'!$A$147)*(Projects!$O$5:$O$2393))))","v":0},0,{"$f":"SUMPRODUCT((Projects!$A$5:$A$2393='Local Detail'!$M$3)*(Projects!$C$5:$C$2393<>'MDOT FTA Detail'!$C$4)*(Projects!$L$5:$L$2393='Local Detail'!$A109)*(Projects!$K$5:$K$2393))","v":0},{"$f":"((SUMPRODUCT((Projects!$A$5:$A$2393='Local Detail'!$M$3)*(Projects!$C$5:$C$2393<>'MDOT FTA Detail'!$C$4)*(Projects!$L$5:$L$2393='Local Detail'!$A109)*(Projects!$J$5:$J$2393<>'Local Detail'!$A$147)*(Projects!$M$5:$M$2393)))+(SUMPRODUCT((Projects!$A$5:$A$2393='Local Detail'!$M$3)*(Projects!$C$5:$C$2393<>'MDOT FTA Detail'!$C$4)*(Projects!$L$5:$L$2393='Local Detail'!$A109)*(Projects!$J$5:$J$2393<>'Local Detail'!$A$147)*(Projects!$O$5:$O$2393))))","v":0},0]
["CTF","Comprehensive Transit Fund","Transit","No FF",{"$f":"SUMPRODUCT((Projects!$A$5:$A$2393='Local Detail'!$D$3)*(Projects!$K$5:$K$2393=0)*(Projects!$C$5:$C$2393<>'MDOT FTA Detail'!$C$4)*(Projects!$N$5:$N$2393='Local Detail'!$A110)*(Projects!$J$5:$J$2393<>'Local Detail'!$A$147)*(Projects!$M$5:$M$2393))","v":65499},{"$f":"E110","v":65499},"No FF",{"$f":"SUMPRODUCT((Projects!$A$5:$A$2393='Local Detail'!$G$3)*(Projects!$K$5:$K$2393=0)*(Projects!$C$5:$C$2393<>'MDOT FTA Detail'!$C$4)*(Projects!$N$5:$N$2393='Local Detail'!$A110)*(Projects!$J$5:$J$2393<>'Local Detail'!$A$147)*(Projects!$Q$5:$Q$2393))","v":65499},{"$f":"H110","v":65499},"No FF",{"$f":"SUMPRODUCT((Projects!$A$5:$A$2393='Local Detail'!$J$3)*(Projects!$K$5:$K$2393=0)*(Projects!$C$5:$C$2393<>'MDOT FTA Detail'!$C$4)*(Projects!$N$5:$N$2393='Local Detail'!$A110)*(Projects!$J$5:$J$2393<>'Local Detail'!$A$147)*(Projects!$Q$5:$Q$2393))","v":65499},{"$f":"K110","v":65499},"No FF",{"$f":"SUMPRODUCT((Projects!$A$5:$A$2393='Local Detail'!$M$3)*(Projects!$K$5:$K$2393=0)*(Projects!$C$5:$C$2393<>'MDOT FTA Detail'!$C$4)*(Projects!$N$5:$N$2393='Local Detail'!$A110)*(Projects!$J$5:$J$2393<>'Local Detail'!$A$147)*(Projects!$Q$5:$Q$2393))","v":65499},{"$f":"N110","v":65499}]
["BI04","Build Michigan Bond Issue 2004","Local Non-Federal","No FF",{"$f":"SUMPRODUCT((Projects!$A$5:$A$2393='Local Detail'!$D$3)*(Projects!$K$5:$K$2393=0)*(Projects!$C$5:$C$2393<>'MDOT FTA Detail'!$C$4)*(Projects!$N$5:$N$2393='Local Detail'!$A111)*(Projects!$J$5:$J$2393<>'Local Detail'!$A$147)*(Projects!$M$5:$M$2393))","v":0},0,"No FF",{"$f":"SUMPRODUCT((Projects!$A$5:$A$2393='Local Detail'!$G$3)*(Projects!$K$5:$K$2393=0)*(Projects!$C$5:$C$2393<>'MDOT FTA Detail'!$C$4)*(Projects!$N$5:$N$2393='Local Detail'!$A111)*(Projects!$J$5:$J$2393<>'Local Detail'!$A$147)*(Projects!$M$5:$M$2393))","v":0},0,"No FF",{"$f":"SUMPRODUCT((Projects!$A$5:$A$2393='Local Detail'!$J$3)*(Projects!$K$5:$K$2393=0)*(Projects!$C$5:$C$2393<>'MDOT FTA Detail'!$C$4)*(Projects!$N$5:$N$2393='Local Detail'!$A111)*(Projects!$J$5:$J$2393<>'Local Detail'!$A$147)*(Projects!$M$5:$M$2393))","v":0},0,"No FF",{"$f":"SUMPRODUCT((Projects!$A$5:$A$2393='Local Detail'!$M$3)*(Projects!$K$5:$K$2393=0)*(Projects!$C$5:$C$2393<>'MDOT FTA Detail'!$C$4)*(Projects!$N$5:$N$2393='Local Detail'!$A111)*(Projects!$J$5:$J$2393<>'Local Detail'!$A$147)*(Projects!$M$5:$M$2393))","v":0},0]
["BI06","Build Michigan Bond Issue 2006","Local Non-Federal","No FF",{"$f":"SUMPRODUCT((Projects!$A$5:$A$2393='Local Detail'!$D$3)*(Projects!$K$5:$K$2393=0)*(Projects!$C$5:$C$2393<>'MDOT FTA Detail'!$C$4)*(Projects!$N$5:$N$2393='Local Detail'!$A112)*(Projects!$J$5:$J$2393<>'Local Detail'!$A$147)*(Projects!$M$5:$M$2393))","v":0},0,"No FF",{"$f":"SUMPRODUCT((Projects!$A$5:$A$2393='Local Detail'!$G$3)*(Projects!$K$5:$K$2393=0)*(Projects!$C$5:$C$2393<>'MDOT FTA Detail'!$C$4)*(Projects!$N$5:$N$2393='Local Detail'!$A112)*(Projects!$J$5:$J$2393<>'Local Detail'!$A$147)*(Projects!$M$5:$M$2393))","v":0},0,"No FF",{"$f":"SUMPRODUCT((Projects!$A$5:$A$2393='Local Detail'!$J$3)*(Projects!$K$5:$K$2393=0)*(Projects!$C$5:$C$2393<>'MDOT FTA Detail'!$C$4)*(Projects!$N$5:$N$2393='Local Detail'!$A112)*(Projects!$J$5:$J$2393<>'Local Detail'!$A$147)*(Projects!$M$5:$M$2393))","v":0},0,"No FF",{"$f":"SUMPRODUCT((Projects!$A$5:$A$2393='Local Detail'!$M$3)*(Projects!$K$5:$K$2393=0)*(Projects!$C$5:$C$2393<>'MDOT FTA Detail'!$C$4)*(Projects!$N$5:$N$2393='Local Detail'!$A112)*(Projects!$J$5:$J$2393<>'Local Detail'!$A$147)*(Projects!$M$5:$M$2393))","v":0},0]
["BI08","Build Michigan Bond Issue 2008","Local Non-Federal","No FF",{"$f":"SUMPRODUCT((Projects!$A$5:$A$2393='Local Detail'!$D$3)*(Projects!$K$5:$K$2393=0)*(Projects!$C$5:$C$2393<>'MDOT FTA Detail'!$C$4)*(Projects!$N$5:$N$2393='Local Detail'!$A113)*(Projects!$J$5:$J$2393<>'Local Detail'!$A$147)*(Projects!$M$5:$M$2393))","v":0},0,"No FF",{"$f":"SUMPRODUCT((Projects!$A$5:$A$2393='Local Detail'!$G$3)*(Projects!$K$5:$K$2393=0)*(Projects!$C$5:$C$2393<>'MDOT FTA Detail'!$C$4)*(Projects!$N$5:$N$2393='Local Detail'!$A113)*(Projects!$J$5:$J$2393<>'Local Detail'!$A$147)*(Projects!$M$5:$M$2393))","v":0},0,"No FF",{"$f":"SUMPRODUCT((Projects!$A$5:$A$2393='Local Detail'!$J$3)*(Projects!$K$5:$K$2393=0)*(Projects!$C$5:$C$2393<>'MDOT FTA Detail'!$C$4)*(Projects!$N$5:$N$2393='Local Detail'!$A113)*(Projects!$J$5:$J$2393<>'Local Detail'!$A$147)*(Projects!$M$5:$M$2393))","v":0},0,"No FF",{"$f":"SUMPRODUCT((Projects!$A$5:$A$2393='Local Detail'!$M$3)*(Projects!$K$5:$K$2393=0)*(Projects!$C$5:$C$2393<>'MDOT FTA Detail'!$C$4)*(Projects!$N$5:$N$2393='Local Detail'!$A113)*(Projects!$J$5:$J$2393<>'Local Detail'!$A$147)*(Projects!$M$5:$M$2393))","v":0},0]
["BT01","Bond Trunkline Roads for First Issue","Local Non-Federal","No FF",{"$f":"SUMPRODUCT((Projects!$A$5:$A$2393='Local Detail'!$D$3)*(Projects!$K$5:$K$2393=0)*(Projects!$C$5:$C$2393<>'MDOT FTA Detail'!$C$4)*(Projects!$N$5:$N$2393='Local Detail'!$A114)*(Projects!$J$5:$J$2393<>'Local Detail'!$A$147)*(Projects!$M$5:$M$2393))","v":0},0,"No FF",{"$f":"SUMPRODUCT((Projects!$A$5:$A$2393='Local Detail'!$G$3)*(Projects!$K$5:$K$2393=0)*(Projects!$C$5:$C$2393<>'MDOT FTA Detail'!$C$4)*(Projects!$N$5:$N$2393='Local Detail'!$A114)*(Projects!$J$5:$J$2393<>'Local Detail'!$A$147)*(Projects!$M$5:$M$2393))","v":0},0,"No FF",{"$f":"SUMPRODUCT((Projects!$A$5:$A$2393='Local Detail'!$J$3)*(Projects!$K$5:$K$2393=0)*(Projects!$C$5:$C$2393<>'MDOT FTA Detail'!$C$4)*(Projects!$N$5:$N$2393='Local Detail'!$A114)*(Projects!$J$5:$J$2393<>'Local Detail'!$A$147)*(Projects!$M$5:$M$2393))","v":0},0,"No FF",{"$f":"SUMPRODUCT((Projects!$A$5:$A$2393='Local Detail'!$M$3)*(Projects!$K$5:$K$2393=0)*(Projects!$C$5:$C$2393<>'MDOT FTA Detail'!$C$4)*(Projects!$N$5:$N$2393='Local Detail'!$A114)*(Projects!$J$5:$J$2393<>'Local Detail'!$A$147)*(Projects!$M$5:$M$2393))","v":0},0]
["CANX","Canadian Bridge Funds","Local Non-Federal","No FF",{"$f":"SUMPRODUCT((Projects!$A$5:$A$2393='Local Detail'!$D$3)*(Projects!$K$5:$K$2393=0)*(Projects!$C$5:$C$2393<>'MDOT FTA Detail'!$C$4)*(Projects!$N$5:$N$2393='Local Detail'!$A115)*(Projects!$J$5:$J$2393<>'Local Detail'!$A$147)*(Projects!$M$5:$M$2393))","v":0},{"$f":"E115","v":0},"No FF",{"$f":"SUMPRODUCT((Projects!$A$5:$A$2393='Local Detail'!$G$3)*(Projects!$K$5:$K$2393=0)*(Projects!$C$5:$C$2393<>'MDOT FTA Detail'!$C$4)*(Projects!$N$5:$N$2393='Local Detail'!$A115)*(Projects!$J$5:$J$2393<>'Local Detail'!$A$147)*(Projects!$M$5:$M$2393))","v":0},{"$f":"H115","v":0},"No FF",{"$f":"SUMPRODUCT((Projects!$A$5:$A$2393='Local Detail'!$J$3)*(Projects!$K$5:$K$2393=0)*(Projects!$C$5:$C$2393<>'MDOT FTA Detail'!$C$4)*(Projects!$N$5:$N$2393='Local Detail'!$A115)*(Projects!$J$5:$J$2393<>'Local Detail'!$A$147)*(Projects!$M$5:$M$2393))","v":0},{"$f":"K115","v":0},"No FF",{"$f":"SUMPRODUCT((Projects!$A$5:$A$2393='Local Detail'!$M$3)*(Projects!$K$5:$K$2393=0)*(Projects!$C$5:$C$2393<>'MDOT FTA Detail'!$C$4)*(Projects!$N$5:$N$2393='Local Detail'!$A115)*(Projects!$J$5:$J$2393<>'Local Detail'!$A$147)*(Projects!$M$5:$M$2393))","v":0},{"$f":"N115","v":0}]
["EDA","Economic Development - Category A","Local Non-Federal","No FF",{"$f":"SUMPRODUCT((Projects!$A$5:$A$2393='Local Detail'!$D$3)*(Projects!$K$5:$K$2393=0)*(Projects!$C$5:$C$2393<>'MDOT FTA Detail'!$C$4)*(Projects!$N$5:$N$2393='Local Detail'!$A116)*(Projects!$J$5:$J$2393<>'Local Detail'!$A$147)*(Projects!$M$5:$M$2393))","v":0},0,"No FF",{"$f":"SUMPRODUCT((Projects!$A$5:$A$2393='Local Detail'!$G$3)*(Projects!$K$5:$K$2393=0)*(Projects!$C$5:$C$2393<>'MDOT FTA Detail'!$C$4)*(Projects!$N$5:$N$2393='Local Detail'!$A116)*(Projects!$J$5:$J$2393<>'Local Detail'!$A$147)*(Projects!$M$5:$M$2393))","v":0},0,"No FF",{"$f":"SUMPRODUCT((Projects!$A$5:$A$2393='Local Detail'!$J$3)*(Projects!$K$5:$K$2393=0)*(Projects!$C$5:$C$2393<>'MDOT FTA Detail'!$C$4)*(Projects!$N$5:$N$2393='Local Detail'!$A116)*(Projects!$J$5:$J$2393<>'Local Detail'!$A$147)*(Projects!$M$5:$M$2393))","v":0},0,"No FF",{"$f":"SUMPRODUCT((Projects!$A$5:$A$2393='Local Detail'!$M$3)*(Projects!$K$5:$K$2393=0)*(Projects!$C$5:$C$2393<>'MDOT FTA Detail'!$C$4)*(Projects!$N$5:$N$2393='Local Detail'!$A116)*(Projects!$J$5:$J$2393<>'Local Detail'!$A$147)*(Projects!$M$5:$M$2393))","v":0},0]
["EDC","Economic Development - Category C","Local Non-Federal","No FF",{"$f":"SUMPRODUCT((Projects!$A$5:$A$2393='Local Detail'!$D$3)*(Projects!$K$5:$K$2393=0)*(Projects!$C$5:$C$2393<>'MDOT FTA Detail'!$C$4)*(Projects!$N$5:$N$2393='Local Detail'!$A117)*(Projects!$J$5:$J$2393<>'Local Detail'!$A$147)*(Projects!$M$5:$M$2393))","v":0},0,"No FF",{"$f":"SUMPRODUCT((Projects!$A$5:$A$2393='Local Detail'!$G$3)*(Projects!$K$5:$K$2393=0)*(Projects!$C$5:$C$2393<>'MDOT FTA Detail'!$C$4)*(Projects!$N$5:$N$2393='Local Detail'!$A117)*(Projects!$J$5:$J$2393<>'Local Detail'!$A$147)*(Projects!$M$5:$M$2393))","v":0},0,"No FF",{"$f":"SUMPRODUCT((Projects!$A$5:$A$2393='Local Detail'!$J$3)*(Projects!$K$5:$K$2393=0)*(Projects!$C$5:$C$2393<>'MDOT FTA Detail'!$C$4)*(Projects!$N$5:$N$2393='Local Detail'!$A117)*(Projects!$J$5:$J$2393<>'Local Detail'!$A$147)*(Projects!$M$5:$M$2393))","v":0},0,"No FF",{"$f":"SUMPRODUCT((Projects!$A$5:$A$2393='Local Detail'!$M$3)*(Projects!$K$5:$K$2393=0)*(Projects!$C$5:$C$2393<>'MDOT FTA Detail'!$C$4)*(Projects!$N$5:$N$2393='Local Detail'!$A117)*(Projects!$J$5:$J$2393<>'Local Detail'!$A$147)*(Projects!$M$5:$M$2393))","v":0},0]
["EDD","Economic Development - Category D","Local Non-Federal","No FF",{"$f":"SUMPRODUCT((Projects!$A$5:$A$2393='Local Detail'!$D$3)*(Projects!$K$5:$K$2393=0)*(Projects!$C$5:$C$2393<>'MDOT FTA Detail'!$C$4)*(Projects!$N$5:$N$2393='Local Detail'!$A118)*(Projects!$J$5:$J$2393<>'Local Detail'!$A$147)*(Projects!$M$5:$M$2393))","v":0},0,"No FF",{"$f":"SUMPRODUCT((Projects!$A$5:$A$2393='Local Detail'!$G$3)*(Projects!$K$5:$K$2393=0)*(Projects!$C$5:$C$2393<>'MDOT FTA Detail'!$C$4)*(Projects!$N$5:$N$2393='Local Detail'!$A118)*(Projects!$J$5:$J$2393<>'Local Detail'!$A$147)*(Projects!$M$5:$M$2393))","v":0},0,"No FF",{"$f":"SUMPRODUCT((Projects!$A$5:$A$2393='Local Detail'!$J$3)*(Projects!$K$5:$K$2393=0)*(Projects!$C$5:$C$2393<>'MDOT FTA Detail'!$C$4)*(Projects!$N$5:$N$2393='Local Detail'!$A118)*(Projects!$J$5:$J$2393<>'Local Detail'!$A$147)*(Projects!$M$5:$M$2393))","v":0},0,"No FF",{"$f":"SUMPRODUCT((Projects!$A$5:$A$2393='Local Detail'!$M$3)*(Projects!$K$5:$K$2393=0)*(Projects!$C$5:$C$2393<>'MDOT FTA Detail'!$C$4)*(Projects!$N$5:$N$2393='Local Detail'!$A118)*(Projects!$J$5:$J$2393<>'Local Detail'!$A$147)*(Projects!$M$5:$M$2393))","v":0},0]
["EDF","Economic Development - Category F","Local Non-Federal","No FF",{"$f":"SUMPRODUCT((Projects!$A$5:$A$2393='Local Detail'!$D$3)*(Projects!$K$5:$K$2393=0)*(Projects!$C$5:$C$2393<>'MDOT FTA Detail'!$C$4)*(Projects!$N$5:$N$2393='Local Detail'!$A119)*(Projects!$J$5:$J$2393<>'Local Detail'!$A$147)*(Projects!$M$5:$M$2393))","v":375000},375000,"No FF",{"$f":"SUMPRODUCT((Projects!$A$5:$A$2393='Local Detail'!$G$3)*(Projects!$K$5:$K$2393=0)*(Projects!$C$5:$C$2393<>'MDOT FTA Detail'!$C$4)*(Projects!$N$5:$N$2393='Local Detail'!$A119)*(Projects!$J$5:$J$2393<>'Local Detail'!$A$147)*(Projects!$M$5:$M$2393))","v":0},0,"No FF",{"$f":"SUMPRODUCT((Projects!$A$5:$A$2393='Local Detail'!$J$3)*(Projects!$K$5:$K$2393=0)*(Projects!$C$5:$C$2393<>'MDOT FTA Detail'!$C$4)*(Projects!$N$5:$N$2393='Local Detail'!$A119)*(Projects!$J$5:$J$2393<>'Local Detail'!$A$147)*(Projects!$M$5:$M$2393))","v":0},0,"No FF",{"$f":"SUMPRODUCT((Projects!$A$5:$A$2393='Local Detail'!$M$3)*(Projects!$K$5:$K$2393=0)*(Projects!$C$5:$C$2393<>'MDOT FTA Detail'!$C$4)*(Projects!$N$5:$N$2393='Local Detail'!$A119)*(Projects!$J$5:$J$2393<>'Local Detail'!$A$147)*(Projects!$M$5:$M$2393))","v":0},0]
["GF15","General Fund 2015","Local Non-Federal","No FF",{"$f":"SUMPRODUCT((Projects!$A$5:$A$2393='Local Detail'!$D$3)*(Projects!$K$5:$K$2393=0)*(Projects!$C$5:$C$2393<>'MDOT FTA Detail'!$C$4)*(Projects!$N$5:$N$2393='Local Detail'!$A120)*(Projects!$J$5:$J$2393<>'Local Detail'!$A$147)*(Projects!$M$5:$M$2393))","v":0},{"$f":"E120","v":0},"No FF",{"$f":"SUMPRODUCT((Projects!$A$5:$A$2393='Local Detail'!$G$3)*(Projects!$K$5:$K$2393=0)*(Projects!$C$5:$C$2393<>'MDOT FTA Detail'!$C$4)*(Projects!$N$5:$N$2393='Local Detail'!$A120)*(Projects!$J$5:$J$2393<>'Local Detail'!$A$147)*(Projects!$M$5:$M$2393))","v":0},{"$f":"H120","v":0},"No FF",{"$f":"SUMPRODUCT((Projects!$A$5:$A$2393='Local Detail'!$J$3)*(Projects!$K$5:$K$2393=0)*(Projects!$C$5:$C$2393<>'MDOT FTA Detail'!$C$4)*(Projects!$N$5:$N$2393='Local Detail'!$A120)*(Projects!$J$5:$J$2393<>'Local Detail'!$A$147)*(Projects!$M$5:$M$2393))","v":0},{"$f":"K120","v":0},"No FF",{"$f":"SUMPRODUCT((Projects!$A$5:$A$2393='Local Detail'!$M$3)*(Projects!$K$5:$K$2393=0)*(Projects!$C$5:$C$2393<>'MDOT FTA Detail'!$C$4)*(Projects!$N$5:$N$2393='Local Detail'!$A120)*(Projects!$J$5:$J$2393<>'Local Detail'!$A$147)*(Projects!$M$5:$M$2393))","v":0},{"$f":"N120","v":0}]
["GF16","General Fund 2016","Local Non-Federal","No FF",{"$f":"SUMPRODUCT((Projects!$A$5:$A$2393='Local Detail'!$D$3)*(Projects!$K$5:$K$2393=0)*(Projects!$C$5:$C$2393<>'MDOT FTA Detail'!$C$4)*(Projects!$N$5:$N$2393='Local Detail'!$A121)*(Projects!$J$5:$J$2393<>'Local Detail'!$A$147)*(Projects!$M$5:$M$2393))","v":0},0,"No FF",{"$f":"SUMPRODUCT((Projects!$A$5:$A$2393='Local Detail'!$G$3)*(Projects!$K$5:$K$2393=0)*(Projects!$C$5:$C$2393<>'MDOT FTA Detail'!$C$4)*(Projects!$N$5:$N$2393='Local Detail'!$A121)*(Projects!$J$5:$J$2393<>'Local Detail'!$A$147)*(Projects!$M$5:$M$2393))","v":0},0,"No FF",{"$f":"SUMPRODUCT((Projects!$A$5:$A$2393='Local Detail'!$J$3)*(Projects!$K$5:$K$2393=0)*(Projects!$C$5:$C$2393<>'MDOT FTA Detail'!$C$4)*(Projects!$N$5:$N$2393='Local Detail'!$A121)*(Projects!$J$5:$J$2393<>'Local Detail'!$A$147)*(Projects!$M$5:$M$2393))","v":0},0,"No FF",{"$f":"SUMPRODUCT((Projects!$A$5:$A$2393='Local Detail'!$M$3)*(Projects!$K$5:$K$2393=0)*(Projects!$C$5:$C$2393<>'MDOT FTA Detail'!$C$4)*(Projects!$N$5:$N$2393='Local Detail'!$A121)*(Projects!$J$5:$J$2393<>'Local Detail'!$A$147)*(Projects!$M$5:$M$2393))","v":0},0]
["JT07","Jobs Today Bond Issue 2007 GARVEE (State AC for Federal GARVEE Bonds)","Local Non-Federal","No FF",{"$f":"SUMPRODUCT((Projects!$A$5:$A$2393='Local Detail'!$D$3)*(Projects!$K$5:$K$2393=0)*(Projects!$C$5:$C$2393<>'MDOT FTA Detail'!$C$4)*(Projects!$N$5:$N$2393='Local Detail'!$A122)*(Projects!$J$5:$J$2393<>'Local Detail'!$A$147)*(Projects!$M$5:$M$2393))","v":0},0,"No FF",{"$f":"SUMPRODUCT((Projects!$A$5:$A$2393='Local Detail'!$G$3)*(Projects!$K$5:$K$2393=0)*(Projects!$C$5:$C$2393<>'MDOT FTA Detail'!$C$4)*(Projects!$N$5:$N$2393='Local Detail'!$A122)*(Projects!$J$5:$J$2393<>'Local Detail'!$A$147)*(Projects!$M$5:$M$2393))","v":0},0,"No FF",{"$f":"SUMPRODUCT((Projects!$A$5:$A$2393='Local Detail'!$J$3)*(Projects!$K$5:$K$2393=0)*(Projects!$C$5:$C$2393<>'MDOT FTA Detail'!$C$4)*(Projects!$N$5:$N$2393='Local Detail'!$A122)*(Projects!$J$5:$J$2393<>'Local Detail'!$A$147)*(Projects!$M$5:$M$2393))","v":0},0,"No FF",{"$f":"SUMPRODUCT((Projects!$A$5:$A$2393='Local Detail'!$M$3)*(Projects!$K$5:$K$2393=0)*(Projects!$C$5:$C$2393<>'MDOT FTA Detail'!$C$4)*(Projects!$N$5:$N$2393='Local Detail'!$A122)*(Projects!$J$5:$J$2393<>'Local Detail'!$A$147)*(Projects!$M$5:$M$2393))","v":0},0]
["LFMP","Local Fund Match Program - 100% Local","Local Non-Federal","No FF",{"$f":"SUMPRODUCT((Projects!$A$5:$A$2393='Local Detail'!$D$3)*(Projects!$K$5:$K$2393=0)*(Projects!$C$5:$C$2393<>'MDOT FTA Detail'!$C$4)*(Projects!$N$5:$N$2393='Local Detail'!$A123)*(Projects!$J$5:$J$2393<>'Local Detail'!$A$147)*(Projects!$M$5:$M$2393))","v":0},0,"No FF",{"$f":"SUMPRODUCT((Projects!$A$5:$A$2393='Local Detail'!$G$3)*(Projects!$K$5:$K$2393=0)*(Projects!$C$5:$C$2393<>'MDOT FTA Detail'!$C$4)*(Projects!$N$5:$N$2393='Local Detail'!$A123)*(Projects!$J$5:$J$2393<>'Local Detail'!$A$147)*(Projects!$M$5:$M$2393))","v":0},0,"No FF",{"$f":"SUMPRODUCT((Projects!$A$5:$A$2393='Local Detail'!$J$3)*(Projects!$K$5:$K$2393=0)*(Projects!$C$5:$C$2393<>'MDOT FTA Detail'!$C$4)*(Projects!$N$5:$N$2393='Local Detail'!$A123)*(Projects!$J$5:$J$2393<>'Local Detail'!$A$147)*(Projects!$M$5:$M$2393))","v":0},0,"No FF",{"$f":"SUMPRODUCT((Projects!$A$5:$A$2393='Local Detail'!$M$3)*(Projects!$K$5:$K$2393=0)*(Projects!$C$5:$C$2393<>'MDOT FTA Detail'!$C$4)*(Projects!$N$5:$N$2393='Local Detail'!$A123)*(Projects!$J$5:$J$2393<>'Local Detail'!$A$147)*(Projects!$M$5:$M$2393))","v":0},0]
["M","State Funds - Michigan Betterment","Local Non-Federal","No FF",{"$f":"SUMPRODUCT((Projects!$A$5:$A$2393='Local Detail'!$D$3)*(Projects!$K$5:$K$2393=0)*(Projects!$C$5:$C$2393<>'MDOT FTA Detail'!$C$4)*(Projects!$N$5:$N$2393='Local Detail'!$A124)*(Projects!$J$5:$J$2393<>'Local Detail'!$A$147)*(Projects!$M$5:$M$2393))","v":555180},555180,"No FF",{"$f":"SUMPRODUCT((Projects!$A$5:$A$2393='Local Detail'!$G$3)*(Projects!$K$5:$K$2393=0)*(Projects!$C$5:$C$2393<>'MDOT FTA Detail'!$C$4)*(Projects!$N$5:$N$2393='Local Detail'!$A124)*(Projects!$J$5:$J$2393<>'Local Detail'!$A$147)*(Projects!$M$5:$M$2393))","v":0},0,"No FF",{"$f":"SUMPRODUCT((Projects!$A$5:$A$2393='Local Detail'!$J$3)*(Projects!$K$5:$K$2393=0)*(Projects!$C$5:$C$2393<>'MDOT FTA Detail'!$C$4)*(Projects!$N$5:$N$2393='Local Detail'!$A124)*(Projects!$J$5:$J$2393<>'Local Detail'!$A$147)*(Projects!$M$5:$M$2393))","v":0},0,"No FF",{"$f":"SUMPRODUCT((Projects!$A$5:$A$2393='Local Detail'!$M$3)*(Projects!$K$5:$K$2393=0)*(Projects!$C$5:$C$2393<>'MDOT FTA Detail'!$C$4)*(Projects!$N$5:$N$2393='Local Detail'!$A124)*(Projects!$J$5:$J$2393<>'Local Detail'!$A$147)*(Projects!$M$5:$M$2393))","v":0},0]
["MBS","Michigan Budget Stabilization","Local Non-Federal","No FF",{"$f":"SUMPRODUCT((Projects!$A$5:$A$2393='Local Detail'!$D$3)*(Projects!$K$5:$K$2393=0)*(Projects!$C$5:$C$2393<>'MDOT FTA Detail'!$C$4)*(Projects!$N$5:$N$2393='Local Detail'!$A125)*(Projects!$J$5:$J$2393<>'Local Detail'!$A$147)*(Projects!$M$5:$M$2393))","v":0},0,"No FF",{"$f":"SUMPRODUCT((Projects!$A$5:$A$2393='Local Detail'!$G$3)*(Projects!$K$5:$K$2393=0)*(Projects!$C$5:$C$2393<>'MDOT FTA Detail'!$C$4)*(Projects!$N$5:$N$2393='Local Detail'!$A125)*(Projects!$J$5:$J$2393<>'Local Detail'!$A$147)*(Projects!$M$5:$M$2393))","v":0},0,"No FF",{"$f":"SUMPRODUCT((Projects!$A$5:$A$2393='Local Detail'!$J$3)*(Projects!$K$5:$K$2393=0)*(Projects!$C$5:$C$2393<>'MDOT FTA Detail'!$C$4)*(Projects!$N$5:$N$2393='Local Detail'!$A125)*(Projects!$J$5:$J$2393<>'Local Detail'!$A$147)*(Projects!$M$5:$M$2393))","v":0},0,"No FF",{"$f":"SUMPRODUCT((Projects!$A$5:$A$2393='Local Detail'!$M$3)*(Projects!$K$5:$K$2393=0)*(Projects!$C$5:$C$2393<>'MDOT FTA Detail'!$C$4)*(Projects!$N$5:$N$2393='Local Detail'!$A125)*(Projects!$J$5:$J$2393<>'Local Detail'!$A$147)*(Projects!$M$5:$M$2393))","v":0},0]
["MBWB","Michigan Blue Water Bridge","Local Non-Federal","No FF",{"$f":"SUMPRODUCT((Projects!$A$5:$A$2393='Local Detail'!$D$3)*(Projects!$K$5:$K$2393=0)*(Projects!$C$5:$C$2393<>'MDOT FTA Detail'!$C$4)*(Projects!$N$5:$N$2393='Local Detail'!$A126)*(Projects!$J$5:$J$2393<>'Local Detail'!$A$147)*(Projects!$M$5:$M$2393))","v":0},0,"No FF",{"$f":"SUMPRODUCT((Projects!$A$5:$A$2393='Local Detail'!$G$3)*(Projects!$K$5:$K$2393=0)*(Projects!$C$5:$C$2393<>'MDOT FTA Detail'!$C$4)*(Projects!$N$5:$N$2393='Local Detail'!$A126)*(Projects!$J$5:$J$2393<>'Local Detail'!$A$147)*(Projects!$M$5:$M$2393))","v":0},0,"No FF",{"$f":"SUMPRODUCT((Projects!$A$5:$A$2393='Local Detail'!$J$3)*(Projects!$K$5:$K$2393=0)*(Projects!$C$5:$C$2393<>'MDOT FTA Detail'!$C$4)*(Projects!$N$5:$N$2393='Local Detail'!$A126)*(Projects!$J$5:$J$2393<>'Local Detail'!$A$147)*(Projects!$M$5:$M$2393))","v":0},0,"No FF",{"$f":"SUMPRODUCT((Projects!$A$5:$A$2393='Local Detail'!$M$3)*(Projects!$K$5:$K$2393=0)*(Projects!$C$5:$C$2393<>'MDOT FTA Detail'!$C$4)*(Projects!$N$5:$N$2393='Local Detail'!$A126)*(Projects!$J$5:$J$2393<>'Local Detail'!$A$147)*(Projects!$M$5:$M$2393))","v":0},0]
["MCS","State Funds - Critical Structures","Local Non-Federal","No FF",{"$f":"SUMPRODUCT((Projects!$A$5:$A$2393='Local Detail'!$D$3)*(Projects!$K$5:$K$2393=0)*(Projects!$C$5:$C$2393<>'MDOT FTA Detail'!$C$4)*(Projects!$N$5:$N$2393='Local Detail'!$A127)*(Projects!$J$5:$J$2393<>'Local Detail'!$A$147)*(Projects!$M$5:$M$2393))","v":0},0,"No FF",{"$f":"SUMPRODUCT((Projects!$A$5:$A$2393='Local Detail'!$G$3)*(Projects!$K$5:$K$2393=0)*(Projects!$C$5:$C$2393<>'MDOT FTA Detail'!$C$4)*(Projects!$N$5:$N$2393='Local Detail'!$A127)*(Projects!$J$5:$J$2393<>'Local Detail'!$A$147)*(Projects!$M$5:$M$2393))","v":0},0,"No FF",{"$f":"SUMPRODUCT((Projects!$A$5:$A$2393='Local Detail'!$J$3)*(Projects!$K$5:$K$2393=0)*(Projects!$C$5:$C$2393<>'MDOT FTA Detail'!$C$4)*(Projects!$N$5:$N$2393='Local Detail'!$A127)*(Projects!$J$5:$J$2393<>'Local Detail'!$A$147)*(Projects!$M$5:$M$2393))","v":0},0,"No FF",{"$f":"SUMPRODUCT((Projects!$A$5:$A$2393='Local Detail'!$M$3)*(Projects!$K$5:$K$2393=0)*(Projects!$C$5:$C$2393<>'MDOT FTA Detail'!$C$4)*(Projects!$N$5:$N$2393='Local Detail'!$A127)*(Projects!$J$5:$J$2393<>'Local Detail'!$A$147)*(Projects!$M$5:$M$2393))","v":0},0]
["MDA","Drainage Assessment","Local Non-Federal","No FF",{"$f":"SUMPRODUCT((Projects!$A$5:$A$2393='Local Detail'!$D$3)*(Projects!$K$5:$K$2393=0)*(Projects!$C$5:$C$2393<>'MDOT FTA Detail'!$C$4)*(Projects!$N$5:$N$2393='Local Detail'!$A128)*(Projects!$J$5:$J$2393<>'Local Detail'!$A$147)*(Projects!$M$5:$M$2393))","v":0},0,"No FF",{"$f":"SUMPRODUCT((Projects!$A$5:$A$2393='Local Detail'!$G$3)*(Projects!$K$5:$K$2393=0)*(Projects!$C$5:$C$2393<>'MDOT FTA Detail'!$C$4)*(Projects!$N$5:$N$2393='Local Detail'!$A128)*(Projects!$J$5:$J$2393<>'Local Detail'!$A$147)*(Projects!$M$5:$M$2393))","v":0},0,"No FF",{"$f":"SUMPRODUCT((Projects!$A$5:$A$2393='Local Detail'!$J$3)*(Projects!$K$5:$K$2393=0)*(Projects!$C$5:$C$2393<>'MDOT FTA Detail'!$C$4)*(Projects!$N$5:$N$2393='Local Detail'!$A128)*(Projects!$J$5:$J$2393<>'Local Detail'!$A$147)*(Projects!$M$5:$M$2393))","v":0},0,"No FF",{"$f":"SUMPRODUCT((Projects!$A$5:$A$2393='Local Detail'!$M$3)*(Projects!$K$5:$K$2393=0)*(Projects!$C$5:$C$2393<>'MDOT FTA Detail'!$C$4)*(Projects!$N$5:$N$2393='Local Detail'!$A128)*(Projects!$J$5:$J$2393<>'Local Detail'!$A$147)*(Projects!$M$5:$M$2393))","v":0},0]
["MER","Emergency Program","Local Non-Federal","No FF",{"$f":"SUMPRODUCT((Projects!$A$5:$A$2393='Local Detail'!$D$3)*(Projects!$K$5:$K$2393=0)*(Projects!$C$5:$C$2393<>'MDOT FTA Detail'!$C$4)*(Projects!$N$5:$N$2393='Local Detail'!$A129)*(Projects!$J$5:$J$2393<>'Local Detail'!$A$147)*(Projects!$M$5:$M$2393))","v":0},0,"No FF",{"$f":"SUMPRODUCT((Projects!$A$5:$A$2393='Local Detail'!$G$3)*(Projects!$K$5:$K$2393=0)*(Projects!$C$5:$C$2393<>'MDOT FTA Detail'!$C$4)*(Projects!$N$5:$N$2393='Local Detail'!$A129)*(Projects!$J$5:$J$2393<>'Local Detail'!$A$147)*(Projects!$M$5:$M$2393))","v":0},0,"No FF",{"$f":"SUMPRODUCT((Projects!$A$5:$A$2393='Local Detail'!$J$3)*(Projects!$K$5:$K$2393=0)*(Projects!$C$5:$C$2393<>'MDOT FTA Detail'!$C$4)*(Projects!$N$5:$N$2393='Local Detail'!$A129)*(Projects!$J$5:$J$2393<>'Local Detail'!$A$147)*(Projects!$M$5:$M$2393))","v":0},0,"No FF",{"$f":"SUMPRODUCT((Projects!$A$5:$A$2393='Local Detail'!$M$3)*(Projects!$K$5:$K$2393=0)*(Projects!$C$5:$C$2393<>'MDOT FTA Detail'!$C$4)*(Projects!$N$5:$N$2393='Local Detail'!$A129)*(Projects!$J$5:$J$2393<>'Local Detail'!$A$147)*(Projects!$M$5:$M$2393))","v":0},0]
["MIR","State Funds - Institutional Roads","Local Non-Federal","No FF",{"$f":"SUMPRODUCT((Projects!$A$5:$A$2393='Local Detail'!$D$3)*(Projects!$K$5:$K$2393=0)*(Projects!$C$5:$C$2393<>'MDOT FTA Detail'!$C$4)*(Projects!$N$5:$N$2393='Local Detail'!$A130)*(Projects!$J$5:$J$2393<>'Local Detail'!$A$147)*(Projects!$M$5:$M$2393))","v":0},0,"No FF",{"$f":"SUMPRODUCT((Projects!$A$5:$A$2393='Local Detail'!$G$3)*(Projects!$K$5:$K$2393=0)*(Projects!$C$5:$C$2393<>'MDOT FTA Detail'!$C$4)*(Projects!$N$5:$N$2393='Local Detail'!$A130)*(Projects!$J$5:$J$2393<>'Local Detail'!$A$147)*(Projects!$M$5:$M$2393))","v":0},0,"No FF",{"$f":"SUMPRODUCT((Projects!$A$5:$A$2393='Local Detail'!$J$3)*(Projects!$K$5:$K$2393=0)*(Projects!$C$5:$C$2393<>'MDOT FTA Detail'!$C$4)*(Projects!$N$5:$N$2393='Local Detail'!$A130)*(Projects!$J$5:$J$2393<>'Local Detail'!$A$147)*(Projects!$M$5:$M$2393))","v":0},0,"No FF",{"$f":"SUMPRODUCT((Projects!$A$5:$A$2393='Local Detail'!$M$3)*(Projects!$K$5:$K$2393=0)*(Projects!$C$5:$C$2393<>'MDOT FTA Detail'!$C$4)*(Projects!$N$5:$N$2393='Local Detail'!$A130)*(Projects!$J$5:$J$2393<>'Local Detail'!$A$147)*(Projects!$M$5:$M$2393))","v":0},0]
["MRR","Michigan Railroad","Local Non-Federal","No FF",{"$f":"SUMPRODUCT((Projects!$A$5:$A$2393='Local Detail'!$D$3)*(Projects!$K$5:$K$2393=0)*(Projects!$C$5:$C$2393<>'MDOT FTA Detail'!$C$4)*(Projects!$N$5:$N$2393='Local Detail'!$A131)*(Projects!$J$5:$J$2393<>'Local Detail'!$A$147)*(Projects!$M$5:$M$2393))","v":0},0,"No FF",{"$f":"SUMPRODUCT((Projects!$A$5:$A$2393='Local Detail'!$G$3)*(Projects!$K$5:$K$2393=0)*(Projects!$C$5:$C$2393<>'MDOT FTA Detail'!$C$4)*(Projects!$N$5:$N$2393='Local Detail'!$A131)*(Projects!$J$5:$J$2393<>'Local Detail'!$A$147)*(Projects!$M$5:$M$2393))","v":0},0,"No FF",{"$f":"SUMPRODUCT((Projects!$A$5:$A$2393='Local Detail'!$J$3)*(Projects!$K$5:$K$2393=0)*(Projects!$C$5:$C$2393<>'MDOT FTA Detail'!$C$4)*(Projects!$N$5:$N$2393='Local Detail'!$A131)*(Projects!$J$5:$J$2393<>'Local Detail'!$A$147)*(Projects!$M$5:$M$2393))","v":0},0,"No FF",{"$f":"SUMPRODUCT((Projects!$A$5:$A$2393='Local Detail'!$M$3)*(Projects!$K$5:$K$2393=0)*(Projects!$C$5:$C$2393<>'MDOT FTA Detail'!$C$4)*(Projects!$N$5:$N$2393='Local Detail'!$A131)*(Projects!$J$5:$J$2393<>'Local Detail'!$A$147)*(Projects!$M$5:$M$2393))","v":0},0]
["MRRF","Michigan Revolving Real Estate Fund","Local Non-Federal","No FF",{"$f":"SUMPRODUCT((Projects!$A$5:$A$2393='Local Detail'!$D$3)*(Projects!$K$5:$K$2393=0)*(Projects!$C$5:$C$2393<>'MDOT FTA Detail'!$C$4)*(Projects!$N$5:$N$2393='Local Detail'!$A132)*(Projects!$J$5:$J$2393<>'Local Detail'!$A$147)*(Projects!$M$5:$M$2393))","v":0},0,"No FF",{"$f":"SUMPRODUCT((Projects!$A$5:$A$2393='Local Detail'!$G$3)*(Projects!$K$5:$K$2393=0)*(Projects!$C$5:$C$2393<>'MDOT FTA Detail'!$C$4)*(Projects!$N$5:$N$2393='Local Detail'!$A132)*(Projects!$J$5:$J$2393<>'Local Detail'!$A$147)*(Projects!$M$5:$M$2393))","v":0},0,"No FF",{"$f":"SUMPRODUCT((Projects!$A$5:$A$2393='Local Detail'!$J$3)*(Projects!$K$5:$K$2393=0)*(Projects!$C$5:$C$2393<>'MDOT FTA Detail'!$C$4)*(Projects!$N$5:$N$2393='Local Detail'!$A132)*(Projects!$J$5:$J$2393<>'Local Detail'!$A$147)*(Projects!$M$5:$M$2393))","v":0},0,"No FF",{"$f":"SUMPRODUCT((Projects!$A$5:$A$2393='Local Detail'!$M$3)*(Projects!$K$5:$K$2393=0)*(Projects!$C$5:$C$2393<>'MDOT FTA Detail'!$C$4)*(Projects!$N$5:$N$2393='Local Detail'!$A132)*(Projects!$J$5:$J$2393<>'Local Detail'!$A$147)*(Projects!$M$5:$M$2393))","v":0},0]
["MS","Safety Program","Local Non-Federal","No FF",{"$f":"SUMPRODUCT((Projects!$A$5:$A$2393='Local Detail'!$D$3)*(Projects!$K$5:$K$2393=0)*(Projects!$C$5:$C$2393<>'MDOT FTA Detail'!$C$4)*(Projects!$N$5:$N$2393='Local Detail'!$A133)*(Projects!$J$5:$J$2393<>'Local Detail'!$A$147)*(Projects!$M$5:$M$2393))","v":0},0,"No FF",{"$f":"SUMPRODUCT((Projects!$A$5:$A$2393='Local Detail'!$G$3)*(Projects!$K$5:$K$2393=0)*(Projects!$C$5:$C$2393<>'MDOT FTA Detail'!$C$4)*(Projects!$N$5:$N$2393='Local Detail'!$A133)*(Projects!$J$5:$J$2393<>'Local Detail'!$A$147)*(Projects!$M$5:$M$2393))","v":0},0,"No FF",{"$f":"SUMPRODUCT((Projects!$A$5:$A$2393='Local Detail'!$J$3)*(Projects!$K$5:$K$2393=0)*(Projects!$C$5:$C$2393<>'MDOT FTA Detail'!$C$4)*(Projects!$N$5:$N$2393='Local Detail'!$A133)*(Projects!$J$5:$J$2393<>'Local Detail'!$A$147)*(Projects!$M$5:$M$2393))","v":0},0,"No FF",{"$f":"SUMPRODUCT((Projects!$A$5:$A$2393='Local Detail'!$M$3)*(Projects!$K$5:$K$2393=0)*(Projects!$C$5:$C$2393<>'MDOT FTA Detail'!$C$4)*(Projects!$N$5:$N$2393='Local Detail'!$A133)*(Projects!$J$5:$J$2393<>'Local Detail'!$A$147)*(Projects!$M$5:$M$2393))","v":0},0]
["MTB","Turnback Program","Local Non-Federal","No FF",{"$f":"SUMPRODUCT((Projects!$A$5:$A$2393='Local Detail'!$D$3)*(Projects!$K$5:$K$2393=0)*(Projects!$C$5:$C$2393<>'MDOT FTA Detail'!$C$4)*(Projects!$N$5:$N$2393='Local Detail'!$A134)*(Projects!$J$5:$J$2393<>'Local Detail'!$A$147)*(Projects!$M$5:$M$2393))","v":0},0,"No FF",{"$f":"SUMPRODUCT((Projects!$A$5:$A$2393='Local Detail'!$G$3)*(Projects!$K$5:$K$2393=0)*(Projects!$C$5:$C$2393<>'MDOT FTA Detail'!$C$4)*(Projects!$N$5:$N$2393='Local Detail'!$A134)*(Projects!$J$5:$J$2393<>'Local Detail'!$A$147)*(Projects!$M$5:$M$2393))","v":0},0,"No FF",{"$f":"SUMPRODUCT((Projects!$A$5:$A$2393='Local Detail'!$J$3)*(Projects!$K$5:$K$2393=0)*(Projects!$C$5:$C$2393<>'MDOT FTA Detail'!$C$4)*(Projects!$N$5:$N$2393='Local Detail'!$A134)*(Projects!$J$5:$J$2393<>'Local Detail'!$A$147)*(Projects!$M$5:$M$2393))","v":0},0,"No FF",{"$f":"SUMPRODUCT((Projects!$A$5:$A$2393='Local Detail'!$M$3)*(Projects!$K$5:$K$2393=0)*(Projects!$C$5:$C$2393<>'MDOT FTA Detail'!$C$4)*(Projects!$N$5:$N$2393='Local Detail'!$A134)*(Projects!$J$5:$J$2393<>'Local Detail'!$A$147)*(Projects!$M$5:$M$2393))","v":0},0]
["PRIP","Priority Roads Investment Program","Local Non-Federal","No FF",{"$f":"SUMPRODUCT((Projects!$A$5:$A$2393='Local Detail'!$D$3)*(Projects!$K$5:$K$2393=0)*(Projects!$C$5:$C$2393<>'MDOT FTA Detail'!$C$4)*(Projects!$N$5:$N$2393='Local Detail'!$A135)*(Projects!$J$5:$J$2393<>'Local Detail'!$A$147)*(Projects!$M$5:$M$2393))","v":0},{"$f":"E135","v":0},"No FF",{"$f":"SUMPRODUCT((Projects!$A$5:$A$2393='Local Detail'!$G$3)*(Projects!$K$5:$K$2393=0)*(Projects!$C$5:$C$2393<>'MDOT FTA Detail'!$C$4)*(Projects!$N$5:$N$2393='Local Detail'!$A135)*(Projects!$J$5:$J$2393<>'Local Detail'!$A$147)*(Projects!$M$5:$M$2393))","v":0},{"$f":"H135","v":0},"No FF",{"$f":"SUMPRODUCT((Projects!$A$5:$A$2393='Local Detail'!$J$3)*(Projects!$K$5:$K$2393=0)*(Projects!$C$5:$C$2393<>'MDOT FTA Detail'!$C$4)*(Projects!$N$5:$N$2393='Local Detail'!$A135)*(Projects!$J$5:$J$2393<>'Local Detail'!$A$147)*(Projects!$M$5:$M$2393))","v":0},{"$f":"K135","v":0},"No FF",{"$f":"SUMPRODUCT((Projects!$A$5:$A$2393='Local Detail'!$M$3)*(Projects!$K$5:$K$2393=0)*(Projects!$C$5:$C$2393<>'MDOT FTA Detail'!$C$4)*(Projects!$N$5:$N$2393='Local Detail'!$A135)*(Projects!$J$5:$J$2393<>'Local Detail'!$A$147)*(Projects!$M$5:$M$2393))","v":0},{"$f":"N135","v":0}]
["RRRF","Michigan Road and Risk Reserver Funds","Local Non-Federal","No FF",{"$f":"SUMPRODUCT((Projects!$A$5:$A$2393='Local Detail'!$D$3)*(Projects!$K$5:$K$2393=0)*(Projects!$C$5:$C$2393<>'MDOT FTA Detail'!$C$4)*(Projects!$N$5:$N$2393='Local Detail'!$A136)*(Projects!$J$5:$J$2393<>'Local Detail'!$A$147)*(Projects!$M$5:$M$2393))","v":0},{"$f":"E136","v":0},"No FF",{"$f":"SUMPRODUCT((Projects!$A$5:$A$2393='Local Detail'!$G$3)*(Projects!$K$5:$K$2393=0)*(Projects!$C$5:$C$2393<>'MDOT FTA Detail'!$C$4)*(Projects!$N$5:$N$2393='Local Detail'!$A136)*(Projects!$J$5:$J$2393<>'Local Detail'!$A$147)*(Projects!$M$5:$M$2393))","v":0},{"$f":"H136","v":0},"No FF",{"$f":"SUMPRODUCT((Projects!$A$5:$A$2393='Local Detail'!$J$3)*(Projects!$K$5:$K$2393=0)*(Projects!$C$5:$C$2393<>'MDOT FTA Detail'!$C$4)*(Projects!$N$5:$N$2393='Local Detail'!$A136)*(Projects!$J$5:$J$2393<>'Local Detail'!$A$147)*(Projects!$M$5:$M$2393))","v":0},{"$f":"K136","v":0},"No FF",{"$f":"SUMPRODUCT((Projects!$A$5:$A$2393='Local Detail'!$M$3)*(Projects!$K$5:$K$2393=0)*(Projects!$C$5:$C$2393<>'MDOT FTA Detail'!$C$4)*(Projects!$N$5:$N$2393='Local Detail'!$A136)*(Projects!$J$5:$J$2393<>'Local Detail'!$A$147)*(Projects!$M$5:$M$2393))","v":0},{"$f":"N136","v":0}]
["SIBG","100% State Infrastructure Bank","Local Non-Federal","No FF",{"$f":"SUMPRODUCT((Projects!$A$5:$A$2393='Local Detail'!$D$3)*(Projects!$K$5:$K$2393=0)*(Projects!$C$5:$C$2393<>'MDOT FTA Detail'!$C$4)*(Projects!$N$5:$N$2393='Local Detail'!$A137)*(Projects!$J$5:$J$2393<>'Local Detail'!$A$147)*(Projects!$M$5:$M$2393))","v":0},0,"No FF",{"$f":"SUMPRODUCT((Projects!$A$5:$A$2393='Local Detail'!$G$3)*(Projects!$K$5:$K$2393=0)*(Projects!$C$5:$C$2393<>'MDOT FTA Detail'!$C$4)*(Projects!$N$5:$N$2393='Local Detail'!$A137)*(Projects!$J$5:$J$2393<>'Local Detail'!$A$147)*(Projects!$M$5:$M$2393))","v":0},0,"No FF",{"$f":"SUMPRODUCT((Projects!$A$5:$A$2393='Local Detail'!$J$3)*(Projects!$K$5:$K$2393=0)*(Projects!$C$5:$C$2393<>'MDOT FTA Detail'!$C$4)*(Projects!$N$5:$N$2393='Local Detail'!$A137)*(Projects!$J$5:$J$2393<>'Local Detail'!$A$147)*(Projects!$M$5:$M$2393))","v":0},0,"No FF",{"$f":"SUMPRODUCT((Projects!$A$5:$A$2393='Local Detail'!$M$3)*(Projects!$K$5:$K$2393=0)*(Projects!$C$5:$C$2393<>'MDOT FTA Detail'!$C$4)*(Projects!$N$5:$N$2393='Local Detail'!$A137)*(Projects!$J$5:$J$2393<>'Local Detail'!$A$147)*(Projects!$M$5:$M$2393))","v":0},0]
["CITY","Local - City (Specify city in Comments)","Local Non-Federal","No FF",{"$f":"SUMPRODUCT((Projects!$A$5:$A$2393='Local Detail'!$D$3)*(Projects!$K$5:$K$2393=0)*(Projects!$C$5:$C$2393<>'MDOT FTA Detail'!$C$4)*(Projects!$P$5:$P$2393='Local Detail'!$A138)*(Projects!$J$5:$J$2393<>'Local Detail'!$A$147)*(Projects!$O$5:$O$2393))","v":307641},307641,"No FF",{"$f":"SUMPRODUCT((Projects!$A$5:$A$2393='Local Detail'!$G$3)*(Projects!$K$5:$K$2393=0)*(Projects!$C$5:$C$2393<>'MDOT FTA Detail'!$C$4)*(Projects!$P$5:$P$2393='Local Detail'!$A138)*(Projects!$N$5:$N$2393<>'Local Detail'!$A$110)*(Projects!$J$5:$J$2393<>'Local Detail'!$A$147)*(Projects!$O$5:$O$2393))","v":0},{"$f":"H138","v":0},"No FF",{"$f":"SUMPRODUCT((Projects!$A$5:$A$2393='Local Detail'!$J$3)*(Projects!$K$5:$K$2393=0)*(Projects!$C$5:$C$2393<>'MDOT FTA Detail'!$C$4)*(Projects!$P$5:$P$2393='Local Detail'!$A138)*(Projects!$N$5:$N$2393<>'Local Detail'!$A$110)*(Projects!$J$5:$J$2393<>'Local Detail'!$A$147)*(Projects!$O$5:$O$2393))","v":0},0,"No FF",{"$f":"SUMPRODUCT((Projects!$A$5:$A$2393='Local Detail'!$M$3)*(Projects!$K$5:$K$2393=0)*(Projects!$C$5:$C$2393<>'MDOT FTA Detail'!$C$4)*(Projects!$P$5:$P$2393='Local Detail'!$A138)*(Projects!$N$5:$N$2393<>'Local Detail'!$A$110)*(Projects!$J$5:$J$2393<>'Local Detail'!$A$147)*(Projects!$O$5:$O$2393))","v":0},0]
["CANX","Canadian Bridge Funds","Local Non-Federal","No FF",{"$f":"SUMPRODUCT((Projects!$A$5:$A$2393='Local Detail'!$D$3)*(Projects!$K$5:$K$2393=0)*(Projects!$C$5:$C$2393<>'MDOT FTA Detail'!$C$4)*(Projects!$P$5:$P$2393='Local Detail'!$A139)*(Projects!$J$5:$J$2393<>'Local Detail'!$A$147)*(Projects!$O$5:$O$2393))","v":0},{"$f":"E139","v":0},"No FF",{"$f":"SUMPRODUCT((Projects!$A$5:$A$2393='Local Detail'!$G$3)*(Projects!$K$5:$K$2393=0)*(Projects!$C$5:$C$2393<>'MDOT FTA Detail'!$C$4)*(Projects!$P$5:$P$2393='Local Detail'!$A139)*(Projects!$J$5:$J$2393<>'Local Detail'!$A$147)*(Projects!$O$5:$O$2393))","v":0},{"$f":"H139","v":0},"No FF",{"$f":"SUMPRODUCT((Projects!$A$5:$A$2393='Local Detail'!$J$3)*(Projects!$K$5:$K$2393=0)*(Projects!$C$5:$C$2393<>'MDOT FTA Detail'!$C$4)*(Projects!$P$5:$P$2393='Local Detail'!$A139)*(Projects!$J$5:$J$2393<>'Local Detail'!$A$147)*(Projects!$O$5:$O$2393))","v":0},{"$f":"K139","v":0},"No FF",{"$f":"SUMPRODUCT((Projects!$A$5:$A$2393='Local Detail'!$M$3)*(Projects!$K$5:$K$2393=0)*(Projects!$C$5:$C$2393<>'MDOT FTA Detail'!$C$4)*(Projects!$P$5:$P$2393='Local Detail'!$A139)*(Projects!$J$5:$J$2393<>'Local Detail'!$A$147)*(Projects!$O$5:$O$2393))","v":0},{"$f":"N139","v":0}]
["CNTY","Local - County (Specify county in Comments) ","Local Non-Federal","No FF",{"$f":"SUMPRODUCT((Projects!$A$5:$A$2393='Local Detail'!$D$3)*(Projects!$K$5:$K$2393=0)*(Projects!$C$5:$C$2393<>'MDOT FTA Detail'!$C$4)*(Projects!$P$5:$P$2393='Local Detail'!$A140)*(Projects!$J$5:$J$2393<>'Local Detail'!$A$147)*(Projects!$O$5:$O$2393))","v":0},0,"No FF",{"$f":"SUMPRODUCT((Projects!$A$5:$A$2393='Local Detail'!$G$3)*(Projects!$K$5:$K$2393=0)*(Projects!$C$5:$C$2393<>'MDOT FTA Detail'!$C$4)*(Projects!$P$5:$P$2393='Local Detail'!$A140)*(Projects!$N$5:$N$2393<>'Local Detail'!$A$110)*(Projects!$J$5:$J$2393<>'Local Detail'!$A$147)*(Projects!$O$5:$O$2393))","v":0},0,"No FF",{"$f":"SUMPRODUCT((Projects!$A$5:$A$2393='Local Detail'!$J$3)*(Projects!$K$5:$K$2393=0)*(Projects!$C$5:$C$2393<>'MDOT FTA Detail'!$C$4)*(Projects!$P$5:$P$2393='Local Detail'!$A140)*(Projects!$N$5:$N$2393<>'Local Detail'!$A$110)*(Projects!$J$5:$J$2393<>'Local Detail'!$A$147)*(Projects!$O$5:$O$2393))","v":0},0,"No FF",{"$f":"SUMPRODUCT((Projects!$A$5:$A$2393='Local Detail'!$M$3)*(Projects!$K$5:$K$2393=0)*(Projects!$C$5:$C$2393<>'MDOT FTA Detail'!$C$4)*(Projects!$P$5:$P$2393='Local Detail'!$A140)*(Projects!$N$5:$N$2393<>'Local Detail'!$A$110)*(Projects!$J$5:$J$2393<>'Local Detail'!$A$147)*(Projects!$O$5:$O$2393))","v":0},0]
["OLF","Other Local Funds (Specify local fund source in Comments) ","Local Non-Federal","No FF",{"$f":"SUMPRODUCT((Projects!$A$5:$A$2393='Local Detail'!$D$3)*(Projects!$K$5:$K$2393=0)*(Projects!$C$5:$C$2393<>'MDOT FTA Detail'!$C$4)*(Projects!$P$5:$P$2393='Local Detail'!$A141)*(Projects!$J$5:$J$2393<>'Local Detail'!$A$147)*(Projects!$O$5:$O$2393))","v":0},0,"No FF",{"$f":"SUMPRODUCT((Projects!$A$5:$A$2393='Local Detail'!$G$3)*(Projects!$K$5:$K$2393=0)*(Projects!$C$5:$C$2393<>'MDOT FTA Detail'!$C$4)*(Projects!$P$5:$P$2393='Local Detail'!$A141)*(Projects!$N$5:$N$2393<>'Local Detail'!$A$110)*(Projects!$J$5:$J$2393<>'Local Detail'!$A$147)*(Projects!$O$5:$O$2393))","v":0},{"$f":"H141","v":0},"No FF",{"$f":"SUMPRODUCT((Projects!$A$5:$A$2393='Local Detail'!$J$3)*(Projects!$K$5:$K$2393=0)*(Projects!$C$5:$C$2393<>'MDOT FTA Detail'!$C$4)*(Projects!$P$5:$P$2393='Local Detail'!$A141)*(Projects!$N$5:$N$2393<>'Local Detail'!$A$110)*(Projects!$J$5:$J$2393<>'Local Detail'!$A$147)*(Projects!$O$5:$O$2393))","v":0},0,"No FF",{"$f":"SUMPRODUCT((Projects!$A$5:$A$2393='Local Detail'!$M$3)*(Projects!$K$5:$K$2393=0)*(Projects!$C$5:$C$2393<>'MDOT FTA Detail'!$C$4)*(Projects!$P$5:$P$2393='Local Detail'!$A141)*(Projects!$N$5:$N$2393<>'Local Detail'!$A$110)*(Projects!$J$5:$J$2393<>'Local Detail'!$A$147)*(Projects!$O$5:$O$2393))","v":0},0]
["PRVT","Private (Non-governmental)","Local Non-Federal","No FF",{"$f":"SUMPRODUCT((Projects!$A$5:$A$2393='Local Detail'!$D$3)*(Projects!$K$5:$K$2393=0)*(Projects!$C$5:$C$2393<>'MDOT FTA Detail'!$C$4)*(Projects!$P$5:$P$2393='Local Detail'!$A142)*(Projects!$J$5:$J$2393<>'Local Detail'!$A$147)*(Projects!$O$5:$O$2393))","v":0},0,"No FF",{"$f":"SUMPRODUCT((Projects!$A$5:$A$2393='Local Detail'!$G$3)*(Projects!$K$5:$K$2393=0)*(Projects!$C$5:$C$2393<>'MDOT FTA Detail'!$C$4)*(Projects!$P$5:$P$2393='Local Detail'!$A142)*(Projects!$N$5:$N$2393<>'Local Detail'!$A$110)*(Projects!$J$5:$J$2393<>'Local Detail'!$A$147)*(Projects!$O$5:$O$2393))","v":0},0,"No FF",{"$f":"SUMPRODUCT((Projects!$A$5:$A$2393='Local Detail'!$J$3)*(Projects!$K$5:$K$2393=0)*(Projects!$C$5:$C$2393<>'MDOT FTA Detail'!$C$4)*(Projects!$P$5:$P$2393='Local Detail'!$A142)*(Projects!$N$5:$N$2393<>'Local Detail'!$A$110)*(Projects!$J$5:$J$2393<>'Local Detail'!$A$147)*(Projects!$O$5:$O$2393))","v":0},0,"No FF",{"$f":"SUMPRODUCT((Projects!$A$5:$A$2393='Local Detail'!$M$3)*(Projects!$K$5:$K$2393=0)*(Projects!$C$5:$C$2393<>'MDOT FTA Detail'!$C$4)*(Projects!$P$5:$P$2393='Local Detail'!$A142)*(Projects!$N$5:$N$2393<>'Local Detail'!$A$110)*(Projects!$J$5:$J$2393<>'Local Detail'!$A$147)*(Projects!$O$5:$O$2393))","v":0},0]
["TRAL","Local - Transit Authority Funds (Specify transit authority in Comments)","Local Non-Federal","No FF",{"$f":"SUMPRODUCT((Projects!$A$5:$A$2393='Local Detail'!$D$3)*(Projects!$K$5:$K$2393=0)*(Projects!$C$5:$C$2393<>'MDOT FTA Detail'!$C$4)*(Projects!$P$5:$P$2393='Local Detail'!$A143)*(Projects!$J$5:$J$2393<>'Local Detail'!$A$147)*(Projects!$O$5:$O$2393))","v":0},0,"No FF",{"$f":"SUMPRODUCT((Projects!$A$5:$A$2393='Local Detail'!$G$3)*(Projects!$K$5:$K$2393=0)*(Projects!$C$5:$C$2393<>'MDOT FTA Detail'!$C$4)*(Projects!$P$5:$P$2393='Local Detail'!$A143)*(Projects!$N$5:$N$2393<>'Local Detail'!$A$110)*(Projects!$J$5:$J$2393<>'Local Detail'!$A$147)*(Projects!$O$5:$O$2393))","v":0},0,"No FF",{"$f":"SUMPRODUCT((Projects!$A$5:$A$2393='Local Detail'!$J$3)*(Projects!$K$5:$K$2393=0)*(Projects!$C$5:$C$2393<>'MDOT FTA Detail'!$C$4)*(Projects!$P$5:$P$2393='Local Detail'!$A143)*(Projects!$N$5:$N$2393<>'Local Detail'!$A$110)*(Projects!$J$5:$J$2393<>'Local Detail'!$A$147)*(Projects!$O$5:$O$2393))","v":0},0,"No FF",{"$f":"SUMPRODUCT((Projects!$A$5:$A$2393='Local Detail'!$M$3)*(Projects!$K$5:$K$2393=0)*(Projects!$C$5:$C$2393<>'MDOT FTA Detail'!$C$4)*(Projects!$P$5:$P$2393='Local Detail'!$A143)*(Projects!$N$5:$N$2393<>'Local Detail'!$A$110)*(Projects!$J$5:$J$2393<>'Local Detail'!$A$147)*(Projects!$O$5:$O$2393))","v":0},0]
["TWP","Local - Township (Specify township in Comments)","Local Non-Federal","No FF",{"$f":"SUMPRODUCT((Projects!$A$5:$A$2393='Local Detail'!$D$3)*(Projects!$K$5:$K$2393=0)*(Projects!$C$5:$C$2393<>'MDOT FTA Detail'!$C$4)*(Projects!$P$5:$P$2393='Local Detail'!$A144)*(Projects!$J$5:$J$2393<>'Local Detail'!$A$147)*(Projects!$O$5:$O$2393))","v":0},0,"No FF",{"$f":"SUMPRODUCT((Projects!$A$5:$A$2393='Local Detail'!$G$3)*(Projects!$K$5:$K$2393=0)*(Projects!$C$5:$C$2393<>'MDOT FTA Detail'!$C$4)*(Projects!$P$5:$P$2393='Local Detail'!$A144)*(Projects!$N$5:$N$2393<>'Local Detail'!$A$110)*(Projects!$J$5:$J$2393<>'Local Detail'!$A$147)*(Projects!$O$5:$O$2393))","v":0},0,"No FF",{"$f":"SUMPRODUCT((Projects!$A$5:$A$2393='Local Detail'!$J$3)*(Projects!$K$5:$K$2393=0)*(Projects!$C$5:$C$2393<>'MDOT FTA Detail'!$C$4)*(Projects!$P$5:$P$2393='Local Detail'!$A144)*(Projects!$N$5:$N$2393<>'Local Detail'!$A$110)*(Projects!$J$5:$J$2393<>'Local Detail'!$A$147)*(Projects!$O$5:$O$2393))","v":0},0,"No FF",{"$f":"SUMPRODUCT((Projects!$A$5:$A$2393='Local Detail'!$M$3)*(Projects!$K$5:$K$2393=0)*(Projects!$C$5:$C$2393<>'MDOT FTA Detail'!$C$4)*(Projects!$P$5:$P$2393='Local Detail'!$A144)*(Projects!$N$5:$N$2393<>'Local Detail'!$A$110)*(Projects!$J$5:$J$2393<>'Local Detail'!$A$147)*(Projects!$O$5:$O$2393))","v":0},0]
["VLG","Local - Village (Specify village in Comments)","Local Non-Federal","No FF",{"$f":"SUMPRODUCT((Projects!$A$5:$A$2393='Local Detail'!$D$3)*(Projects!$K$5:$K$2393=0)*(Projects!$C$5:$C$2393<>'MDOT FTA Detail'!$C$4)*(Projects!$P$5:$P$2393='Local Detail'!$A145)*(Projects!$J$5:$J$2393<>'Local Detail'!$A$147)*(Projects!$O$5:$O$2393))","v":0},0,"No FF",{"$f":"SUMPRODUCT((Projects!$A$5:$A$2393='Local Detail'!$G$3)*(Projects!$K$5:$K$2393=0)*(Projects!$C$5:$C$2393<>'MDOT FTA Detail'!$C$4)*(Projects!$P$5:$P$2393='Local Detail'!$A145)*(Projects!$N$5:$N$2393<>'Local Detail'!$A$110)*(Projects!$J$5:$J$2393<>'Local Detail'!$A$147)*(Projects!$O$5:$O$2393))","v":0},0,"No FF",{"$f":"SUMPRODUCT((Projects!$A$5:$A$2393='Local Detail'!$J$3)*(Projects!$K$5:$K$2393=0)*(Projects!$C$5:$C$2393<>'MDOT FTA Detail'!$C$4)*(Projects!$P$5:$P$2393='Local Detail'!$A145)*(Projects!$N$5:$N$2393<>'Local Detail'!$A$110)*(Projects!$J$5:$J$2393<>'Local Detail'!$A$147)*(Projects!$O$5:$O$2393))","v":0},0,"No FF",{"$f":"SUMPRODUCT((Projects!$A$5:$A$2393='Local Detail'!$M$3)*(Projects!$K$5:$K$2393=0)*(Projects!$C$5:$C$2393<>'MDOT FTA Detail'!$C$4)*(Projects!$P$5:$P$2393='Local Detail'!$A145)*(Projects!$N$5:$N$2393<>'Local Detail'!$A$110)*(Projects!$J$5:$J$2393<>'Local Detail'!$A$147)*(Projects!$O$5:$O$2393))","v":0},0]
[]
["AC","Local AC Projects","Local AC","No FF",{"$f":"((SUMPRODUCT((Projects!$A$5:$A$2393='Local Detail'!$D$3)*(Projects!$C$5:$C$2393<>'MDOT FTA Detail'!$C$4)*(Projects!$J$5:$J$2393='Local Detail'!$A$147)*(Projects!$M$5:$M$2393)))+(SUMPRODUCT((Projects!$A$5:$A$2393='Local Detail'!$D$3)*(Projects!$C$5:$C$2393<>'MDOT FTA Detail'!$C$4)*(Projects!$J$5:$J$2393='Local Detail'!$A$147)*(Projects!$O$5:$O$2393))))","v":468750},{"$f":"E147","v":468750},"No FF",{"$f":"((SUMPRODUCT((Projects!$A$5:$A$2393='Local Detail'!$G$3)*(Projects!$C$5:$C$2393<>'MDOT FTA Detail'!$C$4)*(Projects!$J$5:$J$2393='Local Detail'!$A$147)*(Projects!$M$5:$M$2393)))+(SUMPRODUCT((Projects!$A$5:$A$2393='Local Detail'!$G$3)*(Projects!$C$5:$C$2393<>'MDOT FTA Detail'!$C$4)*(Projects!$J$5:$J$2393='Local Detail'!$A$147)*(Projects!$O$5:$O$2393))))","v":0},{"$f":"H147","v":0},"No FF",{"$f":"((SUMPRODUCT((Projects!$A$5:$A$2393='Local Detail'!$J$3)*(Projects!$C$5:$C$2393<>'MDOT FTA Detail'!$C$4)*(Projects!$J$5:$J$2393='Local Detail'!$A$147)*(Projects!$M$5:$M$2393)))+(SUMPRODUCT((Projects!$A$5:$A$2393='Local Detail'!$J$3)*(Projects!$C$5:$C$2393<>'MDOT FTA Detail'!$C$4)*(Projects!$J$5:$J$2393='Local Detail'!$A$147)*(Projects!$O$5:$O$2393))))","v":0},{"$f":"K147","v":0},"No FF",{"$f":"((SUMPRODUCT((Projects!$A$5:$A$2393='Local Detail'!$M$3)*(Projects!$C$5:$C$2393<>'MDOT FTA Detail'!$C$4)*(Projects!$J$5:$J$2393='Local Detail'!$A$147)*(Projects!$M$5:$M$2393)))+(SUMPRODUCT((Projects!$A$5:$A$2393='Local Detail'!$M$3)*(Projects!$C$5:$C$2393<>'MDOT FTA Detail'!$C$4)*(Projects!$J$5:$J$2393='Local Detail'!$A$147)*(Projects!$O$5:$O$2393))))","v":0},{"$f":"N147","v":0}]

{"sheet":"Codes","index":14,"n_rows":221,"n_cols":4,"rows_kept":221,"cut":false,"hidden":false,"merged":[]}
[null,"Fund Sources"]
["BHI","Bridge Rehabilitation - Prior 1991 - Interstate","Federal"]
["BHN","Bridge Rehabilitation - National Highway System (NHS)","Federal"]
["BHO","Bridge Rehabilitation - Not Classified, Off System","Federal"]
["BHT","Bridge Rehabilitation - Surface Transportation Program (STP)","Federal"]
["BI08","Build Michigan FY08","Federal"]
["BO","Bridge Not Classified Off System","Federal","2012-12-14"]
["BOWD","Business Opportunity & Workforce Development Center","Federal"]
["BRI","Bridge Replacement - Pre 1991 Interstate","Federal"]
["BRN","Bridge Replacement - National Highway System (NHS)","Federal"]
["BRO","Bridge Replacement - Not Classified, Off System","Federal"]
["BRT","Bridge Replacement - Surface Transportation Program (STP)","Federal"]
["CANX","Canadian Bridge Funds",null,"2013-05-15"]
["CBCD","Corridor & Border Crossing Discretionary","Federal"]
["CBIP","Coordinated Border Infrastructure Program - SAFETEA-LU","Federal"]
["CM","Congestion Mitigation & Air Quality","Federal"]
["CMG","Congestion Mitigation & Air Quality - 100% Federal","Federal"]
["CPM","Congestion Mititagion & Air Quality for PM 2.5 Emissions","Federal"]
["CPMG","Congestion Mititagion & Air Quality for PM 2.5 Emissions - 100% Federal","Federal"]
["D129","Demonstration for Surface Transportation  - Section 129","Federal"]
["DIG","ISTEA Demonstration 100% Federal on Interstate","Federal"]
["DOG","ISTEA Demonstration 100% Federal Not Classified","Federal"]
["DPN","ISTEA Demonstration 80% Federal on NHS","Federal"]
["DPO","ISTEA Demonstration 80% Federal Not Classified","Federal"]
["DPS","ISTEA Demonstration 80% Federal on STP","Federal"]
["DPSA","Demonstration Project Section 112 Division A","Federal"]
["DST","Donor Bonus Surface Transportation","Federal"]
["DSTU","Donor Bonus Surface Transportation - (Urban > 200,000)","Federal"]
["DSTT","Donor Bonus Surface Transportation - Rural - Trunkline","Federal"]
["EBSL","Equity Bonus - SAFETEA-LU","Federal"]
["EDAF","Economic Development - Category A with Federal Aid","Federal"]
["EDCF","Economic Development - Category C with Federal Aid","Federal"]
["EDDF","Economic Development - Category D with Federal Aid","Federal"]
["EDFF","Economic Development - Category F with Federal Aid","Federal"]
["ER","Emergency Relief","Federal"]
["FBD","Ferry Boat & Terminal Discretionary","Federal"]
["FFH","Federal Forest Highway","Federal"]
["FLH","Federal Land Highways - Public Lands","Federal"]
["HBOA","Highway Bridge Obligation  Authority","Federal"]
["HPP","High Priority Projects (Demo)","Federal"]
["HPSL","High Priority Projects - SAFETEA-LU","Federal"]
["HRRR","High Risk Rural Roads - SAFETEA-LU","Federal"]
["HSG","High Speed Raix Crossings - 100% Federal","Federal"]
["HSIP","Highway Safety Improvement Program - SAFETEA-LU","Federal"]
["IM","Interstate Maintenance - No Added Lanes","Federal"]
["IMD","Interstate Maintenance Discretionary","Federal"]
["IMG","Interstate Maintenance - Safety - 100% Federal","Federal"]
["ITS","Intelligent Transportation Systems","Federal"]
["JST","85% Minimum Floor Surface Transportation","Federal"]
["JSTU","85% Minimum Floor Surface Transportation (Urban Area > 200,000)","Federal"]
["LTA","Local Technical Assistance Program","Federal"]
["MG","Minimum Guarantee","Federal"]
["NCII","National Corridor Infrastructure Improvement - SAFETEA-LU","Federal"]
["NH","National Highway System","Federal"]
["NHG","National Highway System - Safety - 100% Federal","Federal"]
["NHI","National Highway Funds on I (Does not Qualify for I)","Federal"]
["NHIM","National Highway Funds on I (Qualifies for IM)","Federal"]
["NHS","National Highway System - MDOT Safety Program","Federal"]
["NRT","National Recreational Trails","Federal"]
["OFHWA","Other FHWA Funds (Specify source in Comments)","Federal"]
["PNRS","Projects of National and Regional Significance","Federal"]
["PRIP","Priority Roads Investment Program","PRIP"]
["RP","Research Project","Federal"]
["RPH","American Recovery and Reinvestment Act","Federal"]
["SBD","Scenic Byways - Discretionary","Federal"]
["SIB","State Infrastructure Bank","Federal"]
["SLG","Surface Transportation Safety","Federal"]
["SRHG","Surface Transportation Safety Highway Crossing Hazard Elimination 100%","Federal","2012-12-14"]
["SRPG","Surface Transportation Safety Highway Crossing Protection Devices 100%","Federal","2012-12-14"]
["SRSE","Safe Routes to School - Either - SAFETEA-LU","Federal"]
["SRSI","Safe Routes to School - Infrastructure - SAFETEA-LU","Federal"]
["SRSN","Safe Routes to School - Non-infrastructure - SAFETEA-LU","Federal"]
["SST","Supportive Services Training","Federal"]
["ST","Surface Transportation Program (STP) - Any Area","Federal"]
["STE","STP - Enhancement","Federal"]
["STG","STP - Safety - 100% Federal for ST","Federal"]
["STH","STP - Safety - Hazard Elimination","Federal"]
["STI","STP - Interstate (90%)","Federal"]
["STL","STP - Local","Federal"]
["STLG","Surface Transportation Safety 100% Fed for STL-Items","Federal","2012-12-14"]
["STR","STP - Safety - Rail-Highway Crossing Protection","Federal"]
["STRG","STP - Safety Rail-Highway & Incentive Payment - 100% Federal","Federal"]
["STRH","Surface Transportation Safety Highway Crossing Hazard Elimination","Federal","2012-12-14"]
["STRP","Surface Transportation Safety Highway Crossing Protection Devices","Federal","2012-12-14"]
["STS","STP - Any Area- MDOT Safety Program","Federal"]
["STT","STP - Trunkline","Federal"]
["STU","STP - Urban Areas > 200,000 Population","Federal"]
["STUG","STP - Urban Areas < 200,000 Population 100%","Federal"]
["STUL","STP - Urban Areas < 200,000 Population","Federal"]
["STUT","STP - Urban Areas < 200,000 Population - Trunkline","Federal"]
["SUG","STP - Safety - 100% Federal for STU","Federal"]
["SUL","Surface Transportation Urban Areas < 200k Population","Federal","2012-12-14"]
["SULG","Surface Transportation Urban Areas < 200k Population 100%","Federal","2012-12-14"]
["TA","Transportation Alternatives Program Flex","Federal","2012-12-14"]
["TAL","Transportation Alternatives Rural","Federal","2012-12-14"]
["TAU","Transportation Alternatives Urban Areas > 200K Population","Federal","2012-12-14"]
["TAUL","Transportation Alternatives Urban Areas < 200K Population","Federal","2012-12-14"]
["TBR","Timber Bridge Fund","Federal"]
["TCP","Tax Compliance Program","Federal"]
["TCSP","Transportation, Community and System Preservation","Federal"]
["TG","Transportation  Grant (100% Fed)","Federal"]
["TGR2","TIGER II Discretionary Grant","Federal","2012-12-14"]
["TGR3","TIGER III Discretionary Grant","Federal","2012-12-14"]
["TIP","Transportation Improvements Projects SAFETEA-LU","Federal","2012-12-14"]
["TPFD","Truck Parking Facilities Discretionary","Federal","2012-12-14"]
["CTF","Comprehensive Transportation Fund","Transit","2014-04-24"]
[3038,"Section 3038 - Over the Road Bus Program","Transit"]
[3045,"Section 3045 - National Fuel Cell Technology Development Program","Transit"]
[5303,"Section 5303 - Metropolitan Transportation Planning","Transit"]
[5304,"Section 5304 - Statewide Transportation Planning","Transit"]
[5305,"Section 5305 - Metropolitan and Statewide Planning","Transit"]
[5307,"Section 5307 - UZA Formula","Transit"]
[5308,"Section 5308 - Clean Fuels Program","Transit"]
[5309,"Section 5309 - Fixed Guideway Capital Investment Grant","Transit"]
[5310,"Section 5310 - Enhanced Mobility of Seniors and Individuals with Disabilities","Transit"]
[5311,"Section 5311 - Non-UZA ","Transit"]
[5312,"Section 5312 - Research, Development, Demonstration, and Deployment","Transit","2013-01-07"]
[5313,"Section 5313 - Transit Cooperative Research Program","Transit"]
[5314,"Section 5314 - Technical Assistance and Standards","Transit"]
[5316,"Section 5316 - Transit - Section 5316 - Job Access/Reverse Commute","Transit"]
[5317,"Section 5317 - Transit - Section 5317 - New Freedom Initiative","Transit"]
[5320,"Section 5320 - Alternative Transportation in Parks and Public Lands","Transit"]
[5322,"Section 5322 - Human Resources and Training","Transit","2013-01-07"]
[5324,"Section 5324 - Emergency Relief","Transit","2013-01-07"]
[5326,"Section 5326 - Asset Management Provisions","Transit","2013-01-07"]
[5329,"Section 5329 - Safety","Transit","2013-01-07"]
[5337,"Section 5337 - State of Good Repair Grants","Transit","2013-01-07"]
[5339,"Section 5339 - Bus and Bus Facilities","Transit"]
[5505,"Section 5505 - University Transportation Centers Program","Transit"]
["BI04","Build Michigan Bond Issue 2004","State"]
["BI06","Build Michigan Bond Issue 2006","State"]
["BI08","Build Michigan Bond Issue 2008","State"]
["BT01","Bond Trunkline Roads for First Issue","State"]
["CANX","Canadian Bridge Funds",null,"2013-05-15"]
["CTF","Comprehensive Transportation Fund","State"]
["EDA","Economic Development - Category A","State"]
["EDC","Economic Development - Category C","State"]
["EDD","Economic Development - Category D","State"]
["EDF","Economic Development - Category F","State"]
["JT07","Jobs Today Bond Issue 2007 GARVEE (State AC for Federal GARVEE Bonds)","State"]
["LFMP","Local Fund Match Program - 100% Local","State"]
["M","State Funds - Michigan Betterment","State"]
["MBS","Michigan Budget Stabilization","State"]
["MBWB","Michigan Blue Water Bridge","State"]
["MCS","State Funds - Critical Structures","State"]
["MDA","Drainage Assessment","State"]
["MER","Emergency Program","State"]
["MIR","State Funds - Institutional Roads","State"]
["MRR","Michigan Railroad","State"]
["MRRF","Michigan Revolving Real Estate Fund","State"]
["MS","Safety Program","State"]
["MTB","Turnback Program","State"]
["PRIP","Priority Roads Investment Program","State"]
["RRRF","Michigan Road and Risk Reserve Funds","State"]
["SIBG","100% State Infrastructure Bank","State"]
["CITY","Local - City (Specify city in Comments)","Local"]
["CANX","Canadian Bridge Funds",null,"2013-05-15"]
["CNTY","Local - County (Specify county in Comments) ","Local"]
["OLF","Other Local Funds (Specify local fund source in Comments) ","Local"]
["PRVT","Private (Non-governmental)","Local"]
["TRAL","Local - Transit Authority Funds (Specify transit authority in Comments)","Local"]
["TWP","Local - Township (Specify township in Comments)","Local"]
["VLG","Local - Village (Specify village in Comments)","Local"]
[]
[null,"Primary Work Types"]
[null,"Bridge - other","Surface Transportation"]
[null,"Bridge replacement","Surface Transportation"]
[null,"Bridge restore & rehabilitate","Surface Transportation"]
[null,"New route/structure (capacity increase)","Surface Transportation"]
[null,"Reconstruct","Surface Transportation"]
[null,"Restore & rehabilitate","Surface Transportation"]
[null,"Resurface","Surface Transportation"]
[null,"Roadside facility","Surface Transportation"]
[null,"Traffic ops/safety","Surface Transportation"]
[null,"Widen - major (capacity increase)","Surface Transportation"]
[null,"Widen - minor","Surface Transportation"]
[null,"Transit","Transit"]
[null,"Transit capital","Transit"]
[null,"Transit communication equipment","Transit"]
[null,"Transit facility","Transit"]
[null,"Transit maintenance equipment and parts","Transit"]
[null,"Transit operations","Transit"]
[null,"Transit operations equipment","Transit"]
[null,"Transit vehicle additions/replacements","Transit"]
[null,"Transit vehicle rehabilitation","Transit"]
[null,"Aviation","Miscellaneous"]
[null,"GPA ","Miscellaneous"]
[null,"Heritage routes","Miscellaneous"]
[null,"Intermodal/multimodal","Miscellaneous"]
[null,"Marine/port","Miscellaneous"]
[null,"Miscellaneous","Miscellaneous"]
[null,"Planning and research","Miscellaneous"]
[null,"Rail","Miscellaneous"]
[null,"Studies","Miscellaneous"]
[null,"Wetland mitigation","Miscellaneous"]
[]
[]
[]
[]
[null,"Amendment Type"]
[null,"Add"]
[null,"Delete"]
[null,"Cost"]
[null,"Scope"]
[null,"Year"]
[]
[]
[]
[]
[null,"Phase"]
[]
[null,"EPE"]
[null,"PE"]
[null,"ROW"]
[null,"CON"]
[null,"T-Cap"]
[null,"T-Ops"]
[null,"SUB"]
[null,"UTL"]
[null,"OP"]
[null,"CAP"]

{"sheet":"Sheet2","index":15,"n_rows":0,"n_cols":0,"rows_kept":0,"cut":false,"hidden":false,"merged":[]}

{"sheet":"Other Acronyms","index":16,"n_rows":41,"n_cols":2,"rows_kept":41,"cut":false,"hidden":false,"merged":[]}
["Acronym","Definition"]
["ADA","Americans with Disabilities Act"]
["ART","Apprenticeship Readiness Training"]
["BACEP","Bonding and Access to Capital Education Program"]
["C & S","Crush and Shape"]
["C & T","Construction and Technology"]
["CCTV","Closed Circuit Television"]
["CPM","Capital Prevenitve Maintenance"]
["CSM","Capital Scheduled Maintenance"]
["DBE","Disadvantaged Business Enterprises"]
["ESS","Environmental Sensing Stations"]
["FSU","Ferris State University"]
["FTA","Federal Transit Authority"]
["GPA","General Program Account"]
["HMA","Hot-Mix Asphalt"]
["ITS","Intelligent Transportation System"]
["LED","Light Emitting Diode"]
["LTAP","Local Technical Assistance Program"]
["MERL","Michigan Engineer's Resource Library"]
["MICCD","Michigan Construction Career Days"]
["MTU","Michigan Technological University"]
["NB","Northbound"]
["Non-UZA","Non-Urbanized Area"]
["NPS","National Park Service"]
["NSTI","National Summer Transportation Institute"]
["OHR","Office of Human Resources"]
["OJT","On the Job Training"]
["PEL","Planning and Environmental Linkage"]
["PITWS","Portable Intermittent Truck Weigh Stations"]
["RCAR","Road Construction Apprenticeship Readiness"]
["RCWD","Road Construction Work Force Development"]
["RTAP","Rural Transit Assistance Program"]
["RTF","Rural Task Force"]
["RWIS","Road Weather Information System"]
["SB","Southbound"]
["SRTS","Safe Routes to School"]
["SS","Support Services"]
["STOC","Statewide Operations Center"]
["TRAC","Training and Civil Engineering Pipeline"]
["Y Achievers","Young Achievers"]
["YDMP","Youth Development Mentoring Program"]